{"text_format":"1","workbook":"xlsx","n_sheets":15,"sheets":["Gruppendritte-FIFA","Gruppendritte-UEFA","Gruppendritte-Bernd","EM2024-Plan-mit-Annix","Annix-EM2024","WM2026-Plan-mit-AnnixC","AnnixC-WM2026","WM2026-48","WM2026-Punkte","WM2026","WM2026-ELO","Rangliste","Resultate","FIFA","Spiele"],"not_rendered":{"charts":0,"images":0,"macros":1,"external_links":0,"defined_names":1,"comments":0,"pivot_tables":0},"unopened":[],"bounds":{"document_bytes":16777216,"sheet_cells":100000,"rows_first":2000,"rows_last":500,"rows_between":2000,"halvings":0,"cell_chars":16384,"cell_head_chars":4096},"cells_cut":0,"cells_raw":0,"read":"whole","date_system":"1900"}

{"sheet":"Gruppendritte-FIFA","index":0,"n_rows":72,"n_cols":36,"rows_kept":72,"cut":false,"hidden":false,"merged":[]}
[null,null,"ABCD","ABCE","ABCF","ABDE","ABDF","ABEF","ACDE","ACDF","ACEF","ADEF","BCDE","BCDF","BCEF","BDEF","CDEF",null,null,null,null,null,null,null,"1B",null,null,"1A",null,null,"1D",null,null,"1C"]
["1B","3ACD","D","A","A","A","A","A","D","D","A","A","D","D","C","D","D",null,"A","wenn","ABCE,ABCF,ABDE,ABDF,ABEF,ACEF,ADEF",null,null,null,"A","C","D","C","D","E","B","E","F","A","B","F"]
["2A","2C",null,null,null,null,null,null,null,null,null,null,null,null,null,null,null,null,"C","wenn ","ABCD,ACDE,ACDF,BCDE,BCDF.BCEF,CDEF",null,null,null,"ABCE","BCEF","ABCD","ABCD","ABDE","ABEF","ABCD","ABCE","ABCF","ABCD","ABCE","ACEF"]
["1E","2D",null,null,null,null,null,null,null,null,null,null,null,null,null,null,null,null,"D","wenn","BDEF",null,null,null,"ABCF",null,"ACDE","ABCE","ABDF","BCEF",null,"ABDE","ABDF","ACDE","ABCF","ADEF"]
["1F","2E",null,null,null,null,null,null,null,null,null,null,null,null,null,null,null,null,null,null,null,null,null,null,"ABDE",null,"ACDF","ABCF","ADEF","BDEF",null,"ACDE","ABEF","ACDF","ABDE","CDEF"]
["1A","3CDE","C","C","C","D","D","E","C","C","C","D","C","C","E","E","C",null,"C","wenn","ABCE,ABCF,ACEF",null,null,null,"ABDF",null,"BCDE","ACDE",null,null,null,"ACEF","ACDF",null,"ABDF"]
["2B","2F",null,null,null,null,null,null,null,null,null,null,null,null,null,null,null,null,"D","wenn","ABCD,ABDE,ABDF,ACDE,ACDF,ADEF,BCDE,BCDF,CDEF",null,null,null,"ABEF",null,"BCDF","ACDF",null,null,null,"ADEF","BCDF",null,"ABEF"]
["1D","3BEF","B","E","F","E","F","F","E","F","E","E","E","F","F","F","E",null,"E","wenn","ABEF,BCEF,BDEF",null,null,null,"ACEF",null,"BDEF","ACEF",null,null,null,"BCDE","BCEF",null,"BCDE"]
["1C","3ABF","A","B","B","B","B","B","A","A","F","F","B","B","B","B","F",null,null,null,null,null,null,null,"ADEF",null,"CDEF","BCDE",null,null,null,"CDEF","BDEF",null,"BCDF"]
[null,null,null,null,null,null,null,null,null,null,null,null,null,null,null,null,null,null,"B","wenn","ABCD,ABCF,ABDF,ABEF,BCDF,BCEF,BDEF",null,null,null,null,null,null,"BCDF",null,null,null,null,null,null,"BCEF"]
[null,null,null,null,null,null,null,null,null,null,null,null,null,null,null,null,null,null,"E","wenn","ABCE,ABDE,ACDE,ACEF,ADEF,BCDE,CDEF",null,null,null,null,null,null,"CDEF",null,null,null,null,null,null,"BDEF"]
["Formel:"]
[null,null,"ABCD","ABCE","ABCF","ABDE","ABDF","ABEF","ACDE","ACDF","ACEF","ADEF","BCDE","BCDF","BCEF","BDEF","CDEF"]
["1B","3ACD",{"$f":"IF(COUNTIF($Y$3:$Y$11,C$13)>0,$Y$2,IF(COUNTIF($Z$3:$Z$11,C$13)>0,$Z$2,IF(COUNTIF($AA$3:$AA$11,C$13)>0,$AA$2,CONCATENATE(\"??? \",C$13))))","v":"D"},"A","A","A","A","A","D","D","A","A","D","D","C","D","D"]
["2A","2C"]
["1E","2D"]
["1F","2E"]
["1A","3CDE",{"$f":"IF(COUNTIF($AB$3:$AB$11,C$13)>0,$AB$2,IF(COUNTIF($AC$3:$AC$11,C$13)>0,$AC$2,IF(COUNTIF($AD$3:$AD$11,C$13)>0,$AD$2,CONCATENATE(\"??? \",C$13))))","v":"C"},"C","C","D","D","E","C","C","C","D","C","C","E","E","C"]
["2B","2F"]
["1D","3BEF",{"$f":"IF(COUNTIF($AE$3:$AE$11,C$13)>0,$AE$2,IF(COUNTIF($AF$3:$AF$11,C$13)>0,$AF$2,IF(COUNTIF($AG$3:$AG$11,C$13)>0,$AG$2,CONCATENATE(\"??? \",C$13))))","v":"B"},"E","F","E","F","F","E","F","E","E","E","F","F","F","E"]
["1C","3ABF",{"$f":"IF(COUNTIF($AH$3:$AH$11,C$13)>0,$AH$2,IF(COUNTIF($AI$3:$AI$11,C$13)>0,$AI$2,IF(COUNTIF($AJ$3:$AJ$11,C$13)>0,$AJ$2,CONCATENATE(\"??? \",C$13))))","v":"A"},"B","B","B","B","B","A","A","F","F","B","B","B","B","F"]
[]
[]
[]
[{"$f":"IF(A1=A13,\"ok\",\"Mist\")","v":"ok"},"ok","ok","ok","ok","ok","ok","ok","ok","ok","ok","ok","ok","ok","ok","ok","ok"]
[{"$f":"IF(A2=A14,\"ok\",\"Mist\")","v":"ok"},"ok","ok","ok","ok","ok","ok","ok","ok","ok","ok","ok","ok","ok","ok","ok","ok"]
[{"$f":"IF(A3=A15,\"ok\",\"Mist\")","v":"ok"},"ok","ok","ok","ok","ok","ok","ok","ok","ok","ok","ok","ok","ok","ok","ok","ok"]
[{"$f":"IF(A4=A16,\"ok\",\"Mist\")","v":"ok"},"ok","ok","ok","ok","ok","ok","ok","ok","ok","ok","ok","ok","ok","ok","ok","ok"]
[{"$f":"IF(A5=A17,\"ok\",\"Mist\")","v":"ok"},"ok","ok","ok","ok","ok","ok","ok","ok","ok","ok","ok","ok","ok","ok","ok","ok"]
[{"$f":"IF(A6=A18,\"ok\",\"Mist\")","v":"ok"},"ok","ok","ok","ok","ok","ok","ok","ok","ok","ok","ok","ok","ok","ok","ok","ok"]
[{"$f":"IF(A7=A19,\"ok\",\"Mist\")","v":"ok"},"ok","ok","ok","ok","ok","ok","ok","ok","ok","ok","ok","ok","ok","ok","ok","ok"]
[{"$f":"IF(A8=A20,\"ok\",\"Mist\")","v":"ok"},"ok","ok","ok","ok","ok","ok","ok","ok","ok","ok","ok","ok","ok","ok","ok","ok"]
[{"$f":"IF(A9=A21,\"ok\",\"Mist\")","v":"ok"},"ok","ok","ok","ok","ok","ok","ok","ok","ok","ok","ok","ok","ok","ok","ok","ok"]
[]
[]
[]
["Annix"]
[null,null,"ABCD","ABCE","ABCF","ABDE","ABDF","ABEF","ACDE","ACDF","ACEF","ADEF","BCDE","BCDF","BCEF","BDEF","CDEF"]
["1B","3ACD",{"$f":"INDEX(#REF!, MATCH(C$38,#REF!, 0))","v":{"$error":"#REF!"}},{"$f":"INDEX(#REF!, MATCH(D$38,#REF!, 0))","v":{"$error":"#REF!"}},{"$f":"INDEX(#REF!, MATCH(E$38,#REF!, 0))","v":{"$error":"#REF!"}},{"$f":"INDEX(#REF!, MATCH(F$38,#REF!, 0))","v":{"$error":"#REF!"}},{"$f":"INDEX(#REF!, MATCH(G$38,#REF!, 0))","v":{"$error":"#REF!"}},{"$f":"INDEX(#REF!, MATCH(H$38,#REF!, 0))","v":{"$error":"#REF!"}},{"$f":"INDEX(#REF!, MATCH(I$38,#REF!, 0))","v":{"$error":"#REF!"}},{"$f":"INDEX(#REF!, MATCH(J$38,#REF!, 0))","v":{"$error":"#REF!"}},{"$f":"INDEX(#REF!, MATCH(K$38,#REF!, 0))","v":{"$error":"#REF!"}},{"$f":"INDEX(#REF!, MATCH(L$38,#REF!, 0))","v":{"$error":"#REF!"}},{"$f":"INDEX(#REF!, MATCH(M$38,#REF!, 0))","v":{"$error":"#REF!"}},{"$f":"INDEX(#REF!, MATCH(N$38,#REF!, 0))","v":{"$error":"#REF!"}},{"$f":"INDEX(#REF!, MATCH(O$38,#REF!, 0))","v":{"$error":"#REF!"}},{"$f":"INDEX(#REF!, MATCH(P$38,#REF!, 0))","v":{"$error":"#REF!"}},{"$f":"INDEX(#REF!, MATCH(Q$38,#REF!, 0))","v":{"$error":"#REF!"}}]
["2A","2C"]
["1E","2D"]
["1F","2E"]
["1A","3CDE",{"$f":"INDEX(#REF!, MATCH(C$38,#REF!, 0))","v":{"$error":"#REF!"}},{"$f":"INDEX(#REF!, MATCH(D$38,#REF!, 0))","v":{"$error":"#REF!"}},{"$f":"INDEX(#REF!, MATCH(E$38,#REF!, 0))","v":{"$error":"#REF!"}},{"$f":"INDEX(#REF!, MATCH(F$38,#REF!, 0))","v":{"$error":"#REF!"}},{"$f":"INDEX(#REF!, MATCH(G$38,#REF!, 0))","v":{"$error":"#REF!"}},{"$f":"INDEX(#REF!, MATCH(H$38,#REF!, 0))","v":{"$error":"#REF!"}},{"$f":"INDEX(#REF!, MATCH(I$38,#REF!, 0))","v":{"$error":"#REF!"}},{"$f":"INDEX(#REF!, MATCH(J$38,#REF!, 0))","v":{"$error":"#REF!"}},{"$f":"INDEX(#REF!, MATCH(K$38,#REF!, 0))","v":{"$error":"#REF!"}},{"$f":"INDEX(#REF!, MATCH(L$38,#REF!, 0))","v":{"$error":"#REF!"}},{"$f":"INDEX(#REF!, MATCH(M$38,#REF!, 0))","v":{"$error":"#REF!"}},{"$f":"INDEX(#REF!, MATCH(N$38,#REF!, 0))","v":{"$error":"#REF!"}},{"$f":"INDEX(#REF!, MATCH(O$38,#REF!, 0))","v":{"$error":"#REF!"}},{"$f":"INDEX(#REF!, MATCH(P$38,#REF!, 0))","v":{"$error":"#REF!"}},{"$f":"INDEX(#REF!, MATCH(Q$38,#REF!, 0))","v":{"$error":"#REF!"}}]
["2B","2F"]
["1D","3BEF",{"$f":"INDEX(#REF!, MATCH(C$38,#REF!, 0))","v":{"$error":"#REF!"}},{"$f":"INDEX(#REF!, MATCH(D$38,#REF!, 0))","v":{"$error":"#REF!"}},{"$f":"INDEX(#REF!, MATCH(E$38,#REF!, 0))","v":{"$error":"#REF!"}},{"$f":"INDEX(#REF!, MATCH(F$38,#REF!, 0))","v":{"$error":"#REF!"}},{"$f":"INDEX(#REF!, MATCH(G$38,#REF!, 0))","v":{"$error":"#REF!"}},{"$f":"INDEX(#REF!, MATCH(H$38,#REF!, 0))","v":{"$error":"#REF!"}},{"$f":"INDEX(#REF!, MATCH(I$38,#REF!, 0))","v":{"$error":"#REF!"}},{"$f":"INDEX(#REF!, MATCH(J$38,#REF!, 0))","v":{"$error":"#REF!"}},{"$f":"INDEX(#REF!, MATCH(K$38,#REF!, 0))","v":{"$error":"#REF!"}},{"$f":"INDEX(#REF!, MATCH(L$38,#REF!, 0))","v":{"$error":"#REF!"}},{"$f":"INDEX(#REF!, MATCH(M$38,#REF!, 0))","v":{"$error":"#REF!"}},{"$f":"INDEX(#REF!, MATCH(N$38,#REF!, 0))","v":{"$error":"#REF!"}},{"$f":"INDEX(#REF!, MATCH(O$38,#REF!, 0))","v":{"$error":"#REF!"}},{"$f":"INDEX(#REF!, MATCH(P$38,#REF!, 0))","v":{"$error":"#REF!"}},{"$f":"INDEX(#REF!, MATCH(Q$38,#REF!, 0))","v":{"$error":"#REF!"}}]
["1C","3ABF",{"$f":"INDEX(#REF!, MATCH(C$38,#REF!, 0))","v":{"$error":"#REF!"}},{"$f":"INDEX(#REF!, MATCH(D$38,#REF!, 0))","v":{"$error":"#REF!"}},{"$f":"INDEX(#REF!, MATCH(E$38,#REF!, 0))","v":{"$error":"#REF!"}},{"$f":"INDEX(#REF!, MATCH(F$38,#REF!, 0))","v":{"$error":"#REF!"}},{"$f":"INDEX(#REF!, MATCH(G$38,#REF!, 0))","v":{"$error":"#REF!"}},{"$f":"INDEX(#REF!, MATCH(H$38,#REF!, 0))","v":{"$error":"#REF!"}},{"$f":"INDEX(#REF!, MATCH(I$38,#REF!, 0))","v":{"$error":"#REF!"}},{"$f":"INDEX(#REF!, MATCH(J$38,#REF!, 0))","v":{"$error":"#REF!"}},{"$f":"INDEX(#REF!, MATCH(K$38,#REF!, 0))","v":{"$error":"#REF!"}},{"$f":"INDEX(#REF!, MATCH(L$38,#REF!, 0))","v":{"$error":"#REF!"}},{"$f":"INDEX(#REF!, MATCH(M$38,#REF!, 0))","v":{"$error":"#REF!"}},{"$f":"INDEX(#REF!, MATCH(N$38,#REF!, 0))","v":{"$error":"#REF!"}},{"$f":"INDEX(#REF!, MATCH(O$38,#REF!, 0))","v":{"$error":"#REF!"}},{"$f":"INDEX(#REF!, MATCH(P$38,#REF!, 0))","v":{"$error":"#REF!"}},{"$f":"INDEX(#REF!, MATCH(Q$38,#REF!, 0))","v":{"$error":"#REF!"}}]
[]
[]
[]
[{"$f":"IF(A3=A40,\"ok\",\"Mist\")","v":"ok"},"ok","ok","ok","ok","ok","ok","ok","ok","ok","ok","ok","ok","ok","ok","ok","ok"]
[{"$f":"IF(A4=A41,\"ok\",\"Mist\")","v":"ok"},"ok","ok","ok","ok","ok","ok","ok","ok","ok","ok","ok","ok","ok","ok","ok","ok"]
[{"$f":"IF(A5=A42,\"ok\",\"Mist\")","v":"ok"},"ok","ok","ok","ok","ok","ok","ok","ok","ok","ok","ok","ok","ok","ok","ok","ok"]
[{"$f":"IF(A6=A43,\"ok\",\"Mist\")","v":"ok"},"ok",{"$error":"#REF!"},{"$error":"#REF!"},{"$error":"#REF!"},{"$error":"#REF!"},{"$error":"#REF!"},{"$error":"#REF!"},{"$error":"#REF!"},{"$error":"#REF!"},{"$error":"#REF!"},{"$error":"#REF!"},{"$error":"#REF!"},{"$error":"#REF!"},{"$error":"#REF!"},{"$error":"#REF!"},{"$error":"#REF!"}]
[{"$f":"IF(A7=A44,\"ok\",\"Mist\")","v":"ok"},"ok","ok","ok","ok","ok","ok","ok","ok","ok","ok","ok","ok","ok","ok","ok","ok"]
[{"$f":"IF(A8=A45,\"ok\",\"Mist\")","v":"ok"},"ok",{"$error":"#REF!"},{"$error":"#REF!"},{"$error":"#REF!"},{"$error":"#REF!"},{"$error":"#REF!"},{"$error":"#REF!"},{"$error":"#REF!"},{"$error":"#REF!"},{"$error":"#REF!"},{"$error":"#REF!"},{"$error":"#REF!"},{"$error":"#REF!"},{"$error":"#REF!"},{"$error":"#REF!"},{"$error":"#REF!"}]
[{"$f":"IF(A9=A46,\"ok\",\"Mist\")","v":"ok"},"ok",{"$error":"#REF!"},{"$error":"#REF!"},{"$error":"#REF!"},{"$error":"#REF!"},{"$error":"#REF!"},{"$error":"#REF!"},{"$error":"#REF!"},{"$error":"#REF!"},{"$error":"#REF!"},{"$error":"#REF!"},{"$error":"#REF!"},{"$error":"#REF!"},{"$error":"#REF!"},{"$error":"#REF!"},{"$error":"#REF!"}]
[{"$f":"IF(A10=A47,\"ok\",\"Mist\")","v":"ok"},{"$f":"IF(B10=B47,\"ok\",\"Mist\")","v":"ok"},{"$f":"IF(C10=C47,\"ok\",\"Mist\")","v":"ok"},"ok","ok","ok","ok","ok","ok","ok","ok","ok","ok","ok","ok","ok","ok"]
[{"$f":"IF(A11=A48,\"ok\",\"Mist\")","v":"ok"},{"$f":"IF(B11=B48,\"ok\",\"Mist\")","v":"ok"},{"$f":"IF(C11=C48,\"ok\",\"Mist\")","v":"ok"},"ok","ok","ok","ok","ok","ok","ok","ok","ok","ok","ok","ok","ok","ok"]
[]
[null,null,{"$f":"CODE(C39)","v":{"$error":"#REF!"}},{"$error":"#REF!"},{"$error":"#REF!"},{"$error":"#REF!"},{"$error":"#REF!"},{"$error":"#REF!"},{"$error":"#REF!"},{"$error":"#REF!"},{"$error":"#REF!"},{"$error":"#REF!"},{"$error":"#REF!"},{"$error":"#REF!"},{"$error":"#REF!"},{"$error":"#REF!"},{"$error":"#REF!"}]
[null,null,{"$f":"CODE(C43)","v":{"$error":"#REF!"}},{"$error":"#REF!"},{"$error":"#REF!"},{"$error":"#REF!"},{"$error":"#REF!"},{"$error":"#REF!"},{"$error":"#REF!"},{"$error":"#REF!"},{"$error":"#REF!"},{"$error":"#REF!"},{"$error":"#REF!"},{"$error":"#REF!"},{"$error":"#REF!"},{"$error":"#REF!"},{"$error":"#REF!"}]
[null,null,{"$f":"CODE(C45)","v":{"$error":"#REF!"}},{"$f":"CODE(D45)","v":{"$error":"#REF!"}},{"$error":"#REF!"},{"$error":"#REF!"},{"$error":"#REF!"},{"$error":"#REF!"},{"$error":"#REF!"},{"$error":"#REF!"},{"$error":"#REF!"},{"$error":"#REF!"},{"$error":"#REF!"},{"$error":"#REF!"},{"$error":"#REF!"},{"$error":"#REF!"},{"$error":"#REF!"}]
[null,null,{"$f":"CODE(C46)","v":{"$error":"#REF!"}},{"$error":"#REF!"},{"$error":"#REF!"},{"$error":"#REF!"},{"$error":"#REF!"},{"$error":"#REF!"},{"$error":"#REF!"},{"$error":"#REF!"},{"$error":"#REF!"},{"$error":"#REF!"},{"$error":"#REF!"},{"$error":"#REF!"},{"$error":"#REF!"},{"$error":"#REF!"},{"$error":"#REF!"}]
[]
[null,null,{"$f":"SMALL(C$60:C$63,1)","v":{"$error":"#REF!"}},{"$f":"SMALL(D$60:D$63,1)","v":{"$error":"#REF!"}},{"$error":"#REF!"},{"$error":"#REF!"},{"$error":"#REF!"},{"$error":"#REF!"},{"$error":"#REF!"},{"$error":"#REF!"},{"$error":"#REF!"},{"$error":"#REF!"},{"$error":"#REF!"},{"$error":"#REF!"},{"$error":"#REF!"},{"$error":"#REF!"},{"$error":"#REF!"}]
[null,null,{"$f":"SMALL(C$60:C$63,2)","v":{"$error":"#REF!"}},{"$f":"SMALL(D$60:D$63,2)","v":{"$error":"#REF!"}},{"$error":"#REF!"},{"$error":"#REF!"},{"$error":"#REF!"},{"$error":"#REF!"},{"$error":"#REF!"},{"$error":"#REF!"},{"$error":"#REF!"},{"$error":"#REF!"},{"$error":"#REF!"},{"$error":"#REF!"},{"$error":"#REF!"},{"$error":"#REF!"},{"$error":"#REF!"}]
[null,null,{"$f":"SMALL(C$60:C$63,3)","v":{"$error":"#REF!"}},{"$f":"SMALL(D$60:D$63,3)","v":{"$error":"#REF!"}},{"$error":"#REF!"},{"$error":"#REF!"},{"$error":"#REF!"},{"$error":"#REF!"},{"$error":"#REF!"},{"$error":"#REF!"},{"$error":"#REF!"},{"$error":"#REF!"},{"$error":"#REF!"},{"$error":"#REF!"},{"$error":"#REF!"},{"$error":"#REF!"},{"$error":"#REF!"}]
[null,null,{"$f":"SMALL(C$60:C$63,4)","v":{"$error":"#REF!"}},{"$f":"SMALL(D$60:D$63,4)","v":{"$error":"#REF!"}},{"$error":"#REF!"},{"$error":"#REF!"},{"$error":"#REF!"},{"$error":"#REF!"},{"$error":"#REF!"},{"$error":"#REF!"},{"$error":"#REF!"},{"$error":"#REF!"},{"$error":"#REF!"},{"$error":"#REF!"},{"$error":"#REF!"},{"$error":"#REF!"},{"$error":"#REF!"}]
[]
[null,null,{"$f":"CHAR(C65)&CHAR(C66)&CHAR(C67)&CHAR(C68)","v":{"$error":"#REF!"}},{"$f":"CHAR(D65)&CHAR(D66)&CHAR(D67)&CHAR(D68)","v":{"$error":"#REF!"}},{"$error":"#REF!"},{"$error":"#REF!"},{"$error":"#REF!"},{"$error":"#REF!"},{"$error":"#REF!"},{"$error":"#REF!"},{"$error":"#REF!"},{"$error":"#REF!"},{"$error":"#REF!"},{"$error":"#REF!"},{"$error":"#REF!"},{"$error":"#REF!"},{"$error":"#REF!"}]
[]
[null,null,{"$f":"IF(C38=C70,\"ok\",\"???\")","v":{"$error":"#REF!"}},{"$f":"IF(D38=D70,\"ok\",\"???\")","v":{"$error":"#REF!"}},{"$error":"#REF!"},{"$error":"#REF!"},{"$error":"#REF!"},{"$error":"#REF!"},{"$error":"#REF!"},{"$error":"#REF!"},{"$error":"#REF!"},{"$error":"#REF!"},{"$error":"#REF!"},{"$error":"#REF!"},{"$error":"#REF!"},{"$error":"#REF!"},{"$error":"#REF!"}]

{"sheet":"Gruppendritte-UEFA","index":1,"n_rows":72,"n_cols":38,"rows_kept":72,"cut":false,"hidden":false,"merged":[]}
[null,null,"ABCD","ABCE","ABCF","ABDE","ABDF","ABEF","ACDE","ACDF","ACEF","ADEF","BCDE","BCDF","BCEF","BDEF","CDEF",null,null,null,null,null,null,null,"1B",null,null,null,"1C",null,null,"1E",null,null,null,"1F"]
["1A","2C",null,null,null,null,null,null,null,null,null,null,null,null,null,null,null,null,"A","wenn","ABCE,ABCF,ABDE,ABDF,ABEF,ACEF,ADEF",null,null,null,"A","D","E","F","D","E","F","A","B","C","D","A","B","C"]
["2A","2B",null,null,null,null,null,null,null,null,null,null,null,null,null,null,null,null,"C","wenn ","ABCD,ACDE,ACDF,BCDE,BCDF.BCEF,CDEF",null,null,null,"ABCD","ABDE","ABEF","ACDF","ABCD","ABCE","ABCF","ABDE","ABCD","ACDE","ADEF","ABEF","ABDE","ABCD"]
["1B","3ADEF","A","A","A","D","D","E","E","F","E","E","E","F","F","F","F",null,"D","wenn","BDEF",null,null,null,"ABCE","ABDF","ACDE","BCDF","ACDE","ABDE","ABDF","ABDF","ABCE","ACDF","BDEF","ACDE","ABDF","ABCE"]
["1C","3DEF","D","E","F","E","F","F","D","D","F","F","D","D","E","E","E",null,null,null,null,null,null,null,"ABCF",null,"ACEF","BCEF","ACDF","BCEF","ABEF",null,"ABCF","ACEF","CDEF","ACDF","BCDF","ABCF"]
["1D","2F",null,null,null,null,null,null,null,null,null,null,null,null,null,null,null,null,"C","wenn","ABCE,ABCF,ACEF",null,null,null,null,null,"ADEF","BDEF","BCDE","BDEF","ACEF",null,"ABEF","BCDF",null,"ACEF","BCEF","BCDE"]
["2D","2E",null,null,null,null,null,null,null,null,null,null,null,null,null,null,null,null,"D","wenn","ABCD,ABDE,ABDF,ACDE,ACDF,ADEF,BCDE,BCDF,CDEF",null,null,null,null,null,"BCDE","CDEF","BCDF","CDEF","ADEF",null,"BCDE","BCEF",null,"ADEF","BDEF","CDEF"]
["1E","3ABCD","B","B","B","A","A","B","C","C","C","D","B","C","C","D","D",null,"E","wenn","ABEF,BCEF,BDEF"]
["1F","3ABC","C","C","C","B","B","A","A","A","A","A","C","B","B","B","C"]
[null,null,null,null,null,null,null,null,null,null,null,null,null,null,null,null,null,null,"B","wenn","ABCD,ABCF,ABDF,ABEF,BCDF,BCEF,BDEF"]
[null,null,null,null,null,null,null,null,null,null,null,null,null,null,null,null,null,null,"E","wenn","ABCE,ABDE,ACDE,ACEF,ADEF,BCDE,CDEF"]
["Formel:"]
[null,null,"ABCD","ABCE","ABCF","ABDE","ABDF","ABEF","ACDE","ACDF","ACEF","ADEF","BCDE","BCDF","BCEF","BDEF","CDEF"]
["1A","2C"]
["2A","2B"]
["1B","3ADEF",{"$f":"IF(COUNTIF($Y$3:$Y$11,C$13)>0,$Y$2,IF(COUNTIF($Z$3:$Z$11,C$13)>0,$Z$2,IF(COUNTIF($AA$3:$AA$11,C$13)>0,$AA$2,IF(COUNTIF($AB$3:$AB$11,C$13)>0,$AB$2,CONCATENATE(\"??? \",C$13)))))","v":"A"},"A","A","D","D","E","E","F","E","E","E","F","F","F",{"$f":"IF(COUNTIF($Y$3:$Y$11,Q$13)>0,$Y$2,IF(COUNTIF($Z$3:$Z$11,Q$13)>0,$Z$2,IF(COUNTIF($AA$3:$AA$11,Q$13)>0,$AA$2,IF(COUNTIF($AB$3:$AB$11,Q$13)>0,$AB$2,CONCATENATE(\"??? \",Q$13)))))","v":"F"}]
["1C","3DEF",{"$f":"IF(COUNTIF($AC3:$AC$11,C$13)>0,$AC$2,IF(COUNTIF($AD$3:$AD$11,C$13)>0,$AD$2,IF(COUNTIF($AE$3:$AE$11,C$13)>0,$AE$2,CONCATENATE(\"??? \",C$13))))","v":"D"},{"$f":"IF(COUNTIF($AC3:$AC$11,D$13)>0,$AC$2,IF(COUNTIF($AD$3:$AD$11,D$13)>0,$AD$2,IF(COUNTIF($AE$3:$AE$11,D$13)>0,$AE$2,CONCATENATE(\"??? \",D$13))))","v":"E"},{"$f":"IF(COUNTIF($AC3:$AC$11,E$13)>0,$AC$2,IF(COUNTIF($AD$3:$AD$11,E$13)>0,$AD$2,IF(COUNTIF($AE$3:$AE$11,E$13)>0,$AE$2,CONCATENATE(\"??? \",E$13))))","v":"F"},{"$f":"IF(COUNTIF($AC3:$AC$11,F$13)>0,$AC$2,IF(COUNTIF($AD$3:$AD$11,F$13)>0,$AD$2,IF(COUNTIF($AE$3:$AE$11,F$13)>0,$AE$2,CONCATENATE(\"??? \",F$13))))","v":"E"},{"$f":"IF(COUNTIF($AC3:$AC$11,G$13)>0,$AC$2,IF(COUNTIF($AD$3:$AD$11,G$13)>0,$AD$2,IF(COUNTIF($AE$3:$AE$11,G$13)>0,$AE$2,CONCATENATE(\"??? \",G$13))))","v":"F"},{"$f":"IF(COUNTIF($AC3:$AC$11,H$13)>0,$AC$2,IF(COUNTIF($AD$3:$AD$11,H$13)>0,$AD$2,IF(COUNTIF($AE$3:$AE$11,H$13)>0,$AE$2,CONCATENATE(\"??? \",H$13))))","v":"F"},{"$f":"IF(COUNTIF($AC3:$AC$11,I$13)>0,$AC$2,IF(COUNTIF($AD$3:$AD$11,I$13)>0,$AD$2,IF(COUNTIF($AE$3:$AE$11,I$13)>0,$AE$2,CONCATENATE(\"??? \",I$13))))","v":"D"},{"$f":"IF(COUNTIF($AC3:$AC$11,J$13)>0,$AC$2,IF(COUNTIF($AD$3:$AD$11,J$13)>0,$AD$2,IF(COUNTIF($AE$3:$AE$11,J$13)>0,$AE$2,CONCATENATE(\"??? \",J$13))))","v":"D"},{"$f":"IF(COUNTIF($AC3:$AC$11,K$13)>0,$AC$2,IF(COUNTIF($AD$3:$AD$11,K$13)>0,$AD$2,IF(COUNTIF($AE$3:$AE$11,K$13)>0,$AE$2,CONCATENATE(\"??? \",K$13))))","v":"F"},{"$f":"IF(COUNTIF($AC3:$AC$11,L$13)>0,$AC$2,IF(COUNTIF($AD$3:$AD$11,L$13)>0,$AD$2,IF(COUNTIF($AE$3:$AE$11,L$13)>0,$AE$2,CONCATENATE(\"??? \",L$13))))","v":"F"},{"$f":"IF(COUNTIF($AC3:$AC$11,M$13)>0,$AC$2,IF(COUNTIF($AD$3:$AD$11,M$13)>0,$AD$2,IF(COUNTIF($AE$3:$AE$11,M$13)>0,$AE$2,CONCATENATE(\"??? \",M$13))))","v":"D"},{"$f":"IF(COUNTIF($AC3:$AC$11,N$13)>0,$AC$2,IF(COUNTIF($AD$3:$AD$11,N$13)>0,$AD$2,IF(COUNTIF($AE$3:$AE$11,N$13)>0,$AE$2,CONCATENATE(\"??? \",N$13))))","v":"D"},{"$f":"IF(COUNTIF($AC3:$AC$11,O$13)>0,$AC$2,IF(COUNTIF($AD$3:$AD$11,O$13)>0,$AD$2,IF(COUNTIF($AE$3:$AE$11,O$13)>0,$AE$2,CONCATENATE(\"??? \",O$13))))","v":"E"},{"$f":"IF(COUNTIF($AC3:$AC$11,P$13)>0,$AC$2,IF(COUNTIF($AD$3:$AD$11,P$13)>0,$AD$2,IF(COUNTIF($AE$3:$AE$11,P$13)>0,$AE$2,CONCATENATE(\"??? \",P$13))))","v":"E"},{"$f":"IF(COUNTIF($AC3:$AC$11,Q$13)>0,$AC$2,IF(COUNTIF($AD$3:$AD$11,Q$13)>0,$AD$2,IF(COUNTIF($AE$3:$AE$11,Q$13)>0,$AE$2,CONCATENATE(\"??? \",Q$13))))","v":"E"}]
["1D","2F"]
["2D","2E"]
["1E","3ABCD",{"$f":"IF(COUNTIF($AF$3:$AF$11,C$13)>0,$AF$2,IF(COUNTIF($AG$3:$AG$11,C$13)>0,$AG$2,IF(COUNTIF($AH$3:$AH$11,C$13)>0,$AH$2,IF(COUNTIF($AI$3:$AI$11,C$13)>0,$AI$2,CONCATENATE(\"??? \",C$13)))))","v":"B"},{"$f":"IF(COUNTIF($AF$3:$AF$11,D$13)>0,$AF$2,IF(COUNTIF($AG$3:$AG$11,D$13)>0,$AG$2,IF(COUNTIF($AH$3:$AH$11,D$13)>0,$AH$2,IF(COUNTIF($AI$3:$AI$11,D$13)>0,$AI$2,CONCATENATE(\"??? \",D$13)))))","v":"B"},"B","A","A","B","C","C","C","D","B","C","C","D","D"]
["1F","3ABC",{"$f":"IF(COUNTIF($AJ3:$AJ$11,C$13)>0,$AJ$2,IF(COUNTIF($AK$3:$AK$11,C$13)>0,$AK$2,IF(COUNTIF($AL$3:$AL$11,C$13)>0,$AL$2,CONCATENATE(\"??? \",C$13))))","v":"C"},{"$f":"IF(COUNTIF($AJ3:$AJ$11,D$13)>0,$AJ$2,IF(COUNTIF($AK$3:$AK$11,D$13)>0,$AK$2,IF(COUNTIF($AL$3:$AL$11,D$13)>0,$AL$2,CONCATENATE(\"??? \",D$13))))","v":"C"},{"$f":"IF(COUNTIF($AJ3:$AJ$11,E$13)>0,$AJ$2,IF(COUNTIF($AK$3:$AK$11,E$13)>0,$AK$2,IF(COUNTIF($AL$3:$AL$11,E$13)>0,$AL$2,CONCATENATE(\"??? \",E$13))))","v":"C"},{"$f":"IF(COUNTIF($AJ3:$AJ$11,F$13)>0,$AJ$2,IF(COUNTIF($AK$3:$AK$11,F$13)>0,$AK$2,IF(COUNTIF($AL$3:$AL$11,F$13)>0,$AL$2,CONCATENATE(\"??? \",F$13))))","v":"B"},{"$f":"IF(COUNTIF($AJ3:$AJ$11,G$13)>0,$AJ$2,IF(COUNTIF($AK$3:$AK$11,G$13)>0,$AK$2,IF(COUNTIF($AL$3:$AL$11,G$13)>0,$AL$2,CONCATENATE(\"??? \",G$13))))","v":"B"},{"$f":"IF(COUNTIF($AJ3:$AJ$11,H$13)>0,$AJ$2,IF(COUNTIF($AK$3:$AK$11,H$13)>0,$AK$2,IF(COUNTIF($AL$3:$AL$11,H$13)>0,$AL$2,CONCATENATE(\"??? \",H$13))))","v":"A"},{"$f":"IF(COUNTIF($AJ3:$AJ$11,I$13)>0,$AJ$2,IF(COUNTIF($AK$3:$AK$11,I$13)>0,$AK$2,IF(COUNTIF($AL$3:$AL$11,I$13)>0,$AL$2,CONCATENATE(\"??? \",I$13))))","v":"A"},{"$f":"IF(COUNTIF($AJ3:$AJ$11,J$13)>0,$AJ$2,IF(COUNTIF($AK$3:$AK$11,J$13)>0,$AK$2,IF(COUNTIF($AL$3:$AL$11,J$13)>0,$AL$2,CONCATENATE(\"??? \",J$13))))","v":"A"},{"$f":"IF(COUNTIF($AJ3:$AJ$11,K$13)>0,$AJ$2,IF(COUNTIF($AK$3:$AK$11,K$13)>0,$AK$2,IF(COUNTIF($AL$3:$AL$11,K$13)>0,$AL$2,CONCATENATE(\"??? \",K$13))))","v":"A"},{"$f":"IF(COUNTIF($AJ3:$AJ$11,L$13)>0,$AJ$2,IF(COUNTIF($AK$3:$AK$11,L$13)>0,$AK$2,IF(COUNTIF($AL$3:$AL$11,L$13)>0,$AL$2,CONCATENATE(\"??? \",L$13))))","v":"A"},{"$f":"IF(COUNTIF($AJ3:$AJ$11,M$13)>0,$AJ$2,IF(COUNTIF($AK$3:$AK$11,M$13)>0,$AK$2,IF(COUNTIF($AL$3:$AL$11,M$13)>0,$AL$2,CONCATENATE(\"??? \",M$13))))","v":"C"},{"$f":"IF(COUNTIF($AJ3:$AJ$11,N$13)>0,$AJ$2,IF(COUNTIF($AK$3:$AK$11,N$13)>0,$AK$2,IF(COUNTIF($AL$3:$AL$11,N$13)>0,$AL$2,CONCATENATE(\"??? \",N$13))))","v":"B"},{"$f":"IF(COUNTIF($AJ3:$AJ$11,O$13)>0,$AJ$2,IF(COUNTIF($AK$3:$AK$11,O$13)>0,$AK$2,IF(COUNTIF($AL$3:$AL$11,O$13)>0,$AL$2,CONCATENATE(\"??? \",O$13))))","v":"B"},{"$f":"IF(COUNTIF($AJ3:$AJ$11,P$13)>0,$AJ$2,IF(COUNTIF($AK$3:$AK$11,P$13)>0,$AK$2,IF(COUNTIF($AL$3:$AL$11,P$13)>0,$AL$2,CONCATENATE(\"??? \",P$13))))","v":"B"},{"$f":"IF(COUNTIF($AJ3:$AJ$11,Q$13)>0,$AJ$2,IF(COUNTIF($AK$3:$AK$11,Q$13)>0,$AK$2,IF(COUNTIF($AL$3:$AL$11,Q$13)>0,$AL$2,CONCATENATE(\"??? \",Q$13))))","v":"C"}]
[]
[]
[]
[{"$f":"IF(A1=A13,\"ok\",\"Mist\")","v":"ok"},"ok","ok","ok","ok","ok","ok","ok","ok","ok","ok","ok","ok","ok","ok","ok","ok"]
["ok","ok","ok","ok","ok","ok","ok","ok","ok","ok","ok","ok","ok","ok","ok","ok","ok"]
["ok","ok","ok","ok","ok","ok","ok","ok","ok","ok","ok","ok","ok","ok","ok","ok","ok"]
["ok","ok","ok","ok","ok","ok","ok","ok","ok","ok","ok","ok","ok","ok","ok","ok","ok"]
["ok","ok","ok","ok","ok","ok","ok","ok","ok","ok","ok","ok","ok","ok","ok","ok","ok"]
["ok","ok","ok","ok","ok","ok","ok","ok","ok","ok","ok","ok","ok","ok","ok","ok","ok"]
["ok","ok","ok","ok","ok","ok","ok","ok","ok","ok","ok","ok","ok","ok","ok","ok","ok"]
["ok","ok","ok","ok","ok","ok","ok","ok","ok","ok","ok","ok","ok","ok","ok","ok","ok"]
["ok","ok","ok","ok","ok","ok","ok","ok","ok","ok","ok","ok","ok","ok","ok","ok","ok"]
[]
[]
[]
["Annix"]
[null,null,"ABCD","ABCE","ABCF","ABDE","ABDF","ABEF","ACDE","ACDF","ACEF","ADEF","BCDE","BCDF","BCEF","BDEF","CDEF"]
["1A","2C"]
["2A","2B"]
["1B","3ADEF",{"$f":"INDEX(#REF!, MATCH(C$38,#REF!, 0))","v":{"$error":"#REF!"}},{"$f":"INDEX(#REF!, MATCH(D$38,#REF!, 0))","v":{"$error":"#REF!"}},{"$f":"INDEX(#REF!, MATCH(E$38,#REF!, 0))","v":{"$error":"#REF!"}},{"$f":"INDEX(#REF!, MATCH(F$38,#REF!, 0))","v":{"$error":"#REF!"}},{"$f":"INDEX(#REF!, MATCH(G$38,#REF!, 0))","v":{"$error":"#REF!"}},{"$f":"INDEX(#REF!, MATCH(H$38,#REF!, 0))","v":{"$error":"#REF!"}},{"$f":"INDEX(#REF!, MATCH(I$38,#REF!, 0))","v":{"$error":"#REF!"}},{"$f":"INDEX(#REF!, MATCH(J$38,#REF!, 0))","v":{"$error":"#REF!"}},{"$f":"INDEX(#REF!, MATCH(K$38,#REF!, 0))","v":{"$error":"#REF!"}},{"$f":"INDEX(#REF!, MATCH(L$38,#REF!, 0))","v":{"$error":"#REF!"}},{"$f":"INDEX(#REF!, MATCH(M$38,#REF!, 0))","v":{"$error":"#REF!"}},{"$f":"INDEX(#REF!, MATCH(N$38,#REF!, 0))","v":{"$error":"#REF!"}},{"$f":"INDEX(#REF!, MATCH(O$38,#REF!, 0))","v":{"$error":"#REF!"}},{"$f":"INDEX(#REF!, MATCH(P$38,#REF!, 0))","v":{"$error":"#REF!"}},{"$f":"INDEX(#REF!, MATCH(Q$38,#REF!, 0))","v":{"$error":"#REF!"}}]
["1C","3DEF",{"$f":"INDEX(#REF!, MATCH(C$38,#REF!, 0))","v":{"$error":"#REF!"}},{"$f":"INDEX(#REF!, MATCH(D$38,#REF!, 0))","v":{"$error":"#REF!"}},{"$f":"INDEX(#REF!, MATCH(E$38,#REF!, 0))","v":{"$error":"#REF!"}},{"$f":"INDEX(#REF!, MATCH(F$38,#REF!, 0))","v":{"$error":"#REF!"}},{"$f":"INDEX(#REF!, MATCH(G$38,#REF!, 0))","v":{"$error":"#REF!"}},{"$f":"INDEX(#REF!, MATCH(H$38,#REF!, 0))","v":{"$error":"#REF!"}},{"$f":"INDEX(#REF!, MATCH(I$38,#REF!, 0))","v":{"$error":"#REF!"}},{"$f":"INDEX(#REF!, MATCH(J$38,#REF!, 0))","v":{"$error":"#REF!"}},{"$f":"INDEX(#REF!, MATCH(K$38,#REF!, 0))","v":{"$error":"#REF!"}},{"$f":"INDEX(#REF!, MATCH(L$38,#REF!, 0))","v":{"$error":"#REF!"}},{"$f":"INDEX(#REF!, MATCH(M$38,#REF!, 0))","v":{"$error":"#REF!"}},{"$f":"INDEX(#REF!, MATCH(N$38,#REF!, 0))","v":{"$error":"#REF!"}},{"$f":"INDEX(#REF!, MATCH(O$38,#REF!, 0))","v":{"$error":"#REF!"}},{"$f":"INDEX(#REF!, MATCH(P$38,#REF!, 0))","v":{"$error":"#REF!"}},{"$f":"INDEX(#REF!, MATCH(Q$38,#REF!, 0))","v":{"$error":"#REF!"}}]
["1D","2F"]
["2D","2E"]
["1E","3ABCD",{"$f":"INDEX(#REF!, MATCH(C$38,#REF!, 0))","v":{"$error":"#REF!"}},{"$f":"INDEX(#REF!, MATCH(D$38,#REF!, 0))","v":{"$error":"#REF!"}},{"$f":"INDEX(#REF!, MATCH(E$38,#REF!, 0))","v":{"$error":"#REF!"}},{"$f":"INDEX(#REF!, MATCH(F$38,#REF!, 0))","v":{"$error":"#REF!"}},{"$f":"INDEX(#REF!, MATCH(G$38,#REF!, 0))","v":{"$error":"#REF!"}},{"$f":"INDEX(#REF!, MATCH(H$38,#REF!, 0))","v":{"$error":"#REF!"}},{"$f":"INDEX(#REF!, MATCH(I$38,#REF!, 0))","v":{"$error":"#REF!"}},{"$f":"INDEX(#REF!, MATCH(J$38,#REF!, 0))","v":{"$error":"#REF!"}},{"$f":"INDEX(#REF!, MATCH(K$38,#REF!, 0))","v":{"$error":"#REF!"}},{"$f":"INDEX(#REF!, MATCH(L$38,#REF!, 0))","v":{"$error":"#REF!"}},{"$f":"INDEX(#REF!, MATCH(M$38,#REF!, 0))","v":{"$error":"#REF!"}},{"$f":"INDEX(#REF!, MATCH(N$38,#REF!, 0))","v":{"$error":"#REF!"}},{"$f":"INDEX(#REF!, MATCH(O$38,#REF!, 0))","v":{"$error":"#REF!"}},{"$f":"INDEX(#REF!, MATCH(P$38,#REF!, 0))","v":{"$error":"#REF!"}},{"$f":"INDEX(#REF!, MATCH(Q$38,#REF!, 0))","v":{"$error":"#REF!"}}]
["1F","3ABC",{"$f":"INDEX(#REF!, MATCH(C$38,#REF!, 0))","v":{"$error":"#REF!"}},{"$f":"INDEX(#REF!, MATCH(D$38,#REF!, 0))","v":{"$error":"#REF!"}},{"$f":"INDEX(#REF!, MATCH(E$38,#REF!, 0))","v":{"$error":"#REF!"}},{"$f":"INDEX(#REF!, MATCH(F$38,#REF!, 0))","v":{"$error":"#REF!"}},{"$f":"INDEX(#REF!, MATCH(G$38,#REF!, 0))","v":{"$error":"#REF!"}},{"$f":"INDEX(#REF!, MATCH(H$38,#REF!, 0))","v":{"$error":"#REF!"}},{"$f":"INDEX(#REF!, MATCH(I$38,#REF!, 0))","v":{"$error":"#REF!"}},{"$f":"INDEX(#REF!, MATCH(J$38,#REF!, 0))","v":{"$error":"#REF!"}},{"$f":"INDEX(#REF!, MATCH(K$38,#REF!, 0))","v":{"$error":"#REF!"}},{"$f":"INDEX(#REF!, MATCH(L$38,#REF!, 0))","v":{"$error":"#REF!"}},{"$f":"INDEX(#REF!, MATCH(M$38,#REF!, 0))","v":{"$error":"#REF!"}},{"$f":"INDEX(#REF!, MATCH(N$38,#REF!, 0))","v":{"$error":"#REF!"}},{"$f":"INDEX(#REF!, MATCH(O$38,#REF!, 0))","v":{"$error":"#REF!"}},{"$f":"INDEX(#REF!, MATCH(P$38,#REF!, 0))","v":{"$error":"#REF!"}},{"$f":"INDEX(#REF!, MATCH(Q$38,#REF!, 0))","v":{"$error":"#REF!"}}]
[]
[]
[]
[{"$f":"IF(A3=A40,\"ok\",\"Mist\")","v":"ok"},"ok","ok","ok","ok","ok","ok","ok","ok","ok","ok","ok","ok","ok","ok","ok","ok"]
[{"$f":"IF(A4=A41,\"ok\",\"Mist\")","v":"ok"},{"$f":"IF(B4=B41,\"ok\",\"Mist\")","v":"ok"},{"$f":"IF(C4=C41,\"ok\",\"Mist\")","v":{"$error":"#REF!"}},{"$f":"IF(D4=D41,\"ok\",\"Mist\")","v":{"$error":"#REF!"}},{"$error":"#REF!"},{"$error":"#REF!"},{"$error":"#REF!"},{"$error":"#REF!"},{"$error":"#REF!"},{"$error":"#REF!"},{"$error":"#REF!"},{"$error":"#REF!"},{"$error":"#REF!"},{"$error":"#REF!"},{"$error":"#REF!"},{"$error":"#REF!"},{"$error":"#REF!"}]
[{"$f":"IF(A5=A42,\"ok\",\"Mist\")","v":"ok"},"ok",{"$error":"#REF!"},{"$error":"#REF!"},{"$error":"#REF!"},{"$error":"#REF!"},{"$error":"#REF!"},{"$error":"#REF!"},{"$error":"#REF!"},{"$error":"#REF!"},{"$error":"#REF!"},{"$error":"#REF!"},{"$error":"#REF!"},{"$error":"#REF!"},{"$error":"#REF!"},{"$error":"#REF!"},{"$error":"#REF!"}]
[{"$f":"IF(A6=A43,\"ok\",\"Mist\")","v":"ok"},"ok","ok","ok","ok","ok","ok","ok","ok","ok","ok","ok","ok","ok","ok","ok","ok"]
[{"$f":"IF(A7=A44,\"ok\",\"Mist\")","v":"ok"},"ok","ok","ok","ok","ok","ok","ok","ok","ok","ok","ok","ok","ok","ok","ok","ok"]
[{"$f":"IF(A8=A45,\"ok\",\"Mist\")","v":"ok"},"ok",{"$error":"#REF!"},{"$error":"#REF!"},{"$error":"#REF!"},{"$error":"#REF!"},{"$error":"#REF!"},{"$error":"#REF!"},{"$error":"#REF!"},{"$error":"#REF!"},{"$error":"#REF!"},{"$error":"#REF!"},{"$error":"#REF!"},{"$error":"#REF!"},{"$error":"#REF!"},{"$error":"#REF!"},{"$error":"#REF!"}]
[{"$f":"IF(A9=A46,\"ok\",\"Mist\")","v":"ok"},"ok",{"$error":"#REF!"},{"$error":"#REF!"},{"$error":"#REF!"},{"$error":"#REF!"},{"$error":"#REF!"},{"$error":"#REF!"},{"$error":"#REF!"},{"$error":"#REF!"},{"$error":"#REF!"},{"$error":"#REF!"},{"$error":"#REF!"},{"$error":"#REF!"},{"$error":"#REF!"},{"$error":"#REF!"},{"$error":"#REF!"}]
[{"$f":"IF(A10=A47,\"ok\",\"Mist\")","v":"ok"},"ok","ok","ok","ok","ok","ok","ok","ok","ok","ok","ok","ok","ok","ok","ok","ok"]
[{"$f":"IF(A11=A48,\"ok\",\"Mist\")","v":"ok"},"ok","ok","ok","ok","ok","ok","ok","ok","ok","ok","ok","ok","ok","ok","ok","ok"]
[]
[null,null,{"$f":"CODE(C41)","v":{"$error":"#REF!"}},{"$f":"CODE(D41)","v":{"$error":"#REF!"}},{"$error":"#REF!"},{"$error":"#REF!"},{"$error":"#REF!"},{"$error":"#REF!"},{"$error":"#REF!"},{"$error":"#REF!"},{"$error":"#REF!"},{"$error":"#REF!"},{"$error":"#REF!"},{"$error":"#REF!"},{"$error":"#REF!"},{"$error":"#REF!"},{"$error":"#REF!"}]
[null,null,{"$f":"CODE(C42)","v":{"$error":"#REF!"}},{"$f":"CODE(D42)","v":{"$error":"#REF!"}},{"$error":"#REF!"},{"$error":"#REF!"},{"$error":"#REF!"},{"$error":"#REF!"},{"$error":"#REF!"},{"$error":"#REF!"},{"$error":"#REF!"},{"$error":"#REF!"},{"$error":"#REF!"},{"$error":"#REF!"},{"$error":"#REF!"},{"$error":"#REF!"},{"$error":"#REF!"}]
[null,null,{"$f":"CODE(C45)","v":{"$error":"#REF!"}},{"$f":"CODE(D45)","v":{"$error":"#REF!"}},{"$error":"#REF!"},{"$error":"#REF!"},{"$error":"#REF!"},{"$error":"#REF!"},{"$error":"#REF!"},{"$error":"#REF!"},{"$error":"#REF!"},{"$error":"#REF!"},{"$error":"#REF!"},{"$error":"#REF!"},{"$error":"#REF!"},{"$error":"#REF!"},{"$error":"#REF!"}]
[null,null,{"$f":"CODE(C46)","v":{"$error":"#REF!"}},{"$f":"CODE(D46)","v":{"$error":"#REF!"}},{"$error":"#REF!"},{"$error":"#REF!"},{"$error":"#REF!"},{"$error":"#REF!"},{"$error":"#REF!"},{"$error":"#REF!"},{"$error":"#REF!"},{"$error":"#REF!"},{"$error":"#REF!"},{"$error":"#REF!"},{"$error":"#REF!"},{"$error":"#REF!"},{"$error":"#REF!"}]
[]
[null,null,{"$f":"SMALL(C$60:C$63,1)","v":{"$error":"#REF!"}},{"$f":"SMALL(D$60:D$63,1)","v":{"$error":"#REF!"}},{"$error":"#REF!"},{"$error":"#REF!"},{"$error":"#REF!"},{"$error":"#REF!"},{"$error":"#REF!"},{"$error":"#REF!"},{"$error":"#REF!"},{"$error":"#REF!"},{"$error":"#REF!"},{"$error":"#REF!"},{"$error":"#REF!"},{"$error":"#REF!"},{"$error":"#REF!"}]
[null,null,{"$f":"SMALL(C$60:C$63,2)","v":{"$error":"#REF!"}},{"$f":"SMALL(D$60:D$63,2)","v":{"$error":"#REF!"}},{"$error":"#REF!"},{"$error":"#REF!"},{"$error":"#REF!"},{"$error":"#REF!"},{"$error":"#REF!"},{"$error":"#REF!"},{"$error":"#REF!"},{"$error":"#REF!"},{"$error":"#REF!"},{"$error":"#REF!"},{"$error":"#REF!"},{"$error":"#REF!"},{"$error":"#REF!"}]
[null,null,{"$f":"SMALL(C$60:C$63,3)","v":{"$error":"#REF!"}},{"$f":"SMALL(D$60:D$63,3)","v":{"$error":"#REF!"}},{"$error":"#REF!"},{"$error":"#REF!"},{"$error":"#REF!"},{"$error":"#REF!"},{"$error":"#REF!"},{"$error":"#REF!"},{"$error":"#REF!"},{"$error":"#REF!"},{"$error":"#REF!"},{"$error":"#REF!"},{"$error":"#REF!"},{"$error":"#REF!"},{"$error":"#REF!"}]
[null,null,{"$f":"SMALL(C$60:C$63,4)","v":{"$error":"#REF!"}},{"$f":"SMALL(D$60:D$63,4)","v":{"$error":"#REF!"}},{"$error":"#REF!"},{"$error":"#REF!"},{"$error":"#REF!"},{"$error":"#REF!"},{"$error":"#REF!"},{"$error":"#REF!"},{"$error":"#REF!"},{"$error":"#REF!"},{"$error":"#REF!"},{"$error":"#REF!"},{"$error":"#REF!"},{"$error":"#REF!"},{"$error":"#REF!"}]
[]
[null,null,{"$f":"CHAR(C65)&CHAR(C66)&CHAR(C67)&CHAR(C68)","v":{"$error":"#REF!"}},{"$f":"CHAR(D65)&CHAR(D66)&CHAR(D67)&CHAR(D68)","v":{"$error":"#REF!"}},{"$error":"#REF!"},{"$error":"#REF!"},{"$error":"#REF!"},{"$error":"#REF!"},{"$error":"#REF!"},{"$error":"#REF!"},{"$error":"#REF!"},{"$error":"#REF!"},{"$error":"#REF!"},{"$error":"#REF!"},{"$error":"#REF!"},{"$error":"#REF!"},{"$error":"#REF!"}]
[]
[null,null,{"$f":"IF(C38=C70,\"ok\",\"???\")","v":{"$error":"#REF!"}},{"$f":"IF(D38=D70,\"ok\",\"???\")","v":{"$error":"#REF!"}},{"$error":"#REF!"},{"$error":"#REF!"},{"$error":"#REF!"},{"$error":"#REF!"},{"$error":"#REF!"},{"$error":"#REF!"},{"$error":"#REF!"},{"$error":"#REF!"},{"$error":"#REF!"},{"$error":"#REF!"},{"$error":"#REF!"},{"$error":"#REF!"},{"$error":"#REF!"}]

{"sheet":"Gruppendritte-Bernd","index":2,"n_rows":72,"n_cols":36,"rows_kept":72,"cut":false,"hidden":false,"merged":[]}
[null,null,"ABCD","ABCE","ABCF","ABDE","ABDF","ABEF","ACDE","ACDF","ACEF","ADEF","BCDE","BCDF","BCEF","BDEF","CDEF",null,null,null,null,null,null,null,"1B",null,null,"1A",null,null,"1D",null,null,"1C"]
["1B","3ACD","C","A","A","A","A","A","C","C","A","A","C","C","C","D","C",null,"A","wenn","ABCE,ABCF,ABDE,ABDF,ABEF,ACEF,ADEF",null,null,null,"A","C","D","C","D","E","B","E","F","A","B","F"]
["2A","2C",null,null,null,null,null,null,null,null,null,null,null,null,null,null,null,null,"C","wenn ","ABCD,ACDE,ACDF,BCDE,BCDF.BCEF,CDEF",null,null,null,"ABCE","ABCD","BDEF","ABCE","ABCD","ABEF","ABCD","ABCE","ACDF","ABCD","ABCE","ABCF"]
["1E","2D",null,null,null,null,null,null,null,null,null,null,null,null,null,null,null,null,"D","wenn","BDEF",null,null,null,"ABCF","ACDE",null,"ABCF","ABDE","BCEF","ABCF","ABDE",null,"ACDE","ABDE","ABDF"]
["1F","2E",null,null,null,null,null,null,null,null,null,null,null,null,null,null,null,null,null,null,null,null,null,null,"ABDE","ACDF",null,"ACEF","ABDF","BDEF","ABDF","ACDE",null,"ACDF","BCDE","ABEF"]
["1A","3CDE","D","C","C","D","D","E","D","D","C","D","D","D","E","E","D",null,"C","wenn","ABCE,ABCF,ACEF",null,null,null,"ABDF","BCDE",null,null,"ACDE",null,"ABEF","ACEF",null,null,null,"ACEF"]
["2B","2F",null,null,null,null,null,null,null,null,null,null,null,null,null,null,null,null,"D","wenn","ABCD,ABDE,ABDF,ACDE,ACDF,ADEF,BCDE,BCDF,CDEF",null,null,null,"ABEF","BCDF",null,null,"ACDF",null,"BCDF","ADEF",null,null,null,"ADEF"]
["1D","3BEF","B","E","B","E","B","B","E","F","E","E","E","B","B","B","E",null,"E","wenn","ABEF,BCEF,BDEF",null,null,null,"ACEF","BCEF",null,null,"ADEF",null,"BCEF","BCDE",null,null,null,"BCDF"]
["1C","3ABF","A","B","F","B","F","F","A","A","F","F","B","F","F","F","F",null,null,null,null,null,null,null,"ADEF","CDEF",null,null,"BCDE",null,"BDEF","CDEF",null,null,null,"BCEF"]
[null,null,null,null,null,null,null,null,null,null,null,null,null,null,null,null,null,null,"B","wenn","ABCD,ABCF,ABDF,ABEF,BCDF,BCEF,BDEF",null,null,null,null,null,null,null,"BCDF",null,null,null,null,null,null,"BDEF"]
[null,null,null,null,null,null,null,null,null,null,null,null,null,null,null,null,null,null,"E","wenn","ABCE,ABDE,ACDE,ACEF,ADEF,BCDE,CDEF",null,null,null,null,null,null,null,"CDEF",null,null,null,null,null,null,"CDEF"]
[null,null,"ABCD","ABCE","ABCF","ABDE","ABDF","ABEF","ACDE","ACDF","ACEF","ADEF",null,null,null,null,null,null,"F","wenn","ACDF"]
[null,null,null,null,null,null,null,null,"BCDE","BCDF","BCEF","BDEF"]
[null,null,null,null,null,null,null,null,null,null,null,"CDEF",null,null,null,null,null,null,"A","wenn","ABCD,ACDE,ACDF"]
[null,null,null,null,null,null,null,null,null,null,null,null,null,null,null,null,null,null,"B","wenn","ABCE,ABDE,BCDE"]
[null,null,null,null,null,null,null,null,null,null,null,null,null,null,null,null,null,null,"F","wenn","ABCF,ABDF,ABEF,ACEF,ADEF,BCDF,BCEF,BDEF,CDEF"]
[null,null,"ABCD","ABCE","ABCF","ABDE","ABDF","ABEF"]
[null,null,null,null,null,"ACDE","ACDF","ACEF"]
[null,null,null,null,null,null,null,"ADEF"]
[null,null,null,null,null,"BCDE","BCDF","BCEF"]
[null,null,null,null,null,null,null,"BDEF"]
[null,null,null,null,null,null,null,"CDEF"]
[]
["Formel:"]
[null,null,"ABCD","ABCE","ABCF","ABDE","ABDF","ABEF","ACDE","ACDF","ACEF","ADEF","BCDE","BCDF","BCEF","BDEF","CDEF"]
["1B","3ACD",{"$f":"IF(COUNTIF($Y$3:$Y$11,C$25)>0,$Y$2,IF(COUNTIF($Z$3:$Z$11,C$25)>0,$Z$2,IF(COUNTIF($AA$3:$AA$11,C$25)>0,$AA$2,CONCATENATE(\"??? \",C$25))))","v":"C"},{"$f":"IF(COUNTIF($Y$3:$Y$11,D$25)>0,$Y$2,IF(COUNTIF($Z$3:$Z$11,D$25)>0,$Z$2,IF(COUNTIF($AA$3:$AA$11,D$25)>0,$AA$2,CONCATENATE(\"??? \",D$25))))","v":"A"},{"$f":"IF(COUNTIF($Y$3:$Y$11,E$25)>0,$Y$2,IF(COUNTIF($Z$3:$Z$11,E$25)>0,$Z$2,IF(COUNTIF($AA$3:$AA$11,E$25)>0,$AA$2,CONCATENATE(\"??? \",E$25))))","v":"A"},"A","A","A","C","C","A","A","C","C","C","D","C"]
["2A","2C"]
["1E","2D"]
["1F","2E"]
["1A","3CDE",{"$f":"IF(COUNTIF($AB$3:$AB$11,C$25)>0,$AB$2,IF(COUNTIF($AC$3:$AC$11,C$25)>0,$AC$2,IF(COUNTIF($AD$3:$AD$11,C$25)>0,$AD$2,CONCATENATE(\"??? \",C$25))))","v":"D"},"C","C","D","D","E","D","D","C","D","D","D","E","E","D"]
["2B","2F"]
["1D","3BEF",{"$f":"IF(COUNTIF($AE$3:$AE$11,C$25)>0,$AE$2,IF(COUNTIF($AF$3:$AF$11,C$25)>0,$AF$2,IF(COUNTIF($AG$3:$AG$11,C$25)>0,$AG$2,CONCATENATE(\"??? \",C$25))))","v":"B"},{"$f":"IF(COUNTIF($AE$3:$AE$11,D$25)>0,$AE$2,IF(COUNTIF($AF$3:$AF$11,D$25)>0,$AF$2,IF(COUNTIF($AG$3:$AG$11,D$25)>0,$AG$2,CONCATENATE(\"??? \",D$25))))","v":"E"},"B","E","B","B","E","F","E","E","E","B","B","B","E"]
["1C","3ABF",{"$f":"IF(COUNTIF($AH$3:$AH$11,C$25)>0,$AH$2,IF(COUNTIF($AI$3:$AI$11,C$25)>0,$AI$2,IF(COUNTIF($AJ$3:$AJ$11,C$25)>0,$AJ$2,CONCATENATE(\"??? \",C$25))))","v":"A"},{"$f":"IF(COUNTIF($AH$3:$AH$11,D$25)>0,$AH$2,IF(COUNTIF($AI$3:$AI$11,D$25)>0,$AI$2,IF(COUNTIF($AJ$3:$AJ$11,D$25)>0,$AJ$2,CONCATENATE(\"??? \",D$25))))","v":"B"},"F","B","F","F","A","A","F","F","B","F","F","F","F"]
[]
[]
[]
["Annix"]
[null,null,"ABCD","ABCE","ABCF","ABDE","ABDF","ABEF","ACDE","ACDF","ACEF","ADEF","BCDE","BCDF","BCEF","BDEF","CDEF"]
["1B","3ACD",{"$f":"INDEX(#REF!, MATCH(C$38,#REF!, 0))","v":{"$error":"#REF!"}},{"$f":"INDEX(#REF!, MATCH(D$38,#REF!, 0))","v":{"$error":"#REF!"}},{"$f":"INDEX(#REF!, MATCH(E$38,#REF!, 0))","v":{"$error":"#REF!"}},{"$f":"INDEX(#REF!, MATCH(F$38,#REF!, 0))","v":{"$error":"#REF!"}},{"$f":"INDEX(#REF!, MATCH(G$38,#REF!, 0))","v":{"$error":"#REF!"}},{"$f":"INDEX(#REF!, MATCH(H$38,#REF!, 0))","v":{"$error":"#REF!"}},{"$f":"INDEX(#REF!, MATCH(I$38,#REF!, 0))","v":{"$error":"#REF!"}},{"$f":"INDEX(#REF!, MATCH(J$38,#REF!, 0))","v":{"$error":"#REF!"}},{"$f":"INDEX(#REF!, MATCH(K$38,#REF!, 0))","v":{"$error":"#REF!"}},{"$f":"INDEX(#REF!, MATCH(L$38,#REF!, 0))","v":{"$error":"#REF!"}},{"$f":"INDEX(#REF!, MATCH(M$38,#REF!, 0))","v":{"$error":"#REF!"}},{"$f":"INDEX(#REF!, MATCH(N$38,#REF!, 0))","v":{"$error":"#REF!"}},{"$f":"INDEX(#REF!, MATCH(O$38,#REF!, 0))","v":{"$error":"#REF!"}},{"$f":"INDEX(#REF!, MATCH(P$38,#REF!, 0))","v":{"$error":"#REF!"}},{"$f":"INDEX(#REF!, MATCH(Q$38,#REF!, 0))","v":{"$error":"#REF!"}}]
["2A","2C"]
["1E","2D"]
["1F","2E"]
["1A","3CDE",{"$f":"INDEX(#REF!, MATCH(C$38,#REF!, 0))","v":{"$error":"#REF!"}},{"$f":"INDEX(#REF!, MATCH(D$38,#REF!, 0))","v":{"$error":"#REF!"}},{"$f":"INDEX(#REF!, MATCH(E$38,#REF!, 0))","v":{"$error":"#REF!"}},{"$f":"INDEX(#REF!, MATCH(F$38,#REF!, 0))","v":{"$error":"#REF!"}},{"$f":"INDEX(#REF!, MATCH(G$38,#REF!, 0))","v":{"$error":"#REF!"}},{"$f":"INDEX(#REF!, MATCH(H$38,#REF!, 0))","v":{"$error":"#REF!"}},{"$f":"INDEX(#REF!, MATCH(I$38,#REF!, 0))","v":{"$error":"#REF!"}},{"$f":"INDEX(#REF!, MATCH(J$38,#REF!, 0))","v":{"$error":"#REF!"}},{"$f":"INDEX(#REF!, MATCH(K$38,#REF!, 0))","v":{"$error":"#REF!"}},{"$f":"INDEX(#REF!, MATCH(L$38,#REF!, 0))","v":{"$error":"#REF!"}},{"$f":"INDEX(#REF!, MATCH(M$38,#REF!, 0))","v":{"$error":"#REF!"}},{"$f":"INDEX(#REF!, MATCH(N$38,#REF!, 0))","v":{"$error":"#REF!"}},{"$f":"INDEX(#REF!, MATCH(O$38,#REF!, 0))","v":{"$error":"#REF!"}},{"$f":"INDEX(#REF!, MATCH(P$38,#REF!, 0))","v":{"$error":"#REF!"}},{"$f":"INDEX(#REF!, MATCH(Q$38,#REF!, 0))","v":{"$error":"#REF!"}}]
["2B","2F"]
["1D","3BEF",{"$f":"INDEX(#REF!, MATCH(C$38,#REF!, 0))","v":{"$error":"#REF!"}},{"$f":"INDEX(#REF!, MATCH(D$38,#REF!, 0))","v":{"$error":"#REF!"}},{"$f":"INDEX(#REF!, MATCH(E$38,#REF!, 0))","v":{"$error":"#REF!"}},{"$f":"INDEX(#REF!, MATCH(F$38,#REF!, 0))","v":{"$error":"#REF!"}},{"$f":"INDEX(#REF!, MATCH(G$38,#REF!, 0))","v":{"$error":"#REF!"}},{"$f":"INDEX(#REF!, MATCH(H$38,#REF!, 0))","v":{"$error":"#REF!"}},{"$f":"INDEX(#REF!, MATCH(I$38,#REF!, 0))","v":{"$error":"#REF!"}},{"$f":"INDEX(#REF!, MATCH(J$38,#REF!, 0))","v":{"$error":"#REF!"}},{"$f":"INDEX(#REF!, MATCH(K$38,#REF!, 0))","v":{"$error":"#REF!"}},{"$f":"INDEX(#REF!, MATCH(L$38,#REF!, 0))","v":{"$error":"#REF!"}},{"$f":"INDEX(#REF!, MATCH(M$38,#REF!, 0))","v":{"$error":"#REF!"}},{"$f":"INDEX(#REF!, MATCH(N$38,#REF!, 0))","v":{"$error":"#REF!"}},{"$f":"INDEX(#REF!, MATCH(O$38,#REF!, 0))","v":{"$error":"#REF!"}},{"$f":"INDEX(#REF!, MATCH(P$38,#REF!, 0))","v":{"$error":"#REF!"}},{"$f":"INDEX(#REF!, MATCH(Q$38,#REF!, 0))","v":{"$error":"#REF!"}}]
["1C","3ABF",{"$f":"INDEX(#REF!, MATCH(C$38,#REF!, 0))","v":{"$error":"#REF!"}},{"$f":"INDEX(#REF!, MATCH(D$38,#REF!, 0))","v":{"$error":"#REF!"}},{"$f":"INDEX(#REF!, MATCH(E$38,#REF!, 0))","v":{"$error":"#REF!"}},{"$f":"INDEX(#REF!, MATCH(F$38,#REF!, 0))","v":{"$error":"#REF!"}},{"$f":"INDEX(#REF!, MATCH(G$38,#REF!, 0))","v":{"$error":"#REF!"}},{"$f":"INDEX(#REF!, MATCH(H$38,#REF!, 0))","v":{"$error":"#REF!"}},{"$f":"INDEX(#REF!, MATCH(I$38,#REF!, 0))","v":{"$error":"#REF!"}},{"$f":"INDEX(#REF!, MATCH(J$38,#REF!, 0))","v":{"$error":"#REF!"}},{"$f":"INDEX(#REF!, MATCH(K$38,#REF!, 0))","v":{"$error":"#REF!"}},{"$f":"INDEX(#REF!, MATCH(L$38,#REF!, 0))","v":{"$error":"#REF!"}},{"$f":"INDEX(#REF!, MATCH(M$38,#REF!, 0))","v":{"$error":"#REF!"}},{"$f":"INDEX(#REF!, MATCH(N$38,#REF!, 0))","v":{"$error":"#REF!"}},{"$f":"INDEX(#REF!, MATCH(O$38,#REF!, 0))","v":{"$error":"#REF!"}},{"$f":"INDEX(#REF!, MATCH(P$38,#REF!, 0))","v":{"$error":"#REF!"}},{"$f":"INDEX(#REF!, MATCH(Q$38,#REF!, 0))","v":{"$error":"#REF!"}}]
[]
[]
[]
[{"$f":"IF(A3=A41,\"ok\",\"Mist\")","v":"Mist"},"Mist","ok","ok","ok","ok","ok","ok","ok","ok","ok","ok","ok","ok","ok","ok","ok"]
[{"$f":"IF(A4=A39,\"ok\",\"Mist\")","v":"Mist"},{"$f":"IF(B4=B39,\"ok\",\"Mist\")","v":"Mist"},{"$f":"IF(C4=C41,\"ok\",\"Mist\")","v":"ok"},"ok","ok","ok","ok","ok","ok","ok","ok","ok","ok","ok","ok","ok","ok"]
[{"$f":"IF(A5=A42,\"ok\",\"Mist\")","v":"ok"},"ok",{"$f":"IF(C5=C42,\"ok\",\"Mist\")","v":"ok"},"ok","ok","ok","ok","ok","ok","ok","ok","ok","ok","ok","ok","ok","ok"]
["ok","ok",{"$f":"IF(C6=C43,\"ok\",\"Mist\")","v":{"$error":"#REF!"}},{"$error":"#REF!"},{"$error":"#REF!"},{"$error":"#REF!"},{"$error":"#REF!"},{"$error":"#REF!"},{"$error":"#REF!"},{"$error":"#REF!"},{"$error":"#REF!"},{"$error":"#REF!"},{"$error":"#REF!"},{"$error":"#REF!"},{"$error":"#REF!"},{"$error":"#REF!"},{"$error":"#REF!"}]
["ok","ok",{"$f":"IF(C7=C44,\"ok\",\"Mist\")","v":"ok"},"ok","ok","ok","ok","ok","ok","ok","ok","ok","ok","ok","ok","ok","ok"]
["ok","ok",{"$f":"IF(C8=C45,\"ok\",\"Mist\")","v":{"$error":"#REF!"}},{"$error":"#REF!"},{"$error":"#REF!"},{"$error":"#REF!"},{"$error":"#REF!"},{"$error":"#REF!"},{"$error":"#REF!"},{"$error":"#REF!"},{"$error":"#REF!"},{"$error":"#REF!"},{"$error":"#REF!"},{"$error":"#REF!"},{"$error":"#REF!"},{"$error":"#REF!"},{"$error":"#REF!"}]
["ok","ok",{"$f":"IF(C9=C46,\"ok\",\"Mist\")","v":{"$error":"#REF!"}},{"$error":"#REF!"},{"$error":"#REF!"},{"$error":"#REF!"},{"$error":"#REF!"},{"$error":"#REF!"},{"$error":"#REF!"},{"$error":"#REF!"},{"$error":"#REF!"},{"$error":"#REF!"},{"$error":"#REF!"},{"$error":"#REF!"},{"$error":"#REF!"},{"$error":"#REF!"},{"$error":"#REF!"}]
["ok","ok",{"$f":"IF(C10=C47,\"ok\",\"Mist\")","v":"ok"},"ok","ok","ok","ok","ok","ok","ok","ok","ok","ok","ok","ok","ok","ok"]
["ok","ok",{"$f":"IF(C11=C48,\"ok\",\"Mist\")","v":"ok"},"ok","ok","ok","ok","ok","ok","ok","ok","ok","ok","ok","ok","ok","ok"]
[]
[null,null,{"$f":"CODE(C39)","v":{"$error":"#REF!"}},{"$f":"CODE(D39)","v":{"$error":"#REF!"}},{"$error":"#REF!"},{"$error":"#REF!"},{"$error":"#REF!"},{"$error":"#REF!"},{"$error":"#REF!"},{"$error":"#REF!"},{"$error":"#REF!"},{"$error":"#REF!"},{"$error":"#REF!"},{"$error":"#REF!"},{"$error":"#REF!"},{"$error":"#REF!"},{"$error":"#REF!"}]
[null,null,{"$f":"CODE(C43)","v":{"$error":"#REF!"}},{"$f":"CODE(D43)","v":{"$error":"#REF!"}},{"$error":"#REF!"},{"$error":"#REF!"},{"$error":"#REF!"},{"$error":"#REF!"},{"$error":"#REF!"},{"$error":"#REF!"},{"$error":"#REF!"},{"$error":"#REF!"},{"$error":"#REF!"},{"$error":"#REF!"},{"$error":"#REF!"},{"$error":"#REF!"},{"$error":"#REF!"}]
[null,null,{"$f":"CODE(C45)","v":{"$error":"#REF!"}},{"$f":"CODE(D45)","v":{"$error":"#REF!"}},{"$error":"#REF!"},{"$error":"#REF!"},{"$error":"#REF!"},{"$error":"#REF!"},{"$error":"#REF!"},{"$error":"#REF!"},{"$error":"#REF!"},{"$error":"#REF!"},{"$error":"#REF!"},{"$error":"#REF!"},{"$error":"#REF!"},{"$error":"#REF!"},{"$error":"#REF!"}]
[null,null,{"$f":"CODE(C46)","v":{"$error":"#REF!"}},{"$f":"CODE(D46)","v":{"$error":"#REF!"}},{"$error":"#REF!"},{"$error":"#REF!"},{"$error":"#REF!"},{"$error":"#REF!"},{"$error":"#REF!"},{"$error":"#REF!"},{"$error":"#REF!"},{"$error":"#REF!"},{"$error":"#REF!"},{"$error":"#REF!"},{"$error":"#REF!"},{"$error":"#REF!"},{"$error":"#REF!"}]
[]
[null,null,{"$f":"SMALL(C$60:C$63,1)","v":{"$error":"#REF!"}},{"$f":"SMALL(D$60:D$63,1)","v":{"$error":"#REF!"}},{"$error":"#REF!"},{"$error":"#REF!"},{"$error":"#REF!"},{"$error":"#REF!"},{"$error":"#REF!"},{"$error":"#REF!"},{"$error":"#REF!"},{"$error":"#REF!"},{"$error":"#REF!"},{"$error":"#REF!"},{"$error":"#REF!"},{"$error":"#REF!"},{"$error":"#REF!"}]
[null,null,{"$f":"SMALL(C$60:C$63,2)","v":{"$error":"#REF!"}},{"$f":"SMALL(D$60:D$63,2)","v":{"$error":"#REF!"}},{"$error":"#REF!"},{"$error":"#REF!"},{"$error":"#REF!"},{"$error":"#REF!"},{"$error":"#REF!"},{"$error":"#REF!"},{"$error":"#REF!"},{"$error":"#REF!"},{"$error":"#REF!"},{"$error":"#REF!"},{"$error":"#REF!"},{"$error":"#REF!"},{"$error":"#REF!"}]
[null,null,{"$f":"SMALL(C$60:C$63,3)","v":{"$error":"#REF!"}},{"$f":"SMALL(D$60:D$63,3)","v":{"$error":"#REF!"}},{"$error":"#REF!"},{"$error":"#REF!"},{"$error":"#REF!"},{"$error":"#REF!"},{"$error":"#REF!"},{"$error":"#REF!"},{"$error":"#REF!"},{"$error":"#REF!"},{"$error":"#REF!"},{"$error":"#REF!"},{"$error":"#REF!"},{"$error":"#REF!"},{"$error":"#REF!"}]
[null,null,{"$f":"SMALL(C$60:C$63,4)","v":{"$error":"#REF!"}},{"$f":"SMALL(D$60:D$63,4)","v":{"$error":"#REF!"}},{"$error":"#REF!"},{"$error":"#REF!"},{"$error":"#REF!"},{"$error":"#REF!"},{"$error":"#REF!"},{"$error":"#REF!"},{"$error":"#REF!"},{"$error":"#REF!"},{"$error":"#REF!"},{"$error":"#REF!"},{"$error":"#REF!"},{"$error":"#REF!"},{"$error":"#REF!"}]
[]
[null,null,{"$f":"CHAR(C65)&CHAR(C66)&CHAR(C67)&CHAR(C68)","v":{"$error":"#REF!"}},{"$f":"CHAR(D65)&CHAR(D66)&CHAR(D67)&CHAR(D68)","v":{"$error":"#REF!"}},{"$error":"#REF!"},{"$error":"#REF!"},{"$error":"#REF!"},{"$error":"#REF!"},{"$error":"#REF!"},{"$error":"#REF!"},{"$error":"#REF!"},{"$error":"#REF!"},{"$error":"#REF!"},{"$error":"#REF!"},{"$error":"#REF!"},{"$error":"#REF!"},{"$error":"#REF!"}]
[]
[null,null,{"$f":"IF(C38=C70,\"ok\",\"???\")","v":{"$error":"#REF!"}},{"$error":"#REF!"},{"$error":"#REF!"},{"$error":"#REF!"},{"$error":"#REF!"},{"$error":"#REF!"},{"$error":"#REF!"},{"$error":"#REF!"},{"$error":"#REF!"},{"$error":"#REF!"},{"$error":"#REF!"},{"$error":"#REF!"},{"$error":"#REF!"},{"$error":"#REF!"},{"$error":"#REF!"}]

{"sheet":"EM2024-Plan-mit-Annix","index":3,"n_rows":67,"n_cols":100,"rows_kept":67,"cut":false,"hidden":false,"merged":[]}
["SP","Vorrunde","Gruppe A"," ",null,null,null,null,null,null,null,null,"Tabelle","P","T+","T-","T+/-",null,null,null,null,null,null,"G","Berechnungen","P","T+","T-","T+/-",null,"L0","DV",null,null,null,"S1","L1","DV-TD",null,null,null,"S2","DV-Tore",null,null,null,"S3","L4",null,null,null,null,null,"Vorrunde","Gruppe D"," ",null,null,null,null,null,null,null,null,"Tabelle","P","T+","T-","T+/-",null,null,null,null,null,null,"G","Berechnungen","P","T+","T-","T+/-",null,"L0","DV",null,null,null,"S1","L1","DV-TD",null,null,null,"S2","DV-Tore",null,null,null,"S3","L4"]
[null,"Datum/Zeit","Spielort",null,null,null,null,null,null,null,null,null,{"$f":"VLOOKUP(1,$X$2:$AC$5,2,FALSE)","v":"Ungarn"},{"$f":"VLOOKUP(1,$X$2:$AC$5,3,FALSE)","v":7},{"$f":"VLOOKUP(1,$X$2:$AC$5,4,FALSE)","v":7},{"$f":"VLOOKUP(1,$X$2:$AC$5,5,FALSE)","v":5},{"$f":"VLOOKUP(1,$X$2:$AC$5,6,FALSE)","v":2},null,null,{"$f":"IF(H3=\"\",0,IF(K3=$B$65,IF(H3>J3,3,IF(H3=J3,1,0)),0))","v":3},{"$f":"IF(H5=\"\",0,IF(K5=$B$65,IF(H5>J5,3,IF(H5=J5,1,0)),0))","v":0},{"$f":"IF(J7=\"\",0,IF(K8=$B$65,IF(H7<J7,3,IF(H7=J7,1,0)),0))","v":3},null,{"$f":"RANK(AD2,$AD$2:$AD$5)","v":2},"Deutschland",{"$f":"SUM(S2:V2)","v":6},{"$f":"SUM(S6:V6)","v":10},{"$f":"SUM(S6:S9)","v":7},{"$f":"AA2-AB2","v":3},{"$f":"IF(P$8=\"\",(((((((AE2*10+Z2)*100+AC2)*100+AA2)*10+AK2)*10+AJ2)*100+AP2)*100+AU2)*10+AV2,(((((((AE2*10+Z2)*10+AK2)*10+AJ2)*100+AP2)*100+AU2)*100+AC2)*100+AA2)*10+AV2)","v":600000003104},null,null,{"$f":"IF($Z2=$Z3,$T2-$S3,0)","v":0},{"$f":"IF($Z2=$Z4,$U2-$S4,0)","v":0},{"$f":"IF($Z2=$Z5,$V2-$S5,0)","v":0},{"$f":"SUM(AF2:AI2)","v":0},null,null,{"$f":"IF($Z2=$Z3,$T6-$S7,0)","v":0},{"$f":"IF($Z2=$Z4,$U6-$S8,0)","v":0},{"$f":"IF($Z2=$Z5,$V6-$S9,0)","v":0},{"$f":"SUM(AL2:AO2)","v":0},null,{"$f":"IF($Z2=$Z3,$T6,0)","v":0},{"$f":"IF($Z2=$Z4,$U6,0)","v":0},{"$f":"IF($Z2=$Z5,$V6,0)","v":0},{"$f":"SUM(AQ2:AT2)","v":0},4,null,null,null,null,null,"Datum/Zeit","Spielort",null,null,null,null,null,null,null,null,null,{"$f":"VLOOKUP(1,$BX$2:$CC$5,2,FALSE)","v":"Polen"},{"$f":"VLOOKUP(1,$BX$2:$CC$5,3,FALSE)","v":6},{"$f":"VLOOKUP(1,$BX$2:$CC$5,4,FALSE)","v":7},{"$f":"VLOOKUP(1,$BX$2:$CC$5,5,FALSE)","v":5},{"$f":"VLOOKUP(1,$BX$2:$CC$5,6,FALSE)","v":2},null,null,{"$f":"IF(BH3=\"\",0,IF(BK3=$B$65,IF(BH3>BJ3,3,IF(BH3=BJ3,1,0)),0))","v":0},{"$f":"IF(BH5=\"\",0,IF(BK5=$B$65,IF(BH5>BJ5,3,IF(BH5=BJ5,1,0)),0))","v":3},{"$f":"IF(BJ7=\"\",0,IF(BK8=$B$65,IF(BH7<BJ7,3,IF(BH7=BJ7,1,0)),0))","v":3},null,{"$f":"RANK(CD2,$CD$2:$CD$5)","v":1},"Polen",{"$f":"SUM(BS2:BV2)","v":6},{"$f":"SUM(BS6:BV6)","v":7},{"$f":"SUM(BS6:BS9)","v":5},{"$f":"CA2-CB2","v":2},{"$f":"IF(BP$8=\"\",(((((((CE2*10+BZ2)*100+CC2)*100+CA2)*10+CK2)*10+CJ2)*100+CP2)*100+CU2)*10+CV2,(((((((CE2*10+BZ2)*10+CK2)*10+CJ2)*100+CP2)*100+CU2)*100+CC2)*100+CA2)*10+CV2)","v":603030402074},null,null,{"$f":"IF($BZ2=$BZ3,$BT2-$BS3,0)","v":0},{"$f":"IF($BZ2=$BZ4,$BU2-$BS4,0)","v":3},{"$f":"IF($BZ2=$BZ5,$BV2-$BS5,0)","v":0},{"$f":"SUM(CF2:CI2)","v":3},null,null,{"$f":"IF($BZ2=$BZ3,$BT6-$BS7,0)","v":0},{"$f":"IF($BZ2=$BZ4,$BU6-$BS8,0)","v":3},{"$f":"IF($BZ2=$BZ5,$BV6-$BS9,0)","v":0},{"$f":"SUM(CL2:CO2)","v":3},null,{"$f":"IF($BZ2=$BZ3,$BT6,0)","v":0},{"$f":"IF($BZ2=$BZ4,$BU6,0)","v":4},{"$f":"IF($BZ2=$BZ5,$BV6,0)","v":0},{"$f":"SUM(CQ2:CT2)","v":4},4]
[1,"2024-06-14T21:00:00","München",{"$f":"Y2","v":"Deutschland"},"-",{"$f":"Y3","v":"Schottland"},null,{"$f":"IF($B$66=\"\",1,INT(RAND()*5)+INT(RAND()*3)*INT(RAND()*2))","v":4},":",{"$f":"IF($B$66=\"\",0,INT(RAND()*5)+INT(RAND()*3)*INT(RAND()*2))","v":1},"ok",null,{"$f":"VLOOKUP(2,$X$2:$AC$5,2,FALSE)","v":"Deutschland"},{"$f":"VLOOKUP(2,$X$2:$AC$5,3,FALSE)","v":6},{"$f":"VLOOKUP(2,$X$2:$AC$5,4,FALSE)","v":10},{"$f":"VLOOKUP(2,$X$2:$AC$5,5,FALSE)","v":7},{"$f":"VLOOKUP(2,$X$2:$AC$5,6,FALSE)","v":3},null,{"$f":"IF(J3=\"\",0,IF(K3=$B$65,IF(H3<J3,3,IF(H3=J3,1,0)),0))","v":0},null,{"$f":"IF(H8=\"\",0,IF(K7=$B$65,IF(H8>J8,3,IF(H8=J8,1,0)),0))","v":1},{"$f":"IF(H6=\"\",0,IF(K6=$B$65,IF(H6>J6,3,IF(H6=J6,1,0)),0))","v":3},null,{"$f":"RANK(AD3,$AD$2:$AD$5)","v":3},"Schottland",{"$f":"SUM(S3:V3)","v":4},{"$f":"SUM(S7:V7)","v":6},{"$f":"SUM(T6:T9)","v":6},{"$f":"AA3-AB3","v":0},{"$f":"IF(P$8=\"\",(((((((AE3*10+Z3)*100+AC3)*100+AA3)*10+AK3)*10+AJ3)*100+AP3)*100+AU3)*10+AV3,(((((((AE3*10+Z3)*10+AK3)*10+AJ3)*100+AP3)*100+AU3)*100+AC3)*100+AA3)*10+AV3)","v":400000000063},null,{"$f":"IF($Z3=$Z2,$S3-$T2,0)","v":0},null,{"$f":"IF($Z3=$Z4,$U3-$T4,0)","v":0},{"$f":"IF($Z3=$Z5,$V3-$T5,0)","v":0},{"$f":"SUM(AF3:AI3)","v":0},null,{"$f":"IF($Z3=$Z2,$S7-$T6,0)","v":0},null,{"$f":"IF($Z3=$Z4,$U7-$T8,0)","v":0},{"$f":"IF($Z3=$Z5,$V7-$T9,0)","v":0},{"$f":"SUM(AL3:AO3)","v":0},{"$f":"IF($Z3=$Z2,$S7,0)","v":0},null,{"$f":"IF($Z3=$Z4,$U7,0)","v":0},{"$f":"IF($Z3=$Z5,$V7,0)","v":0},{"$f":"SUM(AQ3:AT3)","v":0},3,null,null,null,null,7,"2024-06-16T15:00:00","Hamburg",{"$f":"BY2","v":"Polen"},"-",{"$f":"BY3","v":"Niederlande"},null,{"$f":"IF($B$66=\"\",1,INT(RAND()*5)+INT(RAND()*3)*INT(RAND()*2))","v":1},":",{"$f":"IF($B$66=\"\",0,INT(RAND()*5)+INT(RAND()*3)*INT(RAND()*2))","v":3},"ok",null,{"$f":"VLOOKUP(2,$BX$2:$CC$5,2,FALSE)","v":"Österreich"},{"$f":"VLOOKUP(2,$BX$2:$CC$5,3,FALSE)","v":6},{"$f":"VLOOKUP(2,$BX$2:$CC$5,4,FALSE)","v":9},{"$f":"VLOOKUP(2,$BX$2:$CC$5,5,FALSE)","v":10},{"$f":"VLOOKUP(2,$BX$2:$CC$5,6,FALSE)","v":-1},null,{"$f":"IF(BJ3=\"\",0,IF(BK3=$B$65,IF(BH3<BJ3,3,IF(BH3=BJ3,1,0)),0))","v":3},null,{"$f":"IF(BH8=\"\",0,IF(BK7=$B$65,IF(BH8>BJ8,3,IF(BH8=BJ8,1,0)),0))","v":0},{"$f":"IF(BH6=\"\",0,IF(BK6=$B$65,IF(BH6>BJ6,3,IF(BH6=BJ6,1,0)),0))","v":0},null,{"$f":"RANK(CD3,$CD$2:$CD$5)","v":4},"Niederlande",{"$f":"SUM(BS3:BV3)","v":3},{"$f":"SUM(BS7:BV7)","v":6},{"$f":"SUM(BT6:BT9)","v":7},{"$f":"CA3-CB3","v":-1},{"$f":"IF(BP$8=\"\",(((((((CE3*10+BZ3)*100+CC3)*100+CA3)*10+CK3)*10+CJ3)*100+CP3)*100+CU3)*10+CV3,(((((((CE3*10+BZ3)*10+CK3)*10+CJ3)*100+CP3)*100+CU3)*100+CC3)*100+CA3)*10+CV3)","v":296979999063},null,{"$f":"IF($BZ3=$BZ2,$BS3-$BT2,0)","v":0},null,{"$f":"IF($BZ3=$BZ4,$BU3-$BT4,0)","v":0},{"$f":"IF($BZ3=$BZ5,$BV3-$BT5,0)","v":-3},{"$f":"SUM(CF3:CI3)","v":-3},null,{"$f":"IF($BZ3=$BZ2,$BS7-$BT6,0)","v":0},null,{"$f":"IF($BZ3=$BZ4,$BU7-$BT8,0)","v":0},{"$f":"IF($BZ3=$BZ5,$BV7-$BT9,0)","v":-2},{"$f":"SUM(CL3:CO3)","v":-2},{"$f":"IF($BZ3=$BZ2,$BS7,0)","v":0},null,{"$f":"IF($BZ3=$BZ4,$BU7,0)","v":0},{"$f":"IF($BZ3=$BZ5,$BV7,0)","v":0},{"$f":"SUM(CQ3:CT3)","v":0},3]
[{"$f":"A3+1","v":2},"2024-06-15T15:00:00","Köln",{"$f":"Y4","v":"Ungarn"},"-",{"$f":"Y5","v":"Schweiz"},null,2,":",1,"ok",null,{"$f":"VLOOKUP(3,$X$2:$AC$5,2,FALSE)","v":"Schottland"},{"$f":"VLOOKUP(3,$X$2:$AC$5,3,FALSE)","v":4},{"$f":"VLOOKUP(3,$X$2:$AC$5,4,FALSE)","v":6},{"$f":"VLOOKUP(3,$X$2:$AC$5,5,FALSE)","v":6},{"$f":"VLOOKUP(3,$X$2:$AC$5,6,FALSE)","v":0},null,{"$f":"IF(J5=\"\",0,IF(K5=$B$65,IF(H5<J5,3,IF(H5=J5,1,0)),0))","v":3},{"$f":"IF(J8=\"\",0,IF(K7=$B$65,IF(H8<J8,3,IF(H8=J8,1,0)),0))","v":1},null,{"$f":"IF(H4=\"\",0,IF(K4=$B$65,IF(H4>J4,3,IF(H4=J4,1,0)),0))","v":3},null,{"$f":"RANK(AD4,$AD$2:$AD$5)","v":1},"Ungarn",{"$f":"SUM(S4:V4)","v":7},{"$f":"SUM(S8:V8)","v":7},{"$f":"SUM(U6:U9)","v":5},{"$f":"AA4-AB4","v":2},{"$f":"IF(P$8=\"\",(((((((AE4*10+Z4)*100+AC4)*100+AA4)*10+AK4)*10+AJ4)*100+AP4)*100+AU4)*10+AV4,(((((((AE4*10+Z4)*10+AK4)*10+AJ4)*100+AP4)*100+AU4)*100+AC4)*100+AA4)*10+AV4)","v":700000002072},null,{"$f":"IF($Z4=$Z2,$S4-$U2,0)","v":0},{"$f":"IF($Z4=$Z3,$T4-$U3,0)","v":0},null,{"$f":"IF($Z4=$Z5,$V4-$U5,0)","v":0},{"$f":"SUM(AF4:AI4)","v":0},null,{"$f":"IF($Z4=$Z2,$S8-$U6,0)","v":0},{"$f":"IF($Z4=$Z3,$T8-$U7,0)","v":0},null,{"$f":"IF($Z4=$Z5,$V8-$U9,0)","v":0},{"$f":"SUM(AL4:AO4)","v":0},{"$f":"IF($Z4=$Z2,$S8,0)","v":0},{"$f":"IF($Z4=$Z3,$T8,0)","v":0},null,{"$f":"IF($Z4=$Z5,$V8,0)","v":0},{"$f":"SUM(AQ4:AT4)","v":0},2,null,null,null,null,8,"2024-06-17T21:00:00","Düsseldorf",{"$f":"BY4","v":"Österreich"},"-",{"$f":"BY5","v":"Frankreich"},null,4,":",3,"ok",null,{"$f":"VLOOKUP(3,$BX$2:$CC$5,2,FALSE)","v":"Frankreich"},{"$f":"VLOOKUP(3,$BX$2:$CC$5,3,FALSE)","v":3},{"$f":"VLOOKUP(3,$BX$2:$CC$5,4,FALSE)","v":6},{"$f":"VLOOKUP(3,$BX$2:$CC$5,5,FALSE)","v":6},{"$f":"VLOOKUP(3,$BX$2:$CC$5,6,FALSE)","v":0},null,{"$f":"IF(BJ5=\"\",0,IF(BK5=$B$65,IF(BH5<BJ5,3,IF(BH5=BJ5,1,0)),0))","v":0},{"$f":"IF(BJ8=\"\",0,IF(BK7=$B$65,IF(BH8<BJ8,3,IF(BH8=BJ8,1,0)),0))","v":3},null,{"$f":"IF(BH4=\"\",0,IF(BK4=$B$65,IF(BH4>BJ4,3,IF(BH4=BJ4,1,0)),0))","v":3},null,{"$f":"RANK(CD4,$CD$2:$CD$5)","v":2},"Österreich",{"$f":"SUM(BS4:BV4)","v":6},{"$f":"SUM(BS8:BV8)","v":9},{"$f":"SUM(BU6:BU9)","v":10},{"$f":"CA4-CB4","v":-1},{"$f":"IF(BP$8=\"\",(((((((CE4*10+BZ4)*100+CC4)*100+CA4)*10+CK4)*10+CJ4)*100+CP4)*100+CU4)*10+CV4,(((((((CE4*10+BZ4)*10+CK4)*10+CJ4)*100+CP4)*100+CU4)*100+CC4)*100+CA4)*10+CV4)","v":596970099092},null,{"$f":"IF($BZ4=$BZ2,$BS4-$BU2,0)","v":-3},{"$f":"IF($BZ4=$BZ3,$BT4-$BU3,0)","v":0},null,{"$f":"IF($BZ4=$BZ5,$BV4-$BU5,0)","v":0},{"$f":"SUM(CF4:CI4)","v":-3},null,{"$f":"IF($BZ4=$BZ2,$BS8-$BU6,0)","v":-3},{"$f":"IF($BZ4=$BZ3,$BT8-$BU7,0)","v":0},null,{"$f":"IF($BZ4=$BZ5,$BV8-$BU9,0)","v":0},{"$f":"SUM(CL4:CO4)","v":-3},{"$f":"IF($BZ4=$BZ2,$BS8,0)","v":1},{"$f":"IF($BZ4=$BZ3,$BT8,0)","v":0},null,{"$f":"IF($BZ4=$BZ5,$BV8,0)","v":0},{"$f":"SUM(CQ4:CT4)","v":1},2]
[{"$f":"A3+12","v":13},"2024-06-19T18:00:00","Stuttgart",{"$f":"Y2","v":"Deutschland"},"-",{"$f":"Y4","v":"Ungarn"},null,3,":",4,"ok",null,{"$f":"VLOOKUP(4,$X$2:$AC$5,2,FALSE)","v":"Schweiz"},{"$f":"VLOOKUP(4,$X$2:$AC$5,3,FALSE)","v":0},{"$f":"VLOOKUP(4,$X$2:$AC$5,4,FALSE)","v":4},{"$f":"VLOOKUP(4,$X$2:$AC$5,5,FALSE)","v":9},{"$f":"VLOOKUP(4,$X$2:$AC$5,6,FALSE)","v":-5},null,{"$f":"IF(H7=\"\",0,IF(K8=$B$65,IF(H7>J7,3,IF(H7=J7,1,0)),0))","v":0},{"$f":"IF(J6=\"\",0,IF(K6=$B$65,IF(H6<J6,3,IF(H6=J6,1,0)),0))","v":0},{"$f":"IF(J4=\"\",0,IF(K4=$B$65,IF(H4<J4,3,IF(H4=J4,1,0)),0))","v":0},null,null,{"$f":"RANK(AD5,$AD$2:$AD$5)","v":4},"Schweiz",{"$f":"SUM(S5:V5)","v":0},{"$f":"SUM(S9:V9)","v":4},{"$f":"SUM(V6:V9)","v":9},{"$f":"AA5-AB5","v":-5},{"$f":"IF(P$8=\"\",(((((((AE5*10+Z5)*100+AC5)*100+AA5)*10+AK5)*10+AJ5)*100+AP5)*100+AU5)*10+AV5,(((((((AE5*10+Z5)*10+AK5)*10+AJ5)*100+AP5)*100+AU5)*100+AC5)*100+AA5)*10+AV5)","v":-4959},null,{"$f":"IF($Z5=$Z2,$S5-$V2,0)","v":0},{"$f":"IF($Z5=$Z3,$T5-$V3,0)","v":0},{"$f":"IF($Z5=$Z4,$U5-$V4,0)","v":0},null,{"$f":"SUM(AF5:AI5)","v":0},null,{"$f":"IF($Z5=$Z2,$S9-$V6,0)","v":0},{"$f":"IF($Z5=$Z3,$T9-$V7,0)","v":0},{"$f":"IF($Z5=$Z4,$U9-$V8,0)","v":0},null,{"$f":"SUM(AL5:AO5)","v":0},{"$f":"IF($Z5=$Z2,$S9,0)","v":0},{"$f":"IF($Z5=$Z3,$T9,0)","v":0},{"$f":"IF($Z5=$Z4,$U9,0)","v":0},null,{"$f":"SUM(AQ5:AT5)","v":0},1,null,null,null,null,{"$f":"BA3+12","v":19},"2024-06-21T18:00:00","Berlin",{"$f":"BY2","v":"Polen"},"-",{"$f":"BY4","v":"Österreich"},null,4,":",1,"ok",null,{"$f":"VLOOKUP(4,$BX$2:$CC$5,2,FALSE)","v":"Niederlande"},{"$f":"VLOOKUP(4,$BX$2:$CC$5,3,FALSE)","v":3},{"$f":"VLOOKUP(4,$BX$2:$CC$5,4,FALSE)","v":6},{"$f":"VLOOKUP(4,$BX$2:$CC$5,5,FALSE)","v":7},{"$f":"VLOOKUP(4,$BX$2:$CC$5,6,FALSE)","v":-1},null,{"$f":"IF(BH7=\"\",0,IF(BK8=$B$65,IF(BH7>BJ7,3,IF(BH7=BJ7,1,0)),0))","v":0},{"$f":"IF(BJ6=\"\",0,IF(BK6=$B$65,IF(BH6<BJ6,3,IF(BH6=BJ6,1,0)),0))","v":3},{"$f":"IF(BJ4=\"\",0,IF(BK4=$B$65,IF(BH4<BJ4,3,IF(BH4=BJ4,1,0)),0))","v":0},null,null,{"$f":"RANK(CD5,$CD$2:$CD$5)","v":3},"Frankreich",{"$f":"SUM(BS5:BV5)","v":3},{"$f":"SUM(BS9:BV9)","v":6},{"$f":"SUM(BV6:BV9)","v":6},{"$f":"CA5-CB5","v":0},{"$f":"IF(BP$8=\"\",(((((((CE5*10+BZ5)*100+CC5)*100+CA5)*10+CK5)*10+CJ5)*100+CP5)*100+CU5)*10+CV5,(((((((CE5*10+BZ5)*10+CK5)*10+CJ5)*100+CP5)*100+CU5)*100+CC5)*100+CA5)*10+CV5)","v":303020200061},null,{"$f":"IF($BZ5=$BZ2,$BS5-$BV2,0)","v":0},{"$f":"IF($BZ5=$BZ3,$BT5-$BV3,0)","v":3},{"$f":"IF($BZ5=$BZ4,$BU5-$BV4,0)","v":0},null,{"$f":"SUM(CF5:CI5)","v":3},null,{"$f":"IF($BZ5=$BZ2,$BS9-$BV6,0)","v":0},{"$f":"IF($BZ5=$BZ3,$BT9-$BV7,0)","v":2},{"$f":"IF($BZ5=$BZ4,$BU9-$BV8,0)","v":0},null,{"$f":"SUM(CL5:CO5)","v":2},{"$f":"IF($BZ5=$BZ2,$BS9,0)","v":0},{"$f":"IF($BZ5=$BZ3,$BT9,0)","v":2},{"$f":"IF($BZ5=$BZ4,$BU9,0)","v":0},null,{"$f":"SUM(CQ5:CT5)","v":2},1]
[{"$f":"A4+12","v":14},"2024-06-19T21:00:00","Köln",{"$f":"Y3","v":"Schottland"},"-",{"$f":"Y5","v":"Schweiz"},null,4,":",1,"ok",null,null,null,null,null,null,null,null,{"$f":"IF(K3=$B$65,H3,0)","v":4},{"$f":"IF(K5=$B$65,H5,0)","v":3},{"$f":"IF(K8=$B$65,J7,0)","v":3},null,null,null,null,null,null,null,null,null,null,null,null,null,null,null,null,null,null,null,null,null,null,null,null,null,null,null,null,null,null,{"$f":"BA4+12","v":20},"2024-06-21T21:00:00","Leipzig",{"$f":"BY3","v":"Niederlande"},"-",{"$f":"BY5","v":"Frankreich"},null,0,":",2,"ok",null,null,null,null,null,null,null,null,{"$f":"IF(BK3=$B$65,BH3,0)","v":1},{"$f":"IF(BK5=$B$65,BH5,0)","v":4},{"$f":"IF(BK8=$B$65,BJ7,0)","v":2}]
[{"$f":"A5+12","v":25},"2024-06-23T21:00:00","Frankfurt",{"$f":"Y5","v":"Schweiz"},"-",{"$f":"Y2","v":"Deutschland"},null,2,":",3,"ok",null,{"$f":"IF(N2>0,M2,\"\")","v":"Ungarn"},"1A",null,null,null,null,{"$f":"IF(K3=$B$65,J3,0)","v":1},null,{"$f":"IF(K7=$B$65,H8,0)","v":1},{"$f":"IF(K6=$B$65,H6,0)","v":4},null,null,null,null,null,null,null,"L0=AE hebelt Berechnung aus (top level Losen)",null,null,null,null,null,null,null,null,null,null,null,null,null,null,null,null,null,null,null,null,null,null,{"$f":"BA5+12","v":31},"2024-06-25T18:00:00","Dortmund",{"$f":"BY5","v":"Frankreich"},"-",{"$f":"BY2","v":"Polen"},null,1,":",2,"ok",null,{"$f":"IF(BN2>0,BM2,\"\")","v":"Polen"},"1D",null,null,null,null,{"$f":"IF(BK3=$B$65,BJ3,0)","v":3},null,{"$f":"IF(BK7=$B$65,BH8,0)","v":3},{"$f":"IF(BK6=$B$65,BH6,0)","v":0},null,null,null,null,null,null,null,"L0=AE hebelt Berechnung aus (top level Losen)"]
[{"$f":"A6+12","v":26},"2024-06-23T21:00:00","Stuttgart",{"$f":"Y3","v":"Schottland"},"-",{"$f":"Y4","v":"Ungarn"},null,1,":",1,"ok",null,{"$f":"IF(N3>0,M3,\"\")","v":"Deutschland"},"2A",null,"DV",null,null,{"$f":"IF(K5=$B$65,J5,0)","v":4},{"$f":"IF(K7=$B$65,J8,0)","v":1},null,{"$f":"IF(K4=$B$65,H4,0)","v":2},null,null,null,null,null,null,null,"L1=AK hebelt Direktvergleich (S1) aus",null,null,null,null,null,null,null,null,null,null,null,null,null,null,null,null,null,null,null,null,null,null,{"$f":"BA6+12","v":32},"2024-06-25T18:00:00","Berlin",{"$f":"BY3","v":"Niederlande"},"-",{"$f":"BY4","v":"Österreich"},null,3,":",4,"ok",null,{"$f":"IF(BN3>0,BM3,\"\")","v":"Österreich"},"2D",null,"DV",null,null,{"$f":"IF(BK5=$B$65,BJ5,0)","v":1},{"$f":"IF(BK7=$B$65,BJ8,0)","v":4},null,{"$f":"IF(BK4=$B$65,BH4,0)","v":4},null,null,null,null,null,null,null,"L1=AK hebelt Direktvergleich (S1) aus"]
[null,null,null,null,null,null,null,null,null,null,null,null,{"$f":"IF(N4>0,M4,\"\")","v":"Schottland"},"3A",null,null,null,null,{"$f":"IF(K8=$B$65,H7,0)","v":2},{"$f":"IF(K6=$B$65,J6,0)","v":1},{"$f":"IF(K4=$B$65,J4,0)","v":1},null,null,null,null,null,null,null,null,"L4=AV Losen UEFA-Koeffizient, Fairplay oder Münzwurf",null,null,null,null,null,null,null,null,null,null,null,null,null,null,null,null,null,null,null,null,null,null,null,null,null,null,null,null,null,null,null,null,null,null,{"$f":"IF(BN4>0,BM4,\"\")","v":"Frankreich"},"3D",null,null,null,null,{"$f":"IF(BK8=$B$65,BH7,0)","v":1},{"$f":"IF(BK6=$B$65,BJ6,0)","v":2},{"$f":"IF(BK4=$B$65,BJ4,0)","v":3},null,null,null,null,null,null,null,null,"L4=AV Losen UEFA-Koeffizient, Fairplay oder Münzwurf"]
[]
[null,"Vorrunde","Gruppe B"," ",null,null,null,null,null,null,null,null,"Tabelle","P","T+","T-","T+/-",null,null,null,null,null,null,"G","Berechnungen","P","T+","T-","T+/-",null,"L0","DV",null,null,null,"S1","L1","DV-TD",null,null,null,"S2","DV-Tore",null,null,null,"S3","L4",null,null,null,null,null,"Vorrunde","Gruppe E"," ",null,null,null,null,null,null,null,null,"Tabelle","P","T+","T-","T+/-",null,null,null,null,null,null,"G","Berechnungen","P","T+","T-","T+/-",null,"L0","DV",null,null,null,"S1","L1","DV-TD",null,null,null,"S2","DV-Tore",null,null,null,"S3","L4"]
[null,"Datum/Zeit","Spielort",null,null,null,null,null,null,null,null,null,{"$f":"VLOOKUP(1,$X$12:$AC$15,2,FALSE)","v":"Albanien"},{"$f":"VLOOKUP(1,$X$12:$AC$15,3,FALSE)","v":7},{"$f":"VLOOKUP(1,$X$12:$AC$15,4,FALSE)","v":13},{"$f":"VLOOKUP(1,$X$12:$AC$15,5,FALSE)","v":9},{"$f":"VLOOKUP(1,$X$12:$AC$15,6,FALSE)","v":4},null,null,{"$f":"IF(H13=\"\",0,IF(K13=$B$65,IF(H13>J13,3,IF(H13=J13,1,0)),0))","v":1},{"$f":"IF(H15=\"\",0,IF(K15=$B$65,IF(H15>J15,3,IF(H15=J15,1,0)),0))","v":3},{"$f":"IF(J17=\"\",0,IF(K18=$B$65,IF(H17<J17,3,IF(H17=J17,1,0)),0))","v":1},null,{"$f":"RANK(AD12,$AD$12:$AD$15)","v":2},"Spanien",{"$f":"SUM(S12:V12)","v":5},{"$f":"SUM(S16:V16)","v":9},{"$f":"SUM(S16:S19)","v":6},{"$f":"AA12-AB12","v":3},{"$f":"IF(P$18=\"\",(((((((AE12*10+Z12)*100+AC12)*100+AA12)*10+AK12)*10+AJ12)*100+AP12)*100+AU12)*10+AV12,(((((((AE12*10+Z12)*10+AK12)*10+AJ12)*100+AP12)*100+AU12)*100+AC12)*100+AA12)*10+AV12)","v":500000003094},null,null,{"$f":"IF($Z12=$Z13,$T12-$S13,0)","v":0},{"$f":"IF($Z12=$Z14,$U12-$S14,0)","v":0},{"$f":"IF($Z12=$Z15,$V12-$S15,0)","v":0},{"$f":"SUM(AF12:AI12)","v":0},null,null,{"$f":"IF($Z12=$Z13,$T16-$S17,0)","v":0},{"$f":"IF($Z12=$Z14,$U16-$S18,0)","v":0},{"$f":"IF($Z12=$Z15,$V16-$S19,0)","v":0},{"$f":"SUM(AL12:AO12)","v":0},null,{"$f":"IF($Z12=$Z13,$T16,0)","v":0},{"$f":"IF($Z12=$Z14,$U16,0)","v":0},{"$f":"IF($Z12=$Z15,$V16,0)","v":0},{"$f":"SUM(AQ12:AT12)","v":0},4,null,null,null,null,null,"Datum/Zeit","Spielort",null,null,null,null,null,null,null,null,null,{"$f":"VLOOKUP(1,$BX$12:$CC$15,2,FALSE)","v":"Slowakei"},{"$f":"VLOOKUP(1,$BX$12:$CC$15,3,FALSE)","v":9},{"$f":"VLOOKUP(1,$BX$12:$CC$15,4,FALSE)","v":11},{"$f":"VLOOKUP(1,$BX$12:$CC$15,5,FALSE)","v":3},{"$f":"VLOOKUP(1,$BX$12:$CC$15,6,FALSE)","v":8},null,null,{"$f":"IF(BH13=\"\",0,IF(BK13=$B$65,IF(BH13>BJ13,3,IF(BH13=BJ13,1,0)),0))","v":3},{"$f":"IF(BH15=\"\",0,IF(BK15=$B$65,IF(BH15>BJ15,3,IF(BH15=BJ15,1,0)),0))","v":3},{"$f":"IF(BJ17=\"\",0,IF(BK18=$B$65,IF(BH17<BJ17,3,IF(BH17=BJ17,1,0)),0))","v":0},null,{"$f":"RANK(CD12,$CD$12:$CD$15)","v":2},"Rumänien",{"$f":"SUM(BS12:BV12)","v":6},{"$f":"SUM(BS16:BV16)","v":8},{"$f":"SUM(BS16:BS19)","v":8},{"$f":"CA12-CB12","v":0},{"$f":"IF(BP$18=\"\",(((((((CE12*10+BZ12)*100+CC12)*100+CA12)*10+CK12)*10+CJ12)*100+CP12)*100+CU12)*10+CV12,(((((((CE12*10+BZ12)*10+CK12)*10+CJ12)*100+CP12)*100+CU12)*100+CC12)*100+CA12)*10+CV12)","v":600000000084},null,null,{"$f":"IF($BZ12=$BZ13,$BT12-$BS13,0)","v":0},{"$f":"IF($BZ12=$BZ14,$BU12-$BS14,0)","v":0},{"$f":"IF($BZ12=$BZ15,$BV12-$BS15,0)","v":0},{"$f":"SUM(CF12:CI12)","v":0},null,null,{"$f":"IF($BZ12=$BZ13,$BT16-$BS17,0)","v":0},{"$f":"IF($BZ12=$BZ14,$BU16-$BS18,0)","v":0},{"$f":"IF($BZ12=$BZ15,$BV16-$BS19,0)","v":0},{"$f":"SUM(CL12:CO12)","v":0},null,{"$f":"IF($BZ12=$BZ13,$BT16,0)","v":0},{"$f":"IF($BZ12=$BZ14,$BU16,0)","v":0},{"$f":"IF($BZ12=$BZ15,$BV16,0)","v":0},{"$f":"SUM(CQ12:CT12)","v":0},4]
[3,"2024-06-15T18:00:00","Berlin",{"$f":"Y12","v":"Spanien"},"-",{"$f":"Y13","v":"Kroatien"},null,{"$f":"IF($B$66=\"\",1,INT(RAND()*5)+INT(RAND()*3)*INT(RAND()*2))","v":2},":",{"$f":"IF($B$66=\"\",0,INT(RAND()*5)+INT(RAND()*3)*INT(RAND()*2))","v":2},"ok",null,{"$f":"VLOOKUP(2,$X$12:$AC$15,2,FALSE)","v":"Spanien"},{"$f":"VLOOKUP(2,$X$12:$AC$15,3,FALSE)","v":5},{"$f":"VLOOKUP(2,$X$12:$AC$15,4,FALSE)","v":9},{"$f":"VLOOKUP(2,$X$12:$AC$15,5,FALSE)","v":6},{"$f":"VLOOKUP(2,$X$12:$AC$15,6,FALSE)","v":3},null,{"$f":"IF(J13=\"\",0,IF(K13=$B$65,IF(H13<J13,3,IF(H13=J13,1,0)),0))","v":1},null,{"$f":"IF(H18=\"\",0,IF(K17=$B$65,IF(H18>J18,3,IF(H18=J18,1,0)),0))","v":0},{"$f":"IF(H16=\"\",0,IF(K16=$B$65,IF(H16>J16,3,IF(H16=J16,1,0)),0))","v":0},null,{"$f":"RANK(AD13,$AD$12:$AD$15)","v":4},"Kroatien",{"$f":"SUM(S13:V13)","v":1},{"$f":"SUM(S17:V17)","v":7},{"$f":"SUM(T16:T19)","v":11},{"$f":"AA13-AB13","v":-4},{"$f":"IF(P$18=\"\",(((((((AE13*10+Z13)*100+AC13)*100+AA13)*10+AK13)*10+AJ13)*100+AP13)*100+AU13)*10+AV13,(((((((AE13*10+Z13)*10+AK13)*10+AJ13)*100+AP13)*100+AU13)*100+AC13)*100+AA13)*10+AV13)","v":99999996073},null,{"$f":"IF($Z13=$Z12,$S13-$T12,0)","v":0},null,{"$f":"IF($Z13=$Z14,$U13-$T14,0)","v":0},{"$f":"IF($Z13=$Z15,$V13-$T15,0)","v":0},{"$f":"SUM(AF13:AI13)","v":0},null,{"$f":"IF($Z13=$Z12,$S17-$T16,0)","v":0},null,{"$f":"IF($Z13=$Z14,$U17-$T18,0)","v":0},{"$f":"IF($Z13=$Z15,$V17-$T19,0)","v":0},{"$f":"SUM(AL13:AO13)","v":0},{"$f":"IF($Z13=$Z12,$S17,0)","v":0},null,{"$f":"IF($Z13=$Z14,$U17,0)","v":0},{"$f":"IF($Z13=$Z15,$V17,0)","v":0},{"$f":"SUM(AQ13:AT13)","v":0},3,null,null,null,null,9,"2024-06-17T15:00:00","München",{"$f":"BY12","v":"Rumänien"},"-",{"$f":"BY13","v":"Ukraine"},null,{"$f":"IF($B$66=\"\",1,INT(RAND()*5)+INT(RAND()*3)*INT(RAND()*2))","v":4},":",{"$f":"IF($B$66=\"\",0,INT(RAND()*5)+INT(RAND()*3)*INT(RAND()*2))","v":0},"ok",null,{"$f":"VLOOKUP(2,$BX$12:$CC$15,2,FALSE)","v":"Rumänien"},{"$f":"VLOOKUP(2,$BX$12:$CC$15,3,FALSE)","v":6},{"$f":"VLOOKUP(2,$BX$12:$CC$15,4,FALSE)","v":8},{"$f":"VLOOKUP(2,$BX$12:$CC$15,5,FALSE)","v":8},{"$f":"VLOOKUP(2,$BX$12:$CC$15,6,FALSE)","v":0},null,{"$f":"IF(BJ13=\"\",0,IF(BK13=$B$65,IF(BH13<BJ13,3,IF(BH13=BJ13,1,0)),0))","v":0},null,{"$f":"IF(BH18=\"\",0,IF(BK17=$B$65,IF(BH18>BJ18,3,IF(BH18=BJ18,1,0)),0))","v":0},{"$f":"IF(BH16=\"\",0,IF(BK16=$B$65,IF(BH16>BJ16,3,IF(BH16=BJ16,1,0)),0))","v":0},null,{"$f":"RANK(CD13,$CD$12:$CD$15)","v":4},"Ukraine",{"$f":"SUM(BS13:BV13)","v":0},{"$f":"SUM(BS17:BV17)","v":1},{"$f":"SUM(BT16:BT19)","v":9},{"$f":"CA13-CB13","v":-8},{"$f":"IF(BP$18=\"\",(((((((CE13*10+BZ13)*100+CC13)*100+CA13)*10+CK13)*10+CJ13)*100+CP13)*100+CU13)*10+CV13,(((((((CE13*10+BZ13)*10+CK13)*10+CJ13)*100+CP13)*100+CU13)*100+CC13)*100+CA13)*10+CV13)","v":-7987},null,{"$f":"IF($BZ13=$BZ12,$BS13-$BT12,0)","v":0},null,{"$f":"IF($BZ13=$BZ14,$BU13-$BT14,0)","v":0},{"$f":"IF($BZ13=$BZ15,$BV13-$BT15,0)","v":0},{"$f":"SUM(CF13:CI13)","v":0},null,{"$f":"IF($BZ13=$BZ12,$BS17-$BT16,0)","v":0},null,{"$f":"IF($BZ13=$BZ14,$BU17-$BT18,0)","v":0},{"$f":"IF($BZ13=$BZ15,$BV17-$BT19,0)","v":0},{"$f":"SUM(CL13:CO13)","v":0},{"$f":"IF($BZ13=$BZ12,$BS17,0)","v":0},null,{"$f":"IF($BZ13=$BZ14,$BU17,0)","v":0},{"$f":"IF($BZ13=$BZ15,$BV17,0)","v":0},{"$f":"SUM(CQ13:CT13)","v":0},3]
[4,"2024-06-15T21:00:00","Dortmund",{"$f":"Y14","v":"Italien"},"-",{"$f":"Y15","v":"Albanien"},null,4,":",5,"ok",null,{"$f":"VLOOKUP(3,$X$12:$AC$15,2,FALSE)","v":"Italien"},{"$f":"VLOOKUP(3,$X$12:$AC$15,3,FALSE)","v":3},{"$f":"VLOOKUP(3,$X$12:$AC$15,4,FALSE)","v":9},{"$f":"VLOOKUP(3,$X$12:$AC$15,5,FALSE)","v":12},{"$f":"VLOOKUP(3,$X$12:$AC$15,6,FALSE)","v":-3},null,{"$f":"IF(J15=\"\",0,IF(K15=$B$65,IF(H15<J15,3,IF(H15=J15,1,0)),0))","v":0},{"$f":"IF(J18=\"\",0,IF(K17=$B$65,IF(H18<J18,3,IF(H18=J18,1,0)),0))","v":3},null,{"$f":"IF(H14=\"\",0,IF(K14=$B$65,IF(H14>J14,3,IF(H14=J14,1,0)),0))","v":0},null,{"$f":"RANK(AD14,$AD$12:$AD$15)","v":3},"Italien",{"$f":"SUM(S14:V14)","v":3},{"$f":"SUM(S18:V18)","v":9},{"$f":"SUM(U16:U19)","v":12},{"$f":"AA14-AB14","v":-3},{"$f":"IF(P$18=\"\",(((((((AE14*10+Z14)*100+AC14)*100+AA14)*10+AK14)*10+AJ14)*100+AP14)*100+AU14)*10+AV14,(((((((AE14*10+Z14)*10+AK14)*10+AJ14)*100+AP14)*100+AU14)*100+AC14)*100+AA14)*10+AV14)","v":299999997092},null,{"$f":"IF($Z14=$Z12,$S14-$U12,0)","v":0},{"$f":"IF($Z14=$Z13,$T14-$U13,0)","v":0},null,{"$f":"IF($Z14=$Z15,$V14-$U15,0)","v":0},{"$f":"SUM(AF14:AI14)","v":0},null,{"$f":"IF($Z14=$Z12,$S18-$U16,0)","v":0},{"$f":"IF($Z14=$Z13,$T18-$U17,0)","v":0},null,{"$f":"IF($Z14=$Z15,$V18-$U19,0)","v":0},{"$f":"SUM(AL14:AO14)","v":0},{"$f":"IF($Z14=$Z12,$S18,0)","v":0},{"$f":"IF($Z14=$Z13,$T18,0)","v":0},null,{"$f":"IF($Z14=$Z15,$V18,0)","v":0},{"$f":"SUM(AQ14:AT14)","v":0},2,null,null,null,null,10,"2024-06-17T18:00:00","Frankfurt",{"$f":"BY14","v":"Belgien"},"-",{"$f":"BY15","v":"Slowakei"},null,2,":",3,"ok",null,{"$f":"VLOOKUP(3,$BX$12:$CC$15,2,FALSE)","v":"Belgien"},{"$f":"VLOOKUP(3,$BX$12:$CC$15,3,FALSE)","v":3},{"$f":"VLOOKUP(3,$BX$12:$CC$15,4,FALSE)","v":7},{"$f":"VLOOKUP(3,$BX$12:$CC$15,5,FALSE)","v":7},{"$f":"VLOOKUP(3,$BX$12:$CC$15,6,FALSE)","v":0},null,{"$f":"IF(BJ15=\"\",0,IF(BK15=$B$65,IF(BH15<BJ15,3,IF(BH15=BJ15,1,0)),0))","v":0},{"$f":"IF(BJ18=\"\",0,IF(BK17=$B$65,IF(BH18<BJ18,3,IF(BH18=BJ18,1,0)),0))","v":3},null,{"$f":"IF(BH14=\"\",0,IF(BK14=$B$65,IF(BH14>BJ14,3,IF(BH14=BJ14,1,0)),0))","v":0},null,{"$f":"RANK(CD14,$CD$12:$CD$15)","v":3},"Belgien",{"$f":"SUM(BS14:BV14)","v":3},{"$f":"SUM(BS18:BV18)","v":7},{"$f":"SUM(BU16:BU19)","v":7},{"$f":"CA14-CB14","v":0},{"$f":"IF(BP$18=\"\",(((((((CE14*10+BZ14)*100+CC14)*100+CA14)*10+CK14)*10+CJ14)*100+CP14)*100+CU14)*10+CV14,(((((((CE14*10+BZ14)*10+CK14)*10+CJ14)*100+CP14)*100+CU14)*100+CC14)*100+CA14)*10+CV14)","v":300000000072},null,{"$f":"IF($BZ14=$BZ12,$BS14-$BU12,0)","v":0},{"$f":"IF($BZ14=$BZ13,$BT14-$BU13,0)","v":0},null,{"$f":"IF($BZ14=$BZ15,$BV14-$BU15,0)","v":0},{"$f":"SUM(CF14:CI14)","v":0},null,{"$f":"IF($BZ14=$BZ12,$BS18-$BU16,0)","v":0},{"$f":"IF($BZ14=$BZ13,$BT18-$BU17,0)","v":0},null,{"$f":"IF($BZ14=$BZ15,$BV18-$BU19,0)","v":0},{"$f":"SUM(CL14:CO14)","v":0},{"$f":"IF($BZ14=$BZ12,$BS18,0)","v":0},{"$f":"IF($BZ14=$BZ13,$BT18,0)","v":0},null,{"$f":"IF($BZ14=$BZ15,$BV18,0)","v":0},{"$f":"SUM(CQ14:CT14)","v":0},2]
[{"$f":"A13+12","v":15},"2024-06-20T21:00:00","Gelsenkirchen",{"$f":"Y12","v":"Spanien"},"-",{"$f":"Y14","v":"Italien"},null,4,":",1,"ok",null,{"$f":"VLOOKUP(4,$X$12:$AC$15,2,FALSE)","v":"Kroatien"},{"$f":"VLOOKUP(4,$X$12:$AC$15,3,FALSE)","v":1},{"$f":"VLOOKUP(4,$X$12:$AC$15,4,FALSE)","v":7},{"$f":"VLOOKUP(4,$X$12:$AC$15,5,FALSE)","v":11},{"$f":"VLOOKUP(4,$X$12:$AC$15,6,FALSE)","v":-4},null,{"$f":"IF(H17=\"\",0,IF(K18=$B$65,IF(H17>J17,3,IF(H17=J17,1,0)),0))","v":1},{"$f":"IF(J16=\"\",0,IF(K16=$B$65,IF(H16<J16,3,IF(H16=J16,1,0)),0))","v":3},{"$f":"IF(J14=\"\",0,IF(K14=$B$65,IF(H14<J14,3,IF(H14=J14,1,0)),0))","v":3},null,null,{"$f":"RANK(AD15,$AD$12:$AD$15)","v":1},"Albanien",{"$f":"SUM(S15:V15)","v":7},{"$f":"SUM(S19:V19)","v":13},{"$f":"SUM(V16:V19)","v":9},{"$f":"AA15-AB15","v":4},{"$f":"IF(P$18=\"\",(((((((AE15*10+Z15)*100+AC15)*100+AA15)*10+AK15)*10+AJ15)*100+AP15)*100+AU15)*10+AV15,(((((((AE15*10+Z15)*10+AK15)*10+AJ15)*100+AP15)*100+AU15)*100+AC15)*100+AA15)*10+AV15)","v":700000004131},null,{"$f":"IF($Z15=$Z12,$S15-$V12,0)","v":0},{"$f":"IF($Z15=$Z13,$T15-$V13,0)","v":0},{"$f":"IF($Z15=$Z14,$U15-$V14,0)","v":0},null,{"$f":"SUM(AF15:AI15)","v":0},null,{"$f":"IF($Z15=$Z12,$S19-$V16,0)","v":0},{"$f":"IF($Z15=$Z13,$T19-$V17,0)","v":0},{"$f":"IF($Z15=$Z14,$U19-$V18,0)","v":0},null,{"$f":"SUM(AL15:AO15)","v":0},{"$f":"IF($Z15=$Z12,$S19,0)","v":0},{"$f":"IF($Z15=$Z13,$T19,0)","v":0},{"$f":"IF($Z15=$Z14,$U19,0)","v":0},null,{"$f":"SUM(AQ15:AT15)","v":0},1,null,null,null,null,{"$f":"BA13+12","v":21},"2024-06-22T21:00:00","Köln",{"$f":"BY12","v":"Rumänien"},"-",{"$f":"BY14","v":"Belgien"},null,4,":",2,"ok",null,{"$f":"VLOOKUP(4,$BX$12:CC$15,2,FALSE)","v":"Ukraine"},{"$f":"VLOOKUP(4,$BX$12:$CC$15,3,FALSE)","v":0},{"$f":"VLOOKUP(4,$BX$12:$CC$15,4,FALSE)","v":1},{"$f":"VLOOKUP(4,$BX$12:$CC$15,5,FALSE)","v":9},{"$f":"VLOOKUP(4,$BX$12:$CC$15,6,FALSE)","v":-8},null,{"$f":"IF(BH17=\"\",0,IF(BK18=$B$65,IF(BH17>BJ17,3,IF(BH17=BJ17,1,0)),0))","v":3},{"$f":"IF(BJ16=\"\",0,IF(BK16=$B$65,IF(BH16<BJ16,3,IF(BH16=BJ16,1,0)),0))","v":3},{"$f":"IF(BJ14=\"\",0,IF(BK14=$B$65,IF(BH14<BJ14,3,IF(BH14=BJ14,1,0)),0))","v":3},null,null,{"$f":"RANK(CD15,$CD$12:$CD$15)","v":1},"Slowakei",{"$f":"SUM(BS15:BV15)","v":9},{"$f":"SUM(BS19:BV19)","v":11},{"$f":"SUM(BV16:BV19)","v":3},{"$f":"CA15-CB15","v":8},{"$f":"IF(BP$18=\"\",(((((((CE15*10+BZ15)*100+CC15)*100+CA15)*10+CK15)*10+CJ15)*100+CP15)*100+CU15)*10+CV15,(((((((CE15*10+BZ15)*10+CK15)*10+CJ15)*100+CP15)*100+CU15)*100+CC15)*100+CA15)*10+CV15)","v":900000008111},null,{"$f":"IF($BZ15=$BZ12,$BS15-$BV12,0)","v":0},{"$f":"IF($BZ15=$BZ13,$BT15-$BV13,0)","v":0},{"$f":"IF($BZ15=$BZ14,$BU15-$BV14,0)","v":0},null,{"$f":"SUM(CF15:CI15)","v":0},null,{"$f":"IF($BZ15=$BZ12,$BS19-$BV16,0)","v":0},{"$f":"IF($BZ15=$BZ13,$BT19-$BV17,0)","v":0},{"$f":"IF($BZ15=$BZ14,$BU19-$BV18,0)","v":0},null,{"$f":"SUM(CL15:CO15)","v":0},{"$f":"IF($BZ15=$BZ12,$BS19,0)","v":0},{"$f":"IF($BZ15=$BZ13,$BT19,0)","v":0},{"$f":"IF($BZ15=$BZ14,$BU19,0)","v":0},null,{"$f":"SUM(CQ15:CT15)","v":0},1]
[{"$f":"A14+12","v":16},"2024-06-19T15:00:00","Hamburg",{"$f":"Y13","v":"Kroatien"},"-",{"$f":"Y15","v":"Albanien"},null,2,":",5,"ok",null,null,null,null,null,null,null,null,{"$f":"IF(K13=$B$65,H13,0)","v":2},{"$f":"IF(K15=$B$65,H15,0)","v":4},{"$f":"IF(K18=$B$65,J17,0)","v":3},null,null,null,null,null,null,null,null,null,null,null,null,null,null,null,null,null,null,null,null,null,null,null,null,null,null,null,null,null,null,{"$f":"BA14+12","v":22},"2024-06-21T15:00:00","Düsseldorf",{"$f":"BY13","v":"Ukraine"},"-",{"$f":"BY15","v":"Slowakei"},null,1,":",2,"ok",null,null,null,null,null,null,null,null,{"$f":"IF(BK13=$B$65,BH13,0)","v":4},{"$f":"IF(BK15=$B$65,BH15,0)","v":4},{"$f":"IF(BK18=$B$65,BJ17,0)","v":0}]
[{"$f":"A15+12","v":27},"2024-06-24T21:00:00","Düsseldorf",{"$f":"Y15","v":"Albanien"},"-",{"$f":"Y12","v":"Spanien"},null,3,":",3,"ok",null,{"$f":"IF(N12>0,M12,\"\")","v":"Albanien"},"1B",null,null,null,null,{"$f":"IF(K13=$B$65,J13,0)","v":2},null,{"$f":"IF(K17=$B$65,H18,0)","v":3},{"$f":"IF(K16=$B$65,H16,0)","v":2},null,null,null,null,null,null,null,"L0=AE hebelt Berechnung aus (top level Losen)",null,null,null,null,null,null,null,null,null,null,null,null,null,null,null,null,null,null,null,null,null,null,{"$f":"BA15+12","v":33},"2024-06-26T18:00:00","Frankfurt",{"$f":"BY15","v":"Slowakei"},"-",{"$f":"BY12","v":"Rumänien"},null,6,":",0,"ok",null,{"$f":"IF(BN12>0,BM12,\"\")","v":"Slowakei"},"1E",null,null,null,null,{"$f":"IF(BK13=$B$65,BJ13,0)","v":0},null,{"$f":"IF(BK17=$B$65,BH18,0)","v":0},{"$f":"IF(BK16=$B$65,BH16,0)","v":1},null,null,null,null,null,null,null,"L0=AE hebelt Berechnung aus (top level Losen)"]
[{"$f":"A16+12","v":28},"2024-06-24T21:00:00","Leipzig",{"$f":"Y13","v":"Kroatien"},"-",{"$f":"Y14","v":"Italien"},null,3,":",4,"ok",null,{"$f":"IF(N13>0,M13,\"\")","v":"Spanien"},"2B",null,"DV",null,null,{"$f":"IF(K15=$B$65,J15,0)","v":1},{"$f":"IF(K17=$B$65,J18,0)","v":4},null,{"$f":"IF(K14=$B$65,H14,0)","v":4},null,null,null,null,null,null,null,"L1=AK hebelt Direktvergleich (S1) aus",null,null,null,null,null,null,null,null,null,null,null,null,null,null,null,null,null,null,null,null,null,null,{"$f":"BA16+12","v":34},"2024-06-26T18:00:00","Stuttgart",{"$f":"BY13","v":"Ukraine"},"-",{"$f":"BY14","v":"Belgien"},null,0,":",3,"ok",null,{"$f":"IF(BN13>0,BM13,\"\")","v":"Rumänien"},"2E",null,"DV",null,null,{"$f":"IF(BK15=$B$65,BJ15,0)","v":2},{"$f":"IF(BK17=$B$65,BJ18,0)","v":3},null,{"$f":"IF(BK14=$B$65,BH14,0)","v":2},null,null,null,null,null,null,null,"L1=AK hebelt Direktvergleich (S1) aus"]
[null,null,null,null,null,null,null,null,null,null,null,null,{"$f":"IF(N14>0,M14,\"\")","v":"Italien"},"3B",null,null,null,null,{"$f":"IF(K18=$B$65,H17,0)","v":3},{"$f":"IF(K16=$B$65,J16,0)","v":5},{"$f":"IF(K14=$B$65,J14,0)","v":5},null,null,null,null,null,null,null,null,"L4=AV Losen UEFA-Koeffizient, Fairplay oder Münzwurf",null,null,null,null,null,null,null,null,null,null,null,null,null,null,null,null,null,null,null,null,null,null,null," ",null,null,null,null,null,null,null,null,null,null,{"$f":"IF(BN14>0,BM14,\"\")","v":"Belgien"},"3E",null,null,null,null,{"$f":"IF(BK18=$B$65,BH17,0)","v":6},{"$f":"IF(BK16=$B$65,BJ16,0)","v":2},{"$f":"IF(BK14=$B$65,BJ14,0)","v":3},null,null,null,null,null,null,null,null,"L4=AV Losen UEFA-Koeffizient, Fairplay oder Münzwurf"]
[]
[null,"Vorrunde","Gruppe C"," ",null,null,null,null,null,null,null,null,"Tabelle","P","T+","T-","T+/-",null,null,null,null,null,null,"G","Berechnungen","P","T+","T-","T+/-",null,"L0","DV",null,null,null,"S1","L1","DV-TD",null,null,null,"S2","DV-Tore",null,null,null,"S3","L4",null,null,null,null,null,"Vorrunde","Gruppe F"," ",null,null,null,null,null,null,null,null,"Tabelle","P","T+","T-","T+/-",null,null,null,null,null,null,"G","Berechnungen","P","T+","T-","T+/-",null,"L0","DV",null,null,null,"S1","L1","DV-TD",null,null,null,"S2","DV-Tore",null,null,null,"S3","L4"]
[null,"Datum/Zeit","Spielort",null,null,null,null,null,null,null,null,null,{"$f":"VLOOKUP(1,$X$22:$AC$25,2,FALSE)","v":"Slowenien"},{"$f":"VLOOKUP(1,$X$22:$AC$25,3,FALSE)","v":7},{"$f":"VLOOKUP(1,$X$22:$AC$25,4,FALSE)","v":11},{"$f":"VLOOKUP(1,$X$22:$AC$25,5,FALSE)","v":3},{"$f":"VLOOKUP(1,$X$22:$AC$25,6,FALSE)","v":8},null,null,{"$f":"IF(H23=\"\",0,IF(K23=$B$65,IF(H23>J23,3,IF(H23=J23,1,0)),0))","v":3},{"$f":"IF(H25=\"\",0,IF(K25=$B$65,IF(H25>J25,3,IF(H25=J25,1,0)),0))","v":1},{"$f":"IF(J27=\"\",0,IF(K28=$B$65,IF(H27<J27,3,IF(H27=J27,1,0)),0))","v":3},null,{"$f":"RANK(AD22,$AD$22:$AD$25)","v":1},"Slowenien",{"$f":"SUM(S22:V22)","v":7},{"$f":"SUM(S26:V26)","v":11},{"$f":"SUM(S26:S29)","v":3},{"$f":"AA22-AB22","v":8},{"$f":"IF(P$28=\"\",(((((((AE22*10+Z22)*100+AC22)*100+AA22)*10+AK22)*10+AJ22)*100+AP22)*100+AU22)*10+AV22,(((((((AE22*10+Z22)*10+AK22)*10+AJ22)*100+AP22)*100+AU22)*100+AC22)*100+AA22)*10+AV22)","v":700000008114},null,null,{"$f":"IF($Z22=$Z23,$T22-$S23,0)","v":0},{"$f":"IF($Z22=$Z24,$U22-$S24,0)","v":0},{"$f":"IF($Z22=$Z25,$V22-$S25,0)","v":0},{"$f":"SUM(AF22:AI22)","v":0},null,null,{"$f":"IF($Z22=$Z23,$T26-$S27,0)","v":0},{"$f":"IF($Z22=$Z24,$U26-$S28,0)","v":0},{"$f":"IF($Z22=$Z25,$V26-$S29,0)","v":0},{"$f":"SUM(AL22:AO22)","v":0},null,{"$f":"IF($Z22=$Z23,$T26,0)","v":0},{"$f":"IF($Z22=$Z24,$U26,0)","v":0},{"$f":"IF($Z22=$Z25,$V26,0)","v":0},{"$f":"SUM(AQ22:AT22)","v":0},4,null,null,null,null,null,"Datum/Zeit","Spielort",null,null,null,null,null,null,null,null,null,{"$f":"VLOOKUP(1,$BX$22:$CC$25,2,FALSE)","v":"Georgien"},{"$f":"VLOOKUP(1,$BX$22:$CC$25,3,FALSE)","v":9},{"$f":"VLOOKUP(1,$BX$22:$CC$25,4,FALSE)","v":12},{"$f":"VLOOKUP(1,$BX$22:$CC$25,5,FALSE)","v":6},{"$f":"VLOOKUP(1,$BX$22:$CC$25,6,FALSE)","v":6},null,null,{"$f":"IF(BH23=\"\",0,IF(BK23=$B$65,IF(BH23>BJ23,3,IF(BH23=BJ23,1,0)),0))","v":0},{"$f":"IF(BH25=\"\",0,IF(BK25=$B$65,IF(BH25>BJ25,3,IF(BH25=BJ25,1,0)),0))","v":0},{"$f":"IF(BJ27=\"\",0,IF(BK28=$B$65,IF(BH27<BJ27,3,IF(BH27=BJ27,1,0)),0))","v":3},null,{"$f":"RANK(CD22,$CD$22:$CD$25)","v":3},"Türkei",{"$f":"SUM(BS22:BV22)","v":3},{"$f":"SUM(BS26:BV26)","v":9},{"$f":"SUM(BS26:BS29)","v":11},{"$f":"CA22-CB22","v":-2},{"$f":"IF(BP$28=\"\",(((((((CE22*10+BZ22)*100+CC22)*100+CA22)*10+CK22)*10+CJ22)*100+CP22)*100+CU22)*10+CV22,(((((((CE22*10+BZ22)*10+CK22)*10+CJ22)*100+CP22)*100+CU22)*100+CC22)*100+CA22)*10+CV22)","v":299999998094},null,null,{"$f":"IF($BZ22=$BZ23,$BT22-$BS23,0)","v":0},{"$f":"IF($BZ22=$BZ24,$BU22-$BS24,0)","v":0},{"$f":"IF($BZ22=$BZ25,$BV22-$BS25,0)","v":0},{"$f":"SUM(CF22:CI22)","v":0},null,null,{"$f":"IF($BZ22=$BZ23,$BT26-$BS27,0)","v":0},{"$f":"IF($BZ22=$BZ24,$BU26-$BS28,0)","v":0},{"$f":"IF($BZ22=$BZ25,$BV26-$BS29,0)","v":0},{"$f":"SUM(CL22:CO22)","v":0},null,{"$f":"IF($BZ22=$BZ23,$BT26,0)","v":0},{"$f":"IF($BZ22=$BZ24,$BU26,0)","v":0},{"$f":"IF($BZ22=$BZ25,$BV26,0)","v":0},{"$f":"SUM(CQ22:CT22)","v":0},4]
[5,"2024-06-16T18:00:00","Stuttgart",{"$f":"Y22","v":"Slowenien"},"-",{"$f":"Y23","v":"Dänemark"},null,{"$f":"IF($B$66=\"\",1,INT(RAND()*5)+INT(RAND()*3)*INT(RAND()*2))","v":6},":",{"$f":"IF($B$66=\"\",0,INT(RAND()*5)+INT(RAND()*3)*INT(RAND()*2))","v":2},"ok",null,{"$f":"VLOOKUP(2,$X$22:$AC$25,2,FALSE)","v":"England"},{"$f":"VLOOKUP(2,$X$22:$AC$25,3,FALSE)","v":6},{"$f":"VLOOKUP(2,$X$22:$AC$25,4,FALSE)","v":5},{"$f":"VLOOKUP(2,$X$22:$AC$25,5,FALSE)","v":6},{"$f":"VLOOKUP(2,$X$22:$AC$25,6,FALSE)","v":-1},null,{"$f":"IF(J23=\"\",0,IF(K23=$B$65,IF(H23<J23,3,IF(H23=J23,1,0)),0))","v":0},null,{"$f":"IF(H28=\"\",0,IF(K27=$B$65,IF(H28>J28,3,IF(H28=J28,1,0)),0))","v":1},{"$f":"IF(H26=\"\",0,IF(K26=$B$65,IF(H26>J26,3,IF(H26=J26,1,0)),0))","v":0},null,{"$f":"RANK(AD23,$AD$22:$AD$25)","v":4},"Dänemark",{"$f":"SUM(S23:V23)","v":1},{"$f":"SUM(S27:V27)","v":7},{"$f":"SUM(T26:T29)","v":13},{"$f":"AA23-AB23","v":-6},{"$f":"IF(P$28=\"\",(((((((AE23*10+Z23)*100+AC23)*100+AA23)*10+AK23)*10+AJ23)*100+AP23)*100+AU23)*10+AV23,(((((((AE23*10+Z23)*10+AK23)*10+AJ23)*100+AP23)*100+AU23)*100+AC23)*100+AA23)*10+AV23)","v":99999994073},null,{"$f":"IF($Z23=$Z22,$S23-$T22,0)","v":0},null,{"$f":"IF($Z23=$Z24,$U23-$T24,0)","v":0},{"$f":"IF($Z23=$Z25,$V23-$T25,0)","v":0},{"$f":"SUM(AF23:AI23)","v":0},null,{"$f":"IF($Z23=$Z22,$S27-$T26,0)","v":0},null,{"$f":"IF($Z23=$Z24,$U27-$T28,0)","v":0},{"$f":"IF($Z23=$Z25,$V27-$T29,0)","v":0},{"$f":"SUM(AL23:AO23)","v":0},{"$f":"IF($Z23=$Z22,$S27,0)","v":0},null,{"$f":"IF($Z23=$Z24,$U27,0)","v":0},{"$f":"IF($Z23=$Z25,$V27,0)","v":0},{"$f":"SUM(AQ23:AT23)","v":0},3,null,null,null,null,11,"2024-06-18T18:00:00","Dortmund",{"$f":"BY22","v":"Türkei"},"-",{"$f":"BY23","v":"Georgien"},null,{"$f":"IF($B$66=\"\",1,INT(RAND()*5)+INT(RAND()*3)*INT(RAND()*2))","v":1},":",{"$f":"IF($B$66=\"\",0,INT(RAND()*5)+INT(RAND()*3)*INT(RAND()*2))","v":3},"ok",null,{"$f":"VLOOKUP(2,$BX$22:$CC$25,2,FALSE)","v":"Portugal"},{"$f":"VLOOKUP(2,$BX$22:$CC$25,3,FALSE)","v":6},{"$f":"VLOOKUP(2,$BX$22:$CC$25,4,FALSE)","v":10},{"$f":"VLOOKUP(2,$BX$22:$CC$25,5,FALSE)","v":7},{"$f":"VLOOKUP(2,$BX$22:$CC$25,6,FALSE)","v":3},null,{"$f":"IF(BJ23=\"\",0,IF(BK23=$B$65,IF(BH23<BJ23,3,IF(BH23=BJ23,1,0)),0))","v":3},null,{"$f":"IF(BH28=\"\",0,IF(BK27=$B$65,IF(BH28>BJ28,3,IF(BH28=BJ28,1,0)),0))","v":3},{"$f":"IF(BH26=\"\",0,IF(BK26=$B$65,IF(BH26>BJ26,3,IF(BH26=BJ26,1,0)),0))","v":3},null,{"$f":"RANK(CD23,$CD$22:$CD$25)","v":1},"Georgien",{"$f":"SUM(BS23:BV23)","v":9},{"$f":"SUM(BS27:BV27)","v":12},{"$f":"SUM(BT26:BT29)","v":6},{"$f":"CA23-CB23","v":6},{"$f":"IF(BP$28=\"\",(((((((CE23*10+BZ23)*100+CC23)*100+CA23)*10+CK23)*10+CJ23)*100+CP23)*100+CU23)*10+CV23,(((((((CE23*10+BZ23)*10+CK23)*10+CJ23)*100+CP23)*100+CU23)*100+CC23)*100+CA23)*10+CV23)","v":900000006123},null,{"$f":"IF($BZ23=$BZ22,$BS23-$BT22,0)","v":0},null,{"$f":"IF($BZ23=$BZ24,$BU23-$BT24,0)","v":0},{"$f":"IF($BZ23=$BZ25,$BV23-$BT25,0)","v":0},{"$f":"SUM(CF23:CI23)","v":0},null,{"$f":"IF($BZ23=$BZ22,$BS27-$BT26,0)","v":0},null,{"$f":"IF($BZ23=$BZ24,$BU27-$BT28,0)","v":0},{"$f":"IF($BZ23=$BZ25,$BV27-$BT29,0)","v":0},{"$f":"SUM(CL23:CO23)","v":0},{"$f":"IF($BZ23=$BZ22,$BS27,0)","v":0},null,{"$f":"IF($BZ23=$BZ24,$BU27,0)","v":0},{"$f":"IF($BZ23=$BZ25,$BV27,0)","v":0},{"$f":"SUM(CQ23:CT23)","v":0},3]
[6,"2024-05-16T21:00:00","Gelsenkirchen",{"$f":"Y24","v":"Serbien"},"-",{"$f":"Y25","v":"England"},null,1,":",2,"ok",null,{"$f":"VLOOKUP(3,$X$22:$AC$25,2,FALSE)","v":"Serbien"},{"$f":"VLOOKUP(3,$X$22:$AC$25,3,FALSE)","v":2},{"$f":"VLOOKUP(3,$X$22:$AC$25,4,FALSE)","v":6},{"$f":"VLOOKUP(3,$X$22:$AC$25,5,FALSE)","v":7},{"$f":"VLOOKUP(3,$X$22:$AC$25,6,FALSE)","v":-1},null,{"$f":"IF(J25=\"\",0,IF(K25=$B$65,IF(H25<J25,3,IF(H25=J25,1,0)),0))","v":1},{"$f":"IF(J28=\"\",0,IF(K27=$B$65,IF(H28<J28,3,IF(H28=J28,1,0)),0))","v":1},null,{"$f":"IF(H24=\"\",0,IF(K24=$B$65,IF(H24>J24,3,IF(H24=J24,1,0)),0))","v":0},null,{"$f":"RANK(AD24,$AD$22:$AD$25)","v":3},"Serbien",{"$f":"SUM(S24:V24)","v":2},{"$f":"SUM(S28:V28)","v":6},{"$f":"SUM(U26:U29)","v":7},{"$f":"AA24-AB24","v":-1},{"$f":"IF(P$28=\"\",(((((((AE24*10+Z24)*100+AC24)*100+AA24)*10+AK24)*10+AJ24)*100+AP24)*100+AU24)*10+AV24,(((((((AE24*10+Z24)*10+AK24)*10+AJ24)*100+AP24)*100+AU24)*100+AC24)*100+AA24)*10+AV24)","v":199999999062},null,{"$f":"IF($Z24=$Z22,$S24-$U22,0)","v":0},{"$f":"IF($Z24=$Z23,$T24-$U23,0)","v":0},null,{"$f":"IF($Z24=$Z25,$V24-$U25,0)","v":0},{"$f":"SUM(AF24:AI24)","v":0},null,{"$f":"IF($Z24=$Z22,$S28-$U26,0)","v":0},{"$f":"IF($Z24=$Z23,$T28-$U27,0)","v":0},null,{"$f":"IF($Z24=$Z25,$V28-$U29,0)","v":0},{"$f":"SUM(AL24:AO24)","v":0},{"$f":"IF($Z24=$Z22,$S28,0)","v":0},{"$f":"IF($Z24=$Z23,$T28,0)","v":0},null,{"$f":"IF($Z24=$Z25,$V28,0)","v":0},{"$f":"SUM(AQ24:AT24)","v":0},2,null,null,null,null,12,"2024-06-18T21:00:00","Leipzig",{"$f":"BY24","v":"Portugal"},"-",{"$f":"BY25","v":"Tschechien"},null,4,":",2,"ok",null,{"$f":"VLOOKUP(3,$BX$22:$CC$25,2,FALSE)","v":"Türkei"},{"$f":"VLOOKUP(3,$BX$22:$CC$25,3,FALSE)","v":3},{"$f":"VLOOKUP(3,$BX$22:$CC$25,4,FALSE)","v":9},{"$f":"VLOOKUP(3,$BX$22:$CC$25,5,FALSE)","v":11},{"$f":"VLOOKUP(3,$BX$22:$CC$25,6,FALSE)","v":-2},null,{"$f":"IF(BJ25=\"\",0,IF(BK25=$B$65,IF(BH25<BJ25,3,IF(BH25=BJ25,1,0)),0))","v":3},{"$f":"IF(BJ28=\"\",0,IF(BK27=$B$65,IF(BH28<BJ28,3,IF(BH28=BJ28,1,0)),0))","v":0},null,{"$f":"IF(BH24=\"\",0,IF(BK24=$B$65,IF(BH24>BJ24,3,IF(BH24=BJ24,1,0)),0))","v":3},null,{"$f":"RANK(CD24,$CD$22:$CD$25)","v":2},"Portugal",{"$f":"SUM(BS24:BV24)","v":6},{"$f":"SUM(BS28:BV28)","v":10},{"$f":"SUM(BU26:BU29)","v":7},{"$f":"CA24-CB24","v":3},{"$f":"IF(BP$28=\"\",(((((((CE24*10+BZ24)*100+CC24)*100+CA24)*10+CK24)*10+CJ24)*100+CP24)*100+CU24)*10+CV24,(((((((CE24*10+BZ24)*10+CK24)*10+CJ24)*100+CP24)*100+CU24)*100+CC24)*100+CA24)*10+CV24)","v":600000003102},null,{"$f":"IF($BZ24=$BZ22,$BS24-$BU22,0)","v":0},{"$f":"IF($BZ24=$BZ23,$BT24-$BU23,0)","v":0},null,{"$f":"IF($BZ24=$BZ25,$BV24-$BU25,0)","v":0},{"$f":"SUM(CF24:CI24)","v":0},null,{"$f":"IF($BZ24=$BZ22,$BS28-$BU26,0)","v":0},{"$f":"IF($BZ24=$BZ23,$BT28-$BU27,0)","v":0},null,{"$f":"IF($BZ24=$BZ25,$BV28-$BU29,0)","v":0},{"$f":"SUM(CL24:CO24)","v":0},{"$f":"IF($BZ24=$BZ22,$BS28,0)","v":0},{"$f":"IF($BZ24=$BZ23,$BT28,0)","v":0},null,{"$f":"IF($BZ24=$BZ25,$BV28,0)","v":0},{"$f":"SUM(CQ24:CT24)","v":0},2]
[{"$f":"A23+12","v":17},"2024-06-20T15:00:00","München",{"$f":"Y22","v":"Slowenien"},"-",{"$f":"Y24","v":"Serbien"},null,1,":",1,"ok",null,{"$f":"VLOOKUP(4,$X$22:$AC$25,2,FALSE)","v":"Dänemark"},{"$f":"VLOOKUP(4,$X$22:$AC$25,3,FALSE)","v":1},{"$f":"VLOOKUP(4,$X$22:$AC$25,4,FALSE)","v":7},{"$f":"VLOOKUP(4,$X$22:$AC$25,5,FALSE)","v":13},{"$f":"VLOOKUP(4,$X$22:$AC$25,6,FALSE)","v":-6},null,{"$f":"IF(H27=\"\",0,IF(K28=$B$65,IF(H27>J27,3,IF(H27=J27,1,0)),0))","v":0},{"$f":"IF(J26=\"\",0,IF(K26=$B$65,IF(H26<J26,3,IF(H26=J26,1,0)),0))","v":3},{"$f":"IF(J24=\"\",0,IF(K24=$B$65,IF(H24<J24,3,IF(H24=J24,1,0)),0))","v":3},null,null,{"$f":"RANK(AD25,$AD$22:$AD$25)","v":2},"England",{"$f":"SUM(S25:V25)","v":6},{"$f":"SUM(S29:V29)","v":5},{"$f":"SUM(V26:V29)","v":6},{"$f":"AA25-AB25","v":-1},{"$f":"IF(P$28=\"\",(((((((AE25*10+Z25)*100+AC25)*100+AA25)*10+AK25)*10+AJ25)*100+AP25)*100+AU25)*10+AV25,(((((((AE25*10+Z25)*10+AK25)*10+AJ25)*100+AP25)*100+AU25)*100+AC25)*100+AA25)*10+AV25)","v":599999999051},null,{"$f":"IF($Z25=$Z22,$S25-$V22,0)","v":0},{"$f":"IF($Z25=$Z23,$T25-$V23,0)","v":0},{"$f":"IF($Z25=$Z24,$U25-$V24,0)","v":0},null,{"$f":"SUM(AF25:AI25)","v":0},null,{"$f":"IF($Z25=$Z22,$S29-$V26,0)","v":0},{"$f":"IF($Z25=$Z23,$T29-$V27,0)","v":0},{"$f":"IF($Z25=$Z24,$U29-$V28,0)","v":0},null,{"$f":"SUM(AL25:AO25)","v":0},{"$f":"IF($Z25=$Z22,$S29,0)","v":0},{"$f":"IF($Z25=$Z23,$T29,0)","v":0},{"$f":"IF($Z25=$Z24,$U29,0)","v":0},null,{"$f":"SUM(AQ25:AT25)","v":0},1,null,null,null,null,{"$f":"BA23+12","v":23},"2024-06-22T18:00:00","Dortmund",{"$f":"BY22","v":"Türkei"},"-",{"$f":"BY24","v":"Portugal"},null,2,":",5,"ok",null,{"$f":"VLOOKUP(4,$BX$22:$CC$25,2,FALSE)","v":"Tschechien"},{"$f":"VLOOKUP(4,$BX$22:$CC$25,3,FALSE)","v":0},{"$f":"VLOOKUP(4,$BX$22:$CC$25,4,FALSE)","v":9},{"$f":"VLOOKUP(4,$BX$22:$CC$25,5,FALSE)","v":16},{"$f":"VLOOKUP(4,$BX$22:$CC$25,6,FALSE)","v":-7},null,{"$f":"IF(BH27=\"\",0,IF(BK28=$B$65,IF(BH27>BJ27,3,IF(BH27=BJ27,1,0)),0))","v":0},{"$f":"IF(BJ26=\"\",0,IF(BK26=$B$65,IF(BH26<BJ26,3,IF(BH26=BJ26,1,0)),0))","v":0},{"$f":"IF(BJ24=\"\",0,IF(BK24=$B$65,IF(BH24<BJ24,3,IF(BH24=BJ24,1,0)),0))","v":0},null,null,{"$f":"RANK(CD25,$CD$22:$CD$25)","v":4},"Tschechien",{"$f":"SUM(BS25:BV25)","v":0},{"$f":"SUM(BS29:BV29)","v":9},{"$f":"SUM(BV26:BV29)","v":16},{"$f":"CA25-CB25","v":-7},{"$f":"IF(BP$28=\"\",(((((((CE25*10+BZ25)*100+CC25)*100+CA25)*10+CK25)*10+CJ25)*100+CP25)*100+CU25)*10+CV25,(((((((CE25*10+BZ25)*10+CK25)*10+CJ25)*100+CP25)*100+CU25)*100+CC25)*100+CA25)*10+CV25)","v":-6909},null,{"$f":"IF($BZ25=$BZ22,$BS25-$BV22,0)","v":0},{"$f":"IF($BZ25=$BZ23,$BT25-$BV23,0)","v":0},{"$f":"IF($BZ25=$BZ24,$BU25-$BV24,0)","v":0},null,{"$f":"SUM(CF25:CI25)","v":0},null,{"$f":"IF($BZ25=$BZ22,$BS29-$BV26,0)","v":0},{"$f":"IF($BZ25=$BZ23,$BT29-$BV27,0)","v":0},{"$f":"IF($BZ25=$BZ24,$BU29-$BV28,0)","v":0},null,{"$f":"SUM(CL25:CO25)","v":0},{"$f":"IF($BZ25=$BZ22,$BS29,0)","v":0},{"$f":"IF($BZ25=$BZ23,$BT29,0)","v":0},{"$f":"IF($BZ25=$BZ24,$BU29,0)","v":0},null,{"$f":"SUM(CQ25:CT25)","v":0},1]
[{"$f":"A24+12","v":18},"2024-06-20T18:00:00","England",{"$f":"Y23","v":"Dänemark"},"-",{"$f":"Y25","v":"England"},null,1,":",3,"ok",null,null,null,null,null,null,null,null,{"$f":"IF(K23=$B$65,H23,0)","v":6},{"$f":"IF(K25=$B$65,H25,0)","v":1},{"$f":"IF(K28=$B$65,J27,0)","v":4},null,null,null,null,null,null,null,null,null,null,null,null,null,null,null,null,null,null,null,null,null,null,null,null,null,null,null,null,null,null,{"$f":"BA24+12","v":24},"2024-06-22T15:00:00","Hamburg",{"$f":"BY23","v":"Georgien"},"-",{"$f":"BY25","v":"Tschechien"},null,6,":",4,"ok",null,null,null,null,null,null,null,null,{"$f":"IF(BK23=$B$65,BH23,0)","v":1},{"$f":"IF(BK25=$B$65,BH25,0)","v":2},{"$f":"IF(BK28=$B$65,BJ27,0)","v":6}]
[{"$f":"A25+12","v":29},"2024-06-25T21:00:00","Köln",{"$f":"Y25","v":"England"},"-",{"$f":"Y22","v":"Slowenien"},null,0,":",4,"ok",null,{"$f":"IF(N22>0,M22,\"\")","v":"Slowenien"},"1C",null,null,null,null,{"$f":"IF(K23=$B$65,J23,0)","v":2},null,{"$f":"IF(K27=$B$65,H28,0)","v":4},{"$f":"IF(K26=$B$65,H26,0)","v":1},null,null,null,null,null,null,null,"L0=AE hebelt Berechnung aus (top level Losen)",null,null,null,null,null,null,null,null,null,null,null,null,null,null,null,null,null,null,null,null,null,null,{"$f":"BA25+12","v":35},"2024-06-26T21:00:00","Hamburg",{"$f":"BY25","v":"Tschechien"},"-",{"$f":"BY22","v":"Türkei"},null,3,":",6,"ok",null,{"$f":"IF(BN22>0,BM22,\"\")","v":"Georgien"},"1F",null,null,null,null,{"$f":"IF(BK23=$B$65,BJ23,0)","v":3},null,{"$f":"IF(BK27=$B$65,BH28,0)","v":3},{"$f":"IF(BK26=$B$65,BH26,0)","v":6},null,null,null,null,null,null,null,"L0=AE hebelt Berechnung aus (top level Losen)"]
[{"$f":"A26+12","v":30},"2024-06-25T21:00:00","München",{"$f":"Y23","v":"Dänemark"},"-",{"$f":"Y24","v":"Serbien"},null,4,":",4,"ok",null,{"$f":"IF(N23>0,M23,\"\")","v":"England"},"2C",null,"DV",null,null,{"$f":"IF(K25=$B$65,J25,0)","v":1},{"$f":"IF(K27=$B$65,J28,0)","v":4},null,{"$f":"IF(K24=$B$65,H24,0)","v":1},null,null,null,null,null,null,null,"L1=AK hebelt Direktvergleich (S1) aus",null,null,null,null,null,null,null,null,null,null,null,null,null,null,null,null,null,null,null,null,null,null,{"$f":"BA26+12","v":36},"2024-06-26T21:00:00","Gelsenkirchen",{"$f":"BY23","v":"Georgien"},"-",{"$f":"BY24","v":"Portugal"},null,3,":",1,"ok",null,{"$f":"IF(BN23>0,BM23,\"\")","v":"Portugal"},"2F",null,"DV",null,null,{"$f":"IF(BK25=$B$65,BJ25,0)","v":5},{"$f":"IF(BK27=$B$65,BJ28,0)","v":1},null,{"$f":"IF(BK24=$B$65,BH24,0)","v":4},null,null,null,null,null,null,null,"L1=AK hebelt Direktvergleich (S1) aus"]
[null,null,null,null,null,null,null,null,null,null,null,null,{"$f":"IF(N24>0,M24,\"\")","v":"Serbien"},"3C",null,null,null,null,{"$f":"IF(K28=$B$65,H27,0)","v":0},{"$f":"IF(K26=$B$65,J26,0)","v":3},{"$f":"IF(K24=$B$65,J24,0)","v":2},null,null,null,null,null,null,null,null,"L4=AV Losen UEFA-Koeffizient, Fairplay oder Münzwurf",null,null,null,null,null,null,null,null,null,null,null,null,null,null,null,null,null,null,null,null,null,null,null,null,null,null,null,null,null,null,null,null,null,null,{"$f":"IF(BN24>0,BM24,\"\")","v":"Türkei"},"3F",null,null,null,null,{"$f":"IF(BK28=$B$65,BH27,0)","v":3},{"$f":"IF(BK26=$B$65,BJ26,0)","v":4},{"$f":"IF(BK24=$B$65,BJ24,0)","v":2},null,null,null,null,null,null,null,null,"L4=AV Losen UEFA-Koeffizient, Fairplay oder Münzwurf"]
[]
[null,"Gruppendritte",{"$f":"CONCATENATE(H35,H36,H37,H38)","v":"ADEF"}]
[null,null,null,null,null,null,null,null,null,null,null,null,"Reihenfolge nur zur Gruppenauswahl"]
[]
[null,null,null,{"$f":"IF(AE50=\"\",\"\",\"(falls manuell)\")","v":"(falls manuell)"},null,null,null,null,null,null,null,null,"Tabelle","P","T+","T-","T+/-","C","G",null,null,null,null,"R","Gruppendritte",null,null,null,null,null,"L0","G",null,null,null,null,null,null,null,null,null,null,null,null,null,null,null,"L4"]
[{"$f":"CODE(B35)-64","v":5},{"$f":"INDEX('Annix-EM2024'!$C:$C, MATCH($C$31, 'Annix-EM2024'!$B:$B, 0))","v":"E"},{"$f":"VLOOKUP(A35,$L$35:$M$40,2,FALSE)","v":"Belgien"},{"$f":"IF(AE50=\"\",\"\",AC50)","v":"C"},null,{"$f":"IF(AE50=\"\",\"\",AD50)","v":"Serbien"},null,{"$f":"CHAR(J35+64)","v":"A"},null,{"$f":"SMALL(R$35:R$38,1)","v":1},{"$f":"S35","v":"A"},{"$f":"CODE(K35)-64","v":1},{"$f":"VLOOKUP(1,$X$35:$AC$40,2,FALSE)","v":"Schottland"},{"$f":"VLOOKUP(1,$X$35:$AC$40,3,FALSE)","v":4},{"$f":"VLOOKUP(1,$X$35:$AC$40,4,FALSE)","v":6},{"$f":"VLOOKUP(1,$X$35:$AC$40,5,FALSE)","v":6},{"$f":"VLOOKUP(1,$X$35:$AC$40,6,FALSE)","v":0},{"$f":"CODE(S35)-64","v":1},{"$f":"MID(VLOOKUP(1,$X$35:$AF$40,9,FALSE),2,1)","v":"A"},null,null,null,null,{"$f":"RANK(AD35,$AD$35:$AD$40)","v":1},{"$f":"M4","v":"Schottland"},{"$f":"N4","v":4},{"$f":"O4","v":6},{"$f":"P4","v":6},{"$f":"Q4","v":0},{"$f":"AE35*10000000000000000+Z35*100000000000000+AC35*1000000000000+AA35*10000000000+AV35","v":400060000000006},null,{"$f":"N9","v":"3A"},null,null,null,null,null,null,null,null,null,null,null,null,null,null,null,6]
[{"$f":"CODE(B36)-64","v":1},{"$f":"INDEX('Annix-EM2024'!$D:$D, MATCH($C$31, 'Annix-EM2024'!$B:$B, 0))","v":"A"},{"$f":"VLOOKUP(A36,$L$35:$M$40,2,FALSE)","v":"Schottland"},{"$f":"IF(AE51=\"\",\"\",AC51)","v":""},null,{"$f":"IF(AE51=\"\",\"\",AD51)","v":""},null,{"$f":"CHAR(J36+64)","v":"D"},null,{"$f":"SMALL(R$35:R$38,2)","v":4},"E",5,{"$f":"VLOOKUP(2,$X$35:$AC$40,2,FALSE)","v":"Belgien"},{"$f":"VLOOKUP(2,$X$35:$AC$40,3,FALSE)","v":3},{"$f":"VLOOKUP(2,$X$35:$AC$40,4,FALSE)","v":7},{"$f":"VLOOKUP(2,$X$35:$AC$40,5,FALSE)","v":7},{"$f":"VLOOKUP(2,$X$35:$AC$40,6,FALSE)","v":0},{"$f":"CODE(S36)-64","v":5},{"$f":"MID(VLOOKUP(2,$X$35:$AF$40,9,FALSE),2,1)","v":"E"},null,null,null,null,5,{"$f":"M14","v":"Italien"},{"$f":"N14","v":3},{"$f":"O14","v":9},{"$f":"P14","v":12},{"$f":"Q14","v":-3},297090000000005,null,{"$f":"N19","v":"3B"},null,null,null,null,null,null,null,null,null,null,null,null,null,null,null,5]
[{"$f":"CODE(B37)-64","v":6},{"$f":"INDEX('Annix-EM2024'!$E:$E, MATCH($C$31, 'Annix-EM2024'!$B:$B, 0))","v":"F"},{"$f":"VLOOKUP(A37,$L$35:$M$40,2,FALSE)","v":"Türkei"},{"$f":"IF(AE53=\"\",\"\",AC53)","v":""},null,{"$f":"IF(AE53=\"\",\"\",AD53)","v":""},null,{"$f":"CHAR(J37+64)","v":"E"},null,{"$f":"SMALL(R$35:R$38,3)","v":5},"D",4,{"$f":"VLOOKUP(3,$X$35:$AC$40,2,FALSE)","v":"Frankreich"},{"$f":"VLOOKUP(3,$X$35:$AC$40,3,FALSE)","v":3},{"$f":"VLOOKUP(3,$X$35:$AC$40,4,FALSE)","v":6},{"$f":"VLOOKUP(3,$X$35:$AC$40,5,FALSE)","v":6},{"$f":"VLOOKUP(3,$X$35:$AC$40,6,FALSE)","v":0},{"$f":"CODE(S37)-64","v":4},{"$f":"MID(VLOOKUP(3,$X$35:$AF$40,9,FALSE),2,1)","v":"D"},null,null,null,null,6,{"$f":"M24","v":"Serbien"},{"$f":"N24","v":2},{"$f":"O24","v":6},{"$f":"P24","v":7},{"$f":"Q24","v":-1},199060000000004,null,{"$f":"N29","v":"3C"},null,null,null,null,null,null,null,null,null,null,null,null,null,null,null,4]
[{"$f":"CODE(B38)-64","v":4},{"$f":"INDEX('Annix-EM2024'!$F:$F, MATCH($C$31, 'Annix-EM2024'!$B:$B, 0))","v":"D"},{"$f":"VLOOKUP(A38,$L$35:$M$40,2,FALSE)","v":"Frankreich"},{"$f":"IF(AE56=\"\",\"\",AC56)","v":""},null,{"$f":"IF(AE56=\"\",\"\",AD56)","v":""},null,{"$f":"CHAR(J38+64)","v":"F"},null,{"$f":"SMALL(R$35:R$38,4)","v":6},"F",6,{"$f":"VLOOKUP(4,$X$35:$AC$40,2,FALSE)","v":"Türkei"},{"$f":"VLOOKUP(4,$X$35:$AC$40,3,FALSE)","v":3},{"$f":"VLOOKUP(4,$X$35:$AC$40,4,FALSE)","v":9},{"$f":"VLOOKUP(4,$X$35:$AC$40,5,FALSE)","v":11},{"$f":"VLOOKUP(4,$X$35:$AC$40,6,FALSE)","v":-2},{"$f":"CODE(S38)-64","v":6},{"$f":"MID(VLOOKUP(4,$X$35:$AF$40,9,FALSE),2,1)","v":"F"},null,null,null,null,3,{"$f":"BM4","v":"Frankreich"},{"$f":"BN4","v":3},{"$f":"BO4","v":6},{"$f":"BP4","v":6},{"$f":"BQ4","v":0},300060000000003,null,{"$f":"BN9","v":"3D"},null,null,null,null,null,null,null,null,null,null,null,null,null,null,null,3]
[null,null,null,null,null,null,null,null,null,null,"B",2,{"$f":"VLOOKUP(5,$X$35:$AC$40,2,FALSE)","v":"Italien"},{"$f":"VLOOKUP(5,$X$35:$AC$40,3,FALSE)","v":3},{"$f":"VLOOKUP(5,$X$35:$AC$40,4,FALSE)","v":9},{"$f":"VLOOKUP(5,$X$35:$AC$40,5,FALSE)","v":12},{"$f":"VLOOKUP(5,$X$35:$AC$40,6,FALSE)","v":-3},null,{"$f":"MID(VLOOKUP(5,$X$35:$AF$40,9,FALSE),2,1)","v":"B"},null,null,null,null,2,{"$f":"BM14","v":"Belgien"},{"$f":"BN14","v":3},{"$f":"BO14","v":7},{"$f":"BP14","v":7},{"$f":"BQ14","v":0},300070000000002,null,{"$f":"BN19","v":"3E"},null,null,null,null,null,null,null,null,null,null,null,null,null,null,null,2]
[null,null,null,null,null,null,null,null,null,null,"C",3,{"$f":"VLOOKUP(6,$X$35:$AC$40,2,FALSE)","v":"Serbien"},{"$f":"VLOOKUP(6,$X$35:$AC$40,3,FALSE)","v":2},{"$f":"VLOOKUP(6,$X$35:$AC$40,4,FALSE)","v":6},{"$f":"VLOOKUP(6,$X$35:$AC$40,5,FALSE)","v":7},{"$f":"VLOOKUP(6,$X$35:$AC$40,6,FALSE)","v":-1},null,{"$f":"MID(VLOOKUP(6,$X$35:$AF$40,9,FALSE),2,1)","v":"C"},null,null,null,null,4,{"$f":"BM24","v":"Türkei"},{"$f":"BN24","v":3},{"$f":"BO24","v":9},{"$f":"BP24","v":11},{"$f":"BQ24","v":-2},298090000000001,null,{"$f":"BN29","v":"3F"},null,null,null,null,null,null,null,null,null,null,null,null,null,null,null,1]
[]
[null,null,null,null,null,null,null,null,null,null,null,null,null,null,null,null,null,null,null,null,null,null,null,null,null,null,null,null,null,"L0=AE hebelt Berechnung aus (top level Losen)"]
[null,null,null,null,null,null,null,null,null,null,null,null,null,null,null,null,null,null,null,null,null,null,null,null,null,null,null,null,null,"L4=AV Losen UEFA-Koeffizient, Fairplay oder Münzwurf"]
[]
[]
[]
[null,"Achtelfinale",null,null,null,null,null,null,null,null,null,null,null,null,null,null,null,null,null,null,null,null,null,null,null,null,null,null,null,null,null,null,null,null,null,null,null,null,null,null,null,null,null,null,null,null,null,null,null,null,null,null,null,"Viertelfinale"]
[null,"Datum/Zeit","Spielort",null,null,null,null,null,null,null,null,null,null,null,null,null,null,null,null,null,null,null,null,null,"Auto",null,"Annix",null,"(falls manuell)",null,"L8",null,null,null,null,null,null,null,null,null,null,null,null,null,null,null,null,null,null,null,null,null,null,"Datum/Zeit","Spielort"]
[37,"2024-06-29T21:00:00","Dortmund",{"$f":"M7","v":"Ungarn"},"-",{"$f":"M28","v":"England"},null,{"$f":"IF($B$66=\"\",1,IF(OR(J49<1,INT(RAND()*10<6)),J49+1,J49-1))","v":4},":",{"$f":"IF($B$66=\"\",0,INT(RAND()*5)+INT(RAND()*3)*INT(RAND()*2))","v":3},"ok",null,{"$f":"IF(J49=\"\",\"\",IF(J49=H49,\"falsch!!! K.Remis\",IF(H49>J49,D49,F49)))","v":"Ungarn"},{"$f":"N7","v":"1A"},{"$f":"N28","v":"2C"},"AF1",null,"a2",null,null,null,null,null,null,null,null,null,null,null,null,null,null,null,null,null,null,null,null,null,null,null,null,null,null,null,null,null,null,null,null,null,null,{"$f":"A56+1","v":45},"2024-07-05T18:00:00","Stuttgart",{"$f":"M49","v":"Ungarn"},"-",{"$f":"M50","v":"Albanien"},null,{"$f":"IF($B$66=\"\",1,IF(OR(BJ49<1,INT(RAND()*10<6)),BJ49+1,BJ49-1))","v":0},":",{"$f":"IF($B$66=\"\",0,INT(RAND()*5)+INT(RAND()*3)*INT(RAND()*2))","v":1},"ok",null,{"$f":"IF(BJ49=\"\",\"\",IF(BJ49=BH49,\"falsch!!! K.Remis\",IF(BH49>BJ49,BD49,BF49)))","v":"Albanien"},{"$f":"P49","v":"AF1"},{"$f":"P50","v":"AF2"},"VF1"]
[{"$f":"A49+1","v":38},"2024-06-30T21:00:00","Köln",{"$f":"M17","v":"Albanien"},"-",{"$f":"AD50","v":"Serbien"},null,3,":",2,"ok",null,"Albanien",{"$f":"N17","v":"1B"},{"$f":"\"3\"&AC50","v":"3C"},"AF2",null,"a4",null,null,null,null,null,null,"3ADEF",null,{"$f":"B35","v":"E"},null,{"$f":"IF(AE50=\"\",AA50,AE50)","v":"C"},{"$f":"VLOOKUP(CODE(AC50)-64,$L$35:$M$40,2,FALSE)","v":"Serbien"},"C",null,null,null,null,null,null,null,null,null,null,null,null,null,null,null,null,null,null,null,null,null,{"$f":"BA49+1","v":46},"2024-07-05T21:00:00","Hamburg",{"$f":"M51","v":"Georgien"},"-",{"$f":"M52","v":"Österreich"},null,{"$f":"IF($B$66=\"\",1,IF(OR(BJ50<1,INT(RAND()*10<6)),BJ50+1,BJ50-1))","v":3},":",{"$f":"IF($B$66=\"\",0,INT(RAND()*5)+INT(RAND()*3)*INT(RAND()*2))","v":4},"ok",null,{"$f":"IF(BJ50=\"\",\"\",IF(BJ50=BH50,\"falsch!!! K.Remis\",IF(BH50>BJ50,BD50,BF50)))","v":"Österreich"},{"$f":"P51","v":"AF3"},{"$f":"P52","v":"AF4"},"VF2"]
[{"$f":"A50+1","v":39},"2024-07-01T21:00:00","Frankfurt",{"$f":"BM27","v":"Georgien"},"-",{"$f":"AD51","v":"Schottland"},null,4,":",3,"ok",null,"Georgien",{"$f":"BN27","v":"1F"},{"$f":"\"3\"&AC51","v":"3A"},"AF3",null,"a6",null,null,null,null,null,null,"3ABC",null,{"$f":"B36","v":"A"},null,{"$f":"IF(AE51=\"\",AA51,AE51)","v":"A"},{"$f":"VLOOKUP(CODE(AC51)-64,$L$35:$M$40,2,FALSE)","v":"Schottland"},null,null,null,null,null,null,null,null,null,null,null,null,null,null,null,null,null,null,null,null,null,null,{"$f":"BA50+1","v":47},"2024-07-06T18:00:00","Düssseldorf",{"$f":"M53","v":"Slowenien"},"-",{"$f":"M54","v":"Deutschland"},null,{"$f":"IF($B$66=\"\",1,IF(OR(BJ51<1,INT(RAND()*10<6)),BJ51+1,BJ51-1))","v":6},":",{"$f":"IF($B$66=\"\",0,INT(RAND()*5)+INT(RAND()*3)*INT(RAND()*2))","v":5},"ok",null,{"$f":"IF(BJ51=\"\",\"\",IF(BJ51=BH51,\"falsch!!! K.Remis\",IF(BH51>BJ51,BD51,BF51)))","v":"Slowenien"},{"$f":"P53","v":"AF5"},{"$f":"P54","v":"AF6"},"VF3"]
[40,"2024-07-01T18:00:00","Düsseldorf",{"$f":"BM8","v":"Österreich"},"-",{"$f":"BM18","v":"Rumänien"},null,4,":",3,"ok",null,"Österreich",{"$f":"BN8","v":"2D"},{"$f":"BN18","v":"2E"},"AF4",null,"a5",null,null,null,null,null,null,null,null,null,null,null,null,null,null,null,null,null,null,null,null,null,null,null,null,null,null,null,null,null,null,null,null,null,null,{"$f":"BA51+1","v":48},"2024-07-06T21:00:00","Berlin",{"$f":"M55","v":"Polen"},"-",{"$f":"M56","v":"Slowakei"},null,{"$f":"IF($B$66=\"\",1,IF(OR(BJ52<1,INT(RAND()*10<6)),BJ52+1,BJ52-1))","v":3},":",{"$f":"IF($B$66=\"\",0,INT(RAND()*5)+INT(RAND()*3)*INT(RAND()*2))","v":4},"ok",null,{"$f":"IF(BJ52=\"\",\"\",IF(BJ52=BH52,\"falsch!!! K.Remis\",IF(BH52>BJ52,BD52,BF52)))","v":"Slowakei"},{"$f":"P55","v":"AF7"},{"$f":"P56","v":"AF8"},"VF4"]
[41,"2024-06-30T18:00:00","Gelsenkirchen",{"$f":"M27","v":"Slowenien"},"-",{"$f":"AD53","v":"Türkei"},null,1,":",0,"ok",null,"Slowenien",{"$f":"N27","v":"1C"},{"$f":"\"3\"&AC53","v":"3F"},"AF5",null,"a3",null,null,null,null,null,null,"3DEF",null,{"$f":"B37","v":"F"},null,{"$f":"IF(AE53=\"\",AA53,AE53)","v":"F"},{"$f":"VLOOKUP(CODE(AC53)-64,$L$35:$M$40,2,FALSE)","v":"Türkei"}]
[42,"2024-06-29T18:00:00","Berlin",{"$f":"M8","v":"Deutschland"},"-",{"$f":"M18","v":"Spanien"},null,6,":",5,"ok",null,"Deutschland",{"$f":"N8","v":"2A"},{"$f":"N18","v":"2B"},"AF6",null,"a1",null,null,null,null,null,null,null,null,null,null,null,null,null,null,null,null,null,null,null,null,null,null,null,null,null,null,null,null,null,null,null,null,null,null,null,"Halbfinale"]
[43,"2024-07-02T21:00:00","Leipzig",{"$f":"BM7","v":"Polen"},"-",{"$f":"BM28","v":"Portugal"},null,6,":",5,"ok",null,"Polen",{"$f":"BN7","v":"1D"},{"$f":"BN28","v":"2F"},"AF7",null,"a8",null,null,null,null,null,null,null,null,null,null,null,null,null,null,null,null,null,null,null,null,null,null,null,null,null,null,null,null,null,null,null,null,null,null,null,"Datum/Zeit","Spielort"]
[44,"2024-07-02T18:00:00","München",{"$f":"BM17","v":"Slowakei"},"-",{"$f":"AD56","v":"Frankreich"},null,7,":",6,"ok",null,"Slowakei",{"$f":"BN17","v":"1E"},{"$f":"\"3\"&AC56","v":"3D"},"AF8",null,"a7",null,null,null,null,null,null,"3ABCD",null,{"$f":"B38","v":"D"},null,{"$f":"IF(AE56=\"\",AA56,AE56)","v":"D"},{"$f":"VLOOKUP(CODE(AC56)-64,$L$35:$M$40,2,FALSE)","v":"Frankreich"},null,null,null,null,null,null,null,null,null,null,null,null,null,null,null,null,null,null,null,null,null,null,{"$f":"BA52+1","v":49},"2024-07-09T21:00:00","München",{"$f":"BM50","v":"Österreich"},"-",{"$f":"BM49","v":"Albanien"},null,{"$f":"IF($B$66=\"\",1,IF(OR(BJ56<1,INT(RAND()*10<6)),BJ56+1,BJ56-1))","v":5},":",{"$f":"IF($B$66=\"\",0,INT(RAND()*5)+INT(RAND()*3)*INT(RAND()*2))","v":4},"ok",null,{"$f":"IF(BJ56=\"\",\"\",IF(BJ56=BH56,\"falsch!!! K.Remis\",IF(BH56>BJ56,BD56,BF56)))","v":"Österreich"},{"$f":"BP50","v":"VF2"},{"$f":"BP49","v":"VF1"},"F1"]
[null,null,null,null,null,null,null,null,null,null,null,null,null,null,null,null,null,null,null,null,null,null,null,null,null,null,null,null,null,null,"L8=Buchstabe für manuelle Gruppe",null,null,null,null,null,null,null,null,null,null,null,null,null,null,null,null,null,null,null,null,null,{"$f":"BA56+1","v":50},"2024-07-10T21:00:00","Dortmund",{"$f":"BM52","v":"Slowakei"},"-",{"$f":"BM51","v":"Slowenien"},null,{"$f":"IF($B$66=\"\",1,IF(OR(BJ57<1,INT(RAND()*10<6)),BJ57+1,BJ57-1))","v":1},":",{"$f":"IF($B$66=\"\",0,INT(RAND()*5)+INT(RAND()*3)*INT(RAND()*2))","v":2},"ok",null,{"$f":"IF(BJ57=\"\",\"\",IF(BJ57=BH57,\"falsch!!! K.Remis\",IF(BH57>BJ57,BD57,BF57)))","v":"Slowenien"},{"$f":"BP52","v":"VF4"},{"$f":"BP51","v":"VF3"},"F2"]
[null,null,null,null,null,null,null,null,null,null,null,null,null,null,null,null,null,null,null,null,null,null,null,null,null,null,null,null,null,null,null,null,null,null,null,null,null,null,null,null,null,null,null,null,null,null,null,null,null,null,null,null,null,null,null,null,null,null,null,null,null,null,null,null,{"$f":"IF(BD56=BM56,BF56,BD56)","v":"Albanien"},null,null,"HF1"]
[null,"Finale",null,null,null,null,null,null,null,null,null,null,null,null,null,null,null,null,null,null,null,null,null,null,null,null,null,null,null,null,null,null,null,null,null,null,null,null,null,null,null,null,null,null,null,null,null,null,null,null,null,null,null,"Um Platz 3",null,null,null,null,null,null,null,null,null,null,{"$f":"IF(BD57=BM57,BF57,BD57)","v":"Slowakei"},null,null,"HF2"]
[null,"Datum/Zeit","Spielort",null,null,null,null,null,null,null,null,null,"Europameister",null,null,null,null,null,null,null,null,null,null,null,null,null,null,null,null,null,null,null,null,null,null,null,null,null,null,null,null,null,null,null,null,null,null,null,null,null,null,null,null,"Datum/Zeit","Spielort"]
[{"$f":"BA61+1","v":52},"2024-07-14T21:00:00","Berlin",{"$f":"BM56","v":"Österreich"},"-",{"$f":"BM57","v":"Slowenien"},null,{"$f":"IF($B$66=\"\",1,IF(OR(J61<1,INT(RAND()*10<6)),J61+1,J61-1))","v":2},":",{"$f":"IF($B$66=\"\",0,INT(RAND()*5)+INT(RAND()*3)*INT(RAND()*2))","v":3},"ok",null,{"$f":"IF(J61=\"\",\"\",IF(J61=H61,\"falsch!!! K.Remis\",IF(H61>J61,D61,F61)))","v":"Slowenien"},{"$f":"BP56","v":"F1"},{"$f":"BP57","v":"F2"},null,null,null,null,null,null,null,null,null,null,null,null,null,null,null,null,null,null,null,null,null,null,null,null,null,null,null,null,null,null,null,null,null,null,null,null,null,{"$f":"BA57+1","v":51},"2024-07-13T21:00:00","Rostock",{"$f":"BM58","v":"Albanien"},"-",{"$f":"BM59","v":"Slowakei"},null,{"$f":"IF($B$66=\"\",1,IF(OR(BJ61<1,INT(RAND()*10<6)),BJ61+1,BJ61-1))","v":0},":",{"$f":"IF($B$66=\"\",0,INT(RAND()*5)+INT(RAND()*3)*INT(RAND()*2))","v":1},"ok",null,{"$f":"IF(BJ61=\"\",\"\",IF(BJ61=BH61,\"falsch!!! K.Remis\",IF(BH61>BJ61,BD61,BF61)))","v":"Slowakei"},{"$f":"BP58","v":"HF1"},{"$f":"BP59","v":"HF2"}]
[]
[]
[]
[null,"ok","OK"]
[null,"ja","Ergebnis Zufall"]
[null,{"$f":"IF($B$66=\"\",1,INT(RAND()*5)+INT(RAND()*3)*INT(RAND()*2))","v":0},"Zufallsformel"]

{"sheet":"Annix-EM2024","index":4,"n_rows":33,"n_cols":18,"rows_kept":33,"cut":false,"hidden":false,"merged":[]}
["Option","Combo","1B","1F","1C","1E"]
[1,{"$f":"CONCATENATE(O2,P2,Q2,R2)","v":"ABCD"},"A","C","D","B",{"$f":"CODE(C2)","v":65},{"$f":"CODE(D2)","v":67},68,66,{"$f":"SMALL($G2:$J2,1)","v":65},{"$f":"SMALL($G2:$J2,2)","v":66},{"$f":"SMALL($G2:$J2,3)","v":67},{"$f":"SMALL($G2:$J2,4)","v":68},{"$f":"CHAR(K2)","v":"A"},{"$f":"CHAR(L2)","v":"B"},"C","D"]
[{"$f":"A2+1","v":2},{"$f":"CONCATENATE(O3,P3,Q3,R3)","v":"ABCE"},"A","C","E","B",{"$f":"CODE(C3)","v":65},67,69,66,{"$f":"SMALL($G3:$J3,1)","v":65},{"$f":"SMALL($G3:$J3,2)","v":66},{"$f":"SMALL($G3:$J3,3)","v":67},{"$f":"SMALL($G3:$J3,4)","v":69},{"$f":"CHAR(K3)","v":"A"},"B","C","E"]
[{"$f":"A3+1","v":3},"ABCF","A","C","F","B",65,67,70,66,65,66,67,70,"A","B","C","F"]
[4,"ABDE","D","B","E","A",68,66,69,65,65,66,68,69,"A","B","D","E"]
[5,"ABDF","D","B","F","A",68,66,70,65,65,66,68,70,"A","B","D","F"]
[6,"ABEF","E","A","F","B",69,65,70,66,65,66,69,70,"A","B","E","F"]
[7,"ACDE","E","A","D","C",69,65,68,67,65,67,68,69,"A","C","D","E"]
[8,"ACDF","F","A","D","C",70,65,68,67,65,67,68,70,"A","C","D","F"]
[9,"ACEF","E","A","F","C",69,65,70,67,65,67,69,70,"A","C","E","F"]
[10,"ADEF","E","A","F","D",69,65,70,68,65,68,69,70,"A","D","E","F"]
[11,"BCDE","E","C","D","B",69,67,68,66,66,67,68,69,"B","C","D","E"]
[12,"BCDF","F","B","D","C",70,66,68,67,66,67,68,70,"B","C","D","F"]
[13,"BCEF","F","B","E","C",70,66,69,67,66,67,69,70,"B","C","E","F"]
[14,"BDEF","F","B","E","D",70,66,69,68,66,68,69,70,"B","D","E","F"]
[15,"CDEF","F","C","E","D",70,67,69,68,67,68,69,70,"C","D","E","F"]
[]
["Test","Combo"]
[{"$f":"A2","v":1},{"$f":"B2","v":"ABCD"},{"$f":"INDEX(C:C, MATCH($B19, $B:$B, 0))","v":"A"},{"$f":"INDEX(D:D, MATCH($B19, $B:$B, 0))","v":"C"},"D","B"]
[{"$f":"A3","v":2},"ABCE",{"$f":"INDEX(C:C, MATCH($B20, $B:$B, 0))","v":"A"},"C","E","B"]
[3,"ABCF","A","C","F","B"]
[4,"ABDE","D","B","E","A"]
[5,"ABDF","D","B","F","A"]
[6,"ABEF","E","A","F","B"]
[7,"ACDE","E","A","D","C"]
[8,"ACDF","F","A","D","C"]
[9,"ACEF","E","A","F","C"]
[10,"ADEF","E","A","F","D"]
[11,"BCDE","E","C","D","B"]
[12,"BCDF","F","B","D","C"]
[13,"BCEF","F","B","E","C"]
[14,"BDEF","F","B","E","D"]
[15,"CDEF","F","C","E","D"]

{"sheet":"WM2026-Plan-mit-AnnixC","index":5,"n_rows":122,"n_cols":100,"rows_kept":122,"cut":false,"hidden":false,"merged":[]}
["SP","Vorrunde","Gruppe A"," ",null,null,null,null,null,null,null,null,"Tabelle","P","T+","T-","T+/-",null,null,null,null,null,null,"G","Berechnungen","P","T+","T-","T+/-",null,"L0","DV",null,null,null,"S1","L1","DV-TD",null,null,null,"S2","DV-Tore",null,null,null,"S3","L4",null,null,null,null,null,"Vorrunde","Gruppe D"," ",null,null,null,null,null,null,null,null,"Tabelle","P","T+","T-","T+/-",null,null,null,null,null,null,"G","Berechnungen","P","T+","T-","T+/-",null,"L0","DV",null,null,null,"S1","L1","DV-TD",null,null,null,"S2","DV-Tore",null,null,null,"S3","L4"]
[null,"Datum/Zeit","Spielort",null,null,null,null,null,null,null,null,null,{"$f":"VLOOKUP(1,$X$2:$AC$5,2,FALSE)","v":"A4"},{"$f":"VLOOKUP(1,$X$2:$AC$5,3,FALSE)","v":6},{"$f":"VLOOKUP(1,$X$2:$AC$5,4,FALSE)","v":2},{"$f":"VLOOKUP(1,$X$2:$AC$5,5,FALSE)","v":1},{"$f":"VLOOKUP(1,$X$2:$AC$5,6,FALSE)","v":1},null,null,{"$f":"IF(H3=\"\",0,IF(K3=$B$120,IF(H3>J3,3,IF(H3=J3,1,0)),0))","v":3},{"$f":"IF(H5=\"\",0,IF(K5=$B$120,IF(H5>J5,3,IF(H5=J5,1,0)),0))","v":3},{"$f":"IF(J7=\"\",0,IF(K8=$B$120,IF(H7<J7,3,IF(H7=J7,1,0)),0))","v":0},null,{"$f":"RANK(AD2,$AD$2:$AD$5)","v":2},"A1",{"$f":"SUM(S2:V2)","v":6},{"$f":"SUM(S6:V6)","v":2},{"$f":"SUM(S6:S9)","v":1},{"$f":"AA2-AB2","v":1},{"$f":"IF(P$8=\"\",(((((((AE2*10+Z2)*100+AC2)*100+AA2)*10+AK2)*10+AJ2)*100+AP2)*100+AU2)*10+AV2,(((((((AE2*10+Z2)*10+AK2)*10+AJ2)*100+AP2)*100+AU2)*100+AC2)*100+AA2)*10+AV2)","v":596990001024},null,null,{"$f":"IF($Z2=$Z3,$T2-$S3,0)","v":0},{"$f":"IF($Z2=$Z4,$U2-$S4,0)","v":0},{"$f":"IF($Z2=$Z5,$V2-$S5,0)","v":-3},{"$f":"SUM(AF2:AI2)","v":-3},null,null,{"$f":"IF($Z2=$Z3,$T6-$S7,0)","v":0},{"$f":"IF($Z2=$Z4,$U6-$S8,0)","v":0},{"$f":"IF($Z2=$Z5,$V6-$S9,0)","v":-1},{"$f":"SUM(AL2:AO2)","v":-1},null,{"$f":"IF($Z2=$Z3,$T6,0)","v":0},{"$f":"IF($Z2=$Z4,$U6,0)","v":0},{"$f":"IF($Z2=$Z5,$V6,0)","v":0},{"$f":"SUM(AQ2:AT2)","v":0},4,null,null,null,null,null,"Datum/Zeit","Spielort",null,null,null,null,null,null,null,null,null,{"$f":"VLOOKUP(1,$BX$2:$CC$5,2,FALSE)","v":"D4"},{"$f":"VLOOKUP(1,$BX$2:$CC$5,3,FALSE)","v":6},{"$f":"VLOOKUP(1,$BX$2:$CC$5,4,FALSE)","v":2},{"$f":"VLOOKUP(1,$BX$2:$CC$5,5,FALSE)","v":1},{"$f":"VLOOKUP(1,$BX$2:$CC$5,6,FALSE)","v":1},null,null,{"$f":"IF(BH3=\"\",0,IF(BK3=$B$120,IF(BH3>BJ3,3,IF(BH3=BJ3,1,0)),0))","v":3},{"$f":"IF(BH5=\"\",0,IF(BK5=$B$120,IF(BH5>BJ5,3,IF(BH5=BJ5,1,0)),0))","v":3},{"$f":"IF(BJ7=\"\",0,IF(BK8=$B$120,IF(BH7<BJ7,3,IF(BH7=BJ7,1,0)),0))","v":0},null,{"$f":"RANK(CD2,$CD$2:$CD$5)","v":2},"D1",{"$f":"SUM(BS2:BV2)","v":6},{"$f":"SUM(BS6:BV6)","v":2},{"$f":"SUM(BS6:BS9)","v":1},{"$f":"CA2-CB2","v":1},{"$f":"IF(BP$8=\"\",(((((((CE2*10+BZ2)*100+CC2)*100+CA2)*10+CK2)*10+CJ2)*100+CP2)*100+CU2)*10+CV2,(((((((CE2*10+BZ2)*10+CK2)*10+CJ2)*100+CP2)*100+CU2)*100+CC2)*100+CA2)*10+CV2)","v":596990001024},null,null,{"$f":"IF($BZ2=$BZ3,$BT2-$BS3,0)","v":0},{"$f":"IF($BZ2=$BZ4,$BU2-$BS4,0)","v":0},{"$f":"IF($BZ2=$BZ5,$BV2-$BS5,0)","v":-3},{"$f":"SUM(CF2:CI2)","v":-3},null,null,{"$f":"IF($BZ2=$BZ3,$BT6-$BS7,0)","v":0},{"$f":"IF($BZ2=$BZ4,$BU6-$BS8,0)","v":0},{"$f":"IF($BZ2=$BZ5,$BV6-$BS9,0)","v":-1},{"$f":"SUM(CL2:CO2)","v":-1},null,{"$f":"IF($BZ2=$BZ3,$BT6,0)","v":0},{"$f":"IF($BZ2=$BZ4,$BU6,0)","v":0},{"$f":"IF($BZ2=$BZ5,$BV6,0)","v":0},{"$f":"SUM(CQ2:CT2)","v":0},4]
[1,"2026-06-14T21:00:00","München",{"$f":"Y2","v":"A1"},"-",{"$f":"Y3","v":"A2"},null,{"$f":"IF($B$121=\"\",1,INT(RAND()*5)+INT(RAND()*3)*INT(RAND()*2))","v":1},":",{"$f":"IF($B$121=\"\",0,INT(RAND()*5)+INT(RAND()*3)*INT(RAND()*2))","v":0},"ok",null,{"$f":"VLOOKUP(2,$X$2:$AC$5,2,FALSE)","v":"A1"},{"$f":"VLOOKUP(2,$X$2:$AC$5,3,FALSE)","v":6},{"$f":"VLOOKUP(2,$X$2:$AC$5,4,FALSE)","v":2},{"$f":"VLOOKUP(2,$X$2:$AC$5,5,FALSE)","v":1},{"$f":"VLOOKUP(2,$X$2:$AC$5,6,FALSE)","v":1},null,{"$f":"IF(J3=\"\",0,IF(K3=$B$120,IF(H3<J3,3,IF(H3=J3,1,0)),0))","v":0},null,{"$f":"IF(H8=\"\",0,IF(K7=$B$120,IF(H8>J8,3,IF(H8=J8,1,0)),0))","v":3},{"$f":"IF(J6=\"\",0,IF(K6=$B$120,IF(J6>H6,3,IF(J6=H6,1,0)),0))","v":0},null,{"$f":"RANK(AD3,$AD$2:$AD$5)","v":3},"A2",{"$f":"SUM(S3:V3)","v":3},{"$f":"SUM(S7:V7)","v":1},{"$f":"SUM(T6:T9)","v":2},{"$f":"AA3-AB3","v":-1},{"$f":"IF(P$8=\"\",(((((((AE3*10+Z3)*100+AC3)*100+AA3)*10+AK3)*10+AJ3)*100+AP3)*100+AU3)*10+AV3,(((((((AE3*10+Z3)*10+AK3)*10+AJ3)*100+AP3)*100+AU3)*100+AC3)*100+AA3)*10+AV3)","v":303010099013},null,{"$f":"IF($Z3=$Z2,$S3-$T2,0)","v":0},null,{"$f":"IF($Z3=$Z4,$U3-$T4,0)","v":3},{"$f":"IF($Z3=$Z5,$V3-$T5,0)","v":0},{"$f":"SUM(AF3:AI3)","v":3},null,{"$f":"IF($Z3=$Z2,$S7-$T6,0)","v":0},null,{"$f":"IF($Z3=$Z4,$U7-$T8,0)","v":1},{"$f":"IF($Z3=$Z5,$V7-$T9,0)","v":0},{"$f":"SUM(AL3:AO3)","v":1},{"$f":"IF($Z3=$Z2,$S7,0)","v":0},null,{"$f":"IF($Z3=$Z4,$U7,0)","v":1},{"$f":"IF($Z3=$Z5,$V7,0)","v":0},{"$f":"SUM(AQ3:AT3)","v":1},3,null,null,null,null,7,"2026-06-16T15:00:00","Hamburg",{"$f":"BY2","v":"D1"},"-",{"$f":"BY3","v":"D2"},null,{"$f":"IF($B$121=\"\",1,INT(RAND()*5)+INT(RAND()*3)*INT(RAND()*2))","v":1},":",{"$f":"IF($B$121=\"\",0,INT(RAND()*5)+INT(RAND()*3)*INT(RAND()*2))","v":0},"ok",null,{"$f":"VLOOKUP(2,$BX$2:$CC$5,2,FALSE)","v":"D1"},{"$f":"VLOOKUP(2,$BX$2:$CC$5,3,FALSE)","v":6},{"$f":"VLOOKUP(2,$BX$2:$CC$5,4,FALSE)","v":2},{"$f":"VLOOKUP(2,$BX$2:$CC$5,5,FALSE)","v":1},{"$f":"VLOOKUP(2,$BX$2:$CC$5,6,FALSE)","v":1},null,{"$f":"IF(BJ3=\"\",0,IF(BK3=$B$120,IF(BH3<BJ3,3,IF(BH3=BJ3,1,0)),0))","v":0},null,{"$f":"IF(BH8=\"\",0,IF(BK7=$B$120,IF(BH8>BJ8,3,IF(BH8=BJ8,1,0)),0))","v":3},{"$f":"IF(BJ6=\"\",0,IF(BK6=$B$120,IF(BJ6>BH6,3,IF(BJ6=BH6,1,0)),0))","v":0},null,{"$f":"RANK(CD3,$CD$2:$CD$5)","v":3},"D2",{"$f":"SUM(BS3:BV3)","v":3},{"$f":"SUM(BS7:BV7)","v":1},{"$f":"SUM(BT6:BT9)","v":2},{"$f":"CA3-CB3","v":-1},{"$f":"IF(BP$8=\"\",(((((((CE3*10+BZ3)*100+CC3)*100+CA3)*10+CK3)*10+CJ3)*100+CP3)*100+CU3)*10+CV3,(((((((CE3*10+BZ3)*10+CK3)*10+CJ3)*100+CP3)*100+CU3)*100+CC3)*100+CA3)*10+CV3)","v":303010099013},null,{"$f":"IF($BZ3=$BZ2,$BS3-$BT2,0)","v":0},null,{"$f":"IF($BZ3=$BZ4,$BU3-$BT4,0)","v":3},{"$f":"IF($BZ3=$BZ5,$BV3-$BT5,0)","v":0},{"$f":"SUM(CF3:CI3)","v":3},null,{"$f":"IF($BZ3=$BZ2,$BS7-$BT6,0)","v":0},null,{"$f":"IF($BZ3=$BZ4,$BU7-$BT8,0)","v":1},{"$f":"IF($BZ3=$BZ5,$BV7-$BT9,0)","v":0},{"$f":"SUM(CL3:CO3)","v":1},{"$f":"IF($BZ3=$BZ2,$BS7,0)","v":0},null,{"$f":"IF($BZ3=$BZ4,$BU7,0)","v":1},{"$f":"IF($BZ3=$BZ5,$BV7,0)","v":0},{"$f":"SUM(CQ3:CT3)","v":1},3]
[{"$f":"A3+1","v":2},"2026-06-15T15:00:00","Köln",{"$f":"Y4","v":"A3"},"-",{"$f":"Y5","v":"A4"},null,1,":",0,"ok",null,{"$f":"VLOOKUP(3,$X$2:$AC$5,2,FALSE)","v":"A2"},{"$f":"VLOOKUP(3,$X$2:$AC$5,3,FALSE)","v":3},{"$f":"VLOOKUP(3,$X$2:$AC$5,4,FALSE)","v":1},{"$f":"VLOOKUP(3,$X$2:$AC$5,5,FALSE)","v":2},{"$f":"VLOOKUP(3,$X$2:$AC$5,6,FALSE)","v":-1},null,{"$f":"IF(J5=\"\",0,IF(K5=$B$120,IF(H5<J5,3,IF(H5=J5,1,0)),0))","v":0},{"$f":"IF(J8=\"\",0,IF(K7=$B$120,IF(H8<J8,3,IF(H8=J8,1,0)),0))","v":0},null,{"$f":"IF(H4=\"\",0,IF(K4=$B$120,IF(H4>J4,3,IF(H4=J4,1,0)),0))","v":3},null,{"$f":"RANK(AD4,$AD$2:$AD$5)","v":4},"A3",{"$f":"SUM(S4:V4)","v":3},{"$f":"SUM(S8:V8)","v":1},{"$f":"SUM(U6:U9)","v":2},{"$f":"AA4-AB4","v":-1},{"$f":"IF(P$8=\"\",(((((((AE4*10+Z4)*100+AC4)*100+AA4)*10+AK4)*10+AJ4)*100+AP4)*100+AU4)*10+AV4,(((((((AE4*10+Z4)*10+AK4)*10+AJ4)*100+AP4)*100+AU4)*100+AC4)*100+AA4)*10+AV4)","v":296989999012},null,{"$f":"IF($Z4=$Z2,$S4-$U2,0)","v":0},{"$f":"IF($Z4=$Z3,$T4-$U3,0)","v":-3},null,{"$f":"IF($Z4=$Z5,$V4-$U5,0)","v":0},{"$f":"SUM(AF4:AI4)","v":-3},null,{"$f":"IF($Z4=$Z2,$S8-$U6,0)","v":0},{"$f":"IF($Z4=$Z3,$T8-$U7,0)","v":-1},null,{"$f":"IF($Z4=$Z5,$V8-$U9,0)","v":0},{"$f":"SUM(AL4:AO4)","v":-1},{"$f":"IF($Z4=$Z2,$S8,0)","v":0},{"$f":"IF($Z4=$Z3,$T8,0)","v":0},null,{"$f":"IF($Z4=$Z5,$V8,0)","v":0},{"$f":"SUM(AQ4:AT4)","v":0},2,null,null,null,null,8,"2026-06-17T21:00:00","Düsseldorf",{"$f":"BY4","v":"D3"},"-",{"$f":"BY5","v":"D4"},null,1,":",0,"ok",null,{"$f":"VLOOKUP(3,$BX$2:$CC$5,2,FALSE)","v":"D2"},{"$f":"VLOOKUP(3,$BX$2:$CC$5,3,FALSE)","v":3},{"$f":"VLOOKUP(3,$BX$2:$CC$5,4,FALSE)","v":1},{"$f":"VLOOKUP(3,$BX$2:$CC$5,5,FALSE)","v":2},{"$f":"VLOOKUP(3,$BX$2:$CC$5,6,FALSE)","v":-1},null,{"$f":"IF(BJ5=\"\",0,IF(BK5=$B$120,IF(BH5<BJ5,3,IF(BH5=BJ5,1,0)),0))","v":0},{"$f":"IF(BJ8=\"\",0,IF(BK7=$B$120,IF(BH8<BJ8,3,IF(BH8=BJ8,1,0)),0))","v":0},null,{"$f":"IF(BH4=\"\",0,IF(BK4=$B$120,IF(BH4>BJ4,3,IF(BH4=BJ4,1,0)),0))","v":3},null,{"$f":"RANK(CD4,$CD$2:$CD$5)","v":4},"D3",{"$f":"SUM(BS4:BV4)","v":3},{"$f":"SUM(BS8:BV8)","v":1},{"$f":"SUM(BU6:BU9)","v":2},{"$f":"CA4-CB4","v":-1},{"$f":"IF(BP$8=\"\",(((((((CE4*10+BZ4)*100+CC4)*100+CA4)*10+CK4)*10+CJ4)*100+CP4)*100+CU4)*10+CV4,(((((((CE4*10+BZ4)*10+CK4)*10+CJ4)*100+CP4)*100+CU4)*100+CC4)*100+CA4)*10+CV4)","v":296989999012},null,{"$f":"IF($BZ4=$BZ2,$BS4-$BU2,0)","v":0},{"$f":"IF($BZ4=$BZ3,$BT4-$BU3,0)","v":-3},null,{"$f":"IF($BZ4=$BZ5,$BV4-$BU5,0)","v":0},{"$f":"SUM(CF4:CI4)","v":-3},null,{"$f":"IF($BZ4=$BZ2,$BS8-$BU6,0)","v":0},{"$f":"IF($BZ4=$BZ3,$BT8-$BU7,0)","v":-1},null,{"$f":"IF($BZ4=$BZ5,$BV8-$BU9,0)","v":0},{"$f":"SUM(CL4:CO4)","v":-1},{"$f":"IF($BZ4=$BZ2,$BS8,0)","v":0},{"$f":"IF($BZ4=$BZ3,$BT8,0)","v":0},null,{"$f":"IF($BZ4=$BZ5,$BV8,0)","v":0},{"$f":"SUM(CQ4:CT4)","v":0},2]
[{"$f":"A3+12","v":13},"2026-06-19T18:00:00","Stuttgart",{"$f":"Y2","v":"A1"},"-",{"$f":"Y4","v":"A3"},null,1,":",0,"ok",null,{"$f":"VLOOKUP(4,$X$2:$AC$5,2,FALSE)","v":"A3"},{"$f":"VLOOKUP(4,$X$2:$AC$5,3,FALSE)","v":3},{"$f":"VLOOKUP(4,$X$2:$AC$5,4,FALSE)","v":1},{"$f":"VLOOKUP(4,$X$2:$AC$5,5,FALSE)","v":2},{"$f":"VLOOKUP(4,$X$2:$AC$5,6,FALSE)","v":-1},null,{"$f":"IF(H7=\"\",0,IF(K8=$B$120,IF(H7>J7,3,IF(H7=J7,1,0)),0))","v":3},{"$f":"IF(H6=\"\",0,IF(K6=$B$120,IF(J6<H6,3,IF(J6=H6,1,0)),0))","v":3},{"$f":"IF(J4=\"\",0,IF(K4=$B$120,IF(H4<J4,3,IF(H4=J4,1,0)),0))","v":0},null,null,{"$f":"RANK(AD5,$AD$2:$AD$5)","v":1},"A4",{"$f":"SUM(S5:V5)","v":6},{"$f":"SUM(S9:V9)","v":2},{"$f":"SUM(V6:V9)","v":1},{"$f":"AA5-AB5","v":1},{"$f":"IF(P$8=\"\",(((((((AE5*10+Z5)*100+AC5)*100+AA5)*10+AK5)*10+AJ5)*100+AP5)*100+AU5)*10+AV5,(((((((AE5*10+Z5)*10+AK5)*10+AJ5)*100+AP5)*100+AU5)*100+AC5)*100+AA5)*10+AV5)","v":603010101021},null,{"$f":"IF($Z5=$Z2,$S5-$V2,0)","v":3},{"$f":"IF($Z5=$Z3,$T5-$V3,0)","v":0},{"$f":"IF($Z5=$Z4,$U5-$V4,0)","v":0},null,{"$f":"SUM(AF5:AI5)","v":3},null,{"$f":"IF($Z5=$Z2,$S9-$V6,0)","v":1},{"$f":"IF($Z5=$Z3,$T9-$V7,0)","v":0},{"$f":"IF($Z5=$Z4,$U9-$V8,0)","v":0},null,{"$f":"SUM(AL5:AO5)","v":1},{"$f":"IF($Z5=$Z2,$S9,0)","v":1},{"$f":"IF($Z5=$Z3,$T9,0)","v":0},{"$f":"IF($Z5=$Z4,$U9,0)","v":0},null,{"$f":"SUM(AQ5:AT5)","v":1},1,null,null,null,null,{"$f":"BA3+12","v":19},"2026-06-21T18:00:00","Berlin",{"$f":"BY2","v":"D1"},"-",{"$f":"BY4","v":"D3"},null,1,":",0,"ok",null,{"$f":"VLOOKUP(4,$BX$2:$CC$5,2,FALSE)","v":"D3"},{"$f":"VLOOKUP(4,$BX$2:$CC$5,3,FALSE)","v":3},{"$f":"VLOOKUP(4,$BX$2:$CC$5,4,FALSE)","v":1},{"$f":"VLOOKUP(4,$BX$2:$CC$5,5,FALSE)","v":2},{"$f":"VLOOKUP(4,$BX$2:$CC$5,6,FALSE)","v":-1},null,{"$f":"IF(BH7=\"\",0,IF(BK8=$B$120,IF(BH7>BJ7,3,IF(BH7=BJ7,1,0)),0))","v":3},{"$f":"IF(BH6=\"\",0,IF(BK6=$B$120,IF(BJ6<BH6,3,IF(BJ6=BH6,1,0)),0))","v":3},{"$f":"IF(BJ4=\"\",0,IF(BK4=$B$120,IF(BH4<BJ4,3,IF(BH4=BJ4,1,0)),0))","v":0},null,null,{"$f":"RANK(CD5,$CD$2:$CD$5)","v":1},"D4",{"$f":"SUM(BS5:BV5)","v":6},{"$f":"SUM(BS9:BV9)","v":2},{"$f":"SUM(BV6:BV9)","v":1},{"$f":"CA5-CB5","v":1},{"$f":"IF(BP$8=\"\",(((((((CE5*10+BZ5)*100+CC5)*100+CA5)*10+CK5)*10+CJ5)*100+CP5)*100+CU5)*10+CV5,(((((((CE5*10+BZ5)*10+CK5)*10+CJ5)*100+CP5)*100+CU5)*100+CC5)*100+CA5)*10+CV5)","v":603010101021},null,{"$f":"IF($BZ5=$BZ2,$BS5-$BV2,0)","v":3},{"$f":"IF($BZ5=$BZ3,$BT5-$BV3,0)","v":0},{"$f":"IF($BZ5=$BZ4,$BU5-$BV4,0)","v":0},null,{"$f":"SUM(CF5:CI5)","v":3},null,{"$f":"IF($BZ5=$BZ2,$BS9-$BV6,0)","v":1},{"$f":"IF($BZ5=$BZ3,$BT9-$BV7,0)","v":0},{"$f":"IF($BZ5=$BZ4,$BU9-$BV8,0)","v":0},null,{"$f":"SUM(CL5:CO5)","v":1},{"$f":"IF($BZ5=$BZ2,$BS9,0)","v":1},{"$f":"IF($BZ5=$BZ3,$BT9,0)","v":0},{"$f":"IF($BZ5=$BZ4,$BU9,0)","v":0},null,{"$f":"SUM(CQ5:CT5)","v":1},1]
[{"$f":"A4+12","v":14},"2026-06-19T21:00:00","Köln",{"$f":"Y5","v":"A4"},"-",{"$f":"Y3","v":"A2"},null,1,":",0,"ok",null,null,null,null,null,null,null,null,{"$f":"IF(K3=$B$120,H3,0)","v":1},{"$f":"IF(K5=$B$120,H5,0)","v":1},{"$f":"IF(K8=$B$120,J7,0)","v":0},null,null,null,null,null,null,null,null,null,null,null,null,null,null,null,null,null,null,null,null,null,null,null,null,null,null,null,null,null,null,{"$f":"BA4+12","v":20},"2026-06-21T21:00:00","Leipzig",{"$f":"BY5","v":"D4"},"-",{"$f":"BY3","v":"D2"},null,1,":",0,"ok",null,null,null,null,null,null,null,null,{"$f":"IF(BK3=$B$120,BH3,0)","v":1},{"$f":"IF(BK5=$B$120,BH5,0)","v":1},{"$f":"IF(BK8=$B$120,BJ7,0)","v":0}]
[{"$f":"A5+12","v":25},"2026-06-23T21:00:00","Frankfurt",{"$f":"Y5","v":"A4"},"-",{"$f":"Y2","v":"A1"},null,1,":",0,"ok",null,{"$f":"IF(N2>0,M2,\"\")","v":"A4"},"1A",null,null,null,null,{"$f":"IF(K3=$B$120,J3,0)","v":0},null,{"$f":"IF(K7=$B$120,H8,0)","v":1},{"$f":"IF(K6=$B$120,J6,0)","v":0},null,null,null,null,null,null,null,"L0=AE hebelt Berechnung aus (top level Losen)",null,null,null,null,null,null,null,null,null,null,null,null,null,null,null,null,null,null,null,null,null,null,{"$f":"BA5+12","v":31},"2026-06-25T18:00:00","Dortmund",{"$f":"BY5","v":"D4"},"-",{"$f":"BY2","v":"D1"},null,1,":",0,"ok",null,{"$f":"IF(BN2>0,BM2,\"\")","v":"D4"},"1D",null,null,null,null,{"$f":"IF(BK3=$B$120,BJ3,0)","v":0},null,{"$f":"IF(BK7=$B$120,BH8,0)","v":1},{"$f":"IF(BK6=$B$120,BJ6,0)","v":0},null,null,null,null,null,null,null,"L0=AE hebelt Berechnung aus (top level Losen)"]
[{"$f":"A6+12","v":26},"2026-06-23T21:00:00","Stuttgart",{"$f":"Y3","v":"A2"},"-",{"$f":"Y4","v":"A3"},null,1,":",0,"ok",null,{"$f":"IF(N3>0,M3,\"\")","v":"A1"},"2A",null,"DV",null,null,{"$f":"IF(K5=$B$120,J5,0)","v":0},{"$f":"IF(K7=$B$120,J8,0)","v":0},null,{"$f":"IF(K4=$B$120,H4,0)","v":1},null,null,null,null,null,null,null,"L1=AK hebelt Direktvergleich (S1) aus",null,null,null,null,null,null,null,null,null,null,null,null,null,null,null,null,null,null,null,null,null,null,{"$f":"BA6+12","v":32},"2026-06-25T18:00:00","Berlin",{"$f":"BY3","v":"D2"},"-",{"$f":"BY4","v":"D3"},null,1,":",0,"ok",null,{"$f":"IF(BN3>0,BM3,\"\")","v":"D1"},"2D",null,"DV",null,null,{"$f":"IF(BK5=$B$120,BJ5,0)","v":0},{"$f":"IF(BK7=$B$120,BJ8,0)","v":0},null,{"$f":"IF(BK4=$B$120,BH4,0)","v":1},null,null,null,null,null,null,null,"L1=AK hebelt Direktvergleich (S1) aus"]
[null,null,null,null,null,null,null,null,null,null,null,null,{"$f":"IF(N4>0,M4,\"\")","v":"A2"},"3A",null,null,null,null,{"$f":"IF(K8=$B$120,H7,0)","v":1},{"$f":"IF(K6=$B$120,H6,0)","v":1},{"$f":"IF(K4=$B$120,J4,0)","v":0},null,null,null,null,null,null,null,null,"L4=AV Losen UEFA-Koeffizient, Fairplay oder Münzwurf",null,null,null,null,null,null,null,null,null,null,null,null,null,null,null,null,null,null,null,null,null,null,null,null,null,null,null,null,null,null,null,null,null,null,{"$f":"IF(BN4>0,BM4,\"\")","v":"D2"},"3D",null,null,null,null,{"$f":"IF(BK8=$B$120,BH7,0)","v":1},{"$f":"IF(BK6=$B$120,BH6,0)","v":1},{"$f":"IF(BK4=$B$120,BJ4,0)","v":0},null,null,null,null,null,null,null,null,"L4=AV Losen UEFA-Koeffizient, Fairplay oder Münzwurf"]
[]
[null,"Vorrunde","Gruppe B"," ",null,null,null,null,null,null,null,null,"Tabelle","P","T+","T-","T+/-",null,null,null,null,null,null,"G","Berechnungen","P","T+","T-","T+/-",null,"L0","DV",null,null,null,"S1","L1","DV-TD",null,null,null,"S2","DV-Tore",null,null,null,"S3","L4",null,null,null,null,null,"Vorrunde","Gruppe E"," ",null,null,null,null,null,null,null,null,"Tabelle","P","T+","T-","T+/-",null,null,null,null,null,null,"G","Berechnungen","P","T+","T-","T+/-",null,"L0","DV",null,null,null,"S1","L1","DV-TD",null,null,null,"S2","DV-Tore",null,null,null,"S3","L4"]
[null,"Datum/Zeit","Spielort",null,null,null,null,null,null,null,null,null,{"$f":"VLOOKUP(1,$X$12:$AC$15,2,FALSE)","v":"B4"},{"$f":"VLOOKUP(1,$X$12:$AC$15,3,FALSE)","v":6},{"$f":"VLOOKUP(1,$X$12:$AC$15,4,FALSE)","v":2},{"$f":"VLOOKUP(1,$X$12:$AC$15,5,FALSE)","v":1},{"$f":"VLOOKUP(1,$X$12:$AC$15,6,FALSE)","v":1},null,null,{"$f":"IF(H13=\"\",0,IF(K13=$B$120,IF(H13>J13,3,IF(H13=J13,1,0)),0))","v":3},{"$f":"IF(H15=\"\",0,IF(K15=$B$120,IF(H15>J15,3,IF(H15=J15,1,0)),0))","v":3},{"$f":"IF(J17=\"\",0,IF(K18=$B$120,IF(H17<J17,3,IF(H17=J17,1,0)),0))","v":0},null,{"$f":"RANK(AD12,$AD$12:$AD$15)","v":2},"B1",{"$f":"SUM(S12:V12)","v":6},{"$f":"SUM(S16:V16)","v":2},{"$f":"SUM(S16:S19)","v":1},{"$f":"AA12-AB12","v":1},{"$f":"IF(P$18=\"\",(((((((AE12*10+Z12)*100+AC12)*100+AA12)*10+AK12)*10+AJ12)*100+AP12)*100+AU12)*10+AV12,(((((((AE12*10+Z12)*10+AK12)*10+AJ12)*100+AP12)*100+AU12)*100+AC12)*100+AA12)*10+AV12)","v":596990001024},null,null,{"$f":"IF($Z12=$Z13,$T12-$S13,0)","v":0},{"$f":"IF($Z12=$Z14,$U12-$S14,0)","v":0},{"$f":"IF($Z12=$Z15,$V12-$S15,0)","v":-3},{"$f":"SUM(AF12:AI12)","v":-3},null,null,{"$f":"IF($Z12=$Z13,$T16-$S17,0)","v":0},{"$f":"IF($Z12=$Z14,$U16-$S18,0)","v":0},{"$f":"IF($Z12=$Z15,$V16-$S19,0)","v":-1},{"$f":"SUM(AL12:AO12)","v":-1},null,{"$f":"IF($Z12=$Z13,$T16,0)","v":0},{"$f":"IF($Z12=$Z14,$U16,0)","v":0},{"$f":"IF($Z12=$Z15,$V16,0)","v":0},{"$f":"SUM(AQ12:AT12)","v":0},4,null,null,null,null,null,"Datum/Zeit","Spielort",null,null,null,null,null,null,null,null,null,{"$f":"VLOOKUP(1,$BX$12:$CC$15,2,FALSE)","v":"E4"},{"$f":"VLOOKUP(1,$BX$12:$CC$15,3,FALSE)","v":6},{"$f":"VLOOKUP(1,$BX$12:$CC$15,4,FALSE)","v":2},{"$f":"VLOOKUP(1,$BX$12:$CC$15,5,FALSE)","v":1},{"$f":"VLOOKUP(1,$BX$12:$CC$15,6,FALSE)","v":1},null,null,{"$f":"IF(BH13=\"\",0,IF(BK13=$B$120,IF(BH13>BJ13,3,IF(BH13=BJ13,1,0)),0))","v":3},{"$f":"IF(BH15=\"\",0,IF(BK15=$B$120,IF(BH15>BJ15,3,IF(BH15=BJ15,1,0)),0))","v":3},{"$f":"IF(BJ17=\"\",0,IF(BK18=$B$120,IF(BH17<BJ17,3,IF(BH17=BJ17,1,0)),0))","v":0},null,{"$f":"RANK(CD12,$CD$12:$CD$15)","v":2},"E1",{"$f":"SUM(BS12:BV12)","v":6},{"$f":"SUM(BS16:BV16)","v":2},{"$f":"SUM(BS16:BS19)","v":1},{"$f":"CA12-CB12","v":1},{"$f":"IF(BP$18=\"\",(((((((CE12*10+BZ12)*100+CC12)*100+CA12)*10+CK12)*10+CJ12)*100+CP12)*100+CU12)*10+CV12,(((((((CE12*10+BZ12)*10+CK12)*10+CJ12)*100+CP12)*100+CU12)*100+CC12)*100+CA12)*10+CV12)","v":596990001024},null,null,{"$f":"IF($BZ12=$BZ13,$BT12-$BS13,0)","v":0},{"$f":"IF($BZ12=$BZ14,$BU12-$BS14,0)","v":0},{"$f":"IF($BZ12=$BZ15,$BV12-$BS15,0)","v":-3},{"$f":"SUM(CF12:CI12)","v":-3},null,null,{"$f":"IF($BZ12=$BZ13,$BT16-$BS17,0)","v":0},{"$f":"IF($BZ12=$BZ14,$BU16-$BS18,0)","v":0},{"$f":"IF($BZ12=$BZ15,$BV16-$BS19,0)","v":-1},{"$f":"SUM(CL12:CO12)","v":-1},null,{"$f":"IF($BZ12=$BZ13,$BT16,0)","v":0},{"$f":"IF($BZ12=$BZ14,$BU16,0)","v":0},{"$f":"IF($BZ12=$BZ15,$BV16,0)","v":0},{"$f":"SUM(CQ12:CT12)","v":0},4]
[3,"2026-06-15T18:00:00","Berlin",{"$f":"Y12","v":"B1"},"-",{"$f":"Y13","v":"B2"},null,{"$f":"IF($B$121=\"\",1,INT(RAND()*5)+INT(RAND()*3)*INT(RAND()*2))","v":1},":",{"$f":"IF($B$121=\"\",0,INT(RAND()*5)+INT(RAND()*3)*INT(RAND()*2))","v":0},"ok",null,{"$f":"VLOOKUP(2,$X$12:$AC$15,2,FALSE)","v":"B1"},{"$f":"VLOOKUP(2,$X$12:$AC$15,3,FALSE)","v":6},{"$f":"VLOOKUP(2,$X$12:$AC$15,4,FALSE)","v":2},{"$f":"VLOOKUP(2,$X$12:$AC$15,5,FALSE)","v":1},{"$f":"VLOOKUP(2,$X$12:$AC$15,6,FALSE)","v":1},null,{"$f":"IF(J13=\"\",0,IF(K13=$B$120,IF(H13<J13,3,IF(H13=J13,1,0)),0))","v":0},null,{"$f":"IF(H18=\"\",0,IF(K17=$B$120,IF(H18>J18,3,IF(H18=J18,1,0)),0))","v":3},{"$f":"IF(J16=\"\",0,IF(K16=$B$120,IF(J16>H16,3,IF(J16=H16,1,0)),0))","v":0},null,{"$f":"RANK(AD13,$AD$12:$AD$15)","v":3},"B2",{"$f":"SUM(S13:V13)","v":3},{"$f":"SUM(S17:V17)","v":1},{"$f":"SUM(T16:T19)","v":2},{"$f":"AA13-AB13","v":-1},{"$f":"IF(P$18=\"\",(((((((AE13*10+Z13)*100+AC13)*100+AA13)*10+AK13)*10+AJ13)*100+AP13)*100+AU13)*10+AV13,(((((((AE13*10+Z13)*10+AK13)*10+AJ13)*100+AP13)*100+AU13)*100+AC13)*100+AA13)*10+AV13)","v":303010099013},null,{"$f":"IF($Z13=$Z12,$S13-$T12,0)","v":0},null,{"$f":"IF($Z13=$Z14,$U13-$T14,0)","v":3},{"$f":"IF($Z13=$Z15,$V13-$T15,0)","v":0},{"$f":"SUM(AF13:AI13)","v":3},null,{"$f":"IF($Z13=$Z12,$S17-$T16,0)","v":0},null,{"$f":"IF($Z13=$Z14,$U17-$T18,0)","v":1},{"$f":"IF($Z13=$Z15,$V17-$T19,0)","v":0},{"$f":"SUM(AL13:AO13)","v":1},{"$f":"IF($Z13=$Z12,$S17,0)","v":0},null,{"$f":"IF($Z13=$Z14,$U17,0)","v":1},{"$f":"IF($Z13=$Z15,$V17,0)","v":0},{"$f":"SUM(AQ13:AT13)","v":1},3,null,null,null,null,9,"2026-06-17T15:00:00","München",{"$f":"BY12","v":"E1"},"-",{"$f":"BY13","v":"E2"},null,{"$f":"IF($B$121=\"\",1,INT(RAND()*5)+INT(RAND()*3)*INT(RAND()*2))","v":1},":",{"$f":"IF($B$121=\"\",0,INT(RAND()*5)+INT(RAND()*3)*INT(RAND()*2))","v":0},"ok",null,{"$f":"VLOOKUP(2,$BX$12:$CC$15,2,FALSE)","v":"E1"},{"$f":"VLOOKUP(2,$BX$12:$CC$15,3,FALSE)","v":6},{"$f":"VLOOKUP(2,$BX$12:$CC$15,4,FALSE)","v":2},{"$f":"VLOOKUP(2,$BX$12:$CC$15,5,FALSE)","v":1},{"$f":"VLOOKUP(2,$BX$12:$CC$15,6,FALSE)","v":1},null,{"$f":"IF(BJ13=\"\",0,IF(BK13=$B$120,IF(BH13<BJ13,3,IF(BH13=BJ13,1,0)),0))","v":0},null,{"$f":"IF(BH18=\"\",0,IF(BK17=$B$120,IF(BH18>BJ18,3,IF(BH18=BJ18,1,0)),0))","v":3},{"$f":"IF(BJ16=\"\",0,IF(BK16=$B$120,IF(BJ16>BH16,3,IF(BJ16=BH16,1,0)),0))","v":0},null,{"$f":"RANK(CD13,$CD$12:$CD$15)","v":3},"E2",{"$f":"SUM(BS13:BV13)","v":3},{"$f":"SUM(BS17:BV17)","v":1},{"$f":"SUM(BT16:BT19)","v":2},{"$f":"CA13-CB13","v":-1},{"$f":"IF(BP$18=\"\",(((((((CE13*10+BZ13)*100+CC13)*100+CA13)*10+CK13)*10+CJ13)*100+CP13)*100+CU13)*10+CV13,(((((((CE13*10+BZ13)*10+CK13)*10+CJ13)*100+CP13)*100+CU13)*100+CC13)*100+CA13)*10+CV13)","v":303010099013},null,{"$f":"IF($BZ13=$BZ12,$BS13-$BT12,0)","v":0},null,{"$f":"IF($BZ13=$BZ14,$BU13-$BT14,0)","v":3},{"$f":"IF($BZ13=$BZ15,$BV13-$BT15,0)","v":0},{"$f":"SUM(CF13:CI13)","v":3},null,{"$f":"IF($BZ13=$BZ12,$BS17-$BT16,0)","v":0},null,{"$f":"IF($BZ13=$BZ14,$BU17-$BT18,0)","v":1},{"$f":"IF($BZ13=$BZ15,$BV17-$BT19,0)","v":0},{"$f":"SUM(CL13:CO13)","v":1},{"$f":"IF($BZ13=$BZ12,$BS17,0)","v":0},null,{"$f":"IF($BZ13=$BZ14,$BU17,0)","v":1},{"$f":"IF($BZ13=$BZ15,$BV17,0)","v":0},{"$f":"SUM(CQ13:CT13)","v":1},3]
[4,"2026-06-15T21:00:00","Dortmund",{"$f":"Y14","v":"B3"},"-",{"$f":"Y15","v":"B4"},null,1,":",0,"ok",null,{"$f":"VLOOKUP(3,$X$12:$AC$15,2,FALSE)","v":"B2"},{"$f":"VLOOKUP(3,$X$12:$AC$15,3,FALSE)","v":3},{"$f":"VLOOKUP(3,$X$12:$AC$15,4,FALSE)","v":1},{"$f":"VLOOKUP(3,$X$12:$AC$15,5,FALSE)","v":2},{"$f":"VLOOKUP(3,$X$12:$AC$15,6,FALSE)","v":-1},null,{"$f":"IF(J15=\"\",0,IF(K15=$B$120,IF(H15<J15,3,IF(H15=J15,1,0)),0))","v":0},{"$f":"IF(J18=\"\",0,IF(K17=$B$120,IF(H18<J18,3,IF(H18=J18,1,0)),0))","v":0},null,{"$f":"IF(H14=\"\",0,IF(K14=$B$120,IF(H14>J14,3,IF(H14=J14,1,0)),0))","v":3},null,{"$f":"RANK(AD14,$AD$12:$AD$15)","v":4},"B3",{"$f":"SUM(S14:V14)","v":3},{"$f":"SUM(S18:V18)","v":1},{"$f":"SUM(U16:U19)","v":2},{"$f":"AA14-AB14","v":-1},{"$f":"IF(P$18=\"\",(((((((AE14*10+Z14)*100+AC14)*100+AA14)*10+AK14)*10+AJ14)*100+AP14)*100+AU14)*10+AV14,(((((((AE14*10+Z14)*10+AK14)*10+AJ14)*100+AP14)*100+AU14)*100+AC14)*100+AA14)*10+AV14)","v":296989999012},null,{"$f":"IF($Z14=$Z12,$S14-$U12,0)","v":0},{"$f":"IF($Z14=$Z13,$T14-$U13,0)","v":-3},null,{"$f":"IF($Z14=$Z15,$V14-$U15,0)","v":0},{"$f":"SUM(AF14:AI14)","v":-3},null,{"$f":"IF($Z14=$Z12,$S18-$U16,0)","v":0},{"$f":"IF($Z14=$Z13,$T18-$U17,0)","v":-1},null,{"$f":"IF($Z14=$Z15,$V18-$U19,0)","v":0},{"$f":"SUM(AL14:AO14)","v":-1},{"$f":"IF($Z14=$Z12,$S18,0)","v":0},{"$f":"IF($Z14=$Z13,$T18,0)","v":0},null,{"$f":"IF($Z14=$Z15,$V18,0)","v":0},{"$f":"SUM(AQ14:AT14)","v":0},2,null,null,null,null,10,"2026-06-17T18:00:00","Frankfurt",{"$f":"BY14","v":"E3"},"-",{"$f":"BY15","v":"E4"},null,1,":",0,"ok",null,{"$f":"VLOOKUP(3,$BX$12:$CC$15,2,FALSE)","v":"E2"},{"$f":"VLOOKUP(3,$BX$12:$CC$15,3,FALSE)","v":3},{"$f":"VLOOKUP(3,$BX$12:$CC$15,4,FALSE)","v":1},{"$f":"VLOOKUP(3,$BX$12:$CC$15,5,FALSE)","v":2},{"$f":"VLOOKUP(3,$BX$12:$CC$15,6,FALSE)","v":-1},null,{"$f":"IF(BJ15=\"\",0,IF(BK15=$B$120,IF(BH15<BJ15,3,IF(BH15=BJ15,1,0)),0))","v":0},{"$f":"IF(BJ18=\"\",0,IF(BK17=$B$120,IF(BH18<BJ18,3,IF(BH18=BJ18,1,0)),0))","v":0},null,{"$f":"IF(BH14=\"\",0,IF(BK14=$B$120,IF(BH14>BJ14,3,IF(BH14=BJ14,1,0)),0))","v":3},null,{"$f":"RANK(CD14,$CD$12:$CD$15)","v":4},"E3",{"$f":"SUM(BS14:BV14)","v":3},{"$f":"SUM(BS18:BV18)","v":1},{"$f":"SUM(BU16:BU19)","v":2},{"$f":"CA14-CB14","v":-1},{"$f":"IF(BP$18=\"\",(((((((CE14*10+BZ14)*100+CC14)*100+CA14)*10+CK14)*10+CJ14)*100+CP14)*100+CU14)*10+CV14,(((((((CE14*10+BZ14)*10+CK14)*10+CJ14)*100+CP14)*100+CU14)*100+CC14)*100+CA14)*10+CV14)","v":296989999012},null,{"$f":"IF($BZ14=$BZ12,$BS14-$BU12,0)","v":0},{"$f":"IF($BZ14=$BZ13,$BT14-$BU13,0)","v":-3},null,{"$f":"IF($BZ14=$BZ15,$BV14-$BU15,0)","v":0},{"$f":"SUM(CF14:CI14)","v":-3},null,{"$f":"IF($BZ14=$BZ12,$BS18-$BU16,0)","v":0},{"$f":"IF($BZ14=$BZ13,$BT18-$BU17,0)","v":-1},null,{"$f":"IF($BZ14=$BZ15,$BV18-$BU19,0)","v":0},{"$f":"SUM(CL14:CO14)","v":-1},{"$f":"IF($BZ14=$BZ12,$BS18,0)","v":0},{"$f":"IF($BZ14=$BZ13,$BT18,0)","v":0},null,{"$f":"IF($BZ14=$BZ15,$BV18,0)","v":0},{"$f":"SUM(CQ14:CT14)","v":0},2]
[{"$f":"A13+12","v":15},"2026-06-20T21:00:00","Gelsenkirchen",{"$f":"Y12","v":"B1"},"-",{"$f":"Y14","v":"B3"},null,1,":",0,"ok",null,{"$f":"VLOOKUP(4,$X$12:$AC$15,2,FALSE)","v":"B3"},{"$f":"VLOOKUP(4,$X$12:$AC$15,3,FALSE)","v":3},{"$f":"VLOOKUP(4,$X$12:$AC$15,4,FALSE)","v":1},{"$f":"VLOOKUP(4,$X$12:$AC$15,5,FALSE)","v":2},{"$f":"VLOOKUP(4,$X$12:$AC$15,6,FALSE)","v":-1},null,{"$f":"IF(H17=\"\",0,IF(K18=$B$120,IF(H17>J17,3,IF(H17=J17,1,0)),0))","v":3},{"$f":"IF(H16=\"\",0,IF(K16=$B$120,IF(J16<H16,3,IF(J16=H16,1,0)),0))","v":3},{"$f":"IF(J14=\"\",0,IF(K14=$B$120,IF(H14<J14,3,IF(H14=J14,1,0)),0))","v":0},null,null,{"$f":"RANK(AD15,$AD$12:$AD$15)","v":1},"B4",{"$f":"SUM(S15:V15)","v":6},{"$f":"SUM(S19:V19)","v":2},{"$f":"SUM(V16:V19)","v":1},{"$f":"AA15-AB15","v":1},{"$f":"IF(P$18=\"\",(((((((AE15*10+Z15)*100+AC15)*100+AA15)*10+AK15)*10+AJ15)*100+AP15)*100+AU15)*10+AV15,(((((((AE15*10+Z15)*10+AK15)*10+AJ15)*100+AP15)*100+AU15)*100+AC15)*100+AA15)*10+AV15)","v":603010101021},null,{"$f":"IF($Z15=$Z12,$S15-$V12,0)","v":3},{"$f":"IF($Z15=$Z13,$T15-$V13,0)","v":0},{"$f":"IF($Z15=$Z14,$U15-$V14,0)","v":0},null,{"$f":"SUM(AF15:AI15)","v":3},null,{"$f":"IF($Z15=$Z12,$S19-$V16,0)","v":1},{"$f":"IF($Z15=$Z13,$T19-$V17,0)","v":0},{"$f":"IF($Z15=$Z14,$U19-$V18,0)","v":0},null,{"$f":"SUM(AL15:AO15)","v":1},{"$f":"IF($Z15=$Z12,$S19,0)","v":1},{"$f":"IF($Z15=$Z13,$T19,0)","v":0},{"$f":"IF($Z15=$Z14,$U19,0)","v":0},null,{"$f":"SUM(AQ15:AT15)","v":1},1,null,null,null,null,{"$f":"BA13+12","v":21},"2026-06-22T21:00:00","Köln",{"$f":"BY12","v":"E1"},"-",{"$f":"BY14","v":"E3"},null,1,":",0,"ok",null,{"$f":"VLOOKUP(4,$BX$12:CC$15,2,FALSE)","v":"E3"},{"$f":"VLOOKUP(4,$BX$12:$CC$15,3,FALSE)","v":3},{"$f":"VLOOKUP(4,$BX$12:$CC$15,4,FALSE)","v":1},{"$f":"VLOOKUP(4,$BX$12:$CC$15,5,FALSE)","v":2},{"$f":"VLOOKUP(4,$BX$12:$CC$15,6,FALSE)","v":-1},null,{"$f":"IF(BH17=\"\",0,IF(BK18=$B$120,IF(BH17>BJ17,3,IF(BH17=BJ17,1,0)),0))","v":3},{"$f":"IF(BH16=\"\",0,IF(BK16=$B$120,IF(BJ16<BH16,3,IF(BJ16=BH16,1,0)),0))","v":3},{"$f":"IF(BJ14=\"\",0,IF(BK14=$B$120,IF(BH14<BJ14,3,IF(BH14=BJ14,1,0)),0))","v":0},null,null,{"$f":"RANK(CD15,$CD$12:$CD$15)","v":1},"E4",{"$f":"SUM(BS15:BV15)","v":6},{"$f":"SUM(BS19:BV19)","v":2},{"$f":"SUM(BV16:BV19)","v":1},{"$f":"CA15-CB15","v":1},{"$f":"IF(BP$18=\"\",(((((((CE15*10+BZ15)*100+CC15)*100+CA15)*10+CK15)*10+CJ15)*100+CP15)*100+CU15)*10+CV15,(((((((CE15*10+BZ15)*10+CK15)*10+CJ15)*100+CP15)*100+CU15)*100+CC15)*100+CA15)*10+CV15)","v":603010101021},null,{"$f":"IF($BZ15=$BZ12,$BS15-$BV12,0)","v":3},{"$f":"IF($BZ15=$BZ13,$BT15-$BV13,0)","v":0},{"$f":"IF($BZ15=$BZ14,$BU15-$BV14,0)","v":0},null,{"$f":"SUM(CF15:CI15)","v":3},null,{"$f":"IF($BZ15=$BZ12,$BS19-$BV16,0)","v":1},{"$f":"IF($BZ15=$BZ13,$BT19-$BV17,0)","v":0},{"$f":"IF($BZ15=$BZ14,$BU19-$BV18,0)","v":0},null,{"$f":"SUM(CL15:CO15)","v":1},{"$f":"IF($BZ15=$BZ12,$BS19,0)","v":1},{"$f":"IF($BZ15=$BZ13,$BT19,0)","v":0},{"$f":"IF($BZ15=$BZ14,$BU19,0)","v":0},null,{"$f":"SUM(CQ15:CT15)","v":1},1]
[{"$f":"A14+12","v":16},"2026-06-19T15:00:00","Hamburg",{"$f":"Y15","v":"B4"},"-",{"$f":"Y13","v":"B2"},null,1,":",0,"ok",null,null,null,null,null,null,null,null,{"$f":"IF(K13=$B$120,H13,0)","v":1},{"$f":"IF(K15=$B$120,H15,0)","v":1},{"$f":"IF(K18=$B$120,J17,0)","v":0},null,null,null,null,null,null,null,null,null,null,null,null,null,null,null,null,null,null,null,null,null,null,null,null,null,null,null,null,null,null,{"$f":"BA14+12","v":22},"2026-06-21T15:00:00","Düsseldorf",{"$f":"BY15","v":"E4"},"-",{"$f":"BY13","v":"E2"},null,1,":",0,"ok",null,null,null,null,null,null,null,null,{"$f":"IF(BK13=$B$120,BH13,0)","v":1},{"$f":"IF(BK15=$B$120,BH15,0)","v":1},{"$f":"IF(BK18=$B$120,BJ17,0)","v":0}]
[{"$f":"A15+12","v":27},"2026-06-24T21:00:00","Düsseldorf",{"$f":"Y15","v":"B4"},"-",{"$f":"Y12","v":"B1"},null,1,":",0,"ok",null,{"$f":"IF(N12>0,M12,\"\")","v":"B4"},"1B",null,null,null,null,{"$f":"IF(K13=$B$120,J13,0)","v":0},null,{"$f":"IF(K17=$B$120,H18,0)","v":1},{"$f":"IF(K16=$B$120,J16,0)","v":0},null,null,null,null,null,null,null,"L0=AE hebelt Berechnung aus (top level Losen)",null,null,null,null,null,null,null,null,null,null,null,null,null,null,null,null,null,null,null,null,null,null,{"$f":"BA15+12","v":33},"2026-06-26T18:00:00","Frankfurt",{"$f":"BY15","v":"E4"},"-",{"$f":"BY12","v":"E1"},null,1,":",0,"ok",null,{"$f":"IF(BN12>0,BM12,\"\")","v":"E4"},"1E",null,null,null,null,{"$f":"IF(BK13=$B$120,BJ13,0)","v":0},null,{"$f":"IF(BK17=$B$120,BH18,0)","v":1},{"$f":"IF(BK16=$B$120,BJ16,0)","v":0},null,null,null,null,null,null,null,"L0=AE hebelt Berechnung aus (top level Losen)"]
[{"$f":"A16+12","v":28},"2026-06-24T21:00:00","Leipzig",{"$f":"Y13","v":"B2"},"-",{"$f":"Y14","v":"B3"},null,1,":",0,"ok",null,{"$f":"IF(N13>0,M13,\"\")","v":"B1"},"2B",null,"DV",null,null,{"$f":"IF(K15=$B$120,J15,0)","v":0},{"$f":"IF(K17=$B$120,J18,0)","v":0},null,{"$f":"IF(K14=$B$120,H14,0)","v":1},null,null,null,null,null,null,null,"L1=AK hebelt Direktvergleich (S1) aus",null,null,null,null,null,null,null,null,null,null,null,null,null,null,null,null,null,null,null,null,null,null,{"$f":"BA16+12","v":34},"2026-06-26T18:00:00","Stuttgart",{"$f":"BY13","v":"E2"},"-",{"$f":"BY14","v":"E3"},null,1,":",0,"ok",null,{"$f":"IF(BN13>0,BM13,\"\")","v":"E1"},"2E",null,"DV",null,null,{"$f":"IF(BK15=$B$120,BJ15,0)","v":0},{"$f":"IF(BK17=$B$120,BJ18,0)","v":0},null,{"$f":"IF(BK14=$B$120,BH14,0)","v":1},null,null,null,null,null,null,null,"L1=AK hebelt Direktvergleich (S1) aus"]
[null,null,null,null,null,null,null,null,null,null,null,null,{"$f":"IF(N14>0,M14,\"\")","v":"B2"},"3B",null,null,null,null,{"$f":"IF(K18=$B$120,H17,0)","v":1},{"$f":"IF(K16=$B$120,H16,0)","v":1},{"$f":"IF(K14=$B$120,J14,0)","v":0},null,null,null,null,null,null,null,null,"L4=AV Losen UEFA-Koeffizient, Fairplay oder Münzwurf",null,null,null,null,null,null,null,null,null,null,null,null,null,null,null,null,null,null,null,null,null,null,null," ",null,null,null,null,null,null,null,null,null,null,{"$f":"IF(BN14>0,BM14,\"\")","v":"E2"},"3E",null,null,null,null,{"$f":"IF(BK18=$B$120,BH17,0)","v":1},{"$f":"IF(BK16=$B$120,BH16,0)","v":1},{"$f":"IF(BK14=$B$120,BJ14,0)","v":0},null,null,null,null,null,null,null,null,"L4=AV Losen UEFA-Koeffizient, Fairplay oder Münzwurf"]
[]
[null,"Vorrunde","Gruppe C"," ",null,null,null,null,null,null,null,null,"Tabelle","P","T+","T-","T+/-",null,null,null,null,null,null,"G","Berechnungen","P","T+","T-","T+/-",null,"L0","DV",null,null,null,"S1","L1","DV-TD",null,null,null,"S2","DV-Tore",null,null,null,"S3","L4",null,null,null,null,null,"Vorrunde","Gruppe F"," ",null,null,null,null,null,null,null,null,"Tabelle","P","T+","T-","T+/-",null,null,null,null,null,null,"G","Berechnungen","P","T+","T-","T+/-",null,"L0","DV",null,null,null,"S1","L1","DV-TD",null,null,null,"S2","DV-Tore",null,null,null,"S3","L4"]
[null,"Datum/Zeit","Spielort",null,null,null,null,null,null,null,null,null,{"$f":"VLOOKUP(1,$X$22:$AC$25,2,FALSE)","v":"C1"},{"$f":"VLOOKUP(1,$X$22:$AC$25,3,FALSE)","v":6},{"$f":"VLOOKUP(1,$X$22:$AC$25,4,FALSE)","v":2},{"$f":"VLOOKUP(1,$X$22:$AC$25,5,FALSE)","v":1},{"$f":"VLOOKUP(1,$X$22:$AC$25,6,FALSE)","v":1},null,null,{"$f":"IF(H23=\"\",0,IF(K23=$B$120,IF(H23>J23,3,IF(H23=J23,1,0)),0))","v":3},{"$f":"IF(H25=\"\",0,IF(K25=$B$120,IF(H25>J25,3,IF(H25=J25,1,0)),0))","v":3},{"$f":"IF(J27=\"\",0,IF(K28=$B$120,IF(H27<J27,3,IF(H27=J27,1,0)),0))","v":0},null,{"$f":"RANK(AD22,$AD$22:$AD$25)","v":1},"C1",{"$f":"SUM(S22:V22)","v":6},{"$f":"SUM(S26:V26)","v":2},{"$f":"SUM(S26:S29)","v":1},{"$f":"AA22-AB22","v":1},{"$f":"IF(P$28=\"\",(((((((AE22*10+Z22)*100+AC22)*100+AA22)*10+AK22)*10+AJ22)*100+AP22)*100+AU22)*10+AV22,(((((((AE22*10+Z22)*10+AK22)*10+AJ22)*100+AP22)*100+AU22)*100+AC22)*100+AA22)*10+AV22)","v":603010101024},null,null,{"$f":"IF($Z22=$Z23,$T22-$S23,0)","v":3},{"$f":"IF($Z22=$Z24,$U22-$S24,0)","v":0},{"$f":"IF($Z22=$Z25,$V22-$S25,0)","v":0},{"$f":"SUM(AF22:AI22)","v":3},null,null,{"$f":"IF($Z22=$Z23,$T26-$S27,0)","v":1},{"$f":"IF($Z22=$Z24,$U26-$S28,0)","v":0},{"$f":"IF($Z22=$Z25,$V26-$S29,0)","v":0},{"$f":"SUM(AL22:AO22)","v":1},null,{"$f":"IF($Z22=$Z23,$T26,0)","v":1},{"$f":"IF($Z22=$Z24,$U26,0)","v":0},{"$f":"IF($Z22=$Z25,$V26,0)","v":0},{"$f":"SUM(AQ22:AT22)","v":1},4,null,null,null,null,null,"Datum/Zeit","Spielort",null,null,null,null,null,null,null,null,null,{"$f":"VLOOKUP(1,$BX$22:$CC$25,2,FALSE)","v":"F4"},{"$f":"VLOOKUP(1,$BX$22:$CC$25,3,FALSE)","v":6},{"$f":"VLOOKUP(1,$BX$22:$CC$25,4,FALSE)","v":2},{"$f":"VLOOKUP(1,$BX$22:$CC$25,5,FALSE)","v":1},{"$f":"VLOOKUP(1,$BX$22:$CC$25,6,FALSE)","v":1},null,null,{"$f":"IF(BH23=\"\",0,IF(BK23=$B$120,IF(BH23>BJ23,3,IF(BH23=BJ23,1,0)),0))","v":3},{"$f":"IF(BH25=\"\",0,IF(BK25=$B$120,IF(BH25>BJ25,3,IF(BH25=BJ25,1,0)),0))","v":3},{"$f":"IF(BJ27=\"\",0,IF(BK28=$B$120,IF(BH27<BJ27,3,IF(BH27=BJ27,1,0)),0))","v":0},null,{"$f":"RANK(CD22,$CD$22:$CD$25)","v":2},"F1",{"$f":"SUM(BS22:BV22)","v":6},{"$f":"SUM(BS26:BV26)","v":2},{"$f":"SUM(BS26:BS29)","v":1},{"$f":"CA22-CB22","v":1},{"$f":"IF(BP$28=\"\",(((((((CE22*10+BZ22)*100+CC22)*100+CA22)*10+CK22)*10+CJ22)*100+CP22)*100+CU22)*10+CV22,(((((((CE22*10+BZ22)*10+CK22)*10+CJ22)*100+CP22)*100+CU22)*100+CC22)*100+CA22)*10+CV22)","v":596990001024},null,null,{"$f":"IF($BZ22=$BZ23,$BT22-$BS23,0)","v":0},{"$f":"IF($BZ22=$BZ24,$BU22-$BS24,0)","v":0},{"$f":"IF($BZ22=$BZ25,$BV22-$BS25,0)","v":-3},{"$f":"SUM(CF22:CI22)","v":-3},null,null,{"$f":"IF($BZ22=$BZ23,$BT26-$BS27,0)","v":0},{"$f":"IF($BZ22=$BZ24,$BU26-$BS28,0)","v":0},{"$f":"IF($BZ22=$BZ25,$BV26-$BS29,0)","v":-1},{"$f":"SUM(CL22:CO22)","v":-1},null,{"$f":"IF($BZ22=$BZ23,$BT26,0)","v":0},{"$f":"IF($BZ22=$BZ24,$BU26,0)","v":0},{"$f":"IF($BZ22=$BZ25,$BV26,0)","v":0},{"$f":"SUM(CQ22:CT22)","v":0},4]
[5,"2026-06-16T18:00:00","Stuttgart",{"$f":"Y22","v":"C1"},"-",{"$f":"Y23","v":"C2"},null,{"$f":"IF($B$121=\"\",1,INT(RAND()*5)+INT(RAND()*3)*INT(RAND()*2))","v":1},":",{"$f":"IF($B$121=\"\",0,INT(RAND()*5)+INT(RAND()*3)*INT(RAND()*2))","v":0},"ok",null,{"$f":"VLOOKUP(2,$X$22:$AC$25,2,FALSE)","v":"C2"},{"$f":"VLOOKUP(2,$X$22:$AC$25,3,FALSE)","v":6},{"$f":"VLOOKUP(2,$X$22:$AC$25,4,FALSE)","v":2},{"$f":"VLOOKUP(2,$X$22:$AC$25,5,FALSE)","v":1},{"$f":"VLOOKUP(2,$X$22:$AC$25,6,FALSE)","v":1},null,{"$f":"IF(J23=\"\",0,IF(K23=$B$120,IF(H23<J23,3,IF(H23=J23,1,0)),0))","v":0},null,{"$f":"IF(H28=\"\",0,IF(K27=$B$120,IF(H28>J28,3,IF(H28=J28,1,0)),0))","v":3},{"$f":"IF(J26=\"\",0,IF(K26=$B$120,IF(J26>H26,3,IF(J26=H26,1,0)),0))","v":3},null,{"$f":"RANK(AD23,$AD$22:$AD$25)","v":2},"C2",{"$f":"SUM(S23:V23)","v":6},{"$f":"SUM(S27:V27)","v":2},{"$f":"SUM(T26:T29)","v":1},{"$f":"AA23-AB23","v":1},{"$f":"IF(P$28=\"\",(((((((AE23*10+Z23)*100+AC23)*100+AA23)*10+AK23)*10+AJ23)*100+AP23)*100+AU23)*10+AV23,(((((((AE23*10+Z23)*10+AK23)*10+AJ23)*100+AP23)*100+AU23)*100+AC23)*100+AA23)*10+AV23)","v":596990001023},null,{"$f":"IF($Z23=$Z22,$S23-$T22,0)","v":-3},null,{"$f":"IF($Z23=$Z24,$U23-$T24,0)","v":0},{"$f":"IF($Z23=$Z25,$V23-$T25,0)","v":0},{"$f":"SUM(AF23:AI23)","v":-3},null,{"$f":"IF($Z23=$Z22,$S27-$T26,0)","v":-1},null,{"$f":"IF($Z23=$Z24,$U27-$T28,0)","v":0},{"$f":"IF($Z23=$Z25,$V27-$T29,0)","v":0},{"$f":"SUM(AL23:AO23)","v":-1},{"$f":"IF($Z23=$Z22,$S27,0)","v":0},null,{"$f":"IF($Z23=$Z24,$U27,0)","v":0},{"$f":"IF($Z23=$Z25,$V27,0)","v":0},{"$f":"SUM(AQ23:AT23)","v":0},3,null,null,null,null,11,"2026-06-18T18:00:00","Dortmund",{"$f":"BY22","v":"F1"},"-",{"$f":"BY23","v":"F2"},null,{"$f":"IF($B$121=\"\",1,INT(RAND()*5)+INT(RAND()*3)*INT(RAND()*2))","v":1},":",{"$f":"IF($B$121=\"\",0,INT(RAND()*5)+INT(RAND()*3)*INT(RAND()*2))","v":0},"ok",null,{"$f":"VLOOKUP(2,$BX$22:$CC$25,2,FALSE)","v":"F1"},{"$f":"VLOOKUP(2,$BX$22:$CC$25,3,FALSE)","v":6},{"$f":"VLOOKUP(2,$BX$22:$CC$25,4,FALSE)","v":2},{"$f":"VLOOKUP(2,$BX$22:$CC$25,5,FALSE)","v":1},{"$f":"VLOOKUP(2,$BX$22:$CC$25,6,FALSE)","v":1},null,{"$f":"IF(BJ23=\"\",0,IF(BK23=$B$120,IF(BH23<BJ23,3,IF(BH23=BJ23,1,0)),0))","v":0},null,{"$f":"IF(BH28=\"\",0,IF(BK27=$B$120,IF(BH28>BJ28,3,IF(BH28=BJ28,1,0)),0))","v":3},{"$f":"IF(BJ26=\"\",0,IF(BK26=$B$120,IF(BJ26>BH26,3,IF(BJ26=BH26,1,0)),0))","v":0},null,{"$f":"RANK(CD23,$CD$22:$CD$25)","v":3},"F2",{"$f":"SUM(BS23:BV23)","v":3},{"$f":"SUM(BS27:BV27)","v":1},{"$f":"SUM(BT26:BT29)","v":2},{"$f":"CA23-CB23","v":-1},{"$f":"IF(BP$28=\"\",(((((((CE23*10+BZ23)*100+CC23)*100+CA23)*10+CK23)*10+CJ23)*100+CP23)*100+CU23)*10+CV23,(((((((CE23*10+BZ23)*10+CK23)*10+CJ23)*100+CP23)*100+CU23)*100+CC23)*100+CA23)*10+CV23)","v":303010099013},null,{"$f":"IF($BZ23=$BZ22,$BS23-$BT22,0)","v":0},null,{"$f":"IF($BZ23=$BZ24,$BU23-$BT24,0)","v":3},{"$f":"IF($BZ23=$BZ25,$BV23-$BT25,0)","v":0},{"$f":"SUM(CF23:CI23)","v":3},null,{"$f":"IF($BZ23=$BZ22,$BS27-$BT26,0)","v":0},null,{"$f":"IF($BZ23=$BZ24,$BU27-$BT28,0)","v":1},{"$f":"IF($BZ23=$BZ25,$BV27-$BT29,0)","v":0},{"$f":"SUM(CL23:CO23)","v":1},{"$f":"IF($BZ23=$BZ22,$BS27,0)","v":0},null,{"$f":"IF($BZ23=$BZ24,$BU27,0)","v":1},{"$f":"IF($BZ23=$BZ25,$BV27,0)","v":0},{"$f":"SUM(CQ23:CT23)","v":1},3]
[6,"2026-05-16T21:00:00","Gelsenkirchen",{"$f":"Y24","v":"C3"},"-",{"$f":"Y25","v":"C4"},null,1,":",0,"ok",null,{"$f":"VLOOKUP(3,$X$22:$AC$25,2,FALSE)","v":"C3"},{"$f":"VLOOKUP(3,$X$22:$AC$25,3,FALSE)","v":3},{"$f":"VLOOKUP(3,$X$22:$AC$25,4,FALSE)","v":1},{"$f":"VLOOKUP(3,$X$22:$AC$25,5,FALSE)","v":2},{"$f":"VLOOKUP(3,$X$22:$AC$25,6,FALSE)","v":-1},null,{"$f":"IF(J25=\"\",0,IF(K25=$B$120,IF(H25<J25,3,IF(H25=J25,1,0)),0))","v":0},{"$f":"IF(J28=\"\",0,IF(K27=$B$120,IF(H28<J28,3,IF(H28=J28,1,0)),0))","v":0},null,{"$f":"IF(H24=\"\",0,IF(K24=$B$120,IF(H24>J24,3,IF(H24=J24,1,0)),0))","v":3},null,{"$f":"RANK(AD24,$AD$22:$AD$25)","v":3},"C3",{"$f":"SUM(S24:V24)","v":3},{"$f":"SUM(S28:V28)","v":1},{"$f":"SUM(U26:U29)","v":2},{"$f":"AA24-AB24","v":-1},{"$f":"IF(P$28=\"\",(((((((AE24*10+Z24)*100+AC24)*100+AA24)*10+AK24)*10+AJ24)*100+AP24)*100+AU24)*10+AV24,(((((((AE24*10+Z24)*10+AK24)*10+AJ24)*100+AP24)*100+AU24)*100+AC24)*100+AA24)*10+AV24)","v":303010099012},null,{"$f":"IF($Z24=$Z22,$S24-$U22,0)","v":0},{"$f":"IF($Z24=$Z23,$T24-$U23,0)","v":0},null,{"$f":"IF($Z24=$Z25,$V24-$U25,0)","v":3},{"$f":"SUM(AF24:AI24)","v":3},null,{"$f":"IF($Z24=$Z22,$S28-$U26,0)","v":0},{"$f":"IF($Z24=$Z23,$T28-$U27,0)","v":0},null,{"$f":"IF($Z24=$Z25,$V28-$U29,0)","v":1},{"$f":"SUM(AL24:AO24)","v":1},{"$f":"IF($Z24=$Z22,$S28,0)","v":0},{"$f":"IF($Z24=$Z23,$T28,0)","v":0},null,{"$f":"IF($Z24=$Z25,$V28,0)","v":1},{"$f":"SUM(AQ24:AT24)","v":1},2,null,null,null,null,12,"2026-06-18T21:00:00","Leipzig",{"$f":"BY24","v":"F3"},"-",{"$f":"BY25","v":"F4"},null,1,":",0,"ok",null,{"$f":"VLOOKUP(3,$BX$22:$CC$25,2,FALSE)","v":"F2"},{"$f":"VLOOKUP(3,$BX$22:$CC$25,3,FALSE)","v":3},{"$f":"VLOOKUP(3,$BX$22:$CC$25,4,FALSE)","v":1},{"$f":"VLOOKUP(3,$BX$22:$CC$25,5,FALSE)","v":2},{"$f":"VLOOKUP(3,$BX$22:$CC$25,6,FALSE)","v":-1},null,{"$f":"IF(BJ25=\"\",0,IF(BK25=$B$120,IF(BH25<BJ25,3,IF(BH25=BJ25,1,0)),0))","v":0},{"$f":"IF(BJ28=\"\",0,IF(BK27=$B$120,IF(BH28<BJ28,3,IF(BH28=BJ28,1,0)),0))","v":0},null,{"$f":"IF(BH24=\"\",0,IF(BK24=$B$120,IF(BH24>BJ24,3,IF(BH24=BJ24,1,0)),0))","v":3},null,{"$f":"RANK(CD24,$CD$22:$CD$25)","v":4},"F3",{"$f":"SUM(BS24:BV24)","v":3},{"$f":"SUM(BS28:BV28)","v":1},{"$f":"SUM(BU26:BU29)","v":2},{"$f":"CA24-CB24","v":-1},{"$f":"IF(BP$28=\"\",(((((((CE24*10+BZ24)*100+CC24)*100+CA24)*10+CK24)*10+CJ24)*100+CP24)*100+CU24)*10+CV24,(((((((CE24*10+BZ24)*10+CK24)*10+CJ24)*100+CP24)*100+CU24)*100+CC24)*100+CA24)*10+CV24)","v":296989999012},null,{"$f":"IF($BZ24=$BZ22,$BS24-$BU22,0)","v":0},{"$f":"IF($BZ24=$BZ23,$BT24-$BU23,0)","v":-3},null,{"$f":"IF($BZ24=$BZ25,$BV24-$BU25,0)","v":0},{"$f":"SUM(CF24:CI24)","v":-3},null,{"$f":"IF($BZ24=$BZ22,$BS28-$BU26,0)","v":0},{"$f":"IF($BZ24=$BZ23,$BT28-$BU27,0)","v":-1},null,{"$f":"IF($BZ24=$BZ25,$BV28-$BU29,0)","v":0},{"$f":"SUM(CL24:CO24)","v":-1},{"$f":"IF($BZ24=$BZ22,$BS28,0)","v":0},{"$f":"IF($BZ24=$BZ23,$BT28,0)","v":0},null,{"$f":"IF($BZ24=$BZ25,$BV28,0)","v":0},{"$f":"SUM(CQ24:CT24)","v":0},2]
[{"$f":"A23+12","v":17},"2026-06-20T15:00:00","München",{"$f":"Y22","v":"C1"},"-",{"$f":"Y24","v":"C3"},null,1,":",0,"ok",null,{"$f":"VLOOKUP(4,$X$22:$AC$25,2,FALSE)","v":"C4"},{"$f":"VLOOKUP(4,$X$22:$AC$25,3,FALSE)","v":3},{"$f":"VLOOKUP(4,$X$22:$AC$25,4,FALSE)","v":1},{"$f":"VLOOKUP(4,$X$22:$AC$25,5,FALSE)","v":2},{"$f":"VLOOKUP(4,$X$22:$AC$25,6,FALSE)","v":-1},null,{"$f":"IF(H27=\"\",0,IF(K28=$B$120,IF(H27>J27,3,IF(H27=J27,1,0)),0))","v":3},{"$f":"IF(H26=\"\",0,IF(K26=$B$120,IF(J26<H26,3,IF(J26=H26,1,0)),0))","v":0},{"$f":"IF(J24=\"\",0,IF(K24=$B$120,IF(H24<J24,3,IF(H24=J24,1,0)),0))","v":0},null,null,{"$f":"RANK(AD25,$AD$22:$AD$25)","v":4},"C4",{"$f":"SUM(S25:V25)","v":3},{"$f":"SUM(S29:V29)","v":1},{"$f":"SUM(V26:V29)","v":2},{"$f":"AA25-AB25","v":-1},{"$f":"IF(P$28=\"\",(((((((AE25*10+Z25)*100+AC25)*100+AA25)*10+AK25)*10+AJ25)*100+AP25)*100+AU25)*10+AV25,(((((((AE25*10+Z25)*10+AK25)*10+AJ25)*100+AP25)*100+AU25)*100+AC25)*100+AA25)*10+AV25)","v":296989999011},null,{"$f":"IF($Z25=$Z22,$S25-$V22,0)","v":0},{"$f":"IF($Z25=$Z23,$T25-$V23,0)","v":0},{"$f":"IF($Z25=$Z24,$U25-$V24,0)","v":-3},null,{"$f":"SUM(AF25:AI25)","v":-3},null,{"$f":"IF($Z25=$Z22,$S29-$V26,0)","v":0},{"$f":"IF($Z25=$Z23,$T29-$V27,0)","v":0},{"$f":"IF($Z25=$Z24,$U29-$V28,0)","v":-1},null,{"$f":"SUM(AL25:AO25)","v":-1},{"$f":"IF($Z25=$Z22,$S29,0)","v":0},{"$f":"IF($Z25=$Z23,$T29,0)","v":0},{"$f":"IF($Z25=$Z24,$U29,0)","v":0},null,{"$f":"SUM(AQ25:AT25)","v":0},1,null,null,null,null,{"$f":"BA23+12","v":23},"2026-06-22T18:00:00","Dortmund",{"$f":"BY22","v":"F1"},"-",{"$f":"BY24","v":"F3"},null,1,":",0,"ok",null,{"$f":"VLOOKUP(4,$BX$22:$CC$25,2,FALSE)","v":"F3"},{"$f":"VLOOKUP(4,$BX$22:$CC$25,3,FALSE)","v":3},{"$f":"VLOOKUP(4,$BX$22:$CC$25,4,FALSE)","v":1},{"$f":"VLOOKUP(4,$BX$22:$CC$25,5,FALSE)","v":2},{"$f":"VLOOKUP(4,$BX$22:$CC$25,6,FALSE)","v":-1},null,{"$f":"IF(BH27=\"\",0,IF(BK28=$B$120,IF(BH27>BJ27,3,IF(BH27=BJ27,1,0)),0))","v":3},{"$f":"IF(BH26=\"\",0,IF(BK26=$B$120,IF(BJ26<BH26,3,IF(BJ26=BH26,1,0)),0))","v":3},{"$f":"IF(BJ24=\"\",0,IF(BK24=$B$120,IF(BH24<BJ24,3,IF(BH24=BJ24,1,0)),0))","v":0},null,null,{"$f":"RANK(CD25,$CD$22:$CD$25)","v":1},"F4",{"$f":"SUM(BS25:BV25)","v":6},{"$f":"SUM(BS29:BV29)","v":2},{"$f":"SUM(BV26:BV29)","v":1},{"$f":"CA25-CB25","v":1},{"$f":"IF(BP$28=\"\",(((((((CE25*10+BZ25)*100+CC25)*100+CA25)*10+CK25)*10+CJ25)*100+CP25)*100+CU25)*10+CV25,(((((((CE25*10+BZ25)*10+CK25)*10+CJ25)*100+CP25)*100+CU25)*100+CC25)*100+CA25)*10+CV25)","v":603010101021},null,{"$f":"IF($BZ25=$BZ22,$BS25-$BV22,0)","v":3},{"$f":"IF($BZ25=$BZ23,$BT25-$BV23,0)","v":0},{"$f":"IF($BZ25=$BZ24,$BU25-$BV24,0)","v":0},null,{"$f":"SUM(CF25:CI25)","v":3},null,{"$f":"IF($BZ25=$BZ22,$BS29-$BV26,0)","v":1},{"$f":"IF($BZ25=$BZ23,$BT29-$BV27,0)","v":0},{"$f":"IF($BZ25=$BZ24,$BU29-$BV28,0)","v":0},null,{"$f":"SUM(CL25:CO25)","v":1},{"$f":"IF($BZ25=$BZ22,$BS29,0)","v":1},{"$f":"IF($BZ25=$BZ23,$BT29,0)","v":0},{"$f":"IF($BZ25=$BZ24,$BU29,0)","v":0},null,{"$f":"SUM(CQ25:CT25)","v":1},1]
[{"$f":"A24+12","v":18},"2026-06-20T18:00:00","England",{"$f":"Y25","v":"C4"},"-",{"$f":"Y23","v":"C2"},null,{"$f":"IF($B$121=\"\",0,INT(RAND()*5)+INT(RAND()*3)*INT(RAND()*2))","v":0},":",{"$f":"IF($B$121=\"\",1,INT(RAND()*5)+INT(RAND()*3)*INT(RAND()*2))","v":1},"ok",null,null,null,null,null,null,null,null,{"$f":"IF(K23=$B$120,H23,0)","v":1},{"$f":"IF(K25=$B$120,H25,0)","v":1},{"$f":"IF(K28=$B$120,J27,0)","v":0},null,null,null,null,null,null,null,null,null,null,null,null,null,null,null,null,null,null,null,null,null,null,null,null,null,null,null,null,null,null,{"$f":"BA24+12","v":24},"2026-06-22T15:00:00","Hamburg",{"$f":"BY25","v":"F4"},"-",{"$f":"BY23","v":"F2"},null,1,":",0,"ok",null,null,null,null,null,null,null,null,{"$f":"IF(BK23=$B$120,BH23,0)","v":1},{"$f":"IF(BK25=$B$120,BH25,0)","v":1},{"$f":"IF(BK28=$B$120,BJ27,0)","v":0}]
[{"$f":"A25+12","v":29},"2026-06-25T21:00:00","Köln",{"$f":"Y25","v":"C4"},"-",{"$f":"Y22","v":"C1"},null,1,":",0,"ok",null,{"$f":"IF(N22>0,M22,\"\")","v":"C1"},"1C",null,null,null,null,{"$f":"IF(K23=$B$120,J23,0)","v":0},null,{"$f":"IF(K27=$B$120,H28,0)","v":1},{"$f":"IF(K26=$B$120,J26,0)","v":1},null,null,null,null,null,null,null,"L0=AE hebelt Berechnung aus (top level Losen)",null,null,null,null,null,null,null,null,null,null,null,null,null,null,null,null,null,null,null,null,null,null,{"$f":"BA25+12","v":35},"2026-06-26T21:00:00","Hamburg",{"$f":"BY25","v":"F4"},"-",{"$f":"BY22","v":"F1"},null,1,":",0,"ok",null,{"$f":"IF(BN22>0,BM22,\"\")","v":"F4"},"1F",null,null,null,null,{"$f":"IF(BK23=$B$120,BJ23,0)","v":0},null,{"$f":"IF(BK27=$B$120,BH28,0)","v":1},{"$f":"IF(BK26=$B$120,BJ26,0)","v":0},null,null,null,null,null,null,null,"L0=AE hebelt Berechnung aus (top level Losen)"]
[{"$f":"A26+12","v":30},"2026-06-25T21:00:00","München",{"$f":"Y23","v":"C2"},"-",{"$f":"Y24","v":"C3"},null,1,":",0,"ok",null,{"$f":"IF(N23>0,M23,\"\")","v":"C2"},"2C",null,"DV",null,null,{"$f":"IF(K25=$B$120,J25,0)","v":0},{"$f":"IF(K27=$B$120,J28,0)","v":0},null,{"$f":"IF(K24=$B$120,H24,0)","v":1},null,null,null,null,null,null,null,"L1=AK hebelt Direktvergleich (S1) aus",null,null,null,null,null,null,null,null,null,null,null,null,null,null,null,null,null,null,null,null,null,null,{"$f":"BA26+12","v":36},"2026-06-26T21:00:00","Gelsenkirchen",{"$f":"BY23","v":"F2"},"-",{"$f":"BY24","v":"F3"},null,1,":",0,"ok",null,{"$f":"IF(BN23>0,BM23,\"\")","v":"F1"},"2F",null,"DV",null,null,{"$f":"IF(BK25=$B$120,BJ25,0)","v":0},{"$f":"IF(BK27=$B$120,BJ28,0)","v":0},null,{"$f":"IF(BK24=$B$120,BH24,0)","v":1},null,null,null,null,null,null,null,"L1=AK hebelt Direktvergleich (S1) aus"]
[null,null,null,null,null,null,null,null,null,null,null,null,{"$f":"IF(N24>0,M24,\"\")","v":"C3"},"3C",null,null,null,null,{"$f":"IF(K28=$B$120,H27,0)","v":1},{"$f":"IF(K26=$B$120,H26,0)","v":0},{"$f":"IF(K24=$B$120,J24,0)","v":0},null,null,null,null,null,null,null,null,"L4=AV Losen UEFA-Koeffizient, Fairplay oder Münzwurf",null,null,null,null,null,null,null,null,null,null,null,null,null,null,null,null,null,null,null,null,null,null,null,null,null,null,null,null,null,null,null,null,null,null,{"$f":"IF(BN24>0,BM24,\"\")","v":"F2"},"3F",null,null,null,null,{"$f":"IF(BK28=$B$120,BH27,0)","v":1},{"$f":"IF(BK26=$B$120,BH26,0)","v":1},{"$f":"IF(BK24=$B$120,BJ24,0)","v":0},null,null,null,null,null,null,null,null,"L4=AV Losen UEFA-Koeffizient, Fairplay oder Münzwurf"]
[]
["SP","Vorrunde","Gruppe G"," ",null,null,null,null,null,null,null,null,"Tabelle","P","T+","T-","T+/-",null,null,null,null,null,null,"G","Berechnungen","P","T+","T-","T+/-",null,"L0","DV",null,null,null,"S1","L1","DV-TD",null,null,null,"S2","DV-Tore",null,null,null,"S3","L4",null,null,null,null,null,"Vorrunde","Gruppe J"," ",null,null,null,null,null,null,null,null,"Tabelle","P","T+","T-","T+/-",null,null,null,null,null,null,"G","Berechnungen","P","T+","T-","T+/-",null,"L0","DV",null,null,null,"S1","L1","DV-TD",null,null,null,"S2","DV-Tore",null,null,null,"S3","L4"]
[null,"Datum/Zeit","Spielort",null,null,null,null,null,null,null,null,null,{"$f":"VLOOKUP(1,$X$32:$AC$35,2,FALSE)","v":"G4"},{"$f":"VLOOKUP(1,$X$32:$AC$35,3,FALSE)","v":6},{"$f":"VLOOKUP(1,$X$32:$AC$35,4,FALSE)","v":2},{"$f":"VLOOKUP(1,$X$32:$AC$35,5,FALSE)","v":1},{"$f":"VLOOKUP(1,$X$32:$AC$35,6,FALSE)","v":1},null,null,{"$f":"IF(H33=\"\",0,IF(K33=$B$120,IF(H33>J33,3,IF(H33=J33,1,0)),0))","v":3},{"$f":"IF(H35=\"\",0,IF(K35=$B$120,IF(H35>J35,3,IF(H35=J35,1,0)),0))","v":3},{"$f":"IF(J37=\"\",0,IF(K38=$B$120,IF(H37<J37,3,IF(H37=J37,1,0)),0))","v":0},null,{"$f":"RANK(AD32,$AD$32:$AD$35)","v":2},"G1",{"$f":"SUM(S32:V32)","v":6},{"$f":"SUM(S36:V36)","v":2},{"$f":"SUM(S36:S39)","v":1},{"$f":"AA32-AB32","v":1},{"$f":"IF(P$8=\"\",(((((((AE32*10+Z32)*100+AC32)*100+AA32)*10+AK32)*10+AJ32)*100+AP32)*100+AU32)*10+AV32,(((((((AE32*10+Z32)*10+AK32)*10+AJ32)*100+AP32)*100+AU32)*100+AC32)*100+AA32)*10+AV32)","v":596990001024},null,null,{"$f":"IF($Z32=$Z33,$T32-$S33,0)","v":0},{"$f":"IF($Z32=$Z34,$U32-$S34,0)","v":0},{"$f":"IF($Z32=$Z35,$V32-$S35,0)","v":-3},{"$f":"SUM(AF32:AI32)","v":-3},null,null,{"$f":"IF($Z32=$Z33,$T36-$S37,0)","v":0},{"$f":"IF($Z32=$Z34,$U36-$S38,0)","v":0},{"$f":"IF($Z32=$Z35,$V36-$S39,0)","v":-1},{"$f":"SUM(AL32:AO32)","v":-1},null,{"$f":"IF($Z32=$Z33,$T36,0)","v":0},{"$f":"IF($Z32=$Z34,$U36,0)","v":0},{"$f":"IF($Z32=$Z35,$V36,0)","v":0},{"$f":"SUM(AQ32:AT32)","v":0},4,null,null,null,null,null,"Datum/Zeit","Spielort",null,null,null,null,null,null,null,null,null,{"$f":"VLOOKUP(1,$BX$32:$CC$35,2,FALSE)","v":"J4"},{"$f":"VLOOKUP(1,$BX$32:$CC$35,3,FALSE)","v":6},{"$f":"VLOOKUP(1,$BX$32:$CC$35,4,FALSE)","v":2},{"$f":"VLOOKUP(1,$BX$32:$CC$35,5,FALSE)","v":1},{"$f":"VLOOKUP(1,$BX$32:$CC$35,6,FALSE)","v":1},null,null,{"$f":"IF(BH33=\"\",0,IF(BK33=$B$120,IF(BH33>BJ33,3,IF(BH33=BJ33,1,0)),0))","v":3},{"$f":"IF(BH35=\"\",0,IF(BK35=$B$120,IF(BH35>BJ35,3,IF(BH35=BJ35,1,0)),0))","v":3},{"$f":"IF(BJ37=\"\",0,IF(BK38=$B$120,IF(BH37<BJ37,3,IF(BH37=BJ37,1,0)),0))","v":0},null,{"$f":"RANK(CD32,$CD$32:$CD$35)","v":2},"J1",{"$f":"SUM(BS32:BV32)","v":6},{"$f":"SUM(BS36:BV36)","v":2},{"$f":"SUM(BS36:BS39)","v":1},{"$f":"CA32-CB32","v":1},{"$f":"IF(BP$8=\"\",(((((((CE32*10+BZ32)*100+CC32)*100+CA32)*10+CK32)*10+CJ32)*100+CP32)*100+CU32)*10+CV32,(((((((CE32*10+BZ32)*10+CK32)*10+CJ32)*100+CP32)*100+CU32)*100+CC32)*100+CA32)*10+CV32)","v":596990001024},null,null,{"$f":"IF($BZ32=$BZ33,$BT32-$BS33,0)","v":0},{"$f":"IF($BZ32=$BZ34,$BU32-$BS34,0)","v":0},{"$f":"IF($BZ32=$BZ35,$BV32-$BS35,0)","v":-3},{"$f":"SUM(CF32:CI32)","v":-3},null,null,{"$f":"IF($BZ32=$BZ33,$BT36-$BS37,0)","v":0},{"$f":"IF($BZ32=$BZ34,$BU36-$BS38,0)","v":0},{"$f":"IF($BZ32=$BZ35,$BV36-$BS39,0)","v":-1},{"$f":"SUM(CL32:CO32)","v":-1},null,{"$f":"IF($BZ32=$BZ33,$BT36,0)","v":0},{"$f":"IF($BZ32=$BZ34,$BU36,0)","v":0},{"$f":"IF($BZ32=$BZ35,$BV36,0)","v":0},{"$f":"SUM(CQ32:CT32)","v":0},4]
[1,"2026-06-14T21:00:00","München",{"$f":"Y32","v":"G1"},"-",{"$f":"Y33","v":"G2"},null,{"$f":"IF($B$121=\"\",1,INT(RAND()*5)+INT(RAND()*3)*INT(RAND()*2))","v":1},":",{"$f":"IF($B$121=\"\",0,INT(RAND()*5)+INT(RAND()*3)*INT(RAND()*2))","v":0},"ok",null,{"$f":"VLOOKUP(2,$X$32:$AC$35,2,FALSE)","v":"G1"},{"$f":"VLOOKUP(2,$X$32:$AC$35,3,FALSE)","v":6},{"$f":"VLOOKUP(2,$X$32:$AC$35,4,FALSE)","v":2},{"$f":"VLOOKUP(2,$X$32:$AC$35,5,FALSE)","v":1},{"$f":"VLOOKUP(2,$X$32:$AC$35,6,FALSE)","v":1},null,{"$f":"IF(J33=\"\",0,IF(K33=$B$120,IF(H33<J33,3,IF(H33=J33,1,0)),0))","v":0},null,{"$f":"IF(H38=\"\",0,IF(K37=$B$120,IF(H38>J38,3,IF(H38=J38,1,0)),0))","v":3},{"$f":"IF(J36=\"\",0,IF(K36=$B$120,IF(J36>H36,3,IF(J36=H36,1,0)),0))","v":0},null,{"$f":"RANK(AD33,$AD$32:$AD$35)","v":3},"G2",{"$f":"SUM(S33:V33)","v":3},{"$f":"SUM(S37:V37)","v":1},{"$f":"SUM(T36:T39)","v":2},{"$f":"AA33-AB33","v":-1},{"$f":"IF(P$8=\"\",(((((((AE33*10+Z33)*100+AC33)*100+AA33)*10+AK33)*10+AJ33)*100+AP33)*100+AU33)*10+AV33,(((((((AE33*10+Z33)*10+AK33)*10+AJ33)*100+AP33)*100+AU33)*100+AC33)*100+AA33)*10+AV33)","v":303010099013},null,{"$f":"IF($Z33=$Z32,$S33-$T32,0)","v":0},null,{"$f":"IF($Z33=$Z34,$U33-$T34,0)","v":3},{"$f":"IF($Z33=$Z35,$V33-$T35,0)","v":0},{"$f":"SUM(AF33:AI33)","v":3},null,{"$f":"IF($Z33=$Z32,$S37-$T36,0)","v":0},null,{"$f":"IF($Z33=$Z34,$U37-$T38,0)","v":1},{"$f":"IF($Z33=$Z35,$V37-$T39,0)","v":0},{"$f":"SUM(AL33:AO33)","v":1},{"$f":"IF($Z33=$Z32,$S37,0)","v":0},null,{"$f":"IF($Z33=$Z34,$U37,0)","v":1},{"$f":"IF($Z33=$Z35,$V37,0)","v":0},{"$f":"SUM(AQ33:AT33)","v":1},3,null,null,null,null,7,"2026-06-16T15:00:00","Hamburg",{"$f":"BY32","v":"J1"},"-",{"$f":"BY33","v":"J2"},null,{"$f":"IF($B$121=\"\",1,INT(RAND()*5)+INT(RAND()*3)*INT(RAND()*2))","v":1},":",{"$f":"IF($B$121=\"\",0,INT(RAND()*5)+INT(RAND()*3)*INT(RAND()*2))","v":0},"ok",null,{"$f":"VLOOKUP(2,$BX$32:$CC$35,2,FALSE)","v":"J1"},{"$f":"VLOOKUP(2,$BX$32:$CC$35,3,FALSE)","v":6},{"$f":"VLOOKUP(2,$BX$32:$CC$35,4,FALSE)","v":2},{"$f":"VLOOKUP(2,$BX$32:$CC$35,5,FALSE)","v":1},{"$f":"VLOOKUP(2,$BX$32:$CC$35,6,FALSE)","v":1},null,{"$f":"IF(BJ33=\"\",0,IF(BK33=$B$120,IF(BH33<BJ33,3,IF(BH33=BJ33,1,0)),0))","v":0},null,{"$f":"IF(BH38=\"\",0,IF(BK37=$B$120,IF(BH38>BJ38,3,IF(BH38=BJ38,1,0)),0))","v":3},{"$f":"IF(BJ36=\"\",0,IF(BK36=$B$120,IF(BJ36>BH36,3,IF(BJ36=BH36,1,0)),0))","v":0},null,{"$f":"RANK(CD33,$CD$32:$CD$35)","v":3},"J2",{"$f":"SUM(BS33:BV33)","v":3},{"$f":"SUM(BS37:BV37)","v":1},{"$f":"SUM(BT36:BT39)","v":2},{"$f":"CA33-CB33","v":-1},{"$f":"IF(BP$8=\"\",(((((((CE33*10+BZ33)*100+CC33)*100+CA33)*10+CK33)*10+CJ33)*100+CP33)*100+CU33)*10+CV33,(((((((CE33*10+BZ33)*10+CK33)*10+CJ33)*100+CP33)*100+CU33)*100+CC33)*100+CA33)*10+CV33)","v":303010099013},null,{"$f":"IF($BZ33=$BZ32,$BS33-$BT32,0)","v":0},null,{"$f":"IF($BZ33=$BZ34,$BU33-$BT34,0)","v":3},{"$f":"IF($BZ33=$BZ35,$BV33-$BT35,0)","v":0},{"$f":"SUM(CF33:CI33)","v":3},null,{"$f":"IF($BZ33=$BZ32,$BS37-$BT36,0)","v":0},null,{"$f":"IF($BZ33=$BZ34,$BU37-$BT38,0)","v":1},{"$f":"IF($BZ33=$BZ35,$BV37-$BT39,0)","v":0},{"$f":"SUM(CL33:CO33)","v":1},{"$f":"IF($BZ33=$BZ32,$BS37,0)","v":0},null,{"$f":"IF($BZ33=$BZ34,$BU37,0)","v":1},{"$f":"IF($BZ33=$BZ35,$BV37,0)","v":0},{"$f":"SUM(CQ33:CT33)","v":1},3]
[{"$f":"A33+1","v":2},"2026-06-15T15:00:00","Köln",{"$f":"Y34","v":"G3"},"-",{"$f":"Y35","v":"G4"},null,1,":",0,"ok",null,{"$f":"VLOOKUP(3,$X$32:$AC$35,2,FALSE)","v":"G2"},{"$f":"VLOOKUP(3,$X$32:$AC$35,3,FALSE)","v":3},{"$f":"VLOOKUP(3,$X$32:$AC$35,4,FALSE)","v":1},{"$f":"VLOOKUP(3,$X$32:$AC$35,5,FALSE)","v":2},{"$f":"VLOOKUP(3,$X$32:$AC$35,6,FALSE)","v":-1},null,{"$f":"IF(J35=\"\",0,IF(K35=$B$120,IF(H35<J35,3,IF(H35=J35,1,0)),0))","v":0},{"$f":"IF(J38=\"\",0,IF(K37=$B$120,IF(H38<J38,3,IF(H38=J38,1,0)),0))","v":0},null,{"$f":"IF(H34=\"\",0,IF(K34=$B$120,IF(H34>J34,3,IF(H34=J34,1,0)),0))","v":3},null,{"$f":"RANK(AD34,$AD$32:$AD$35)","v":4},"G3",{"$f":"SUM(S34:V34)","v":3},{"$f":"SUM(S38:V38)","v":1},{"$f":"SUM(U36:U39)","v":2},{"$f":"AA34-AB34","v":-1},{"$f":"IF(P$8=\"\",(((((((AE34*10+Z34)*100+AC34)*100+AA34)*10+AK34)*10+AJ34)*100+AP34)*100+AU34)*10+AV34,(((((((AE34*10+Z34)*10+AK34)*10+AJ34)*100+AP34)*100+AU34)*100+AC34)*100+AA34)*10+AV34)","v":296989999012},null,{"$f":"IF($Z34=$Z32,$S34-$U32,0)","v":0},{"$f":"IF($Z34=$Z33,$T34-$U33,0)","v":-3},null,{"$f":"IF($Z34=$Z35,$V34-$U35,0)","v":0},{"$f":"SUM(AF34:AI34)","v":-3},null,{"$f":"IF($Z34=$Z32,$S38-$U36,0)","v":0},{"$f":"IF($Z34=$Z33,$T38-$U37,0)","v":-1},null,{"$f":"IF($Z34=$Z35,$V38-$U39,0)","v":0},{"$f":"SUM(AL34:AO34)","v":-1},{"$f":"IF($Z34=$Z32,$S38,0)","v":0},{"$f":"IF($Z34=$Z33,$T38,0)","v":0},null,{"$f":"IF($Z34=$Z35,$V38,0)","v":0},{"$f":"SUM(AQ34:AT34)","v":0},2,null,null,null,null,8,"2026-06-17T21:00:00","Düsseldorf",{"$f":"BY34","v":"J3"},"-",{"$f":"BY35","v":"J4"},null,1,":",0,"ok",null,{"$f":"VLOOKUP(3,$BX$32:$CC$35,2,FALSE)","v":"J2"},{"$f":"VLOOKUP(3,$BX$32:$CC$35,3,FALSE)","v":3},{"$f":"VLOOKUP(3,$BX$32:$CC$35,4,FALSE)","v":1},{"$f":"VLOOKUP(3,$BX$32:$CC$35,5,FALSE)","v":2},{"$f":"VLOOKUP(3,$BX$32:$CC$35,6,FALSE)","v":-1},null,{"$f":"IF(BJ35=\"\",0,IF(BK35=$B$120,IF(BH35<BJ35,3,IF(BH35=BJ35,1,0)),0))","v":0},{"$f":"IF(BJ38=\"\",0,IF(BK37=$B$120,IF(BH38<BJ38,3,IF(BH38=BJ38,1,0)),0))","v":0},null,{"$f":"IF(BH34=\"\",0,IF(BK34=$B$120,IF(BH34>BJ34,3,IF(BH34=BJ34,1,0)),0))","v":3},null,{"$f":"RANK(CD34,$CD$32:$CD$35)","v":4},"J3",{"$f":"SUM(BS34:BV34)","v":3},{"$f":"SUM(BS38:BV38)","v":1},{"$f":"SUM(BU36:BU39)","v":2},{"$f":"CA34-CB34","v":-1},{"$f":"IF(BP$8=\"\",(((((((CE34*10+BZ34)*100+CC34)*100+CA34)*10+CK34)*10+CJ34)*100+CP34)*100+CU34)*10+CV34,(((((((CE34*10+BZ34)*10+CK34)*10+CJ34)*100+CP34)*100+CU34)*100+CC34)*100+CA34)*10+CV34)","v":296989999012},null,{"$f":"IF($BZ34=$BZ32,$BS34-$BU32,0)","v":0},{"$f":"IF($BZ34=$BZ33,$BT34-$BU33,0)","v":-3},null,{"$f":"IF($BZ34=$BZ35,$BV34-$BU35,0)","v":0},{"$f":"SUM(CF34:CI34)","v":-3},null,{"$f":"IF($BZ34=$BZ32,$BS38-$BU36,0)","v":0},{"$f":"IF($BZ34=$BZ33,$BT38-$BU37,0)","v":-1},null,{"$f":"IF($BZ34=$BZ35,$BV38-$BU39,0)","v":0},{"$f":"SUM(CL34:CO34)","v":-1},{"$f":"IF($BZ34=$BZ32,$BS38,0)","v":0},{"$f":"IF($BZ34=$BZ33,$BT38,0)","v":0},null,{"$f":"IF($BZ34=$BZ35,$BV38,0)","v":0},{"$f":"SUM(CQ34:CT34)","v":0},2]
[{"$f":"A33+12","v":13},"2026-06-19T18:00:00","Stuttgart",{"$f":"Y32","v":"G1"},"-",{"$f":"Y34","v":"G3"},null,1,":",0,"ok",null,{"$f":"VLOOKUP(4,$X$32:$AC$35,2,FALSE)","v":"G3"},{"$f":"VLOOKUP(4,$X$32:$AC$35,3,FALSE)","v":3},{"$f":"VLOOKUP(4,$X$32:$AC$35,4,FALSE)","v":1},{"$f":"VLOOKUP(4,$X$32:$AC$35,5,FALSE)","v":2},{"$f":"VLOOKUP(4,$X$32:$AC$35,6,FALSE)","v":-1},null,{"$f":"IF(H37=\"\",0,IF(K38=$B$120,IF(H37>J37,3,IF(H37=J37,1,0)),0))","v":3},{"$f":"IF(H36=\"\",0,IF(K36=$B$120,IF(J36<H36,3,IF(J36=H36,1,0)),0))","v":3},{"$f":"IF(J34=\"\",0,IF(K34=$B$120,IF(H34<J34,3,IF(H34=J34,1,0)),0))","v":0},null,null,{"$f":"RANK(AD35,$AD$32:$AD$35)","v":1},"G4",{"$f":"SUM(S35:V35)","v":6},{"$f":"SUM(S39:V39)","v":2},{"$f":"SUM(V36:V39)","v":1},{"$f":"AA35-AB35","v":1},{"$f":"IF(P$8=\"\",(((((((AE35*10+Z35)*100+AC35)*100+AA35)*10+AK35)*10+AJ35)*100+AP35)*100+AU35)*10+AV35,(((((((AE35*10+Z35)*10+AK35)*10+AJ35)*100+AP35)*100+AU35)*100+AC35)*100+AA35)*10+AV35)","v":603010101021},null,{"$f":"IF($Z35=$Z32,$S35-$V32,0)","v":3},{"$f":"IF($Z35=$Z33,$T35-$V33,0)","v":0},{"$f":"IF($Z35=$Z34,$U35-$V34,0)","v":0},null,{"$f":"SUM(AF35:AI35)","v":3},null,{"$f":"IF($Z35=$Z32,$S39-$V36,0)","v":1},{"$f":"IF($Z35=$Z33,$T39-$V37,0)","v":0},{"$f":"IF($Z35=$Z34,$U39-$V38,0)","v":0},null,{"$f":"SUM(AL35:AO35)","v":1},{"$f":"IF($Z35=$Z32,$S39,0)","v":1},{"$f":"IF($Z35=$Z33,$T39,0)","v":0},{"$f":"IF($Z35=$Z34,$U39,0)","v":0},null,{"$f":"SUM(AQ35:AT35)","v":1},1,null,null,null,null,{"$f":"BA33+12","v":19},"2026-06-21T18:00:00","Berlin",{"$f":"BY32","v":"J1"},"-",{"$f":"BY34","v":"J3"},null,1,":",0,"ok",null,{"$f":"VLOOKUP(4,$BX$32:$CC$35,2,FALSE)","v":"J3"},{"$f":"VLOOKUP(4,$BX$32:$CC$35,3,FALSE)","v":3},{"$f":"VLOOKUP(4,$BX$32:$CC$35,4,FALSE)","v":1},{"$f":"VLOOKUP(4,$BX$32:$CC$35,5,FALSE)","v":2},{"$f":"VLOOKUP(4,$BX$32:$CC$35,6,FALSE)","v":-1},null,{"$f":"IF(BH37=\"\",0,IF(BK38=$B$120,IF(BH37>BJ37,3,IF(BH37=BJ37,1,0)),0))","v":3},{"$f":"IF(BH36=\"\",0,IF(BK36=$B$120,IF(BJ36<BH36,3,IF(BJ36=BH36,1,0)),0))","v":3},{"$f":"IF(BJ34=\"\",0,IF(BK34=$B$120,IF(BH34<BJ34,3,IF(BH34=BJ34,1,0)),0))","v":0},null,null,{"$f":"RANK(CD35,$CD$32:$CD$35)","v":1},"J4",{"$f":"SUM(BS35:BV35)","v":6},{"$f":"SUM(BS39:BV39)","v":2},{"$f":"SUM(BV36:BV39)","v":1},{"$f":"CA35-CB35","v":1},{"$f":"IF(BP$8=\"\",(((((((CE35*10+BZ35)*100+CC35)*100+CA35)*10+CK35)*10+CJ35)*100+CP35)*100+CU35)*10+CV35,(((((((CE35*10+BZ35)*10+CK35)*10+CJ35)*100+CP35)*100+CU35)*100+CC35)*100+CA35)*10+CV35)","v":603010101021},null,{"$f":"IF($BZ35=$BZ32,$BS35-$BV32,0)","v":3},{"$f":"IF($BZ35=$BZ33,$BT35-$BV33,0)","v":0},{"$f":"IF($BZ35=$BZ34,$BU35-$BV34,0)","v":0},null,{"$f":"SUM(CF35:CI35)","v":3},null,{"$f":"IF($BZ35=$BZ32,$BS39-$BV36,0)","v":1},{"$f":"IF($BZ35=$BZ33,$BT39-$BV37,0)","v":0},{"$f":"IF($BZ35=$BZ34,$BU39-$BV38,0)","v":0},null,{"$f":"SUM(CL35:CO35)","v":1},{"$f":"IF($BZ35=$BZ32,$BS39,0)","v":1},{"$f":"IF($BZ35=$BZ33,$BT39,0)","v":0},{"$f":"IF($BZ35=$BZ34,$BU39,0)","v":0},null,{"$f":"SUM(CQ35:CT35)","v":1},1]
[{"$f":"A34+12","v":14},"2026-06-19T21:00:00","Köln",{"$f":"Y35","v":"G4"},"-",{"$f":"Y33","v":"G2"},null,1,":",0,"ok",null,null,null,null,null,null,null,null,{"$f":"IF(K33=$B$120,H33,0)","v":1},{"$f":"IF(K35=$B$120,H35,0)","v":1},{"$f":"IF(K38=$B$120,J37,0)","v":0},null,null,null,null,null,null,null,null,null,null,null,null,null,null,null,null,null,null,null,null,null,null,null,null,null,null,null,null,null,null,{"$f":"BA34+12","v":20},"2026-06-21T21:00:00","Leipzig",{"$f":"BY35","v":"J4"},"-",{"$f":"BY33","v":"J2"},null,1,":",0,"ok",null,null,null,null,null,null,null,null,{"$f":"IF(BK33=$B$120,BH33,0)","v":1},{"$f":"IF(BK35=$B$120,BH35,0)","v":1},{"$f":"IF(BK38=$B$120,BJ37,0)","v":0}]
[{"$f":"A35+12","v":25},"2026-06-23T21:00:00","Frankfurt",{"$f":"Y35","v":"G4"},"-",{"$f":"Y32","v":"G1"},null,1,":",0,"ok",null,{"$f":"IF(N32>0,M32,\"\")","v":"G4"},"1G",null,null,null,null,{"$f":"IF(K33=$B$120,J33,0)","v":0},null,{"$f":"IF(K37=$B$120,H38,0)","v":1},{"$f":"IF(K36=$B$120,J36,0)","v":0},null,null,null,null,null,null,null,"L0=AE hebelt Berechnung aus (top level Losen)",null,null,null,null,null,null,null,null,null,null,null,null,null,null,null,null,null,null,null,null,null,null,{"$f":"BA35+12","v":31},"2026-06-25T18:00:00","Dortmund",{"$f":"BY35","v":"J4"},"-",{"$f":"BY32","v":"J1"},null,1,":",0,"ok",null,{"$f":"IF(BN32>0,BM32,\"\")","v":"J4"},"1J",null,null,null,null,{"$f":"IF(BK33=$B$120,BJ33,0)","v":0},null,{"$f":"IF(BK37=$B$120,BH38,0)","v":1},{"$f":"IF(BK36=$B$120,BJ36,0)","v":0},null,null,null,null,null,null,null,"L0=AE hebelt Berechnung aus (top level Losen)"]
[{"$f":"A36+12","v":26},"2026-06-23T21:00:00","Stuttgart",{"$f":"Y33","v":"G2"},"-",{"$f":"Y34","v":"G3"},null,1,":",0,"ok",null,{"$f":"IF(N33>0,M33,\"\")","v":"G1"},"2G",null,"DV",null,null,{"$f":"IF(K35=$B$120,J35,0)","v":0},{"$f":"IF(K37=$B$120,J38,0)","v":0},null,{"$f":"IF(K34=$B$120,H34,0)","v":1},null,null,null,null,null,null,null,"L1=AK hebelt Direktvergleich (S1) aus",null,null,null,null,null,null,null,null,null,null,null,null,null,null,null,null,null,null,null,null,null,null,{"$f":"BA36+12","v":32},"2026-06-25T18:00:00","Berlin",{"$f":"BY33","v":"J2"},"-",{"$f":"BY34","v":"J3"},null,1,":",0,"ok",null,{"$f":"IF(BN33>0,BM33,\"\")","v":"J1"},"2J",null,"DV",null,null,{"$f":"IF(BK35=$B$120,BJ35,0)","v":0},{"$f":"IF(BK37=$B$120,BJ38,0)","v":0},null,{"$f":"IF(BK34=$B$120,BH34,0)","v":1},null,null,null,null,null,null,null,"L1=AK hebelt Direktvergleich (S1) aus"]
[null,null,null,null,null,null,null,null,null,null,null,null,{"$f":"IF(N34>0,M34,\"\")","v":"G2"},"3G",null,null,null,null,{"$f":"IF(K38=$B$120,H37,0)","v":1},{"$f":"IF(K36=$B$120,H36,0)","v":1},{"$f":"IF(K34=$B$120,J34,0)","v":0},null,null,null,null,null,null,null,null,"L4=AV Losen UEFA-Koeffizient, Fairplay oder Münzwurf",null,null,null,null,null,null,null,null,null,null,null,null,null,null,null,null,null,null,null,null,null,null,null,null,null,null,null,null,null,null,null,null,null,null,{"$f":"IF(BN34>0,BM34,\"\")","v":"J2"},"3J",null,null,null,null,{"$f":"IF(BK38=$B$120,BH37,0)","v":1},{"$f":"IF(BK36=$B$120,BH36,0)","v":1},{"$f":"IF(BK34=$B$120,BJ34,0)","v":0},null,null,null,null,null,null,null,null,"L4=AV Losen UEFA-Koeffizient, Fairplay oder Münzwurf"]
[]
[null,"Vorrunde","Gruppe H"," ",null,null,null,null,null,null,null,null,"Tabelle","P","T+","T-","T+/-",null,null,null,null,null,null,"G","Berechnungen","P","T+","T-","T+/-",null,"L0","DV",null,null,null,"S1","L1","DV-TD",null,null,null,"S2","DV-Tore",null,null,null,"S3","L4",null,null,null,null,null,"Vorrunde","Gruppe K"," ",null,null,null,null,null,null,null,null,"Tabelle","P","T+","T-","T+/-",null,null,null,null,null,null,"G","Berechnungen","P","T+","T-","T+/-",null,"L0","DV",null,null,null,"S1","L1","DV-TD",null,null,null,"S2","DV-Tore",null,null,null,"S3","L4"]
[null,"Datum/Zeit","Spielort",null,null,null,null,null,null,null,null,null,{"$f":"VLOOKUP(1,$X$42:$AC$45,2,FALSE)","v":"H4"},{"$f":"VLOOKUP(1,$X$42:$AC$45,3,FALSE)","v":6},{"$f":"VLOOKUP(1,$X$42:$AC$45,4,FALSE)","v":2},{"$f":"VLOOKUP(1,$X$42:$AC$45,5,FALSE)","v":1},{"$f":"VLOOKUP(1,$X$42:$AC$45,6,FALSE)","v":1},null,null,{"$f":"IF(H43=\"\",0,IF(K43=$B$120,IF(H43>J43,3,IF(H43=J43,1,0)),0))","v":3},{"$f":"IF(H45=\"\",0,IF(K45=$B$120,IF(H45>J45,3,IF(H45=J45,1,0)),0))","v":3},{"$f":"IF(J47=\"\",0,IF(K48=$B$120,IF(H47<J47,3,IF(H47=J47,1,0)),0))","v":0},null,{"$f":"RANK(AD42,$AD$42:$AD$45)","v":2},"H1",{"$f":"SUM(S42:V42)","v":6},{"$f":"SUM(S46:V46)","v":2},{"$f":"SUM(S46:S49)","v":1},{"$f":"AA42-AB42","v":1},{"$f":"IF(P$18=\"\",(((((((AE42*10+Z42)*100+AC42)*100+AA42)*10+AK42)*10+AJ42)*100+AP42)*100+AU42)*10+AV42,(((((((AE42*10+Z42)*10+AK42)*10+AJ42)*100+AP42)*100+AU42)*100+AC42)*100+AA42)*10+AV42)","v":596990001024},null,null,{"$f":"IF($Z42=$Z43,$T42-$S43,0)","v":0},{"$f":"IF($Z42=$Z44,$U42-$S44,0)","v":0},{"$f":"IF($Z42=$Z45,$V42-$S45,0)","v":-3},{"$f":"SUM(AF42:AI42)","v":-3},null,null,{"$f":"IF($Z42=$Z43,$T46-$S47,0)","v":0},{"$f":"IF($Z42=$Z44,$U46-$S48,0)","v":0},{"$f":"IF($Z42=$Z45,$V46-$S49,0)","v":-1},{"$f":"SUM(AL42:AO42)","v":-1},null,{"$f":"IF($Z42=$Z43,$T46,0)","v":0},{"$f":"IF($Z42=$Z44,$U46,0)","v":0},{"$f":"IF($Z42=$Z45,$V46,0)","v":0},{"$f":"SUM(AQ42:AT42)","v":0},4,null,null,null,null,null,"Datum/Zeit","Spielort",null,null,null,null,null,null,null,null,null,{"$f":"VLOOKUP(1,$BX$42:$CC$45,2,FALSE)","v":"K4"},{"$f":"VLOOKUP(1,$BX$42:$CC$45,3,FALSE)","v":6},{"$f":"VLOOKUP(1,$BX$42:$CC$45,4,FALSE)","v":2},{"$f":"VLOOKUP(1,$BX$42:$CC$45,5,FALSE)","v":1},{"$f":"VLOOKUP(1,$BX$42:$CC$45,6,FALSE)","v":1},null,null,{"$f":"IF(BH43=\"\",0,IF(BK43=$B$120,IF(BH43>BJ43,3,IF(BH43=BJ43,1,0)),0))","v":3},{"$f":"IF(BH45=\"\",0,IF(BK45=$B$120,IF(BH45>BJ45,3,IF(BH45=BJ45,1,0)),0))","v":3},{"$f":"IF(BJ47=\"\",0,IF(BK48=$B$120,IF(BH47<BJ47,3,IF(BH47=BJ47,1,0)),0))","v":0},null,{"$f":"RANK(CD42,$CD$42:$CD$45)","v":2},"K1",{"$f":"SUM(BS42:BV42)","v":6},{"$f":"SUM(BS46:BV46)","v":2},{"$f":"SUM(BS46:BS49)","v":1},{"$f":"CA42-CB42","v":1},{"$f":"IF(BP$8=\"\",(((((((CE42*10+BZ42)*100+CC42)*100+CA42)*10+CK42)*10+CJ42)*100+CP42)*100+CU42)*10+CV42,(((((((CE42*10+BZ42)*10+CK42)*10+CJ42)*100+CP42)*100+CU42)*100+CC42)*100+CA42)*10+CV42)","v":596990001024},null,null,{"$f":"IF($BZ42=$BZ43,$BT42-$BS43,0)","v":0},{"$f":"IF($BZ42=$BZ44,$BU42-$BS44,0)","v":0},{"$f":"IF($BZ42=$BZ45,$BV42-$BS45,0)","v":-3},{"$f":"SUM(CF42:CI42)","v":-3},null,null,{"$f":"IF($BZ42=$BZ43,$BT46-$BS47,0)","v":0},{"$f":"IF($BZ42=$BZ44,$BU46-$BS48,0)","v":0},{"$f":"IF($BZ42=$BZ45,$BV46-$BS49,0)","v":-1},{"$f":"SUM(CL42:CO42)","v":-1},null,{"$f":"IF($BZ42=$BZ43,$BT46,0)","v":0},{"$f":"IF($BZ42=$BZ44,$BU46,0)","v":0},{"$f":"IF($BZ42=$BZ45,$BV46,0)","v":0},{"$f":"SUM(CQ42:CT42)","v":0},4]
[3,"2026-06-15T18:00:00","Berlin",{"$f":"Y42","v":"H1"},"-",{"$f":"Y43","v":"H2"},null,{"$f":"IF($B$121=\"\",1,INT(RAND()*5)+INT(RAND()*3)*INT(RAND()*2))","v":1},":",{"$f":"IF($B$121=\"\",0,INT(RAND()*5)+INT(RAND()*3)*INT(RAND()*2))","v":0},"ok",null,{"$f":"VLOOKUP(2,$X$42:$AC$45,2,FALSE)","v":"H1"},{"$f":"VLOOKUP(2,$X$42:$AC$45,3,FALSE)","v":6},{"$f":"VLOOKUP(2,$X$42:$AC$45,4,FALSE)","v":2},{"$f":"VLOOKUP(2,$X$42:$AC$45,5,FALSE)","v":1},{"$f":"VLOOKUP(2,$X$42:$AC$45,6,FALSE)","v":1},null,{"$f":"IF(J43=\"\",0,IF(K43=$B$120,IF(H43<J43,3,IF(H43=J43,1,0)),0))","v":0},null,{"$f":"IF(H48=\"\",0,IF(K47=$B$120,IF(H48>J48,3,IF(H48=J48,1,0)),0))","v":3},{"$f":"IF(J46=\"\",0,IF(K46=$B$120,IF(J46>H46,3,IF(J46=H46,1,0)),0))","v":0},null,{"$f":"RANK(AD43,$AD$42:$AD$45)","v":3},"H2",{"$f":"SUM(S43:V43)","v":3},{"$f":"SUM(S47:V47)","v":1},{"$f":"SUM(T46:T49)","v":2},{"$f":"AA43-AB43","v":-1},{"$f":"IF(P$18=\"\",(((((((AE43*10+Z43)*100+AC43)*100+AA43)*10+AK43)*10+AJ43)*100+AP43)*100+AU43)*10+AV43,(((((((AE43*10+Z43)*10+AK43)*10+AJ43)*100+AP43)*100+AU43)*100+AC43)*100+AA43)*10+AV43)","v":303010099013},null,{"$f":"IF($Z43=$Z42,$S43-$T42,0)","v":0},null,{"$f":"IF($Z43=$Z44,$U43-$T44,0)","v":3},{"$f":"IF($Z43=$Z45,$V43-$T45,0)","v":0},{"$f":"SUM(AF43:AI43)","v":3},null,{"$f":"IF($Z43=$Z42,$S47-$T46,0)","v":0},null,{"$f":"IF($Z43=$Z44,$U47-$T48,0)","v":1},{"$f":"IF($Z43=$Z45,$V47-$T49,0)","v":0},{"$f":"SUM(AL43:AO43)","v":1},{"$f":"IF($Z43=$Z42,$S47,0)","v":0},null,{"$f":"IF($Z43=$Z44,$U47,0)","v":1},{"$f":"IF($Z43=$Z45,$V47,0)","v":0},{"$f":"SUM(AQ43:AT43)","v":1},3,null,null,null,null,9,"2026-06-17T15:00:00","München",{"$f":"BY42","v":"K1"},"-",{"$f":"BY43","v":"K2"},null,{"$f":"IF($B$121=\"\",1,INT(RAND()*5)+INT(RAND()*3)*INT(RAND()*2))","v":1},":",{"$f":"IF($B$121=\"\",0,INT(RAND()*5)+INT(RAND()*3)*INT(RAND()*2))","v":0},"ok",null,{"$f":"VLOOKUP(2,$BX$42:$CC$45,2,FALSE)","v":"K1"},{"$f":"VLOOKUP(2,$BX$42:$CC$45,3,FALSE)","v":6},{"$f":"VLOOKUP(2,$BX$42:$CC$45,4,FALSE)","v":2},{"$f":"VLOOKUP(2,$BX$42:$CC$45,5,FALSE)","v":1},{"$f":"VLOOKUP(2,$BX$42:$CC$45,6,FALSE)","v":1},null,{"$f":"IF(BJ43=\"\",0,IF(BK43=$B$120,IF(BH43<BJ43,3,IF(BH43=BJ43,1,0)),0))","v":0},null,{"$f":"IF(BH48=\"\",0,IF(BK47=$B$120,IF(BH48>BJ48,3,IF(BH48=BJ48,1,0)),0))","v":3},{"$f":"IF(BJ46=\"\",0,IF(BK46=$B$120,IF(BJ46>BH46,3,IF(BJ46=BH46,1,0)),0))","v":0},null,{"$f":"RANK(CD43,$CD$42:$CD$45)","v":3},"K2",{"$f":"SUM(BS43:BV43)","v":3},{"$f":"SUM(BS47:BV47)","v":1},{"$f":"SUM(BT46:BT49)","v":2},{"$f":"CA43-CB43","v":-1},{"$f":"IF(BP$8=\"\",(((((((CE43*10+BZ43)*100+CC43)*100+CA43)*10+CK43)*10+CJ43)*100+CP43)*100+CU43)*10+CV43,(((((((CE43*10+BZ43)*10+CK43)*10+CJ43)*100+CP43)*100+CU43)*100+CC43)*100+CA43)*10+CV43)","v":303010099013},null,{"$f":"IF($BZ43=$BZ42,$BS43-$BT42,0)","v":0},null,{"$f":"IF($BZ43=$BZ44,$BU43-$BT44,0)","v":3},{"$f":"IF($BZ43=$BZ45,$BV43-$BT45,0)","v":0},{"$f":"SUM(CF43:CI43)","v":3},null,{"$f":"IF($BZ43=$BZ42,$BS47-$BT46,0)","v":0},null,{"$f":"IF($BZ43=$BZ44,$BU47-$BT48,0)","v":1},{"$f":"IF($BZ43=$BZ45,$BV47-$BT49,0)","v":0},{"$f":"SUM(CL43:CO43)","v":1},{"$f":"IF($BZ43=$BZ42,$BS47,0)","v":0},null,{"$f":"IF($BZ43=$BZ44,$BU47,0)","v":1},{"$f":"IF($BZ43=$BZ45,$BV47,0)","v":0},{"$f":"SUM(CQ43:CT43)","v":1},3]
[4,"2026-06-15T21:00:00","Dortmund",{"$f":"Y44","v":"H3"},"-",{"$f":"Y45","v":"H4"},null,1,":",0,"ok",null,{"$f":"VLOOKUP(3,$X$42:$AC$45,2,FALSE)","v":"H2"},{"$f":"VLOOKUP(3,$X$42:$AC$45,3,FALSE)","v":3},{"$f":"VLOOKUP(3,$X$42:$AC$45,4,FALSE)","v":1},{"$f":"VLOOKUP(3,$X$42:$AC$45,5,FALSE)","v":2},{"$f":"VLOOKUP(3,$X$42:$AC$45,6,FALSE)","v":-1},null,{"$f":"IF(J45=\"\",0,IF(K45=$B$120,IF(H45<J45,3,IF(H45=J45,1,0)),0))","v":0},{"$f":"IF(J48=\"\",0,IF(K47=$B$120,IF(H48<J48,3,IF(H48=J48,1,0)),0))","v":0},null,{"$f":"IF(H44=\"\",0,IF(K44=$B$120,IF(H44>J44,3,IF(H44=J44,1,0)),0))","v":3},null,{"$f":"RANK(AD44,$AD$42:$AD$45)","v":4},"H3",{"$f":"SUM(S44:V44)","v":3},{"$f":"SUM(S48:V48)","v":1},{"$f":"SUM(U46:U49)","v":2},{"$f":"AA44-AB44","v":-1},{"$f":"IF(P$18=\"\",(((((((AE44*10+Z44)*100+AC44)*100+AA44)*10+AK44)*10+AJ44)*100+AP44)*100+AU44)*10+AV44,(((((((AE44*10+Z44)*10+AK44)*10+AJ44)*100+AP44)*100+AU44)*100+AC44)*100+AA44)*10+AV44)","v":296989999012},null,{"$f":"IF($Z44=$Z42,$S44-$U42,0)","v":0},{"$f":"IF($Z44=$Z43,$T44-$U43,0)","v":-3},null,{"$f":"IF($Z44=$Z45,$V44-$U45,0)","v":0},{"$f":"SUM(AF44:AI44)","v":-3},null,{"$f":"IF($Z44=$Z42,$S48-$U46,0)","v":0},{"$f":"IF($Z44=$Z43,$T48-$U47,0)","v":-1},null,{"$f":"IF($Z44=$Z45,$V48-$U49,0)","v":0},{"$f":"SUM(AL44:AO44)","v":-1},{"$f":"IF($Z44=$Z42,$S48,0)","v":0},{"$f":"IF($Z44=$Z43,$T48,0)","v":0},null,{"$f":"IF($Z44=$Z45,$V48,0)","v":0},{"$f":"SUM(AQ44:AT44)","v":0},2,null,null,null,null,10,"2026-06-17T18:00:00","Frankfurt",{"$f":"BY44","v":"K3"},"-",{"$f":"BY45","v":"K4"},null,1,":",0,"ok",null,{"$f":"VLOOKUP(3,$BX$42:$CC$45,2,FALSE)","v":"K2"},{"$f":"VLOOKUP(3,$BX$42:$CC$45,3,FALSE)","v":3},{"$f":"VLOOKUP(3,$BX$42:$CC$45,4,FALSE)","v":1},{"$f":"VLOOKUP(3,$BX$42:$CC$45,5,FALSE)","v":2},{"$f":"VLOOKUP(3,$BX$42:$CC$45,6,FALSE)","v":-1},null,{"$f":"IF(BJ45=\"\",0,IF(BK45=$B$120,IF(BH45<BJ45,3,IF(BH45=BJ45,1,0)),0))","v":0},{"$f":"IF(BJ48=\"\",0,IF(BK47=$B$120,IF(BH48<BJ48,3,IF(BH48=BJ48,1,0)),0))","v":0},null,{"$f":"IF(BH44=\"\",0,IF(BK44=$B$120,IF(BH44>BJ44,3,IF(BH44=BJ44,1,0)),0))","v":3},null,{"$f":"RANK(CD44,$CD$42:$CD$45)","v":4},"K3",{"$f":"SUM(BS44:BV44)","v":3},{"$f":"SUM(BS48:BV48)","v":1},{"$f":"SUM(BU46:BU49)","v":2},{"$f":"CA44-CB44","v":-1},{"$f":"IF(BP$8=\"\",(((((((CE44*10+BZ44)*100+CC44)*100+CA44)*10+CK44)*10+CJ44)*100+CP44)*100+CU44)*10+CV44,(((((((CE44*10+BZ44)*10+CK44)*10+CJ44)*100+CP44)*100+CU44)*100+CC44)*100+CA44)*10+CV44)","v":296989999012},null,{"$f":"IF($BZ44=$BZ42,$BS44-$BU42,0)","v":0},{"$f":"IF($BZ44=$BZ43,$BT44-$BU43,0)","v":-3},null,{"$f":"IF($BZ44=$BZ45,$BV44-$BU45,0)","v":0},{"$f":"SUM(CF44:CI44)","v":-3},null,{"$f":"IF($BZ44=$BZ42,$BS48-$BU46,0)","v":0},{"$f":"IF($BZ44=$BZ43,$BT48-$BU47,0)","v":-1},null,{"$f":"IF($BZ44=$BZ45,$BV48-$BU49,0)","v":0},{"$f":"SUM(CL44:CO44)","v":-1},{"$f":"IF($BZ44=$BZ42,$BS48,0)","v":0},{"$f":"IF($BZ44=$BZ43,$BT48,0)","v":0},null,{"$f":"IF($BZ44=$BZ45,$BV48,0)","v":0},{"$f":"SUM(CQ44:CT44)","v":0},2]
[{"$f":"A43+12","v":15},"2026-06-20T21:00:00","Gelsenkirchen",{"$f":"Y42","v":"H1"},"-",{"$f":"Y44","v":"H3"},null,1,":",0,"ok",null,{"$f":"VLOOKUP(4,$X$42:$AC$45,2,FALSE)","v":"H3"},{"$f":"VLOOKUP(4,$X$42:$AC$45,3,FALSE)","v":3},{"$f":"VLOOKUP(4,$X$42:$AC$45,4,FALSE)","v":1},{"$f":"VLOOKUP(4,$X$42:$AC$45,5,FALSE)","v":2},{"$f":"VLOOKUP(4,$X$42:$AC$45,6,FALSE)","v":-1},null,{"$f":"IF(H47=\"\",0,IF(K48=$B$120,IF(H47>J47,3,IF(H47=J47,1,0)),0))","v":3},{"$f":"IF(H46=\"\",0,IF(K46=$B$120,IF(J46<H46,3,IF(J46=H46,1,0)),0))","v":3},{"$f":"IF(J44=\"\",0,IF(K44=$B$120,IF(H44<J44,3,IF(H44=J44,1,0)),0))","v":0},null,null,{"$f":"RANK(AD45,$AD$42:$AD$45)","v":1},"H4",{"$f":"SUM(S45:V45)","v":6},{"$f":"SUM(S49:V49)","v":2},{"$f":"SUM(V46:V49)","v":1},{"$f":"AA45-AB45","v":1},{"$f":"IF(P$18=\"\",(((((((AE45*10+Z45)*100+AC45)*100+AA45)*10+AK45)*10+AJ45)*100+AP45)*100+AU45)*10+AV45,(((((((AE45*10+Z45)*10+AK45)*10+AJ45)*100+AP45)*100+AU45)*100+AC45)*100+AA45)*10+AV45)","v":603010101021},null,{"$f":"IF($Z45=$Z42,$S45-$V42,0)","v":3},{"$f":"IF($Z45=$Z43,$T45-$V43,0)","v":0},{"$f":"IF($Z45=$Z44,$U45-$V44,0)","v":0},null,{"$f":"SUM(AF45:AI45)","v":3},null,{"$f":"IF($Z45=$Z42,$S49-$V46,0)","v":1},{"$f":"IF($Z45=$Z43,$T49-$V47,0)","v":0},{"$f":"IF($Z45=$Z44,$U49-$V48,0)","v":0},null,{"$f":"SUM(AL45:AO45)","v":1},{"$f":"IF($Z45=$Z42,$S49,0)","v":1},{"$f":"IF($Z45=$Z43,$T49,0)","v":0},{"$f":"IF($Z45=$Z44,$U49,0)","v":0},null,{"$f":"SUM(AQ45:AT45)","v":1},1,null,null,null,null,{"$f":"BA43+12","v":21},"2026-06-22T21:00:00","Köln",{"$f":"BY42","v":"K1"},"-",{"$f":"BY44","v":"K3"},null,1,":",0,"ok",null,{"$f":"VLOOKUP(4,$BX$42:CC$45,2,FALSE)","v":"K3"},{"$f":"VLOOKUP(4,$BX$42:$CC$45,3,FALSE)","v":3},{"$f":"VLOOKUP(4,$BX$42:$CC$45,4,FALSE)","v":1},{"$f":"VLOOKUP(4,$BX$42:$CC$45,5,FALSE)","v":2},{"$f":"VLOOKUP(4,$BX$42:$CC$45,6,FALSE)","v":-1},null,{"$f":"IF(BH47=\"\",0,IF(BK48=$B$120,IF(BH47>BJ47,3,IF(BH47=BJ47,1,0)),0))","v":3},{"$f":"IF(BH46=\"\",0,IF(BK46=$B$120,IF(BJ46<BH46,3,IF(BJ46=BH46,1,0)),0))","v":3},{"$f":"IF(BJ44=\"\",0,IF(BK44=$B$120,IF(BH44<BJ44,3,IF(BH44=BJ44,1,0)),0))","v":0},null,null,{"$f":"RANK(CD45,$CD$42:$CD$45)","v":1},"K4",{"$f":"SUM(BS45:BV45)","v":6},{"$f":"SUM(BS49:BV49)","v":2},{"$f":"SUM(BV46:BV49)","v":1},{"$f":"CA45-CB45","v":1},{"$f":"IF(BP$8=\"\",(((((((CE45*10+BZ45)*100+CC45)*100+CA45)*10+CK45)*10+CJ45)*100+CP45)*100+CU45)*10+CV45,(((((((CE45*10+BZ45)*10+CK45)*10+CJ45)*100+CP45)*100+CU45)*100+CC45)*100+CA45)*10+CV45)","v":603010101021},null,{"$f":"IF($BZ45=$BZ42,$BS45-$BV42,0)","v":3},{"$f":"IF($BZ45=$BZ43,$BT45-$BV43,0)","v":0},{"$f":"IF($BZ45=$BZ44,$BU45-$BV44,0)","v":0},null,{"$f":"SUM(CF45:CI45)","v":3},null,{"$f":"IF($BZ45=$BZ42,$BS49-$BV46,0)","v":1},{"$f":"IF($BZ45=$BZ43,$BT49-$BV47,0)","v":0},{"$f":"IF($BZ45=$BZ44,$BU49-$BV48,0)","v":0},null,{"$f":"SUM(CL45:CO45)","v":1},{"$f":"IF($BZ45=$BZ42,$BS49,0)","v":1},{"$f":"IF($BZ45=$BZ43,$BT49,0)","v":0},{"$f":"IF($BZ45=$BZ44,$BU49,0)","v":0},null,{"$f":"SUM(CQ45:CT45)","v":1},1]
[{"$f":"A44+12","v":16},"2026-06-19T15:00:00","Hamburg",{"$f":"Y45","v":"H4"},"-",{"$f":"Y43","v":"H2"},null,1,":",0,"ok",null,null,null,null,null,null,null,null,{"$f":"IF(K43=$B$120,H43,0)","v":1},{"$f":"IF(K45=$B$120,H45,0)","v":1},{"$f":"IF(K48=$B$120,J47,0)","v":0},null,null,null,null,null,null,null,null,null,null,null,null,null,null,null,null,null,null,null,null,null,null,null,null,null,null,null,null,null,null,{"$f":"BA44+12","v":22},"2026-06-21T15:00:00","Düsseldorf",{"$f":"BY45","v":"K4"},"-",{"$f":"BY43","v":"K2"},null,1,":",0,"ok",null,null,null,null,null,null,null,null,{"$f":"IF(BK43=$B$120,BH43,0)","v":1},{"$f":"IF(BK45=$B$120,BH45,0)","v":1},{"$f":"IF(BK48=$B$120,BJ47,0)","v":0}]
[{"$f":"A45+12","v":27},"2026-06-24T21:00:00","Düsseldorf",{"$f":"Y45","v":"H4"},"-",{"$f":"Y42","v":"H1"},null,1,":",0,"ok",null,{"$f":"IF(N42>0,M42,\"\")","v":"H4"},"1H",null,null,null,null,{"$f":"IF(K43=$B$120,J43,0)","v":0},null,{"$f":"IF(K47=$B$120,H48,0)","v":1},{"$f":"IF(K46=$B$120,J46,0)","v":0},null,null,null,null,null,null,null,"L0=AE hebelt Berechnung aus (top level Losen)",null,null,null,null,null,null,null,null,null,null,null,null,null,null,null,null,null,null,null,null,null,null,{"$f":"BA45+12","v":33},"2026-06-26T18:00:00","Frankfurt",{"$f":"BY45","v":"K4"},"-",{"$f":"BY42","v":"K1"},null,1,":",0,"ok",null,{"$f":"IF(BN42>0,BM42,\"\")","v":"K4"},"1K",null,null,null,null,{"$f":"IF(BK43=$B$120,BJ43,0)","v":0},null,{"$f":"IF(BK47=$B$120,BH48,0)","v":1},{"$f":"IF(BK46=$B$120,BJ46,0)","v":0},null,null,null,null,null,null,null,"L0=AE hebelt Berechnung aus (top level Losen)"]
[{"$f":"A46+12","v":28},"2026-06-24T21:00:00","Leipzig",{"$f":"Y43","v":"H2"},"-",{"$f":"Y44","v":"H3"},null,1,":",0,"ok",null,{"$f":"IF(N43>0,M43,\"\")","v":"H1"},"2H",null,"DV",null,null,{"$f":"IF(K45=$B$120,J45,0)","v":0},{"$f":"IF(K47=$B$120,J48,0)","v":0},null,{"$f":"IF(K44=$B$120,H44,0)","v":1},null,null,null,null,null,null,null,"L1=AK hebelt Direktvergleich (S1) aus",null,null,null,null,null,null,null,null,null,null,null,null,null,null,null,null,null,null,null,null,null,null,{"$f":"BA46+12","v":34},"2026-06-26T18:00:00","Stuttgart",{"$f":"BY43","v":"K2"},"-",{"$f":"BY44","v":"K3"},null,1,":",0,"ok",null,{"$f":"IF(BN43>0,BM43,\"\")","v":"K1"},"2K",null,"DV",null,null,{"$f":"IF(BK45=$B$120,BJ45,0)","v":0},{"$f":"IF(BK47=$B$120,BJ48,0)","v":0},null,{"$f":"IF(BK44=$B$120,BH44,0)","v":1},null,null,null,null,null,null,null,"L1=AK hebelt Direktvergleich (S1) aus"]
[null,null,null,null,null,null,null,null,null,null,null,null,{"$f":"IF(N44>0,M44,\"\")","v":"H2"},"3H",null,null,null,null,{"$f":"IF(K48=$B$120,H47,0)","v":1},{"$f":"IF(K46=$B$120,H46,0)","v":1},{"$f":"IF(K44=$B$120,J44,0)","v":0},null,null,null,null,null,null,null,null,"L4=AV Losen UEFA-Koeffizient, Fairplay oder Münzwurf",null,null,null,null,null,null,null,null,null,null,null,null,null,null,null,null,null,null,null,null,null,null,null," ",null,null,null,null,null,null,null,null,null,null,{"$f":"IF(BN44>0,BM44,\"\")","v":"K2"},"3K",null,null,null,null,{"$f":"IF(BK48=$B$120,BH47,0)","v":1},{"$f":"IF(BK46=$B$120,BH46,0)","v":1},{"$f":"IF(BK44=$B$120,BJ44,0)","v":0},null,null,null,null,null,null,null,null,"L4=AV Losen UEFA-Koeffizient, Fairplay oder Münzwurf"]
[]
[null,"Vorrunde","Gruppe I"," ",null,null,null,null,null,null,null,null,"Tabelle","P","T+","T-","T+/-",null,null,null,null,null,null,"G","Berechnungen","P","T+","T-","T+/-",null,"L0","DV",null,null,null,"S1","L1","DV-TD",null,null,null,"S2","DV-Tore",null,null,null,"S3","L4",null,null,null,null,null,"Vorrunde","Gruppe L"," ",null,null,null,null,null,null,null,null,"Tabelle","P","T+","T-","T+/-",null,null,null,null,null,null,"G","Berechnungen","P","T+","T-","T+/-",null,"L0","DV",null,null,null,"S1","L1","DV-TD",null,null,null,"S2","DV-Tore",null,null,null,"S3","L4"]
[null,"Datum/Zeit","Spielort",null,null,null,null,null,null,null,null,null,{"$f":"VLOOKUP(1,$X$52:$AC$55,2,FALSE)","v":"I4"},{"$f":"VLOOKUP(1,$X$52:$AC$55,3,FALSE)","v":6},{"$f":"VLOOKUP(1,$X$52:$AC$55,4,FALSE)","v":2},{"$f":"VLOOKUP(1,$X$52:$AC$55,5,FALSE)","v":1},{"$f":"VLOOKUP(1,$X$52:$AC$55,6,FALSE)","v":1},null,null,{"$f":"IF(H53=\"\",0,IF(K53=$B$120,IF(H53>J53,3,IF(H53=J53,1,0)),0))","v":3},{"$f":"IF(H55=\"\",0,IF(K55=$B$120,IF(H55>J55,3,IF(H55=J55,1,0)),0))","v":3},{"$f":"IF(J57=\"\",0,IF(K58=$B$120,IF(H57<J57,3,IF(H57=J57,1,0)),0))","v":0},null,{"$f":"RANK(AD52,$AD$52:$AD$55)","v":2},"I1",{"$f":"SUM(S52:V52)","v":6},{"$f":"SUM(S56:V56)","v":2},{"$f":"SUM(S56:S59)","v":1},{"$f":"AA52-AB52","v":1},{"$f":"IF(P$28=\"\",(((((((AE52*10+Z52)*100+AC52)*100+AA52)*10+AK52)*10+AJ52)*100+AP52)*100+AU52)*10+AV52,(((((((AE52*10+Z52)*10+AK52)*10+AJ52)*100+AP52)*100+AU52)*100+AC52)*100+AA52)*10+AV52)","v":596990001024},null,null,{"$f":"IF($Z52=$Z53,$T52-$S53,0)","v":0},{"$f":"IF($Z52=$Z54,$U52-$S54,0)","v":0},{"$f":"IF($Z52=$Z55,$V52-$S55,0)","v":-3},{"$f":"SUM(AF52:AI52)","v":-3},null,null,{"$f":"IF($Z52=$Z53,$T56-$S57,0)","v":0},{"$f":"IF($Z52=$Z54,$U56-$S58,0)","v":0},{"$f":"IF($Z52=$Z55,$V56-$S59,0)","v":-1},{"$f":"SUM(AL52:AO52)","v":-1},null,{"$f":"IF($Z52=$Z53,$T56,0)","v":0},{"$f":"IF($Z52=$Z54,$U56,0)","v":0},{"$f":"IF($Z52=$Z55,$V56,0)","v":0},{"$f":"SUM(AQ52:AT52)","v":0},4,null,null,null,null,null,"Datum/Zeit","Spielort",null,null,null,null,null,null,null,null,null,{"$f":"VLOOKUP(1,$BX$52:$CC$55,2,FALSE)","v":"L4"},{"$f":"VLOOKUP(1,$BX$52:$CC$55,3,FALSE)","v":6},{"$f":"VLOOKUP(1,$BX$52:$CC$55,4,FALSE)","v":2},{"$f":"VLOOKUP(1,$BX$52:$CC$55,5,FALSE)","v":1},{"$f":"VLOOKUP(1,$BX$52:$CC$55,6,FALSE)","v":1},null,null,{"$f":"IF(BH53=\"\",0,IF(BK53=$B$120,IF(BH53>BJ53,3,IF(BH53=BJ53,1,0)),0))","v":3},{"$f":"IF(BH55=\"\",0,IF(BK55=$B$120,IF(BH55>BJ55,3,IF(BH55=BJ55,1,0)),0))","v":3},{"$f":"IF(BJ57=\"\",0,IF(BK58=$B$120,IF(BH57<BJ57,3,IF(BH57=BJ57,1,0)),0))","v":0},null,{"$f":"RANK(CD52,$CD$52:$CD$55)","v":2},"L1",{"$f":"SUM(BS52:BV52)","v":6},{"$f":"SUM(BS56:BV56)","v":2},{"$f":"SUM(BS56:BS59)","v":1},{"$f":"CA52-CB52","v":1},{"$f":"IF(BP$28=\"\",(((((((CE52*10+BZ52)*100+CC52)*100+CA52)*10+CK52)*10+CJ52)*100+CP52)*100+CU52)*10+CV52,(((((((CE52*10+BZ52)*10+CK52)*10+CJ52)*100+CP52)*100+CU52)*100+CC52)*100+CA52)*10+CV52)","v":596990001024},null,null,{"$f":"IF($BZ52=$BZ53,$BT52-$BS53,0)","v":0},{"$f":"IF($BZ52=$BZ54,$BU52-$BS54,0)","v":0},{"$f":"IF($BZ52=$BZ55,$BV52-$BS55,0)","v":-3},{"$f":"SUM(CF52:CI52)","v":-3},null,null,{"$f":"IF($BZ52=$BZ53,$BT56-$BS57,0)","v":0},{"$f":"IF($BZ52=$BZ54,$BU56-$BS58,0)","v":0},{"$f":"IF($BZ52=$BZ55,$BV56-$BS59,0)","v":-1},{"$f":"SUM(CL52:CO52)","v":-1},null,{"$f":"IF($BZ52=$BZ53,$BT56,0)","v":0},{"$f":"IF($BZ52=$BZ54,$BU56,0)","v":0},{"$f":"IF($BZ52=$BZ55,$BV56,0)","v":0},{"$f":"SUM(CQ52:CT52)","v":0},4]
[5,"2026-06-16T18:00:00","Stuttgart",{"$f":"Y52","v":"I1"},"-",{"$f":"Y53","v":"I2"},null,{"$f":"IF($B$121=\"\",1,INT(RAND()*5)+INT(RAND()*3)*INT(RAND()*2))","v":1},":",{"$f":"IF($B$121=\"\",0,INT(RAND()*5)+INT(RAND()*3)*INT(RAND()*2))","v":0},"ok",null,{"$f":"VLOOKUP(2,$X$52:$AC$55,2,FALSE)","v":"I1"},{"$f":"VLOOKUP(2,$X$52:$AC$55,3,FALSE)","v":6},{"$f":"VLOOKUP(2,$X$52:$AC$55,4,FALSE)","v":2},{"$f":"VLOOKUP(2,$X$52:$AC$55,5,FALSE)","v":1},{"$f":"VLOOKUP(2,$X$52:$AC$55,6,FALSE)","v":1},null,{"$f":"IF(J53=\"\",0,IF(K53=$B$120,IF(H53<J53,3,IF(H53=J53,1,0)),0))","v":0},null,{"$f":"IF(H58=\"\",0,IF(K57=$B$120,IF(H58>J58,3,IF(H58=J58,1,0)),0))","v":3},{"$f":"IF(J56=\"\",0,IF(K56=$B$120,IF(J56>H56,3,IF(J56=H56,1,0)),0))","v":0},null,{"$f":"RANK(AD53,$AD$52:$AD$55)","v":3},"I2",{"$f":"SUM(S53:V53)","v":3},{"$f":"SUM(S57:V57)","v":1},{"$f":"SUM(T56:T59)","v":2},{"$f":"AA53-AB53","v":-1},{"$f":"IF(P$28=\"\",(((((((AE53*10+Z53)*100+AC53)*100+AA53)*10+AK53)*10+AJ53)*100+AP53)*100+AU53)*10+AV53,(((((((AE53*10+Z53)*10+AK53)*10+AJ53)*100+AP53)*100+AU53)*100+AC53)*100+AA53)*10+AV53)","v":303010099013},null,{"$f":"IF($Z53=$Z52,$S53-$T52,0)","v":0},null,{"$f":"IF($Z53=$Z54,$U53-$T54,0)","v":3},{"$f":"IF($Z53=$Z55,$V53-$T55,0)","v":0},{"$f":"SUM(AF53:AI53)","v":3},null,{"$f":"IF($Z53=$Z52,$S57-$T56,0)","v":0},null,{"$f":"IF($Z53=$Z54,$U57-$T58,0)","v":1},{"$f":"IF($Z53=$Z55,$V57-$T59,0)","v":0},{"$f":"SUM(AL53:AO53)","v":1},{"$f":"IF($Z53=$Z52,$S57,0)","v":0},null,{"$f":"IF($Z53=$Z54,$U57,0)","v":1},{"$f":"IF($Z53=$Z55,$V57,0)","v":0},{"$f":"SUM(AQ53:AT53)","v":1},3,null,null,null,null,11,"2026-06-18T18:00:00","Dortmund",{"$f":"BY52","v":"L1"},"-",{"$f":"BY53","v":"L2"},null,{"$f":"IF($B$121=\"\",1,INT(RAND()*5)+INT(RAND()*3)*INT(RAND()*2))","v":1},":",{"$f":"IF($B$121=\"\",0,INT(RAND()*5)+INT(RAND()*3)*INT(RAND()*2))","v":0},"ok",null,{"$f":"VLOOKUP(2,$BX$52:$CC$55,2,FALSE)","v":"L1"},{"$f":"VLOOKUP(2,$BX$52:$CC$55,3,FALSE)","v":6},{"$f":"VLOOKUP(2,$BX$52:$CC$55,4,FALSE)","v":2},{"$f":"VLOOKUP(2,$BX$52:$CC$55,5,FALSE)","v":1},{"$f":"VLOOKUP(2,$BX$52:$CC$55,6,FALSE)","v":1},null,{"$f":"IF(BJ53=\"\",0,IF(BK53=$B$120,IF(BH53<BJ53,3,IF(BH53=BJ53,1,0)),0))","v":0},null,{"$f":"IF(BH58=\"\",0,IF(BK57=$B$120,IF(BH58>BJ58,3,IF(BH58=BJ58,1,0)),0))","v":3},{"$f":"IF(BJ56=\"\",0,IF(BK56=$B$120,IF(BJ56>BH56,3,IF(BJ56=BH56,1,0)),0))","v":0},null,{"$f":"RANK(CD53,$CD$52:$CD$55)","v":3},"L2",{"$f":"SUM(BS53:BV53)","v":3},{"$f":"SUM(BS57:BV57)","v":1},{"$f":"SUM(BT56:BT59)","v":2},{"$f":"CA53-CB53","v":-1},{"$f":"IF(BP$28=\"\",(((((((CE53*10+BZ53)*100+CC53)*100+CA53)*10+CK53)*10+CJ53)*100+CP53)*100+CU53)*10+CV53,(((((((CE53*10+BZ53)*10+CK53)*10+CJ53)*100+CP53)*100+CU53)*100+CC53)*100+CA53)*10+CV53)","v":303010099013},null,{"$f":"IF($BZ53=$BZ52,$BS53-$BT52,0)","v":0},null,{"$f":"IF($BZ53=$BZ54,$BU53-$BT54,0)","v":3},{"$f":"IF($BZ53=$BZ55,$BV53-$BT55,0)","v":0},{"$f":"SUM(CF53:CI53)","v":3},null,{"$f":"IF($BZ53=$BZ52,$BS57-$BT56,0)","v":0},null,{"$f":"IF($BZ53=$BZ54,$BU57-$BT58,0)","v":1},{"$f":"IF($BZ53=$BZ55,$BV57-$BT59,0)","v":0},{"$f":"SUM(CL53:CO53)","v":1},{"$f":"IF($BZ53=$BZ52,$BS57,0)","v":0},null,{"$f":"IF($BZ53=$BZ54,$BU57,0)","v":1},{"$f":"IF($BZ53=$BZ55,$BV57,0)","v":0},{"$f":"SUM(CQ53:CT53)","v":1},3]
[6,"2026-05-16T21:00:00","Gelsenkirchen",{"$f":"Y54","v":"I3"},"-",{"$f":"Y55","v":"I4"},null,1,":",0,"ok",null,{"$f":"VLOOKUP(3,$X$52:$AC$55,2,FALSE)","v":"I2"},{"$f":"VLOOKUP(3,$X$52:$AC$55,3,FALSE)","v":3},{"$f":"VLOOKUP(3,$X$52:$AC$55,4,FALSE)","v":1},{"$f":"VLOOKUP(3,$X$52:$AC$55,5,FALSE)","v":2},{"$f":"VLOOKUP(3,$X$52:$AC$55,6,FALSE)","v":-1},null,{"$f":"IF(J55=\"\",0,IF(K55=$B$120,IF(H55<J55,3,IF(H55=J55,1,0)),0))","v":0},{"$f":"IF(J58=\"\",0,IF(K57=$B$120,IF(H58<J58,3,IF(H58=J58,1,0)),0))","v":0},null,{"$f":"IF(H54=\"\",0,IF(K54=$B$120,IF(H54>J54,3,IF(H54=J54,1,0)),0))","v":3},null,{"$f":"RANK(AD54,$AD$52:$AD$55)","v":4},"I3",{"$f":"SUM(S54:V54)","v":3},{"$f":"SUM(S58:V58)","v":1},{"$f":"SUM(U56:U59)","v":2},{"$f":"AA54-AB54","v":-1},{"$f":"IF(P$28=\"\",(((((((AE54*10+Z54)*100+AC54)*100+AA54)*10+AK54)*10+AJ54)*100+AP54)*100+AU54)*10+AV54,(((((((AE54*10+Z54)*10+AK54)*10+AJ54)*100+AP54)*100+AU54)*100+AC54)*100+AA54)*10+AV54)","v":296989999012},null,{"$f":"IF($Z54=$Z52,$S54-$U52,0)","v":0},{"$f":"IF($Z54=$Z53,$T54-$U53,0)","v":-3},null,{"$f":"IF($Z54=$Z55,$V54-$U55,0)","v":0},{"$f":"SUM(AF54:AI54)","v":-3},null,{"$f":"IF($Z54=$Z52,$S58-$U56,0)","v":0},{"$f":"IF($Z54=$Z53,$T58-$U57,0)","v":-1},null,{"$f":"IF($Z54=$Z55,$V58-$U59,0)","v":0},{"$f":"SUM(AL54:AO54)","v":-1},{"$f":"IF($Z54=$Z52,$S58,0)","v":0},{"$f":"IF($Z54=$Z53,$T58,0)","v":0},null,{"$f":"IF($Z54=$Z55,$V58,0)","v":0},{"$f":"SUM(AQ54:AT54)","v":0},2,null,null,null,null,12,"2026-06-18T21:00:00","Leipzig",{"$f":"BY54","v":"L3"},"-",{"$f":"BY55","v":"L4"},null,1,":",0,"ok",null,{"$f":"VLOOKUP(3,$BX$52:$CC$55,2,FALSE)","v":"L2"},{"$f":"VLOOKUP(3,$BX$52:$CC$55,3,FALSE)","v":3},{"$f":"VLOOKUP(3,$BX$52:$CC$55,4,FALSE)","v":1},{"$f":"VLOOKUP(3,$BX$52:$CC$55,5,FALSE)","v":2},{"$f":"VLOOKUP(3,$BX$52:$CC$55,6,FALSE)","v":-1},null,{"$f":"IF(BJ55=\"\",0,IF(BK55=$B$120,IF(BH55<BJ55,3,IF(BH55=BJ55,1,0)),0))","v":0},{"$f":"IF(BJ58=\"\",0,IF(BK57=$B$120,IF(BH58<BJ58,3,IF(BH58=BJ58,1,0)),0))","v":0},null,{"$f":"IF(BH54=\"\",0,IF(BK54=$B$120,IF(BH54>BJ54,3,IF(BH54=BJ54,1,0)),0))","v":3},null,{"$f":"RANK(CD54,$CD$52:$CD$55)","v":4},"L3",{"$f":"SUM(BS54:BV54)","v":3},{"$f":"SUM(BS58:BV58)","v":1},{"$f":"SUM(BU56:BU59)","v":2},{"$f":"CA54-CB54","v":-1},{"$f":"IF(BP$28=\"\",(((((((CE54*10+BZ54)*100+CC54)*100+CA54)*10+CK54)*10+CJ54)*100+CP54)*100+CU54)*10+CV54,(((((((CE54*10+BZ54)*10+CK54)*10+CJ54)*100+CP54)*100+CU54)*100+CC54)*100+CA54)*10+CV54)","v":296989999012},null,{"$f":"IF($BZ54=$BZ52,$BS54-$BU52,0)","v":0},{"$f":"IF($BZ54=$BZ53,$BT54-$BU53,0)","v":-3},null,{"$f":"IF($BZ54=$BZ55,$BV54-$BU55,0)","v":0},{"$f":"SUM(CF54:CI54)","v":-3},null,{"$f":"IF($BZ54=$BZ52,$BS58-$BU56,0)","v":0},{"$f":"IF($BZ54=$BZ53,$BT58-$BU57,0)","v":-1},null,{"$f":"IF($BZ54=$BZ55,$BV58-$BU59,0)","v":0},{"$f":"SUM(CL54:CO54)","v":-1},{"$f":"IF($BZ54=$BZ52,$BS58,0)","v":0},{"$f":"IF($BZ54=$BZ53,$BT58,0)","v":0},null,{"$f":"IF($BZ54=$BZ55,$BV58,0)","v":0},{"$f":"SUM(CQ54:CT54)","v":0},2]
[{"$f":"A53+12","v":17},"2026-06-20T15:00:00","München",{"$f":"Y52","v":"I1"},"-",{"$f":"Y54","v":"I3"},null,1,":",0,"ok",null,{"$f":"VLOOKUP(4,$X$52:$AC$55,2,FALSE)","v":"I3"},{"$f":"VLOOKUP(4,$X$52:$AC$55,3,FALSE)","v":3},{"$f":"VLOOKUP(4,$X$52:$AC$55,4,FALSE)","v":1},{"$f":"VLOOKUP(4,$X$52:$AC$55,5,FALSE)","v":2},{"$f":"VLOOKUP(4,$X$52:$AC$55,6,FALSE)","v":-1},null,{"$f":"IF(H57=\"\",0,IF(K58=$B$120,IF(H57>J57,3,IF(H57=J57,1,0)),0))","v":3},{"$f":"IF(H56=\"\",0,IF(K56=$B$120,IF(J56<H56,3,IF(J56=H56,1,0)),0))","v":3},{"$f":"IF(J54=\"\",0,IF(K54=$B$120,IF(H54<J54,3,IF(H54=J54,1,0)),0))","v":0},null,null,{"$f":"RANK(AD55,$AD$52:$AD$55)","v":1},"I4",{"$f":"SUM(S55:V55)","v":6},{"$f":"SUM(S59:V59)","v":2},{"$f":"SUM(V56:V59)","v":1},{"$f":"AA55-AB55","v":1},{"$f":"IF(P$28=\"\",(((((((AE55*10+Z55)*100+AC55)*100+AA55)*10+AK55)*10+AJ55)*100+AP55)*100+AU55)*10+AV55,(((((((AE55*10+Z55)*10+AK55)*10+AJ55)*100+AP55)*100+AU55)*100+AC55)*100+AA55)*10+AV55)","v":603010101021},null,{"$f":"IF($Z55=$Z52,$S55-$V52,0)","v":3},{"$f":"IF($Z55=$Z53,$T55-$V53,0)","v":0},{"$f":"IF($Z55=$Z54,$U55-$V54,0)","v":0},null,{"$f":"SUM(AF55:AI55)","v":3},null,{"$f":"IF($Z55=$Z52,$S59-$V56,0)","v":1},{"$f":"IF($Z55=$Z53,$T59-$V57,0)","v":0},{"$f":"IF($Z55=$Z54,$U59-$V58,0)","v":0},null,{"$f":"SUM(AL55:AO55)","v":1},{"$f":"IF($Z55=$Z52,$S59,0)","v":1},{"$f":"IF($Z55=$Z53,$T59,0)","v":0},{"$f":"IF($Z55=$Z54,$U59,0)","v":0},null,{"$f":"SUM(AQ55:AT55)","v":1},1,null,null,null,null,{"$f":"BA53+12","v":23},"2026-06-22T18:00:00","Dortmund",{"$f":"BY52","v":"L1"},"-",{"$f":"BY54","v":"L3"},null,1,":",0,"ok",null,{"$f":"VLOOKUP(4,$BX$52:$CC$55,2,FALSE)","v":"L3"},{"$f":"VLOOKUP(4,$BX$52:$CC$55,3,FALSE)","v":3},{"$f":"VLOOKUP(4,$BX$52:$CC$55,4,FALSE)","v":1},{"$f":"VLOOKUP(4,$BX$52:$CC$55,5,FALSE)","v":2},{"$f":"VLOOKUP(4,$BX$52:$CC$55,6,FALSE)","v":-1},null,{"$f":"IF(BH57=\"\",0,IF(BK58=$B$120,IF(BH57>BJ57,3,IF(BH57=BJ57,1,0)),0))","v":3},{"$f":"IF(BH56=\"\",0,IF(BK56=$B$120,IF(BJ56<BH56,3,IF(BJ56=BH56,1,0)),0))","v":3},{"$f":"IF(BJ54=\"\",0,IF(BK54=$B$120,IF(BH54<BJ54,3,IF(BH54=BJ54,1,0)),0))","v":0},null,null,{"$f":"RANK(CD55,$CD$52:$CD$55)","v":1},"L4",{"$f":"SUM(BS55:BV55)","v":6},{"$f":"SUM(BS59:BV59)","v":2},{"$f":"SUM(BV56:BV59)","v":1},{"$f":"CA55-CB55","v":1},{"$f":"IF(BP$28=\"\",(((((((CE55*10+BZ55)*100+CC55)*100+CA55)*10+CK55)*10+CJ55)*100+CP55)*100+CU55)*10+CV55,(((((((CE55*10+BZ55)*10+CK55)*10+CJ55)*100+CP55)*100+CU55)*100+CC55)*100+CA55)*10+CV55)","v":603010101021},null,{"$f":"IF($BZ55=$BZ52,$BS55-$BV52,0)","v":3},{"$f":"IF($BZ55=$BZ53,$BT55-$BV53,0)","v":0},{"$f":"IF($BZ55=$BZ54,$BU55-$BV54,0)","v":0},null,{"$f":"SUM(CF55:CI55)","v":3},null,{"$f":"IF($BZ55=$BZ52,$BS59-$BV56,0)","v":1},{"$f":"IF($BZ55=$BZ53,$BT59-$BV57,0)","v":0},{"$f":"IF($BZ55=$BZ54,$BU59-$BV58,0)","v":0},null,{"$f":"SUM(CL55:CO55)","v":1},{"$f":"IF($BZ55=$BZ52,$BS59,0)","v":1},{"$f":"IF($BZ55=$BZ53,$BT59,0)","v":0},{"$f":"IF($BZ55=$BZ54,$BU59,0)","v":0},null,{"$f":"SUM(CQ55:CT55)","v":1},1]
[{"$f":"A54+12","v":18},"2026-06-20T18:00:00","England",{"$f":"Y55","v":"I4"},"-",{"$f":"Y53","v":"I2"},null,1,":",0,"ok",null,null,null,null,null,null,null,null,{"$f":"IF(K53=$B$120,H53,0)","v":1},{"$f":"IF(K55=$B$120,H55,0)","v":1},{"$f":"IF(K58=$B$120,J57,0)","v":0},null,null,null,null,null,null,null,null,null,null,null,null,null,null,null,null,null,null,null,null,null,null,null,null,null,null,null,null,null,null,{"$f":"BA54+12","v":24},"2026-06-22T15:00:00","Hamburg",{"$f":"BY55","v":"L4"},"-",{"$f":"BY53","v":"L2"},null,1,":",0,"ok",null,null,null,null,null,null,null,null,{"$f":"IF(BK53=$B$120,BH53,0)","v":1},{"$f":"IF(BK55=$B$120,BH55,0)","v":1},{"$f":"IF(BK58=$B$120,BJ57,0)","v":0}]
[{"$f":"A55+12","v":29},"2026-06-25T21:00:00","Köln",{"$f":"Y55","v":"I4"},"-",{"$f":"Y52","v":"I1"},null,1,":",0,"ok",null,{"$f":"IF(N52>0,M52,\"\")","v":"I4"},"1I",null,null,null,null,{"$f":"IF(K53=$B$120,J53,0)","v":0},null,{"$f":"IF(K57=$B$120,H58,0)","v":1},{"$f":"IF(K56=$B$120,J56,0)","v":0},null,null,null,null,null,null,null,"L0=AE hebelt Berechnung aus (top level Losen)",null,null,null,null,null,null,null,null,null,null,null,null,null,null,null,null,null,null,null,null,null,null,{"$f":"BA55+12","v":35},"2026-06-26T21:00:00","Hamburg",{"$f":"BY55","v":"L4"},"-",{"$f":"BY52","v":"L1"},null,1,":",0,"ok",null,{"$f":"IF(BN52>0,BM52,\"\")","v":"L4"},"1L",null,null,null,null,{"$f":"IF(BK53=$B$120,BJ53,0)","v":0},null,{"$f":"IF(BK57=$B$120,BH58,0)","v":1},{"$f":"IF(BK56=$B$120,BJ56,0)","v":0},null,null,null,null,null,null,null,"L0=AE hebelt Berechnung aus (top level Losen)"]
[{"$f":"A56+12","v":30},"2026-06-25T21:00:00","München",{"$f":"Y53","v":"I2"},"-",{"$f":"Y54","v":"I3"},null,1,":",0,"ok",null,{"$f":"IF(N53>0,M53,\"\")","v":"I1"},"2I",null,"DV",null,null,{"$f":"IF(K55=$B$120,J55,0)","v":0},{"$f":"IF(K57=$B$120,J58,0)","v":0},null,{"$f":"IF(K54=$B$120,H54,0)","v":1},null,null,null,null,null,null,null,"L1=AK hebelt Direktvergleich (S1) aus",null,null,null,null,null,null,null,null,null,null,null,null,null,null,null,null,null,null,null,null,null,null,{"$f":"BA56+12","v":36},"2026-06-26T21:00:00","Gelsenkirchen",{"$f":"BY53","v":"L2"},"-",{"$f":"BY54","v":"L3"},null,1,":",0,"ok",null,{"$f":"IF(BN53>0,BM53,\"\")","v":"L1"},"2L",null,"DV",null,null,{"$f":"IF(BK55=$B$120,BJ55,0)","v":0},{"$f":"IF(BK57=$B$120,BJ58,0)","v":0},null,{"$f":"IF(BK54=$B$120,BH54,0)","v":1},null,null,null,null,null,null,null,"L1=AK hebelt Direktvergleich (S1) aus"]
[null,null,null,null,null,null,null,null,null,null,null,null,{"$f":"IF(N54>0,M54,\"\")","v":"I2"},"3I",null,null,null,null,{"$f":"IF(K58=$B$120,H57,0)","v":1},{"$f":"IF(K56=$B$120,H56,0)","v":1},{"$f":"IF(K54=$B$120,J54,0)","v":0},null,null,null,null,null,null,null,null,"L4=AV Losen UEFA-Koeffizient, Fairplay oder Münzwurf",null,null,null,null,null,null,null,null,null,null,null,null,null,null,null,null,null,null,null,null,null,null,null,null,null,null,null,null,null,null,null,null,null,null,{"$f":"IF(BN54>0,BM54,\"\")","v":"L2"},"3L",null,null,null,null,{"$f":"IF(BK58=$B$120,BH57,0)","v":1},{"$f":"IF(BK56=$B$120,BH56,0)","v":1},{"$f":"IF(BK54=$B$120,BJ54,0)","v":0},null,null,null,null,null,null,null,null,"L4=AV Losen UEFA-Koeffizient, Fairplay oder Münzwurf"]
[]
[null,"Gruppendritte",{"$f":"CONCATENATE(H65,H66,H67,H68,H69,H70,H71,H72)","v":"ABCDEFGH"}]
[null,null,null,null,null,null,null,null,null,null,null,null,"Reihenfolge nur zur Gruppenauswahl"]
[]
[null,"Team 1","Dritter","(falls manuell)",null,"Team 2",null,null,null,null,null,null,"Tabelle","P","T+","T-","T+/-","C","G",null,null,null,null,"R","Gruppendritte",null,null,null,null,null,"L0","G",null,null,null,null,null,null,null,null,null,null,null,null,null,null,null,"L8"]
[null,{"$f":"'AnnixC-WM2026'!C1","v":"1A"},{"$f":"INDEX('AnnixC-WM2026'!C:C, MATCH($C$61, 'AnnixC-WM2026'!$B:$B, 0))","v":"3H"},{"$f":"IF(AE85=\"\",C65,AC85)","v":"3H"},null,{"$f":"VLOOKUP(CODE(MID(D65,2,1))-64,$L$65:$M$76,2,FALSE)","v":"H2"},null,{"$f":"CHAR(J65+64)","v":"A"},null,{"$f":"SMALL(R$65:R$72,1)","v":1},{"$f":"S65","v":"A"},{"$f":"CODE(K65)-64","v":1},{"$f":"VLOOKUP(1,$X$65:$AC$76,2,FALSE)","v":"A2"},{"$f":"VLOOKUP(1,$X$65:$AC$76,3,FALSE)","v":3},{"$f":"VLOOKUP(1,$X$65:$AC$76,4,FALSE)","v":1},{"$f":"VLOOKUP(1,$X$65:$AC$76,5,FALSE)","v":2},{"$f":"VLOOKUP(1,$X$65:$AC$76,6,FALSE)","v":-1},{"$f":"CODE(S65)-64","v":1},{"$f":"MID(VLOOKUP(1,$X$65:$AF$76,9,FALSE),2,1)","v":"A"},null,null,null,null,{"$f":"RANK(AD65,$AD$65:$AD$76)","v":1},{"$f":"M4","v":"A2"},{"$f":"N4","v":3},{"$f":"O4","v":1},{"$f":"P4","v":2},{"$f":"Q4","v":-1},{"$f":"AE65*10000000000000000+Z65*100000000000000+AC65*1000000000000+AA65*10000000000+AV65","v":299010000000012},null,{"$f":"N9","v":"3A"},null,null,null,null,null,null,null,null,null,null,null,null,null,null,null,12]
[null,{"$f":"'AnnixC-WM2026'!D1","v":"1B"},{"$f":"INDEX('AnnixC-WM2026'!D:D, MATCH($C$61, 'AnnixC-WM2026'!$B:$B, 0))","v":"3G"},{"$f":"IF(AE86=\"\",C66,AC86)","v":"3G"},null,{"$f":"VLOOKUP(CODE(MID(D66,2,1))-64,$L$65:$M$76,2,FALSE)","v":"G2"},null,"B",null,{"$f":"SMALL(R$65:R$72,2)","v":2},"B",2,{"$f":"VLOOKUP(2,$X$65:$AC$76,2,FALSE)","v":"B2"},{"$f":"VLOOKUP(2,$X$65:$AC$76,3,FALSE)","v":3},{"$f":"VLOOKUP(2,$X$65:$AC$76,4,FALSE)","v":1},{"$f":"VLOOKUP(2,$X$65:$AC$76,5,FALSE)","v":2},{"$f":"VLOOKUP(2,$X$65:$AC$76,6,FALSE)","v":-1},2,{"$f":"MID(VLOOKUP(2,$X$65:$AF$76,9,FALSE),2,1)","v":"B"},null,null,null,null,{"$f":"RANK(AD66,$AD$65:$AD$76)","v":2},{"$f":"M14","v":"B2"},{"$f":"N14","v":3},{"$f":"O14","v":1},{"$f":"P14","v":2},{"$f":"Q14","v":-1},299010000000011,null,{"$f":"N19","v":"3B"},null,null,null,null,null,null,null,null,null,null,null,null,null,null,null,{"$f":"AV65-1","v":11}]
[null,{"$f":"'AnnixC-WM2026'!E1","v":"1D"},{"$f":"INDEX('AnnixC-WM2026'!E:E, MATCH($C$61, 'AnnixC-WM2026'!$B:$B, 0))","v":"3B"},"3B",null,"B2",null,"C",null,{"$f":"SMALL(R$65:R$72,3)","v":3},"C",3,{"$f":"VLOOKUP(3,$X$65:$AC$76,2,FALSE)","v":"C3"},{"$f":"VLOOKUP(3,$X$65:$AC$76,3,FALSE)","v":3},{"$f":"VLOOKUP(3,$X$65:$AC$76,4,FALSE)","v":1},{"$f":"VLOOKUP(3,$X$65:$AC$76,5,FALSE)","v":2},{"$f":"VLOOKUP(3,$X$65:$AC$76,6,FALSE)","v":-1},3,{"$f":"MID(VLOOKUP(3,$X$65:$AF$76,9,FALSE),2,1)","v":"C"},null,null,null,null,3,{"$f":"M24","v":"C3"},{"$f":"N24","v":3},{"$f":"O24","v":1},{"$f":"P24","v":2},{"$f":"Q24","v":-1},299010000000010,null,{"$f":"N29","v":"3C"},null,null,null,null,null,null,null,null,null,null,null,null,null,null,null,{"$f":"AV66-1","v":10}]
[null,{"$f":"'AnnixC-WM2026'!F1","v":"1E"},{"$f":"INDEX('AnnixC-WM2026'!F:F, MATCH($C$61, 'AnnixC-WM2026'!$B:$B, 0))","v":"3C"},"3C",null,"C3",null,"D",null,{"$f":"SMALL(R$65:R$72,4)","v":4},"D",4,{"$f":"VLOOKUP(4,$X$65:$AC$76,2,FALSE)","v":"D2"},{"$f":"VLOOKUP(4,$X$65:$AC$76,3,FALSE)","v":3},{"$f":"VLOOKUP(4,$X$65:$AC$76,4,FALSE)","v":1},{"$f":"VLOOKUP(4,$X$65:$AC$76,5,FALSE)","v":2},{"$f":"VLOOKUP(4,$X$65:$AC$76,6,FALSE)","v":-1},4,{"$f":"MID(VLOOKUP(4,$X$65:$AF$76,9,FALSE),2,1)","v":"D"},null,null,null,null,4,{"$f":"BM4","v":"D2"},{"$f":"BN4","v":3},{"$f":"BO4","v":1},{"$f":"BP4","v":2},{"$f":"BQ4","v":-1},299010000000009,null,{"$f":"BN9","v":"3D"},null,null,null,null,null,null,null,null,null,null,null,null,null,null,null,9]
[null,{"$f":"'AnnixC-WM2026'!G1","v":"1G"},{"$f":"INDEX('AnnixC-WM2026'!G:G, MATCH($C$61, 'AnnixC-WM2026'!$B:$B, 0))","v":"3A"},"3A",null,"A2",null,"E",null,{"$f":"SMALL(R$65:R$72,5)","v":5},"E",5,{"$f":"VLOOKUP(5,$X$65:$AC$76,2,FALSE)","v":"E2"},{"$f":"VLOOKUP(5,$X$65:$AC$76,3,FALSE)","v":3},{"$f":"VLOOKUP(5,$X$65:$AC$76,4,FALSE)","v":1},{"$f":"VLOOKUP(5,$X$65:$AC$76,5,FALSE)","v":2},{"$f":"VLOOKUP(5,$X$65:$AC$76,6,FALSE)","v":-1},5,{"$f":"MID(VLOOKUP(5,$X$65:$AF$76,9,FALSE),2,1)","v":"E"},null,null,null,null,5,{"$f":"BM14","v":"E2"},{"$f":"BN14","v":3},{"$f":"BO14","v":1},{"$f":"BP14","v":2},{"$f":"BQ14","v":-1},299010000000008,null,{"$f":"BN19","v":"3E"},null,null,null,null,null,null,null,null,null,null,null,null,null,null,null,8]
[null,{"$f":"'AnnixC-WM2026'!H1","v":"1I"},{"$f":"INDEX('AnnixC-WM2026'!H:H, MATCH($C$61, 'AnnixC-WM2026'!$B:$B, 0))","v":"3F"},"3F",null,"F2",null,"F",null,{"$f":"SMALL(R$65:R$72,6)","v":6},"F",6,{"$f":"VLOOKUP(6,$X$65:$AC$76,2,FALSE)","v":"F2"},{"$f":"VLOOKUP(6,$X$65:$AC$76,3,FALSE)","v":3},{"$f":"VLOOKUP(6,$X$65:$AC$76,4,FALSE)","v":1},{"$f":"VLOOKUP(6,$X$65:$AC$76,5,FALSE)","v":2},{"$f":"VLOOKUP(6,$X$65:$AC$76,6,FALSE)","v":-1},6,{"$f":"MID(VLOOKUP(6,$X$65:$AF$76,9,FALSE),2,1)","v":"F"},null,null,null,null,6,{"$f":"BM24","v":"F2"},{"$f":"BN24","v":3},{"$f":"BO24","v":1},{"$f":"BP24","v":2},{"$f":"BQ24","v":-1},299010000000007,null,{"$f":"BN29","v":"3F"},null,null,null,null,null,null,null,null,null,null,null,null,null,null,null,7]
[null,{"$f":"'AnnixC-WM2026'!I1","v":"1K"},{"$f":"INDEX('AnnixC-WM2026'!I:I, MATCH($C$61, 'AnnixC-WM2026'!$B:$B, 0))","v":"3D"},"3D",null,"D2",null,"G",null,{"$f":"SMALL(R$65:R$72,7)","v":7},{"$f":"S71","v":"G"},{"$f":"CODE(K71)-64","v":7},{"$f":"VLOOKUP(7,$X$65:$AC$76,2,FALSE)","v":"G2"},3,1,2,-1,7,{"$f":"MID(VLOOKUP(7,$X$65:$AF$76,9,FALSE),2,1)","v":"G"},null,null,null,null,7,{"$f":"M34","v":"G2"},{"$f":"N34","v":3},{"$f":"O34","v":1},{"$f":"P34","v":2},{"$f":"Q34","v":-1},299010000000006,null,"3G",null,null,null,null,null,null,null,null,null,null,null,null,null,null,null,6]
[null,{"$f":"'AnnixC-WM2026'!J1","v":"1L"},{"$f":"INDEX('AnnixC-WM2026'!J:J, MATCH($C$61, 'AnnixC-WM2026'!$B:$B, 0))","v":"3E"},"3E",null,"E2",null,"H",null,{"$f":"SMALL(R$65:R$72,8)","v":8},"H",8,{"$f":"VLOOKUP(8,$X$65:$AC$76,2,FALSE)","v":"H2"},3,1,2,-1,8,{"$f":"MID(VLOOKUP(8,$X$65:$AF$76,9,FALSE),2,1)","v":"H"},null,null,null,null,8,{"$f":"M44","v":"H2"},{"$f":"N44","v":3},{"$f":"O44","v":1},{"$f":"P44","v":2},{"$f":"Q44","v":-1},299010000000005,null,"3H",null,null,null,null,null,null,null,null,null,null,null,null,null,null,null,5]
[null,null,null,null,null,null,null,null,null,null,"I",9,{"$f":"VLOOKUP(9,$X$65:$AC$76,2,FALSE)","v":"I2"},3,1,2,-1,9,{"$f":"MID(VLOOKUP(9,$X$65:$AF$76,9,FALSE),2,1)","v":"I"},null,null,null,null,9,{"$f":"M54","v":"I2"},{"$f":"N54","v":3},{"$f":"O54","v":1},{"$f":"P54","v":2},{"$f":"Q54","v":-1},299010000000004,null,"3I",null,null,null,null,null,null,null,null,null,null,null,null,null,null,null,4]
[null,null,null,null,null,null,null,null,null,null,"J",10,{"$f":"VLOOKUP(10,$X$65:$AC$76,2,FALSE)","v":"J2"},3,1,2,-1,10,{"$f":"MID(VLOOKUP(10,$X$65:$AF$76,9,FALSE),2,1)","v":"J"},null,null,null,null,10,{"$f":"BM34","v":"J2"},{"$f":"BN34","v":3},{"$f":"BO34","v":1},{"$f":"BP34","v":2},{"$f":"BQ34","v":-1},299010000000003,null,"3J",null,null,null,null,null,null,null,null,null,null,null,null,null,null,null,3]
[null,null,null,null,null,null,null,null,null,null,"K",11,{"$f":"VLOOKUP(11,$X$65:$AC$76,2,FALSE)","v":"K2"},3,1,2,-1,11,{"$f":"MID(VLOOKUP(11,$X$65:$AF$76,9,FALSE),2,1)","v":"K"},null,null,null,null,11,{"$f":"BM44","v":"K2"},{"$f":"BN44","v":3},{"$f":"BO44","v":1},{"$f":"BP44","v":2},{"$f":"BQ44","v":-1},299010000000002,null,"3K",null,null,null,null,null,null,null,null,null,null,null,null,null,null,null,2]
[null,null,null,null,null,null,null,null,null,null,"L",12,{"$f":"VLOOKUP(12,$X$65:$AC$76,2,FALSE)","v":"L2"},3,1,2,-1,12,{"$f":"MID(VLOOKUP(12,$X$65:$AF$76,9,FALSE),2,1)","v":"L"},null,null,null,null,12,{"$f":"BM54","v":"L2"},{"$f":"BN54","v":3},{"$f":"BO54","v":1},{"$f":"BP54","v":2},{"$f":"BQ54","v":-1},299010000000001,null,"3L",null,null,null,null,null,null,null,null,null,null,null,null,null,null,null,1]
[]
[null,null,null,null,null,null,null,null,null,null,null,null,null,null,null,null,null,null,null,null,null,null,null,null,null,null,null,null,null,"L0=AE hebelt Berechnung aus (top level Losen)"]
[null,null,null,null,null,null,null,null,null,null,null,null,null,null,null,null,null,null,null,null,null,null,null,null,null,null,null,null,null,"L8=AV Losen UEFA-Koeffizient, Fairplay oder Münzwurf"]
[]
[]
[]
[null,"Sechzehntelfinale"]
[null,"Datum/Zeit","Spielort",null,null,null,null,null,null,null,null,null,null,null,null,null,null,null,null,null,null,null,null,null,"Auto",null,"Annix",null,"(oder manuell)",null,"L16",null,null,null,null,null,null,null,null,null,null,null,null,null,null,null,null,null,null,null,null,null,null,"Gruppendritte",{"$f":"CONCATENATE(BH88,BH89,BH90,BH91)","v":""}]
[37,"2024-06-29T21:00:00","Dortmund",{"$f":"M8","v":"A1"},"-",{"$f":"M18","v":"B1"},null,{"$f":"IF($B$121=\"\",1,IF(OR(J85<1,INT(RAND()*10<6)),J85+1,J85-1))","v":1},":",{"$f":"IF($B$121=\"\",0,INT(RAND()*5)+INT(RAND()*3)*INT(RAND()*2))","v":0},"ok",null,{"$f":"IF(J85=\"\",\"\",IF(J85=H85,\"falsch!!! K.Remis\",IF(H85>J85,D85,F85)))","v":"A1"},{"$f":"N8","v":"2A"},{"$f":"N18","v":"2B"},"S01"]
[{"$f":"A85+1","v":38},"2024-06-30T21:00:00","Köln",{"$f":"M27","v":"C1"},"-",{"$f":"BM28","v":"F1"},null,1,":",0,"ok",null,"C1",{"$f":"N27","v":"1C"},{"$f":"BN28","v":"2F"},"S02"]
[{"$f":"A86+1","v":39},"2024-07-01T21:00:00","Frankfurt",{"$f":"BM17","v":"E4"},"-",{"$f":"AD87","v":"C3"},null,1,":",0,"ok",null,"E4",{"$f":"BN17","v":"1E"},{"$f":"AC87","v":"3C"},"S03",null,null,null,null,null,null,null,null,"3ABCDF",null,{"$f":"VLOOKUP(N87,B$65:C$72,2,FALSE)","v":"3C"},null,{"$f":"IF(AE87=\"\",AA87,CONCATENATE(\"3\",AE87))","v":"3C"},{"$f":"VLOOKUP(MID(AC87,2,1),$K$65:$M$76,3,FALSE)","v":"C3"}]
[40,"2024-07-01T18:00:00","Düsseldorf",{"$f":"BM27","v":"F4"},"-",{"$f":"M28","v":"C2"},null,1,":",0,"ok",null,"F4",{"$f":"BN27","v":"1F"},{"$f":"N28","v":"2C"},"S04"]
[41,"2024-06-30T18:00:00","Gelsenkirchen",{"$f":"BM18","v":"E1"},"-",{"$f":"M58","v":"I1"},null,1,":",0,"ok",null,"E1",{"$f":"BN18","v":"2E"},{"$f":"N58","v":"2I"},"S05"]
[42,"2024-06-29T18:00:00","Berlin",{"$f":"M57","v":"I4"},"-",{"$f":"AD90","v":"F2"},null,1,":",0,"ok",null,"I4",{"$f":"N57","v":"1I"},{"$f":"AC90","v":"3F"},"S06",null,null,null,null,null,null,null,null,"3CDFGH",null,{"$f":"VLOOKUP(N90,B$65:C$72,2,FALSE)","v":"3F"},null,{"$f":"IF(AE90=\"\",AA90,CONCATENATE(\"3\",AE90))","v":"3F"},{"$f":"VLOOKUP(MID(AC90,2,1),$K$65:$M$76,3,FALSE)","v":"F2"}]
[43,"2024-07-02T21:00:00","Leipzig",{"$f":"M7","v":"A4"},"-",{"$f":"AD91","v":"H2"},null,1,":",0,"ok",null,"A4",{"$f":"N7","v":"1A"},{"$f":"AC91","v":"3H"},"S07",null,null,null,null,null,null,null,null,"3CEFHI",null,{"$f":"VLOOKUP(N91,B$65:C$72,2,FALSE)","v":"3H"},null,{"$f":"IF(AE91=\"\",AA91,CONCATENATE(\"3\",AE91))","v":"3H"},{"$f":"VLOOKUP(MID(AC91,2,1),$K$65:$M$76,3,FALSE)","v":"H2"}]
[44,"2024-07-02T18:00:00","München",{"$f":"BM57","v":"L4"},"-",{"$f":"AD92","v":"E2"},null,1,":",0,"ok",null,"L4",{"$f":"BN57","v":"1L"},{"$f":"AC92","v":"3E"},"S08",null,null,null,null,null,null,null,null,"3EHIJK",null,{"$f":"VLOOKUP(N92,B$65:C$72,2,FALSE)","v":"3E"},null,{"$f":"IF(AE92=\"\",AA92,CONCATENATE(\"3\",AE92))","v":"3E"},{"$f":"VLOOKUP(MID(AC92,2,1),$K$65:$M$76,3,FALSE)","v":"E2"}]
[37,"2024-06-29T21:00:00","Dortmund",{"$f":"M37","v":"G4"},"-",{"$f":"AD93","v":"A2"},null,{"$f":"IF($B$121=\"\",1,IF(OR(J93<1,INT(RAND()*10<6)),J93+1,J93-1))","v":1},":",0,"ok",null,"G4",{"$f":"N37","v":"1G"},{"$f":"AC93","v":"3A"},"S09",null,null,null,null,null,null,null,null,"3AEHIJ",null,{"$f":"VLOOKUP(N93,B$65:C$72,2,FALSE)","v":"3A"},null,{"$f":"IF(AE93=\"\",AA93,CONCATENATE(\"3\",AE93))","v":"3A"},{"$f":"VLOOKUP(MID(AC93,2,1),$K$65:$M$76,3,FALSE)","v":"A2"}]
[{"$f":"A93+1","v":38},"2024-06-30T21:00:00","Köln",{"$f":"BM7","v":"D4"},"-",{"$f":"AD94","v":"B2"},null,1,":",0,"ok",null,"D4",{"$f":"BN7","v":"1D"},{"$f":"AC94","v":"3B"},"S10",null,null,null,null,null,null,null,null,"3BEFIJ",null,{"$f":"VLOOKUP(N94,B$65:C$72,2,FALSE)","v":"3B"},null,{"$f":"IF(AE94=\"\",AA94,CONCATENATE(\"3\",AE94))","v":"3B"},{"$f":"VLOOKUP(MID(AC94,2,1),$K$65:$M$76,3,FALSE)","v":"B2"}]
[{"$f":"A94+1","v":39},"2024-07-01T21:00:00","Frankfurt",{"$f":"M47","v":"H4"},"-",{"$f":"BM38","v":"J1"},null,1,":",0,"ok",null,"H4",{"$f":"N47","v":"1H"},{"$f":"BN38","v":"2J"},"S11"]
[40,"2024-07-01T18:00:00","Düsseldorf",{"$f":"BM48","v":"K1"},"-",{"$f":"BM58","v":"L1"},null,1,":",0,"ok",null,"K1",{"$f":"BN48","v":"2K"},{"$f":"BN58","v":"2L"},"S12"]
[41,"2024-06-30T18:00:00","Gelsenkirchen",{"$f":"M17","v":"B4"},"-",{"$f":"AD97","v":"G2"},null,1,":",0,"ok",null,"B4",{"$f":"N17","v":"1B"},{"$f":"AC97","v":"3G"},"S13",null,null,null,null,null,null,null,null,"3EFGIJ",null,{"$f":"VLOOKUP(N97,B$65:C$72,2,FALSE)","v":"3G"},null,{"$f":"IF(AE97=\"\",AA97,CONCATENATE(\"3\",AE97))","v":"3G"},{"$f":"VLOOKUP(MID(AC97,2,1),$K$65:$M$76,3,FALSE)","v":"G2"}]
[42,"2024-06-29T18:00:00","Berlin",{"$f":"BM8","v":"D1"},"-",{"$f":"M38","v":"G1"},null,1,":",0,"ok",null,"D1",{"$f":"BN8","v":"2D"},{"$f":"N38","v":"2G"},"S14"]
[43,"2024-07-02T21:00:00","Leipzig",{"$f":"BM37","v":"J4"},"-",{"$f":"M48","v":"H1"},null,1,":",0,"ok",null,"J4",{"$f":"BN37","v":"1J"},{"$f":"N48","v":"2H"},"S15"]
[44,"2024-07-02T18:00:00","München",{"$f":"BM47","v":"K4"},"-",{"$f":"AD100","v":"D2"},null,1,":",0,"ok",null,"K4",{"$f":"BN47","v":"1K"},{"$f":"AC100","v":"3D"},"S16",null,null,null,null,null,null,null,null,"3DEIJL",null,{"$f":"VLOOKUP(N100,B$65:C$72,2,FALSE)","v":"3D"},null,{"$f":"IF(AE100=\"\",AA100,CONCATENATE(\"3\",AE100))","v":"3D"},{"$f":"VLOOKUP(MID(AC100,2,1),$K$65:$M$76,3,FALSE)","v":"D2"}]
[null,null,null,null,null,null,null,null,null,null,null,null,null,null,null,null,null,null,null,null,null,null,null,null,null,null,null,null,null,null,"L16=Buchstabe für manuelle Gruppe"]
[null,"Achtelfinale",null,null,null,null,null,null,null,null,null,null,null,null,null,null,null,null,null,null,null,null,null,null,null,null,null,null,null,null,null,null,null,null,null,null,null,null,null,null,null,null,null,null,null,null,null,null,null,null,null,null,null,"Viertelfinale"]
[null,"Datum/Zeit","Spielort",null,null,null,null,null,null,null,null,null,null,null,null,null,null,null,null,null,null,null,null,null,null,null,null,null,null,null,null,null,null,null,null,null,null,null,null,null,null,null,null,null,null,null,null,null,null,null,null,null,null,"Datum/Zeit","Spielort"]
[37,"2024-06-29T21:00:00","Dortmund",{"$f":"INDEX($M$85:$M$100, MATCH(N104, $P$85:$P$100, 0))","v":"E4"},"-",{"$f":"INDEX($M$85:$M$100, MATCH(O104, $P$85:$P$100, 0))","v":"I4"},null,{"$f":"IF($B$121=\"\",1,IF(OR(J104<1,INT(RAND()*10<6)),J104+1,J104-1))","v":1},":",{"$f":"IF($B$121=\"\",0,INT(RAND()*5)+INT(RAND()*3)*INT(RAND()*2))","v":0},"ok",null,{"$f":"IF(J104=\"\",\"\",IF(J104=H104,\"falsch!!! K.Remis\",IF(H104>J104,D104,F104)))","v":"E4"},{"$f":"P87","v":"S03"},{"$f":"P90","v":"S06"},"AF1",null,null,null,null,null,null,null,null,null,null,null,null,null,null,null,null,null,null,null,null,null,null,null,null,null,null,null,null,null,null,null,null,null,null,null,null,{"$f":"A92+1","v":45},"2026-07-05T18:00:00","Stuttgart",{"$f":"INDEX($M$104:$M$111, MATCH(BN104, $P$104:$P$111, 0))","v":"E4"},"-",{"$f":"INDEX($M$104:$M$111, MATCH(BO104, $P$104:$P$111, 0))","v":"A1"},null,{"$f":"IF($B$121=\"\",1,IF(OR(BJ104<1,INT(RAND()*10<6)),BJ104+1,BJ104-1))","v":1},":",{"$f":"IF($B$121=\"\",0,INT(RAND()*5)+INT(RAND()*3)*INT(RAND()*2))","v":0},"ok",null,{"$f":"IF(BJ104=\"\",\"\",IF(BJ104=BH104,\"falsch!!! K.Remis\",IF(BH104>BJ104,BD104,BF104)))","v":"E4"},{"$f":"P104","v":"AF1"},{"$f":"P105","v":"AF2"},"VF1"]
[{"$f":"A104+1","v":38},"2024-06-30T21:00:00","Köln",{"$f":"INDEX($M$85:$M$100, MATCH(N105, $P$85:$P$100, 0))","v":"A1"},"-",{"$f":"INDEX($M$85:$M$100, MATCH(O105, $P$85:$P$100, 0))","v":"F4"},null,1,":",0,"ok",null,"A1",{"$f":"P85","v":"S01"},{"$f":"P88","v":"S04"},"AF2",null,null,null,null,null,null,null,null,null,null,null,null,null,null,null,null,null,null,null,null,null,null,null,null,null,null,null,null,null,null,null,null,null,null,null,null,{"$f":"BA104+1","v":46},"2026-07-05T21:00:00","Hamburg",{"$f":"INDEX($M$104:$M$111, MATCH(BN105, $P$104:$P$111, 0))","v":"K1"},"-",{"$f":"INDEX($M$104:$M$111, MATCH(BO105, $P$104:$P$111, 0))","v":"D4"},null,{"$f":"IF($B$121=\"\",1,IF(OR(BJ105<1,INT(RAND()*10<6)),BJ105+1,BJ105-1))","v":1},":",{"$f":"IF($B$121=\"\",0,INT(RAND()*5)+INT(RAND()*3)*INT(RAND()*2))","v":0},"ok",null,{"$f":"IF(BJ105=\"\",\"\",IF(BJ105=BH105,\"falsch!!! K.Remis\",IF(BH105>BJ105,BD105,BF105)))","v":"K1"},{"$f":"P108","v":"AF5"},{"$f":"P109","v":"AF6"},"VF2"]
[{"$f":"A105+1","v":39},"2024-07-01T21:00:00","Frankfurt",{"$f":"INDEX($M$85:$M$100, MATCH(N106, $P$85:$P$100, 0))","v":"C1"},"-",{"$f":"INDEX($M$85:$M$100, MATCH(O106, $P$85:$P$100, 0))","v":"E1"},null,1,":",0,"ok",null,"C1",{"$f":"P86","v":"S02"},{"$f":"P89","v":"S05"},"AF3",null,null,null,null,null,null,null,null,null,null,null,null,null,null,null,null,null,null,null,null,null,null,null,null,null,null,null,null,null,null,null,null,null,null,null,null,{"$f":"BA105+1","v":47},"2026-07-06T18:00:00","Düssseldorf",{"$f":"INDEX($M$104:$M$111, MATCH(BN106, $P$104:$P$111, 0))","v":"C1"},"-",{"$f":"INDEX($M$104:$M$111, MATCH(BO106, $P$104:$P$111, 0))","v":"A4"},null,{"$f":"IF($B$121=\"\",1,IF(OR(BJ106<1,INT(RAND()*10<6)),BJ106+1,BJ106-1))","v":1},":",{"$f":"IF($B$121=\"\",0,INT(RAND()*5)+INT(RAND()*3)*INT(RAND()*2))","v":0},"ok",null,{"$f":"IF(BJ106=\"\",\"\",IF(BJ106=BH106,\"falsch!!! K.Remis\",IF(BH106>BJ106,BD106,BF106)))","v":"C1"},{"$f":"P106","v":"AF3"},{"$f":"P107","v":"AF4"},"VF3"]
[40,"2024-07-01T18:00:00","Düsseldorf","A4","-","L4",null,1,":",0,"ok",null,"A4",{"$f":"P91","v":"S07"},{"$f":"P92","v":"S08"},"AF4",null,null,null,null,null,null,null,null,null,null,null,null,null,null,null,null,null,null,null,null,null,null,null,null,null,null,null,null,null,null,null,null,null,null,null,null,{"$f":"BA106+1","v":48},"2026-07-06T21:00:00","Berlin",{"$f":"INDEX($M$104:$M$111, MATCH(BN107, $P$104:$P$111, 0))","v":"J4"},"-",{"$f":"INDEX($M$104:$M$111, MATCH(BO107, $P$104:$P$111, 0))","v":"B4"},null,{"$f":"IF($B$121=\"\",1,IF(OR(BJ107<1,INT(RAND()*10<6)),BJ107+1,BJ107-1))","v":1},":",{"$f":"IF($B$121=\"\",0,INT(RAND()*5)+INT(RAND()*3)*INT(RAND()*2))","v":0},"ok",null,{"$f":"IF(BJ107=\"\",\"\",IF(BJ107=BH107,\"falsch!!! K.Remis\",IF(BH107>BJ107,BD107,BF107)))","v":"J4"},{"$f":"P110","v":"AF7"},{"$f":"P111","v":"AF8"},"VF4"]
[41,"2024-06-30T18:00:00","Gelsenkirchen","K1","-","H4",null,1,":",0,"ok",null,"K1",{"$f":"P96","v":"S12"},{"$f":"P95","v":"S11"},"AF5"]
[42,"2024-06-29T18:00:00","Berlin","D4","-","G4",null,1,":",0,"ok",null,"D4",{"$f":"P94","v":"S10"},{"$f":"P93","v":"S09"},"AF6",null,null,null,null,null,null,null,null,null,null,null,null,null,null,null,null,null,null,null,null,null,null,null,null,null,null,null,null,null,null,null,null,null,null,null,null,null,"Halbfinale"]
[43,"2024-07-02T21:00:00","Leipzig","J4","-","D1",null,1,":",0,"ok",null,"J4",{"$f":"P99","v":"S15"},{"$f":"P98","v":"S14"},"AF7",null,null,null,null,null,null,null,null,null,null,null,null,null,null,null,null,null,null,null,null,null,null,null,null,null,null,null,null,null,null,null,null,null,null,null,null,null,"Datum/Zeit","Spielort"]
[44,"2024-07-02T18:00:00","München","B4","-","K4",null,1,":",0,"ok",null,"B4",{"$f":"P97","v":"S13"},{"$f":"P100","v":"S16"},"AF8",null,null,null,null,null,null,null,null,null,null,null,null,null,null,null,null,null,null,null,null,null,null,null,null,null,null,null,null,null,null,null,null,null,null,null,null,{"$f":"BA107+1","v":49},"2026-07-09T21:00:00","München",{"$f":"INDEX($BM$104:$BM$107, MATCH(BN111, $BP$104:$BP$107, 0))","v":"E4"},"-",{"$f":"INDEX($BM$104:$BM$107, MATCH(BO111, $BP$104:$BP$107, 0))","v":"K1"},null,{"$f":"IF($B$121=\"\",1,IF(OR(BJ111<1,INT(RAND()*10<6)),BJ111+1,BJ111-1))","v":1},":",{"$f":"IF($B$121=\"\",0,INT(RAND()*5)+INT(RAND()*3)*INT(RAND()*2))","v":0},"ok",null,{"$f":"IF(BJ111=\"\",\"\",IF(BJ111=BH111,\"falsch!!! K.Remis\",IF(BH111>BJ111,BD111,BF111)))","v":"E4"},{"$f":"BP104","v":"VF1"},{"$f":"BP105","v":"VF2"},"F1"]
[null,null,null,null,null,null,null,null,null,null,null,null,null,null,null,null,null,null,null,null,null,null,null,null,null,null,null,null,null,null,null,null,null,null,null,null,null,null,null,null,null,null,null,null,null,null,null,null,null,null,null,null,{"$f":"BA111+1","v":50},"2026-07-10T21:00:00","Dortmund",{"$f":"INDEX($BM$104:$BM$107, MATCH(BN112, $BP$104:$BP$107, 0))","v":"C1"},"-",{"$f":"INDEX($BM$104:$BM$107, MATCH(BO112, $BP$104:$BP$107, 0))","v":"J4"},null,{"$f":"IF($B$121=\"\",1,IF(OR(BJ112<1,INT(RAND()*10<6)),BJ112+1,BJ112-1))","v":1},":",{"$f":"IF($B$121=\"\",0,INT(RAND()*5)+INT(RAND()*3)*INT(RAND()*2))","v":0},"ok",null,{"$f":"IF(BJ112=\"\",\"\",IF(BJ112=BH112,\"falsch!!! K.Remis\",IF(BH112>BJ112,BD112,BF112)))","v":"C1"},{"$f":"BP106","v":"VF3"},{"$f":"BP107","v":"VF4"},"F2"]
[null,null,null,null,null,null,null,null,null,null,null,null,null,null,null,null,null,null,null,null,null,null,null,null,null,null,null,null,null,null,null,null,null,null,null,null,null,null,null,null,null,null,null,null,null,null,null,null,null,null,null,null,null,null,null,null,null,null,null,null,null,null,null,null,{"$f":"IF(BD111=BM111,BF111,BD111)","v":"K1"},null,null,"HF1"]
[null,"Finale",null,null,null,null,null,null,null,null,null,null,null,null,null,null,null,null,null,null,null,null,null,null,null,null,null,null,null,null,null,null,null,null,null,null,null,null,null,null,null,null,null,null,null,null,null,null,null,null,null,null,null,"Um Platz 3",null,null,null,null,null,null,null,null,null,null,{"$f":"IF(BD112=BM112,BF112,BD112)","v":"J4"},null,null,"HF2"]
[null,"Datum/Zeit","Spielort",null,null,null,null,null,null,null,null,null,"Weltmeister",null,null,null,null,null,null,null,null,null,null,null,null,null,null,null,null,null,null,null,null,null,null,null,null,null,null,null,null,null,null,null,null,null,null,null,null,null,null,null,null,"Datum/Zeit","Spielort"]
[{"$f":"BA116+1","v":52},"2024-07-14T21:00:00","Berlin",{"$f":"BM111","v":"E4"},"-",{"$f":"BM112","v":"C1"},null,{"$f":"IF($B$121=\"\",1,IF(OR(J116<1,INT(RAND()*10<6)),J116+1,J116-1))","v":1},":",{"$f":"IF($B$121=\"\",0,INT(RAND()*5)+INT(RAND()*3)*INT(RAND()*2))","v":0},"ok",null,{"$f":"IF(J116=\"\",\"\",IF(J116=H116,\"falsch!!! K.Remis\",IF(H116>J116,D116,F116)))","v":"E4"},{"$f":"BP111","v":"F1"},{"$f":"BP112","v":"F2"},null,null,null,null,null,null,null,null,null,null,null,null,null,null,null,null,null,null,null,null,null,null,null,null,null,null,null,null,null,null,null,null,null,null,null,null,null,{"$f":"BA112+1","v":51},"2026-07-13T21:00:00","Rostock",{"$f":"BM113","v":"K1"},"-",{"$f":"BM114","v":"J4"},null,{"$f":"IF($B$121=\"\",1,IF(OR(BJ116<1,INT(RAND()*10<6)),BJ116+1,BJ116-1))","v":1},":",{"$f":"IF($B$121=\"\",0,INT(RAND()*5)+INT(RAND()*3)*INT(RAND()*2))","v":0},"ok",null,{"$f":"IF(BJ116=\"\",\"\",IF(BJ116=BH116,\"falsch!!! K.Remis\",IF(BH116>BJ116,BD116,BF116)))","v":"K1"},{"$f":"BP113","v":"HF1"},{"$f":"BP114","v":"HF2"}]
[]
[]
[]
[null,"ok","OK"]
[null,null,"Ergebnis Zufall"]
[null,{"$f":"IF($B$121=\"\",1,INT(RAND()*5)+INT(RAND()*3)*INT(RAND()*2))","v":1},"Zufallsformel"]

{"sheet":"AnnixC-WM2026","index":6,"n_rows":994,"n_cols":44,"rows_kept":994,"cut":false,"hidden":false,"merged":[]}
["Option","Combo","1A","1B","1D","1E","1G","1I","1K","1L"]
[1,{"$f":"CONCATENATE(AK2,AL2,AM2,AN2,AO2,AP2,AQ2,AR2)","v":"EFGHIJKL"},"3E","3J","3I","3F","3H","3G","3L","3K",{"$f":"MID(C2,2,1)","v":"E"},{"$f":"MID(D2,2,1)","v":"J"},"I","F","H","G","L","K",{"$f":"CODE(K2)","v":69},{"$f":"CODE(L2)","v":74},73,70,72,71,76,75,null,{"$f":"SMALL($S2:$Z2,1)","v":69},{"$f":"SMALL($S2:$Z2,2)","v":70},{"$f":"SMALL($S2:$Z2,3)","v":71},{"$f":"SMALL($S2:$Z2,4)","v":72},{"$f":"SMALL($S2:$Z2,5)","v":73},{"$f":"SMALL($S2:$Z2,6)","v":74},{"$f":"SMALL($S2:$Z2,7)","v":75},{"$f":"SMALL($S2:$Z2,8)","v":76},null,{"$f":"CHAR(AB2)","v":"E"},{"$f":"CHAR(AC2)","v":"F"},"G","H","I","J","K","L"]
[2,{"$f":"CONCATENATE(AK3,AL3,AM3,AN3,AO3,AP3,AQ3,AR3)","v":"DFGHIJKL"},"3H","3G","3I","3D","3J","3F","3L","3K","H","G","I","D","J","F","L","K",72,71,73,68,74,70,76,75,null,{"$f":"SMALL($S3:$Z3,1)","v":68},{"$f":"SMALL($S3:$Z3,2)","v":70},{"$f":"SMALL($S3:$Z3,3)","v":71},{"$f":"SMALL($S3:$Z3,4)","v":72},{"$f":"SMALL($S3:$Z3,5)","v":73},{"$f":"SMALL($S3:$Z3,6)","v":74},{"$f":"SMALL($S3:$Z3,7)","v":75},{"$f":"SMALL($S3:$Z3,8)","v":76},null,"D","F","G","H","I","J","K","L"]
[3,"DEGHIJKL","3E","3J","3I","3D","3H","3G","3L","3K","E","J","I","D","H","G","L","K",69,74,73,68,72,71,76,75,null,68,69,71,72,73,74,75,76,null,"D","E","G","H","I","J","K","L"]
[4,"DEFHIJKL","3E","3J","3I","3D","3H","3F","3L","3K","E","J","I","D","H","F","L","K",69,74,73,68,72,70,76,75,null,68,69,70,72,73,74,75,76,null,"D","E","F","H","I","J","K","L"]
[5,"DEFGIJKL","3E","3G","3I","3D","3J","3F","3L","3K","E","G","I","D","J","F","L","K",69,71,73,68,74,70,76,75,null,68,69,70,71,73,74,75,76,null,"D","E","F","G","I","J","K","L"]
[6,"DEFGHJKL","3E","3G","3J","3D","3H","3F","3L","3K","E","G","J","D","H","F","L","K",69,71,74,68,72,70,76,75,null,68,69,70,71,72,74,75,76,null,"D","E","F","G","H","J","K","L"]
[7,"DEFGHIKL","3E","3G","3I","3D","3H","3F","3L","3K","E","G","I","D","H","F","L","K",69,71,73,68,72,70,76,75,null,68,69,70,71,72,73,75,76,null,"D","E","F","G","H","I","K","L"]
[8,"DEFGHIJL","3E","3G","3J","3D","3H","3F","3L","3I","E","G","J","D","H","F","L","I",69,71,74,68,72,70,76,73,null,68,69,70,71,72,73,74,76,null,"D","E","F","G","H","I","J","L"]
[9,"DEFGHIJK","3E","3G","3J","3D","3H","3F","3I","3K","E","G","J","D","H","F","I","K",69,71,74,68,72,70,73,75,null,68,69,70,71,72,73,74,75,null,"D","E","F","G","H","I","J","K"]
[10,"CFGHIJKL","3H","3G","3I","3C","3J","3F","3L","3K","H","G","I","C","J","F","L","K",72,71,73,67,74,70,76,75,null,67,70,71,72,73,74,75,76,null,"C","F","G","H","I","J","K","L"]
[11,"CEGHIJKL","3E","3J","3I","3C","3H","3G","3L","3K","E","J","I","C","H","G","L","K",69,74,73,67,72,71,76,75,null,67,69,71,72,73,74,75,76,null,"C","E","G","H","I","J","K","L"]
[12,"CEFHIJKL","3E","3J","3I","3C","3H","3F","3L","3K","E","J","I","C","H","F","L","K",69,74,73,67,72,70,76,75,null,67,69,70,72,73,74,75,76,null,"C","E","F","H","I","J","K","L"]
[13,"CEFGIJKL","3E","3G","3I","3C","3J","3F","3L","3K","E","G","I","C","J","F","L","K",69,71,73,67,74,70,76,75,null,67,69,70,71,73,74,75,76,null,"C","E","F","G","I","J","K","L"]
[14,"CEFGHJKL","3E","3G","3J","3C","3H","3F","3L","3K","E","G","J","C","H","F","L","K",69,71,74,67,72,70,76,75,null,67,69,70,71,72,74,75,76,null,"C","E","F","G","H","J","K","L"]
[15,"CEFGHIKL","3E","3G","3I","3C","3H","3F","3L","3K","E","G","I","C","H","F","L","K",69,71,73,67,72,70,76,75,null,67,69,70,71,72,73,75,76,null,"C","E","F","G","H","I","K","L"]
[16,"CEFGHIJL","3E","3G","3J","3C","3H","3F","3L","3I","E","G","J","C","H","F","L","I",69,71,74,67,72,70,76,73,null,67,69,70,71,72,73,74,76,null,"C","E","F","G","H","I","J","L"]
[17,"CEFGHIJK","3E","3G","3J","3C","3H","3F","3I","3K","E",{"$f":"MID(D18,2,1)","v":"G"},{"$f":"MID(E18,2,1)","v":"J"},{"$f":"MID(F18,2,1)","v":"C"},{"$f":"MID(G18,2,1)","v":"H"},{"$f":"MID(H18,2,1)","v":"F"},{"$f":"MID(I18,2,1)","v":"I"},{"$f":"MID(J18,2,1)","v":"K"},69,{"$f":"CODE(L18)","v":71},{"$f":"CODE(M18)","v":74},{"$f":"CODE(N18)","v":67},{"$f":"CODE(O18)","v":72},{"$f":"CODE(P18)","v":70},{"$f":"CODE(Q18)","v":73},{"$f":"CODE(R18)","v":75},null,67,69,70,71,72,73,74,75,null,"C",{"$f":"CHAR(AC18)","v":"E"},{"$f":"CHAR(AD18)","v":"F"},{"$f":"CHAR(AE18)","v":"G"},{"$f":"CHAR(AF18)","v":"H"},{"$f":"CHAR(AG18)","v":"I"},{"$f":"CHAR(AH18)","v":"J"},{"$f":"CHAR(AI18)","v":"K"}]
[18,"CDGHIJKL","3H","3G","3I","3C","3J","3D","3L","3K","H","G","I","C","J","D","L","K",72,71,73,67,74,68,76,75,null,67,68,71,72,73,74,75,76,null,"C","D","G","H","I","J","K","L"]
[19,"CDFHIJKL","3C","3J","3I","3D","3H","3F","3L","3K","C","J","I","D","H","F","L","K",67,74,73,68,72,70,76,75,null,67,68,70,72,73,74,75,76,null,"C","D","F","H","I","J","K","L"]
[20,"CDFGIJKL","3C","3G","3I","3D","3J","3F","3L","3K","C","G","I","D","J","F","L","K",67,71,73,68,74,70,76,75,null,67,68,70,71,73,74,75,76,null,"C","D","F","G","I","J","K","L"]
[21,"CDFGHJKL","3C","3G","3J","3D","3H","3F","3L","3K","C","G","J","D","H","F","L","K",67,71,74,68,72,70,76,75,null,67,68,70,71,72,74,75,76,null,"C","D","F","G","H","J","K","L"]
[22,"CDFGHIKL","3C","3G","3I","3D","3H","3F","3L","3K","C","G","I","D","H","F","L","K",67,71,73,68,72,70,76,75,null,67,68,70,71,72,73,75,76,null,"C","D","F","G","H","I","K","L"]
[23,"CDFGHIJL","3C","3G","3J","3D","3H","3F","3L","3I","C","G","J","D","H","F","L","I",67,71,74,68,72,70,76,73,null,67,68,70,71,72,73,74,76,null,"C","D","F","G","H","I","J","L"]
[24,"CDFGHIJK","3C","3G","3J","3D","3H","3F","3I","3K","C","G","J","D","H","F","I","K",67,71,74,68,72,70,73,75,null,67,68,70,71,72,73,74,75,null,"C","D","F","G","H","I","J","K"]
[25,"CDEHIJKL","3E","3J","3I","3C","3H","3D","3L","3K","E","J","I","C","H","D","L","K",69,74,73,67,72,68,76,75,null,67,68,69,72,73,74,75,76,null,"C","D","E","H","I","J","K","L"]
[26,"CDEGIJKL","3E","3G","3I","3C","3J","3D","3L","3K","E","G","I","C","J","D","L","K",69,71,73,67,74,68,76,75,null,67,68,69,71,73,74,75,76,null,"C","D","E","G","I","J","K","L"]
[27,"CDEGHJKL","3E","3G","3J","3C","3H","3D","3L","3K","E","G","J","C","H","D","L","K",69,71,74,67,72,68,76,75,null,67,68,69,71,72,74,75,76,null,"C","D","E","G","H","J","K","L"]
[28,"CDEGHIKL","3E","3G","3I","3C","3H","3D","3L","3K","E","G","I","C","H","D","L","K",69,71,73,67,72,68,76,75,null,67,68,69,71,72,73,75,76,null,"C","D","E","G","H","I","K","L"]
[29,"CDEGHIJL","3E","3G","3J","3C","3H","3D","3L","3I","E","G","J","C","H","D","L","I",69,71,74,67,72,68,76,73,null,67,68,69,71,72,73,74,76,null,"C","D","E","G","H","I","J","L"]
[30,"CDEGHIJK","3E","3G","3J","3C","3H","3D","3I","3K","E","G","J","C","H","D","I","K",69,71,74,67,72,68,73,75,null,67,68,69,71,72,73,74,75,null,"C","D","E","G","H","I","J","K"]
[31,"CDEFIJKL","3C","3J","3E","3D","3I","3F","3L","3K","C","J","E","D","I","F","L","K",67,74,69,68,73,70,76,75,null,67,68,69,70,73,74,75,76,null,"C","D","E","F","I","J","K","L"]
[32,"CDEFHJKL","3C","3J","3E","3D","3H","3F","3L","3K","C","J","E","D","H","F","L","K",67,74,69,68,72,70,76,75,null,67,68,69,70,72,74,75,76,null,"C","D","E","F","H","J","K","L"]
[33,"CDEFHIKL","3C","3E","3I","3D","3H","3F","3L","3K",{"$f":"MID(C34,2,1)","v":"C"},"E","I","D","H","F","L","K",{"$f":"CODE(K34)","v":67},69,73,68,72,70,76,75,null,67,68,69,70,72,73,75,76,null,{"$f":"CHAR(AB34)","v":"C"},"D","E","F","H","I","K","L"]
[34,"CDEFHIJL","3C","3J","3E","3D","3H","3F","3L","3I","C","J","E","D","H","F","L","I",67,74,69,68,72,70,76,73,null,67,68,69,70,72,73,74,76,null,"C","D","E","F","H","I","J","L"]
[35,"CDEFHIJK","3C","3J","3E","3D","3H","3F","3I","3K","C","J","E","D","H","F","I","K",67,74,69,68,72,70,73,75,null,67,68,69,70,72,73,74,75,null,"C","D","E","F","H","I","J","K"]
[36,"CDEFGJKL","3C","3G","3E","3D","3J","3F","3L","3K","C","G","E","D","J","F","L","K",67,71,69,68,74,70,76,75,null,67,68,69,70,71,74,75,76,null,"C","D","E","F","G","J","K","L"]
[37,"CDEFGIKL","3C","3G","3E","3D","3I","3F","3L","3K","C","G","E","D","I","F","L","K",67,71,69,68,73,70,76,75,null,67,68,69,70,71,73,75,76,null,"C","D","E","F","G","I","K","L"]
[38,"CDEFGIJL","3C","3G","3E","3D","3J","3F","3L","3I","C","G","E","D","J","F","L","I",67,71,69,68,74,70,76,73,null,67,68,69,70,71,73,74,76,null,"C","D","E","F","G","I","J","L"]
[39,"CDEFGIJK","3C","3G","3E","3D","3J","3F","3I","3K","C","G","E","D","J","F","I","K",67,71,69,68,74,70,73,75,null,67,68,69,70,71,73,74,75,null,"C","D","E","F","G","I","J","K"]
[40,"CDEFGHKL","3C","3G","3E","3D","3H","3F","3L","3K","C","G","E","D","H","F","L","K",67,71,69,68,72,70,76,75,null,67,68,69,70,71,72,75,76,null,"C","D","E","F","G","H","K","L"]
[41,"CDEFGHJL","3C","3G","3J","3D","3H","3F","3L","3E","C","G","J","D","H","F","L","E",67,71,74,68,72,70,76,69,null,67,68,69,70,71,72,74,76,null,"C","D","E","F","G","H","J","L"]
[42,"CDEFGHJK","3C","3G","3J","3D","3H","3F","3E","3K","C","G","J","D","H","F","E","K",67,71,74,68,72,70,69,75,null,67,68,69,70,71,72,74,75,null,"C","D","E","F","G","H","J","K"]
[43,"CDEFGHIL","3C","3G","3E","3D","3H","3F","3L","3I","C","G","E","D","H","F","L","I",67,71,69,68,72,70,76,73,null,67,68,69,70,71,72,73,76,null,"C","D","E","F","G","H","I","L"]
[44,"CDEFGHIK","3C","3G","3E","3D","3H","3F","3I","3K","C","G","E","D","H","F","I","K",67,71,69,68,72,70,73,75,null,67,68,69,70,71,72,73,75,null,"C","D","E","F","G","H","I","K"]
[45,"CDEFGHIJ","3C","3G","3J","3D","3H","3F","3E","3I","C","G","J","D","H","F","E","I",67,71,74,68,72,70,69,73,null,67,68,69,70,71,72,73,74,null,"C","D","E","F","G","H","I","J"]
[46,"BFGHIJKL","3H","3J","3B","3F","3I","3G","3L","3K","H","J","B","F","I","G","L","K",72,74,66,70,73,71,76,75,null,66,70,71,72,73,74,75,76,null,"B","F","G","H","I","J","K","L"]
[47,"BEGHIJKL","3E","3J","3I","3B","3H","3G","3L","3K","E","J","I","B","H","G","L","K",69,74,73,66,72,71,76,75,null,66,69,71,72,73,74,75,76,null,"B","E","G","H","I","J","K","L"]
[48,"BEFHIJKL","3E","3J","3B","3F","3I","3H","3L","3K","E","J","B","F","I","H","L","K",69,74,66,70,73,72,76,75,null,66,69,70,72,73,74,75,76,null,"B","E","F","H","I","J","K","L"]
[49,"BEFGIJKL","3E","3J","3B","3F","3I","3G","3L","3K","E",{"$f":"MID(D50,2,1)","v":"J"},{"$f":"MID(E50,2,1)","v":"B"},{"$f":"MID(F50,2,1)","v":"F"},{"$f":"MID(G50,2,1)","v":"I"},{"$f":"MID(H50,2,1)","v":"G"},{"$f":"MID(I50,2,1)","v":"L"},{"$f":"MID(J50,2,1)","v":"K"},69,{"$f":"CODE(L50)","v":74},{"$f":"CODE(M50)","v":66},{"$f":"CODE(N50)","v":70},{"$f":"CODE(O50)","v":73},{"$f":"CODE(P50)","v":71},{"$f":"CODE(Q50)","v":76},{"$f":"CODE(R50)","v":75},null,66,69,70,71,73,74,75,76,null,"B",{"$f":"CHAR(AC50)","v":"E"},{"$f":"CHAR(AD50)","v":"F"},{"$f":"CHAR(AE50)","v":"G"},{"$f":"CHAR(AF50)","v":"I"},{"$f":"CHAR(AG50)","v":"J"},{"$f":"CHAR(AH50)","v":"K"},{"$f":"CHAR(AI50)","v":"L"}]
[50,"BEFGHJKL","3E","3J","3B","3F","3H","3G","3L","3K","E","J","B","F","H","G","L","K",69,74,66,70,72,71,76,75,null,66,69,70,71,72,74,75,76,null,"B","E","F","G","H","J","K","L"]
[51,"BEFGHIKL","3E","3G","3B","3F","3I","3H","3L","3K","E","G","B","F","I","H","L","K",69,71,66,70,73,72,76,75,null,66,69,70,71,72,73,75,76,null,"B","E","F","G","H","I","K","L"]
[52,"BEFGHIJL","3E","3J","3B","3F","3H","3G","3L","3I","E","J","B","F","H","G","L","I",69,74,66,70,72,71,76,73,null,66,69,70,71,72,73,74,76,null,"B","E","F","G","H","I","J","L"]
[53,"BEFGHIJK","3E","3J","3B","3F","3H","3G","3I","3K","E","J","B","F","H","G","I","K",69,74,66,70,72,71,73,75,null,66,69,70,71,72,73,74,75,null,"B","E","F","G","H","I","J","K"]
[54,"BDGHIJKL","3H","3J","3B","3D","3I","3G","3L","3K","H","J","B","D","I","G","L","K",72,74,66,68,73,71,76,75,null,66,68,71,72,73,74,75,76,null,"B","D","G","H","I","J","K","L"]
[55,"BDFHIJKL","3H","3J","3B","3D","3I","3F","3L","3K","H","J","B","D","I","F","L","K",72,74,66,68,73,70,76,75,null,66,68,70,72,73,74,75,76,null,"B","D","F","H","I","J","K","L"]
[56,"BDFGIJKL","3I","3G","3B","3D","3J","3F","3L","3K","I","G","B","D","J","F","L","K",73,71,66,68,74,70,76,75,null,66,68,70,71,73,74,75,76,null,"B","D","F","G","I","J","K","L"]
[57,"BDFGHJKL","3H","3G","3B","3D","3J","3F","3L","3K","H","G","B","D","J","F","L","K",72,71,66,68,74,70,76,75,null,66,68,70,71,72,74,75,76,null,"B","D","F","G","H","J","K","L"]
[58,"BDFGHIKL","3H","3G","3B","3D","3I","3F","3L","3K","H","G","B","D","I","F","L","K",72,71,66,68,73,70,76,75,null,66,68,70,71,72,73,75,76,null,"B","D","F","G","H","I","K","L"]
[59,"BDFGHIJL","3H","3G","3B","3D","3J","3F","3L","3I","H","G","B","D","J","F","L","I",72,71,66,68,74,70,76,73,null,66,68,70,71,72,73,74,76,null,"B","D","F","G","H","I","J","L"]
[60,"BDFGHIJK","3H","3G","3B","3D","3J","3F","3I","3K","H","G","B","D","J","F","I","K",72,71,66,68,74,70,73,75,null,66,68,70,71,72,73,74,75,null,"B","D","F","G","H","I","J","K"]
[61,"BDEHIJKL","3E","3J","3B","3D","3I","3H","3L","3K","E","J","B","D","I","H","L","K",69,74,66,68,73,72,76,75,null,66,68,69,72,73,74,75,76,null,"B","D","E","H","I","J","K","L"]
[62,"BDEGIJKL","3E","3J","3B","3D","3I","3G","3L","3K","E","J","B","D","I","G","L","K",69,74,66,68,73,71,76,75,null,66,68,69,71,73,74,75,76,null,"B","D","E","G","I","J","K","L"]
[63,"BDEGHJKL","3E","3J","3B","3D","3H","3G","3L","3K","E","J","B","D","H","G","L","K",69,74,66,68,72,71,76,75,null,66,68,69,71,72,74,75,76,null,"B","D","E","G","H","J","K","L"]
[64,"BDEGHIKL","3E","3G","3B","3D","3I","3H","3L","3K","E","G","B","D","I","H","L","K",69,71,66,68,73,72,76,75,null,66,68,69,71,72,73,75,76,null,"B","D","E","G","H","I","K","L"]
[65,"BDEGHIJL","3E","3J","3B","3D","3H","3G","3L","3I",{"$f":"MID(C66,2,1)","v":"E"},"J","B","D","H","G","L","I",{"$f":"CODE(K66)","v":69},74,66,68,72,71,76,73,null,66,68,69,71,72,73,74,76,null,{"$f":"CHAR(AB66)","v":"B"},"D","E","G","H","I","J","L"]
[66,{"$f":"CONCATENATE(AK67,AL67,AM67,AN67,AO67,AP67,AQ67,AR67)","v":"BDEGHIJK"},"3E","3J","3B","3D","3H","3G","3I","3K","E","J","B","D","H","G","I","K",69,74,66,68,72,71,73,75,null,{"$f":"SMALL($S67:$Z67,1)","v":66},{"$f":"SMALL($S67:$Z67,2)","v":68},{"$f":"SMALL($S67:$Z67,3)","v":69},{"$f":"SMALL($S67:$Z67,4)","v":71},{"$f":"SMALL($S67:$Z67,5)","v":72},{"$f":"SMALL($S67:$Z67,6)","v":73},{"$f":"SMALL($S67:$Z67,7)","v":74},{"$f":"SMALL($S67:$Z67,8)","v":75},null,"B","D","E","G","H","I","J","K"]
[67,"BDEFIJKL","3E","3J","3B","3D","3I","3F","3L","3K","E","J","B","D","I","F","L","K",69,74,66,68,73,70,76,75,null,66,68,69,70,73,74,75,76,null,"B","D","E","F","I","J","K","L"]
[68,"BDEFHJKL","3E","3J","3B","3D","3H","3F","3L","3K","E","J","B","D","H","F","L","K",69,74,66,68,72,70,76,75,null,66,68,69,70,72,74,75,76,null,"B","D","E","F","H","J","K","L"]
[69,"BDEFHIKL","3E","3I","3B","3D","3H","3F","3L","3K","E","I","B","D","H","F","L","K",69,73,66,68,72,70,76,75,null,66,68,69,70,72,73,75,76,null,"B","D","E","F","H","I","K","L"]
[70,"BDEFHIJL","3E","3J","3B","3D","3H","3F","3L","3I","E","J","B","D","H","F","L","I",69,74,66,68,72,70,76,73,null,66,68,69,70,72,73,74,76,null,"B","D","E","F","H","I","J","L"]
[71,"BDEFHIJK","3E","3J","3B","3D","3H","3F","3I","3K","E","J","B","D","H","F","I","K",69,74,66,68,72,70,73,75,null,66,68,69,70,72,73,74,75,null,"B","D","E","F","H","I","J","K"]
[72,"BDEFGJKL","3E","3G","3B","3D","3J","3F","3L","3K","E","G","B","D","J","F","L","K",69,71,66,68,74,70,76,75,null,66,68,69,70,71,74,75,76,null,"B","D","E","F","G","J","K","L"]
[73,"BDEFGIKL","3E","3G","3B","3D","3I","3F","3L","3K","E","G","B","D","I","F","L","K",69,71,66,68,73,70,76,75,null,66,68,69,70,71,73,75,76,null,"B","D","E","F","G","I","K","L"]
[74,"BDEFGIJL","3E","3G","3B","3D","3J","3F","3L","3I","E","G","B","D","J","F","L","I",69,71,66,68,74,70,76,73,null,66,68,69,70,71,73,74,76,null,"B","D","E","F","G","I","J","L"]
[75,"BDEFGIJK","3E","3G","3B","3D","3J","3F","3I","3K","E","G","B","D","J","F","I","K",69,71,66,68,74,70,73,75,null,66,68,69,70,71,73,74,75,null,"B","D","E","F","G","I","J","K"]
[76,"BDEFGHKL","3E","3G","3B","3D","3H","3F","3L","3K","E","G","B","D","H","F","L","K",69,71,66,68,72,70,76,75,null,66,68,69,70,71,72,75,76,null,"B","D","E","F","G","H","K","L"]
[77,"BDEFGHJL","3H","3G","3B","3D","3J","3F","3L","3E","H","G","B","D","J","F","L","E",72,71,66,68,74,70,76,69,null,66,68,69,70,71,72,74,76,null,"B","D","E","F","G","H","J","L"]
[78,"BDEFGHJK","3H","3G","3B","3D","3J","3F","3E","3K","H",{"$f":"MID(D79,2,1)","v":"G"},"B","D","J","F","E",{"$f":"MID(J79,2,1)","v":"K"},72,{"$f":"CODE(L79)","v":71},66,68,74,70,69,{"$f":"CODE(R79)","v":75},null,66,68,69,70,71,72,74,75,null,"B",{"$f":"CHAR(AC79)","v":"D"},"E","F","G","H","J",{"$f":"CHAR(AI79)","v":"K"}]
[79,"BDEFGHIL","3E","3G","3B","3D","3H","3F","3L","3I",{"$f":"MID(C80,2,1)","v":"E"},"G","B","D","H","F","L","I",{"$f":"CODE(K80)","v":69},71,66,68,72,70,76,73,null,66,68,69,70,71,72,73,76,null,{"$f":"CHAR(AB80)","v":"B"},"D","E","F","G","H","I","L"]
[80,"BDEFGHIK","3E","3G","3B","3D","3H","3F","3I","3K","E","G","B","D","H","F","I","K",69,71,66,68,72,70,73,75,null,66,68,69,70,71,72,73,75,null,"B","D","E","F","G","H","I","K"]
[81,"BDEFGHIJ","3H","3G","3B","3D","3J","3F","3E","3I","H","G","B","D","J","F","E","I",72,71,66,68,74,70,69,73,null,66,68,69,70,71,72,73,74,null,"B","D","E","F","G","H","I","J"]
[82,"BCGHIJKL","3H","3J","3B","3C","3I","3G","3L","3K","H","J","B","C","I","G","L","K",72,74,66,67,73,71,76,75,null,66,67,71,72,73,74,75,76,null,"B","C","G","H","I","J","K","L"]
[83,"BCFHIJKL","3H","3J","3B","3C","3I","3F","3L","3K","H","J","B","C","I","F","L","K",72,74,66,67,73,70,76,75,null,66,67,70,72,73,74,75,76,null,"B","C","F","H","I","J","K","L"]
[84,"BCFGIJKL","3I","3G","3B","3C","3J","3F","3L","3K","I","G","B","C","J","F","L","K",73,71,66,67,74,70,76,75,null,66,67,70,71,73,74,75,76,null,"B","C","F","G","I","J","K","L"]
[85,"BCFGHJKL","3H","3G","3B","3C","3J","3F","3L","3K","H","G","B","C","J","F","L","K",72,71,66,67,74,70,76,75,null,66,67,70,71,72,74,75,76,null,"B","C","F","G","H","J","K","L"]
[86,"BCFGHIKL","3H","3G","3B","3C","3I","3F","3L","3K","H","G","B","C","I","F","L","K",72,71,66,67,73,70,76,75,null,66,67,70,71,72,73,75,76,null,"B","C","F","G","H","I","K","L"]
[87,"BCFGHIJL","3H","3G","3B","3C","3J","3F","3L","3I","H","G","B","C","J","F","L","I",72,71,66,67,74,70,76,73,null,66,67,70,71,72,73,74,76,null,"B","C","F","G","H","I","J","L"]
[88,"BCFGHIJK","3H","3G","3B","3C","3J","3F","3I","3K","H","G","B","C","J","F","I","K",72,71,66,67,74,70,73,75,null,66,67,70,71,72,73,74,75,null,"B","C","F","G","H","I","J","K"]
[89,"BCEHIJKL","3E","3J","3B","3C","3I","3H","3L","3K","E","J","B","C","I","H","L","K",69,74,66,67,73,72,76,75,null,66,67,69,72,73,74,75,76,null,"B","C","E","H","I","J","K","L"]
[90,"BCEGIJKL","3E","3J","3B","3C","3I","3G","3L","3K","E","J","B","C","I","G","L","K",69,74,66,67,73,71,76,75,null,66,67,69,71,73,74,75,76,null,"B","C","E","G","I","J","K","L"]
[91,"BCEGHJKL","3E","3J","3B","3C","3H","3G","3L","3K","E","J","B","C","H","G","L","K",69,74,66,67,72,71,76,75,null,66,67,69,71,72,74,75,76,null,"B","C","E","G","H","J","K","L"]
[92,"BCEGHIKL","3E","3G","3B","3C","3I","3H","3L","3K","E","G","B","C","I","H","L","K",69,71,66,67,73,72,76,75,null,66,67,69,71,72,73,75,76,null,"B","C","E","G","H","I","K","L"]
[93,"BCEGHIJL","3E","3J","3B","3C","3H","3G","3L","3I","E","J","B","C","H","G","L","I",69,74,66,67,72,71,76,73,null,66,67,69,71,72,73,74,76,null,"B","C","E","G","H","I","J","L"]
[94,"BCEGHIJK","3E","3J","3B","3C","3H","3G","3I","3K","E","J","B","C","H","G","I","K",69,74,66,67,72,71,73,75,null,66,67,69,71,72,73,74,75,null,"B","C","E","G","H","I","J","K"]
[95,"BCEFIJKL","3E","3J","3B","3C","3I","3F","3L","3K","E","J","B","C","I","F","L","K",69,74,66,67,73,70,76,75,null,66,67,69,70,73,74,75,76,null,"B","C","E","F","I","J","K","L"]
[96,"BCEFHJKL","3E","3J","3B","3C","3H","3F","3L","3K","E","J","B","C","H","F","L","K",69,74,66,67,72,70,76,75,null,66,67,69,70,72,74,75,76,null,"B","C","E","F","H","J","K","L"]
[97,"BCEFHIKL","3E","3I","3B","3C","3H","3F","3L","3K","E","I","B","C","H","F","L","K",69,73,66,67,72,70,76,75,null,66,67,69,70,72,73,75,76,null,"B","C","E","F","H","I","K","L"]
[98,"BCEFHIJL","3E","3J","3B","3C","3H","3F","3L","3I","E","J","B","C","H","F","L","I",69,74,66,67,72,70,76,73,null,66,67,69,70,72,73,74,76,null,"B","C","E","F","H","I","J","L"]
[99,"BCEFHIJK","3E","3J","3B","3C","3H","3F","3I","3K","E","J","B","C","H","F","I","K",69,74,66,67,72,70,73,75,null,66,67,69,70,72,73,74,75,null,"B","C","E","F","H","I","J","K"]
[100,"BCEFGJKL","3E","3G","3B","3C","3J","3F","3L","3K","E","G","B","C","J","F","L","K",69,71,66,67,74,70,76,75,null,66,67,69,70,71,74,75,76,null,"B","C","E","F","G","J","K","L"]
[101,"BCEFGIKL","3E","3G","3B","3C","3I","3F","3L","3K","E","G","B","C","I","F","L","K",69,71,66,67,73,70,76,75,null,66,67,69,70,71,73,75,76,null,"B","C","E","F","G","I","K","L"]
[102,"BCEFGIJL","3E","3G","3B","3C","3J","3F","3L","3I","E","G","B","C","J","F","L","I",69,71,66,67,74,70,76,73,null,66,67,69,70,71,73,74,76,null,"B","C","E","F","G","I","J","L"]
[103,"BCEFGIJK","3E","3G","3B","3C","3J","3F","3I","3K","E","G","B","C","J","F","I","K",69,71,66,67,74,70,73,75,null,66,67,69,70,71,73,74,75,null,"B","C","E","F","G","I","J","K"]
[104,"BCEFGHKL","3E","3G","3B","3C","3H","3F","3L","3K","E","G","B","C","H","F","L","K",69,71,66,67,72,70,76,75,null,66,67,69,70,71,72,75,76,null,"B","C","E","F","G","H","K","L"]
[105,"BCEFGHJL","3H","3G","3B","3C","3J","3F","3L","3E","H","G","B","C","J","F","L","E",72,71,66,67,74,70,76,69,null,66,67,69,70,71,72,74,76,null,"B","C","E","F","G","H","J","L"]
[106,"BCEFGHJK","3H","3G","3B","3C","3J","3F","3E","3K","H","G","B","C","J","F","E","K",72,71,66,67,74,70,69,75,null,66,67,69,70,71,72,74,75,null,"B","C","E","F","G","H","J","K"]
[107,"BCEFGHIL","3E","3G","3B","3C","3H","3F","3L","3I","E","G","B","C","H","F","L","I",69,71,66,67,72,70,76,73,null,66,67,69,70,71,72,73,76,null,"B","C","E","F","G","H","I","L"]
[108,"BCEFGHIK","3E","3G","3B","3C","3H","3F","3I","3K","E","G","B","C","H","F","I","K",69,71,66,67,72,70,73,75,null,66,67,69,70,71,72,73,75,null,"B","C","E","F","G","H","I","K"]
[109,"BCEFGHIJ","3H","3G","3B","3C","3J","3F","3E","3I","H","G","B","C","J","F","E","I",72,71,66,67,74,70,69,73,null,66,67,69,70,71,72,73,74,null,"B","C","E","F","G","H","I","J"]
[110,"BCDHIJKL","3H","3J","3B","3C","3I","3D","3L","3K","H","J","B","C","I","D","L","K",72,74,66,67,73,68,76,75,null,66,67,68,72,73,74,75,76,null,"B","C","D","H","I","J","K","L"]
[111,"BCDGIJKL","3I","3G","3B","3C","3J","3D","3L","3K","I","G","B","C","J","D","L","K",73,71,66,67,74,68,76,75,null,66,67,68,71,73,74,75,76,null,"B","C","D","G","I","J","K","L"]
[112,"BCDGHJKL","3H","3G","3B","3C","3J","3D","3L","3K","H","G","B","C","J","D","L","K",72,71,66,67,74,68,76,75,null,66,67,68,71,72,74,75,76,null,"B","C","D","G","H","J","K","L"]
[113,"BCDGHIKL","3H","3G","3B","3C","3I","3D","3L","3K","H","G","B","C","I","D","L","K",72,71,66,67,73,68,76,75,null,66,67,68,71,72,73,75,76,null,"B","C","D","G","H","I","K","L"]
[114,"BCDGHIJL","3H","3G","3B","3C","3J","3D","3L","3I","H","G","B","C","J","D","L","I",72,71,66,67,74,68,76,73,null,66,67,68,71,72,73,74,76,null,"B","C","D","G","H","I","J","L"]
[115,"BCDGHIJK","3H","3G","3B","3C","3J","3D","3I","3K","H","G","B",{"$f":"MID(F116,2,1)","v":"C"},"J","D","I","K",72,71,66,{"$f":"CODE(N116)","v":67},74,68,73,75,null,66,67,68,71,72,73,74,75,null,"B","C","D",{"$f":"CHAR(AE116)","v":"G"},"H","I","J","K"]
[116,"BCDFIJKL","3C","3J","3B","3D","3I","3F","3L","3K",{"$f":"MID(C117,2,1)","v":"C"},"J","B","D","I","F","L","K",{"$f":"CODE(K117)","v":67},74,66,68,73,70,76,75,null,66,67,68,70,73,74,75,76,null,{"$f":"CHAR(AB117)","v":"B"},"C","D","F","I","J","K","L"]
[117,"BCDFHJKL","3C","3J","3B","3D","3H","3F","3L","3K","C","J","B","D","H","F","L","K",67,74,66,68,72,70,76,75,null,66,67,68,70,72,74,75,76,null,"B","C","D","F","H","J","K","L"]
[118,"BCDFHIKL","3C","3I","3B","3D","3H","3F","3L","3K","C","I","B","D","H","F","L","K",67,73,66,68,72,70,76,75,null,66,67,68,70,72,73,75,76,null,"B","C","D","F","H","I","K","L"]
[119,"BCDFHIJL","3C","3J","3B","3D","3H","3F","3L","3I","C","J","B","D","H","F","L","I",67,74,66,68,72,70,76,73,null,66,67,68,70,72,73,74,76,null,"B","C","D","F","H","I","J","L"]
[120,"BCDFHIJK","3C","3J","3B","3D","3H","3F","3I","3K","C","J","B","D","H","F","I","K",67,74,66,68,72,70,73,75,null,66,67,68,70,72,73,74,75,null,"B","C","D","F","H","I","J","K"]
[121,"BCDFGJKL","3C","3G","3B","3D","3J","3F","3L","3K","C","G","B","D","J","F","L","K",67,71,66,68,74,70,76,75,null,66,67,68,70,71,74,75,76,null,"B","C","D","F","G","J","K","L"]
[122,"BCDFGIKL","3C","3G","3B","3D","3I","3F","3L","3K","C","G","B","D","I","F","L","K",67,71,66,68,73,70,76,75,null,66,67,68,70,71,73,75,76,null,"B","C","D","F","G","I","K","L"]
[123,"BCDFGIJL","3C","3G","3B","3D","3J","3F","3L","3I","C","G","B","D","J","F","L","I",67,71,66,68,74,70,76,73,null,66,67,68,70,71,73,74,76,null,"B","C","D","F","G","I","J","L"]
[124,"BCDFGIJK","3C","3G","3B","3D","3J","3F","3I","3K","C","G","B","D","J","F","I","K",67,71,66,68,74,70,73,75,null,66,67,68,70,71,73,74,75,null,"B","C","D","F","G","I","J","K"]
[125,"BCDFGHKL","3C","3G","3B","3D","3H","3F","3L","3K","C","G","B","D","H","F","L","K",67,71,66,68,72,70,76,75,null,66,67,68,70,71,72,75,76,null,"B","C","D","F","G","H","K","L"]
[126,"BCDFGHJL","3C","3G","3B","3D","3H","3F","3L","3J","C","G","B","D","H","F","L","J",67,71,66,68,72,70,76,74,null,66,67,68,70,71,72,74,76,null,"B","C","D","F","G","H","J","L"]
[127,"BCDFGHJK","3H","3G","3B","3C","3J","3F","3D","3K","H","G","B","C","J","F","D","K",72,71,66,67,74,70,68,75,null,66,67,68,70,71,72,74,75,null,"B","C","D","F","G","H","J","K"]
[128,"BCDFGHIL","3C","3G","3B","3D","3H","3F","3L","3I","C","G","B","D","H","F","L","I",67,71,66,68,72,70,76,73,null,66,67,68,70,71,72,73,76,null,"B","C","D","F","G","H","I","L"]
[129,"BCDFGHIK","3C","3G","3B","3D","3H","3F","3I","3K","C","G","B","D","H","F","I","K",67,71,66,68,72,70,73,75,null,66,67,68,70,71,72,73,75,null,"B","C","D","F","G","H","I","K"]
[130,{"$f":"CONCATENATE(AK131,AL131,AM131,AN131,AO131,AP131,AQ131,AR131)","v":"BCDFGHIJ"},"3H","3G","3B","3C","3J","3F","3D","3I","H","G","B","C","J","F","D","I",72,71,66,67,74,70,68,73,null,{"$f":"SMALL($S131:$Z131,1)","v":66},{"$f":"SMALL($S131:$Z131,2)","v":67},{"$f":"SMALL($S131:$Z131,3)","v":68},{"$f":"SMALL($S131:$Z131,4)","v":70},{"$f":"SMALL($S131:$Z131,5)","v":71},{"$f":"SMALL($S131:$Z131,6)","v":72},{"$f":"SMALL($S131:$Z131,7)","v":73},{"$f":"SMALL($S131:$Z131,8)","v":74},null,"B","C","D","F","G","H","I","J"]
[131,"BCDEIJKL","3E","3J","3B","3C","3I","3D","3L","3K","E","J","B","C","I","D","L","K",69,74,66,67,73,68,76,75,null,66,67,68,69,73,74,75,76,null,"B","C","D","E","I","J","K","L"]
[132,"BCDEHJKL","3E","3J","3B","3C","3H","3D","3L","3K","E","J","B","C","H","D","L","K",69,74,66,67,72,68,76,75,null,66,67,68,69,72,74,75,76,null,"B","C","D","E","H","J","K","L"]
[133,"BCDEHIKL","3E","3I","3B","3C","3H","3D","3L","3K","E","I","B","C","H","D","L","K",69,73,66,67,72,68,76,75,null,66,67,68,69,72,73,75,76,null,"B","C","D","E","H","I","K","L"]
[134,"BCDEHIJL","3E","3J","3B","3C","3H","3D","3L","3I","E","J","B","C","H","D","L","I",69,74,66,67,72,68,76,73,null,66,67,68,69,72,73,74,76,null,"B","C","D","E","H","I","J","L"]
[135,"BCDEHIJK","3E","3J","3B","3C","3H","3D","3I","3K","E","J","B","C","H","D","I","K",69,74,66,67,72,68,73,75,null,66,67,68,69,72,73,74,75,null,"B","C","D","E","H","I","J","K"]
[136,"BCDEGJKL","3E","3G","3B","3C","3J","3D","3L","3K","E","G","B","C","J","D","L","K",69,71,66,67,74,68,76,75,null,66,67,68,69,71,74,75,76,null,"B","C","D","E","G","J","K","L"]
[137,"BCDEGIKL","3E","3G","3B","3C","3I","3D","3L","3K","E","G","B","C","I","D","L","K",69,71,66,67,73,68,76,75,null,66,67,68,69,71,73,75,76,null,"B","C","D","E","G","I","K","L"]
[138,"BCDEGIJL","3E","3G","3B","3C","3J","3D","3L","3I","E","G","B","C","J","D","L","I",69,71,66,67,74,68,76,73,null,66,67,68,69,71,73,74,76,null,"B","C","D","E","G","I","J","L"]
[139,"BCDEGIJK","3E","3G","3B","3C","3J","3D","3I","3K","E","G","B","C","J","D","I","K",69,71,66,67,74,68,73,75,null,66,67,68,69,71,73,74,75,null,"B","C","D","E","G","I","J","K"]
[140,"BCDEGHKL","3E","3G","3B","3C","3H","3D","3L","3K","E","G","B","C","H","D","L","K",69,71,66,67,72,68,76,75,null,66,67,68,69,71,72,75,76,null,"B","C","D","E","G","H","K","L"]
[141,"BCDEGHJL","3H","3G","3B","3C","3J","3D","3L","3E","H","G","B","C","J","D","L","E",72,71,66,67,74,68,76,69,null,66,67,68,69,71,72,74,76,null,"B","C","D","E","G","H","J","L"]
[142,"BCDEGHJK","3H","3G","3B","3C","3J","3D","3E","3K","H","G","B","C","J","D","E","K",72,71,66,67,74,68,69,75,null,66,67,68,69,71,72,74,75,null,"B","C","D","E","G","H","J","K"]
[143,"BCDEGHIL","3E","3G","3B","3C","3H","3D","3L","3I","E","G","B","C","H","D","L","I",69,71,66,67,72,68,76,73,null,66,67,68,69,71,72,73,76,null,"B","C","D","E","G","H","I","L"]
[144,"BCDEGHIK","3E","3G","3B","3C","3H","3D","3I","3K","E","G","B","C","H","D","I","K",69,71,66,67,72,68,73,75,null,66,67,68,69,71,72,73,75,null,"B","C","D","E","G","H","I","K"]
[145,"BCDEGHIJ","3H","3G","3B","3C","3J","3D","3E","3I","H","G","B","C","J","D","E","I",72,71,66,67,74,68,69,73,null,66,67,68,69,71,72,73,74,null,"B","C","D","E","G","H","I","J"]
[146,"BCDEFJKL","3C","3J","3B","3D","3E","3F","3L","3K","C","J","B","D","E","F","L","K",67,74,66,68,69,70,76,75,null,66,67,68,69,70,74,75,76,null,"B","C","D","E","F","J","K","L"]
[147,"BCDEFIKL","3C","3E","3B","3D","3I","3F","3L","3K","C","E","B","D","I","F","L","K",67,69,66,68,73,70,76,75,null,66,67,68,69,70,73,75,76,null,"B","C","D","E","F","I","K","L"]
[148,"BCDEFIJL","3C","3J","3B","3D","3E","3F","3L","3I","C","J","B","D","E","F","L","I",67,74,66,68,69,70,76,73,null,66,67,68,69,70,73,74,76,null,"B","C","D","E","F","I","J","L"]
[149,"BCDEFIJK","3C","3J","3B","3D","3E","3F","3I","3K","C","J","B","D","E","F","I","K",67,74,66,68,69,70,73,75,null,66,67,68,69,70,73,74,75,null,"B","C","D","E","F","I","J","K"]
[150,"BCDEFHKL","3C","3E","3B","3D","3H","3F","3L","3K","C","E","B","D","H","F","L","K",67,69,66,68,72,70,76,75,null,66,67,68,69,70,72,75,76,null,"B","C","D","E","F","H","K","L"]
[151,"BCDEFHJL","3C","3J","3B","3D","3H","3F","3L","3E","C","J","B","D","H","F","L","E",67,74,66,68,72,70,76,69,null,66,67,68,69,70,72,74,76,null,"B","C","D","E","F","H","J","L"]
[152,"BCDEFHJK","3C","3J","3B","3D","3H","3F","3E","3K","C","J","B","D","H","F","E","K",67,74,66,68,72,70,69,75,null,66,67,68,69,70,72,74,75,null,"B","C","D","E","F","H","J","K"]
[153,"BCDEFHIL","3C","3E","3B","3D","3H","3F","3L","3I","C","E","B","D","H","F","L","I",67,69,66,68,72,70,76,73,null,66,67,68,69,70,72,73,76,null,"B","C","D","E","F","H","I","L"]
[154,"BCDEFHIK","3C","3E","3B","3D","3H","3F","3I","3K","C","E","B","D","H","F","I","K",67,69,66,68,72,70,73,75,null,66,67,68,69,70,72,73,75,null,"B","C","D","E","F","H","I","K"]
[155,"BCDEFHIJ","3C","3J","3B","3D","3H","3F","3E","3I","C","J","B","D","H","F","E","I",67,74,66,68,72,70,69,73,null,66,67,68,69,70,72,73,74,null,"B","C","D","E","F","H","I","J"]
[156,"BCDEFGKL","3C","3G","3B","3D","3E","3F","3L","3K","C","G","B","D","E","F","L","K",67,71,66,68,69,70,76,75,null,66,67,68,69,70,71,75,76,null,"B","C","D","E","F","G","K","L"]
[157,"BCDEFGJL","3C","3G","3B","3D","3J","3F","3L","3E","C","G","B","D","J","F","L","E",67,71,66,68,74,70,76,69,null,66,67,68,69,70,71,74,76,null,"B","C","D","E","F","G","J","L"]
[158,"BCDEFGJK","3C","3G","3B","3D","3J","3F","3E","3K","C","G","B","D","J","F","E","K",67,71,66,68,74,70,69,75,null,66,67,68,69,70,71,74,75,null,"B","C","D","E","F","G","J","K"]
[159,"BCDEFGIL","3C","3G","3B","3D","3E","3F","3L","3I","C","G","B","D","E","F","L","I",67,71,66,68,69,70,76,73,null,66,67,68,69,70,71,73,76,null,"B","C","D","E","F","G","I","L"]
[160,"BCDEFGIK","3C","3G","3B","3D","3E","3F","3I","3K","C","G","B","D","E","F","I","K",67,71,66,68,69,70,73,75,null,66,67,68,69,70,71,73,75,null,"B","C","D","E","F","G","I","K"]
[161,"BCDEFGIJ","3C","3G","3B","3D","3J","3F","3E","3I","C","G","B","D","J","F","E","I",67,71,66,68,74,70,69,73,null,66,67,68,69,70,71,73,74,null,"B","C","D","E","F","G","I","J"]
[162,"BCDEFGHL","3C","3G","3B","3D","3H","3F","3L","3E","C","G","B","D","H","F","L","E",67,71,66,68,72,70,76,69,null,66,67,68,69,70,71,72,76,null,"B","C","D","E","F","G","H","L"]
[163,"BCDEFGHK","3C","3G","3B","3D","3H","3F","3E","3K","C","G","B","D","H","F","E","K",67,71,66,68,72,70,69,75,null,66,67,68,69,70,71,72,75,null,"B","C","D","E","F","G","H","K"]
[164,"BCDEFGHJ","3H","3G","3B","3C","3J","3F","3D","3E","H","G","B","C","J","F","D","E",72,71,66,67,74,70,68,69,null,66,67,68,69,70,71,72,74,null,"B","C","D","E","F","G","H","J"]
[165,"BCDEFGHI","3C","3G","3B","3D","3H","3F","3E","3I","C","G","B","D","H","F","E","I",67,71,66,68,72,70,69,73,null,66,67,68,69,70,71,72,73,null,"B","C","D","E","F","G","H","I"]
[166,"AFGHIJKL","3H","3J","3I","3F","3A","3G","3L","3K","H","J","I","F","A","G","L","K",72,74,73,70,65,71,76,75,null,65,70,71,72,73,74,75,76,null,"A","F","G","H","I","J","K","L"]
[167,"AEGHIJKL","3E","3J","3I","3A","3H","3G","3L","3K","E","J","I","A","H","G","L","K",69,74,73,65,72,71,76,75,null,65,69,71,72,73,74,75,76,null,"A","E","G","H","I","J","K","L"]
[168,"AEFHIJKL","3E","3J","3I","3F","3A","3H","3L","3K","E","J","I","F","A","H","L","K",69,74,73,70,65,72,76,75,null,65,69,70,72,73,74,75,76,null,"A","E","F","H","I","J","K","L"]
[169,"AEFGIJKL","3E","3J","3I","3F","3A","3G","3L","3K","E","J","I","F","A","G","L","K",69,74,73,70,65,71,76,75,null,65,69,70,71,73,74,75,76,null,"A","E","F","G","I","J","K","L"]
[170,"AEFGHJKL","3E","3G","3J","3F","3A","3H","3L","3K","E","G","J","F","A","H","L","K",69,71,74,70,65,72,76,75,null,65,69,70,71,72,74,75,76,null,"A","E","F","G","H","J","K","L"]
[171,"AEFGHIKL","3E","3G","3I","3F","3A","3H","3L","3K","E","G","I","F","A",{"$f":"MID(H172,2,1)","v":"H"},"L","K",69,71,73,70,65,{"$f":"CODE(P172)","v":72},76,75,null,65,69,70,71,72,73,75,76,null,"A","E","F","G","H",{"$f":"CHAR(AG172)","v":"I"},"K","L"]
[172,"AEFGHIJL","3E","3G","3J","3F","3A","3H","3L","3I","E","G","J","F","A","H","L","I",69,71,74,70,65,72,76,73,null,65,69,70,71,72,73,74,76,null,"A","E","F","G","H","I","J","L"]
[173,"AEFGHIJK","3E","3G","3J","3F","3A","3H","3I","3K","E","G","J","F","A","H","I","K",69,71,74,70,65,72,73,75,null,65,69,70,71,72,73,74,75,null,"A","E","F","G","H","I","J","K"]
[174,"ADGHIJKL","3H","3J","3I","3D","3A","3G","3L","3K","H","J","I","D","A","G","L","K",72,74,73,68,65,71,76,75,null,65,68,71,72,73,74,75,76,null,"A","D","G","H","I","J","K","L"]
[175,"ADFHIJKL","3H","3J","3I","3D","3A","3F","3L","3K","H","J","I","D","A","F","L","K",72,74,73,68,65,70,76,75,null,65,68,70,72,73,74,75,76,null,"A","D","F","H","I","J","K","L"]
[176,"ADFGIJKL","3I","3G","3J","3D","3A","3F","3L","3K","I","G","J","D","A","F","L","K",73,71,74,68,65,70,76,75,null,65,68,70,71,73,74,75,76,null,"A","D","F","G","I","J","K","L"]
[177,"ADFGHJKL","3H","3G","3J","3D","3A","3F","3L","3K","H","G","J","D","A","F","L","K",72,71,74,68,65,70,76,75,null,65,68,70,71,72,74,75,76,null,"A","D","F","G","H","J","K","L"]
[178,"ADFGHIKL","3H","3G","3I","3D","3A","3F","3L","3K","H","G","I","D","A","F","L","K",72,71,73,68,65,70,76,75,null,65,68,70,71,72,73,75,76,null,"A","D","F","G","H","I","K","L"]
[179,"ADFGHIJL","3H","3G","3J","3D","3A","3F","3L","3I","H","G","J","D","A","F","L","I",72,71,74,68,65,70,76,73,null,65,68,70,71,72,73,74,76,null,"A","D","F","G","H","I","J","L"]
[180,"ADFGHIJK","3H","3G","3J","3D","3A","3F","3I","3K",{"$f":"MID(C181,2,1)","v":"H"},"G","J","D","A","F","I","K",{"$f":"CODE(K181)","v":72},71,74,68,65,70,73,75,null,65,68,70,71,72,73,74,75,null,{"$f":"CHAR(AB181)","v":"A"},"D","F","G","H","I","J","K"]
[181,"ADEHIJKL","3E","3J","3I","3D","3A","3H","3L","3K","E","J","I","D","A","H","L","K",69,74,73,68,65,72,76,75,null,65,68,69,72,73,74,75,76,null,"A","D","E","H","I","J","K","L"]
[182,"ADEGIJKL","3E","3J","3I","3D","3A","3G","3L","3K","E","J","I","D","A","G","L","K",69,74,73,68,65,71,76,75,null,65,68,69,71,73,74,75,76,null,"A","D","E","G","I","J","K","L"]
[183,"ADEGHJKL","3E","3G","3J","3D","3A","3H","3L","3K","E","G","J","D","A","H","L","K",69,71,74,68,65,72,76,75,null,65,68,69,71,72,74,75,76,null,"A","D","E","G","H","J","K","L"]
[184,"ADEGHIKL","3E","3G","3I","3D","3A","3H","3L","3K","E","G","I","D","A","H","L","K",69,71,73,68,65,72,76,75,null,65,68,69,71,72,73,75,76,null,"A","D","E","G","H","I","K","L"]
[185,"ADEGHIJL","3E","3G","3J","3D","3A","3H","3L","3I","E","G","J","D","A","H","L","I",69,71,74,68,65,72,76,73,null,65,68,69,71,72,73,74,76,null,"A","D","E","G","H","I","J","L"]
[186,"ADEGHIJK","3E","3G","3J","3D","3A","3H","3I","3K","E","G","J","D","A","H","I","K",69,71,74,68,65,72,73,75,null,65,68,69,71,72,73,74,75,null,"A","D","E","G","H","I","J","K"]
[187,"ADEFIJKL","3E","3J","3I","3D","3A","3F","3L","3K","E","J","I","D","A","F","L","K",69,74,73,68,65,70,76,75,null,65,68,69,70,73,74,75,76,null,"A","D","E","F","I","J","K","L"]
[188,"ADEFHJKL","3H","3J","3E","3D","3A","3F","3L","3K","H","J","E","D","A","F","L","K",72,74,69,68,65,70,76,75,null,65,68,69,70,72,74,75,76,null,"A","D","E","F","H","J","K","L"]
[189,"ADEFHIKL","3H","3E","3I","3D","3A","3F","3L","3K","H","E","I","D","A","F","L","K",72,69,73,68,65,70,76,75,null,65,68,69,70,72,73,75,76,null,"A","D","E","F","H","I","K","L"]
[190,"ADEFHIJL","3H","3J","3E","3D","3A","3F","3L","3I","H","J","E","D","A","F","L","I",72,74,69,68,65,70,76,73,null,65,68,69,70,72,73,74,76,null,"A","D","E","F","H","I","J","L"]
[191,"ADEFHIJK","3H","3J","3E","3D","3A","3F","3I","3K","H","J","E","D","A","F","I","K",72,74,69,68,65,70,73,75,null,65,68,69,70,72,73,74,75,null,"A","D","E","F","H","I","J","K"]
[192,"ADEFGJKL","3E","3G","3J","3D","3A","3F","3L","3K","E","G","J","D","A","F","L","K",69,71,74,68,65,70,76,75,null,65,68,69,70,71,74,75,76,null,"A","D","E","F","G","J","K","L"]
[193,"ADEFGIKL","3E","3G","3I","3D","3A","3F","3L","3K","E","G","I","D","A","F","L","K",69,71,73,68,65,70,76,75,null,65,68,69,70,71,73,75,76,null,"A","D","E","F","G","I","K","L"]
[194,{"$f":"CONCATENATE(AK195,AL195,AM195,AN195,AO195,AP195,AQ195,AR195)","v":"ADEFGIJL"},"3E","3G","3J","3D","3A","3F","3L","3I","E","G","J","D","A","F","L","I",69,71,74,68,65,70,76,73,null,{"$f":"SMALL($S195:$Z195,1)","v":65},{"$f":"SMALL($S195:$Z195,2)","v":68},{"$f":"SMALL($S195:$Z195,3)","v":69},{"$f":"SMALL($S195:$Z195,4)","v":70},{"$f":"SMALL($S195:$Z195,5)","v":71},{"$f":"SMALL($S195:$Z195,6)","v":73},{"$f":"SMALL($S195:$Z195,7)","v":74},{"$f":"SMALL($S195:$Z195,8)","v":76},null,"A","D","E","F","G","I","J","L"]
[195,"ADEFGIJK","3E","3G","3J","3D","3A","3F","3I","3K","E","G","J","D","A","F","I","K",69,71,74,68,65,70,73,75,null,65,68,69,70,71,73,74,75,null,"A","D","E","F","G","I","J","K"]
[196,"ADEFGHKL","3H","3G","3E","3D","3A","3F","3L","3K","H","G","E","D","A","F","L","K",72,71,69,68,65,70,76,75,null,65,68,69,70,71,72,75,76,null,"A","D","E","F","G","H","K","L"]
[197,"ADEFGHJL","3H","3G","3J","3D","3A","3F","3L","3E","H","G","J","D","A","F","L","E",72,71,74,68,65,70,76,69,null,65,68,69,70,71,72,74,76,null,"A","D","E","F","G","H","J","L"]
[198,"ADEFGHJK","3H","3G","3J","3D","3A","3F","3E","3K","H","G","J","D","A","F","E","K",72,71,74,68,65,70,69,75,null,65,68,69,70,71,72,74,75,null,"A","D","E","F","G","H","J","K"]
[199,"ADEFGHIL","3H","3G","3E","3D","3A","3F","3L","3I","H","G","E","D","A","F","L","I",72,71,69,68,65,70,76,73,null,65,68,69,70,71,72,73,76,null,"A","D","E","F","G","H","I","L"]
[200,"ADEFGHIK","3H","3G","3E","3D","3A","3F","3I","3K","H","G","E","D","A","F","I","K",72,71,69,68,65,70,73,75,null,65,68,69,70,71,72,73,75,null,"A","D","E","F","G","H","I","K"]
[201,"ADEFGHIJ","3H","3G","3J","3D","3A","3F","3E","3I","H","G","J","D","A","F","E","I",72,71,74,68,65,70,69,73,null,65,68,69,70,71,72,73,74,null,"A","D","E","F","G","H","I","J"]
[202,"ACGHIJKL","3H","3J","3I","3C","3A","3G","3L","3K","H","J","I","C","A","G","L","K",72,74,73,67,65,71,76,75,null,65,67,71,72,73,74,75,76,null,"A","C","G","H","I","J","K","L"]
[203,"ACFHIJKL","3H","3J","3I","3C","3A","3F","3L","3K","H","J","I","C","A","F","L","K",72,74,73,67,65,70,76,75,null,65,67,70,72,73,74,75,76,null,"A","C","F","H","I","J","K","L"]
[204,"ACFGIJKL","3I","3G","3J","3C","3A","3F","3L","3K","I","G","J","C","A","F","L","K",73,71,74,67,65,70,76,75,null,65,67,70,71,73,74,75,76,null,"A","C","F","G","I","J","K","L"]
[205,"ACFGHJKL","3H","3G","3J","3C","3A","3F","3L","3K","H","G","J","C","A","F","L","K",72,71,74,67,65,70,76,75,null,65,67,70,71,72,74,75,76,null,"A","C","F","G","H","J","K","L"]
[206,"ACFGHIKL","3H","3G","3I","3C","3A","3F","3L","3K","H","G","I","C","A","F","L","K",72,71,73,67,65,70,76,75,null,65,67,70,71,72,73,75,76,null,"A","C","F","G","H","I","K","L"]
[207,"ACFGHIJL","3H","3G","3J","3C","3A","3F","3L","3I","H","G","J","C","A","F","L","I",72,71,74,67,65,70,76,73,null,65,67,70,71,72,73,74,76,null,"A","C","F","G","H","I","J","L"]
[208,"ACFGHIJK","3H","3G","3J","3C","3A","3F","3I","3K","H","G","J","C","A","F","I","K",72,71,74,67,65,70,73,75,null,65,67,70,71,72,73,74,75,null,"A","C","F","G","H","I","J","K"]
[209,"ACEHIJKL","3E","3J","3I","3C","3A","3H","3L","3K","E","J","I","C","A","H","L","K",69,74,73,67,65,72,76,75,null,65,67,69,72,73,74,75,76,null,"A","C","E","H","I","J","K","L"]
[210,"ACEGIJKL","3E","3J","3I","3C","3A","3G","3L","3K","E","J","I","C","A","G","L","K",69,74,73,67,65,71,76,75,null,65,67,69,71,73,74,75,76,null,"A","C","E","G","I","J","K","L"]
[211,"ACEGHJKL","3E","3G","3J","3C","3A","3H","3L","3K","E","G","J","C","A","H","L","K",69,71,74,67,65,72,76,75,null,65,67,69,71,72,74,75,76,null,"A","C","E","G","H","J","K","L"]
[212,"ACEGHIKL","3E","3G","3I","3C","3A","3H","3L","3K","E","G","I","C","A","H","L","K",69,71,73,67,65,72,76,75,null,65,67,69,71,72,73,75,76,null,"A","C","E","G","H","I","K","L"]
[213,"ACEGHIJL","3E","3G","3J","3C","3A","3H","3L","3I","E","G","J","C","A","H","L","I",69,71,74,67,65,72,76,73,null,65,67,69,71,72,73,74,76,null,"A","C","E","G","H","I","J","L"]
[214,"ACEGHIJK","3E","3G","3J","3C","3A","3H","3I","3K","E","G","J","C","A","H","I","K",69,71,74,67,65,72,73,75,null,65,67,69,71,72,73,74,75,null,"A","C","E","G","H","I","J","K"]
[215,"ACEFIJKL","3E","3J","3I","3C","3A","3F","3L","3K","E","J","I","C","A","F","L","K",69,74,73,67,65,70,76,75,null,65,67,69,70,73,74,75,76,null,"A","C","E","F","I","J","K","L"]
[216,"ACEFHJKL","3H","3J","3E","3C","3A","3F","3L","3K","H","J","E","C","A","F","L","K",72,74,69,67,65,70,76,75,null,65,67,69,70,72,74,75,76,null,"A","C","E","F","H","J","K","L"]
[217,"ACEFHIKL","3H","3E","3I","3C","3A","3F","3L","3K","H","E","I","C","A","F","L","K",72,69,73,67,65,70,76,75,null,65,67,69,70,72,73,75,76,null,"A","C","E","F","H","I","K","L"]
[218,"ACEFHIJL","3H","3J","3E","3C","3A","3F","3L","3I","H","J","E","C","A","F","L","I",72,74,69,67,65,70,76,73,null,65,67,69,70,72,73,74,76,null,"A","C","E","F","H","I","J","L"]
[219,"ACEFHIJK","3H","3J","3E","3C","3A","3F","3I","3K","H","J","E","C","A","F","I","K",72,74,69,67,65,70,73,75,null,65,67,69,70,72,73,74,75,null,"A","C","E","F","H","I","J","K"]
[220,"ACEFGJKL","3E","3G","3J","3C","3A","3F","3L","3K","E","G","J","C","A","F","L","K",69,71,74,67,65,70,76,75,null,65,67,69,70,71,74,75,76,null,"A","C","E","F","G","J","K","L"]
[221,"ACEFGIKL","3E","3G","3I","3C","3A","3F","3L","3K","E","G","I","C","A","F","L","K",69,71,73,67,65,70,76,75,null,65,67,69,70,71,73,75,76,null,"A","C","E","F","G","I","K","L"]
[222,"ACEFGIJL","3E","3G","3J","3C","3A","3F","3L","3I","E","G","J","C","A","F","L","I",69,71,74,67,65,70,76,73,null,65,67,69,70,71,73,74,76,null,"A","C","E","F","G","I","J","L"]
[223,"ACEFGIJK","3E","3G","3J","3C","3A","3F","3I","3K","E","G","J","C","A","F","I","K",69,71,74,67,65,70,73,75,null,65,67,69,70,71,73,74,75,null,"A","C","E","F","G","I","J","K"]
[224,"ACEFGHKL","3H","3G","3E","3C","3A","3F","3L","3K","H","G","E","C","A","F","L","K",72,71,69,67,65,70,76,75,null,65,67,69,70,71,72,75,76,null,"A","C","E","F","G","H","K","L"]
[225,"ACEFGHJL","3H","3G","3J","3C","3A","3F","3L","3E","H","G","J","C","A","F","L","E",72,71,74,67,65,70,76,69,null,65,67,69,70,71,72,74,76,null,"A","C","E","F","G","H","J","L"]
[226,"ACEFGHJK","3H","3G","3J","3C","3A","3F","3E","3K","H","G","J","C","A","F","E","K",72,71,74,67,65,70,69,75,null,65,67,69,70,71,72,74,75,null,"A","C","E","F","G","H","J","K"]
[227,"ACEFGHIL","3H","3G","3E","3C","3A","3F","3L","3I","H","G","E","C","A","F","L","I",72,71,69,67,65,70,76,73,null,65,67,69,70,71,72,73,76,null,"A","C","E","F","G","H","I","L"]
[228,"ACEFGHIK","3H","3G","3E","3C","3A","3F","3I","3K","H","G","E","C","A","F","I","K",72,71,69,67,65,70,73,75,null,65,67,69,70,71,72,73,75,null,"A","C","E","F","G","H","I","K"]
[229,"ACEFGHIJ","3H","3G","3J","3C","3A","3F","3E","3I","H","G","J","C","A","F","E","I",72,71,74,67,65,70,69,73,null,65,67,69,70,71,72,73,74,null,"A","C","E","F","G","H","I","J"]
[230,"ACDHIJKL","3H","3J","3I","3C","3A","3D","3L","3K","H","J","I","C","A","D","L","K",72,74,73,67,65,68,76,75,null,65,67,68,72,73,74,75,76,null,"A","C","D","H","I","J","K","L"]
[231,"ACDGIJKL","3I","3G","3J","3C","3A","3D","3L","3K",{"$f":"MID(C232,2,1)","v":"I"},{"$f":"MID(D232,2,1)","v":"G"},{"$f":"MID(E232,2,1)","v":"J"},{"$f":"MID(F232,2,1)","v":"C"},{"$f":"MID(G232,2,1)","v":"A"},"D","L","K",{"$f":"CODE(K232)","v":73},{"$f":"CODE(L232)","v":71},{"$f":"CODE(M232)","v":74},{"$f":"CODE(N232)","v":67},{"$f":"CODE(O232)","v":65},68,76,75,null,65,67,68,71,73,74,75,76,null,{"$f":"CHAR(AB232)","v":"A"},{"$f":"CHAR(AC232)","v":"C"},{"$f":"CHAR(AD232)","v":"D"},{"$f":"CHAR(AE232)","v":"G"},{"$f":"CHAR(AF232)","v":"I"},"J","K","L"]
[232,"ACDGHJKL","3H","3G","3J","3C","3A","3D","3L","3K","H","G","J","C","A","D","L","K",72,71,74,67,65,68,76,75,null,65,67,68,71,72,74,75,76,null,"A","C","D","G","H","J","K","L"]
[233,"ACDGHIKL","3H","3G","3I","3C","3A","3D","3L","3K","H","G","I","C","A","D","L","K",72,71,73,67,65,68,76,75,null,65,67,68,71,72,73,75,76,null,"A","C","D","G","H","I","K","L"]
[234,"ACDGHIJL","3H","3G","3J","3C","3A","3D","3L","3I","H","G","J","C","A","D","L","I",72,71,74,67,65,68,76,73,null,65,67,68,71,72,73,74,76,null,"A","C","D","G","H","I","J","L"]
[235,"ACDGHIJK","3H","3G","3J","3C","3A","3D","3I","3K","H","G","J","C","A",{"$f":"MID(H236,2,1)","v":"D"},{"$f":"MID(I236,2,1)","v":"I"},{"$f":"MID(J236,2,1)","v":"K"},72,71,74,67,65,{"$f":"CODE(P236)","v":68},{"$f":"CODE(Q236)","v":73},{"$f":"CODE(R236)","v":75},null,65,67,68,71,72,73,74,75,null,"A","C","D","G","H",{"$f":"CHAR(AG236)","v":"I"},{"$f":"CHAR(AH236)","v":"J"},{"$f":"CHAR(AI236)","v":"K"}]
[236,"ACDFIJKL","3C","3J","3I","3D","3A","3F","3L","3K","C","J","I","D","A","F","L","K",67,74,73,68,65,70,76,75,null,65,67,68,70,73,74,75,76,null,"A","C","D","F","I","J","K","L"]
[237,"ACDFHJKL","3H","3J","3F","3C","3A","3D","3L","3K","H","J","F","C","A","D","L","K",72,74,70,67,65,68,76,75,null,65,67,68,70,72,74,75,76,null,"A","C","D","F","H","J","K","L"]
[238,"ACDFHIKL","3H","3F","3I","3C","3A","3D","3L","3K","H","F","I","C","A","D","L","K",72,70,73,67,65,68,76,75,null,65,67,68,70,72,73,75,76,null,"A","C","D","F","H","I","K","L"]
[239,"ACDFHIJL","3H","3J","3F","3C","3A","3D","3L","3I","H","J","F","C","A","D","L","I",72,74,70,67,65,68,76,73,null,65,67,68,70,72,73,74,76,null,"A","C","D","F","H","I","J","L"]
[240,"ACDFHIJK","3H","3J","3F","3C","3A","3D","3I","3K","H","J","F","C","A","D","I","K",72,74,70,67,65,68,73,75,null,65,67,68,70,72,73,74,75,null,"A","C","D","F","H","I","J","K"]
[241,"ACDFGJKL","3C","3G","3J","3D","3A","3F","3L","3K","C","G","J","D","A","F","L","K",67,71,74,68,65,70,76,75,null,65,67,68,70,71,74,75,76,null,"A","C","D","F","G","J","K","L"]
[242,"ACDFGIKL","3C","3G","3I","3D","3A","3F","3L","3K","C","G","I","D","A","F","L","K",67,71,73,68,65,70,76,75,null,65,67,68,70,71,73,75,76,null,"A","C","D","F","G","I","K","L"]
[243,"ACDFGIJL","3C","3G","3J","3D","3A","3F","3L","3I","C","G","J","D","A","F","L","I",67,71,74,68,65,70,76,73,null,65,67,68,70,71,73,74,76,null,"A","C","D","F","G","I","J","L"]
[244,"ACDFGIJK","3C","3G","3J","3D","3A","3F","3I","3K","C","G","J","D","A","F","I","K",67,71,74,68,65,70,73,75,null,65,67,68,70,71,73,74,75,null,"A","C","D","F","G","I","J","K"]
[245,"ACDFGHKL","3H","3G","3F","3C","3A","3D","3L","3K","H","G","F","C","A","D","L","K",72,71,70,67,65,68,76,75,null,65,67,68,70,71,72,75,76,null,"A","C","D","F","G","H","K","L"]
[246,"ACDFGHJL","3C","3G","3J","3D","3A","3F","3L","3H","C","G","J","D","A","F","L","H",67,71,74,68,65,70,76,72,null,65,67,68,70,71,72,74,76,null,"A","C","D","F","G","H","J","L"]
[247,"ACDFGHJK","3H","3G","3J","3C","3A","3F","3D","3K","H","G","J","C","A","F","D","K",72,71,74,67,65,70,68,75,null,65,67,68,70,71,72,74,75,null,"A","C","D","F","G","H","J","K"]
[248,"ACDFGHIL","3H","3G","3F","3C","3A","3D","3L","3I","H","G","F","C","A","D","L","I",72,71,70,67,65,68,76,73,null,65,67,68,70,71,72,73,76,null,"A","C","D","F","G","H","I","L"]
[249,"ACDFGHIK","3H","3G","3F","3C","3A","3D","3I","3K","H","G","F","C","A","D","I","K",72,71,70,67,65,68,73,75,null,65,67,68,70,71,72,73,75,null,"A","C","D","F","G","H","I","K"]
[250,"ACDFGHIJ","3H","3G","3J","3C","3A","3F","3D","3I","H","G","J","C","A","F","D","I",72,71,74,67,65,70,68,73,null,65,67,68,70,71,72,73,74,null,"A","C","D","F","G","H","I","J"]
[251,"ACDEIJKL","3E","3J","3I","3C","3A","3D","3L","3K","E","J","I","C","A","D","L","K",69,74,73,67,65,68,76,75,null,65,67,68,69,73,74,75,76,null,"A","C","D","E","I","J","K","L"]
[252,"ACDEHJKL","3H","3J","3E","3C","3A","3D","3L","3K","H","J","E","C","A","D","L","K",72,74,69,67,65,68,76,75,null,65,67,68,69,72,74,75,76,null,"A","C","D","E","H","J","K","L"]
[253,"ACDEHIKL","3H","3E","3I","3C","3A","3D","3L","3K","H","E","I","C","A","D","L","K",72,69,73,67,65,68,76,75,null,65,67,68,69,72,73,75,76,null,"A","C","D","E","H","I","K","L"]
[254,"ACDEHIJL","3H","3J","3E","3C","3A","3D","3L","3I","H","J","E","C","A","D","L","I",72,74,69,67,65,68,76,73,null,65,67,68,69,72,73,74,76,null,"A","C","D","E","H","I","J","L"]
[255,"ACDEHIJK","3H","3J","3E","3C","3A","3D","3I","3K","H","J","E","C","A","D","I","K",72,74,69,67,65,68,73,75,null,65,67,68,69,72,73,74,75,null,"A","C","D","E","H","I","J","K"]
[256,"ACDEGJKL","3E","3G","3J","3C","3A","3D","3L","3K","E","G","J","C","A","D","L","K",69,71,74,67,65,68,76,75,null,65,67,68,69,71,74,75,76,null,"A","C","D","E","G","J","K","L"]
[257,"ACDEGIKL","3E","3G","3I","3C","3A","3D","3L","3K","E","G","I","C","A","D","L","K",69,71,73,67,65,68,76,75,null,65,67,68,69,71,73,75,76,null,"A","C","D","E","G","I","K","L"]
[258,{"$f":"CONCATENATE(AK259,AL259,AM259,AN259,AO259,AP259,AQ259,AR259)","v":"ACDEGIJL"},"3E","3G","3J","3C","3A","3D","3L","3I","E","G","J","C","A","D","L","I",69,71,74,67,65,68,76,73,null,{"$f":"SMALL($S259:$Z259,1)","v":65},{"$f":"SMALL($S259:$Z259,2)","v":67},{"$f":"SMALL($S259:$Z259,3)","v":68},{"$f":"SMALL($S259:$Z259,4)","v":69},{"$f":"SMALL($S259:$Z259,5)","v":71},{"$f":"SMALL($S259:$Z259,6)","v":73},{"$f":"SMALL($S259:$Z259,7)","v":74},{"$f":"SMALL($S259:$Z259,8)","v":76},null,"A","C","D","E","G","I","J","L"]
[259,"ACDEGIJK","3E","3G","3J","3C","3A","3D","3I","3K","E","G","J","C","A","D","I","K",69,71,74,67,65,68,73,75,null,65,67,68,69,71,73,74,75,null,"A","C","D","E","G","I","J","K"]
[260,"ACDEGHKL","3H","3G","3E","3C","3A","3D","3L","3K","H","G","E","C","A","D","L","K",72,71,69,67,65,68,76,75,null,65,67,68,69,71,72,75,76,null,"A","C","D","E","G","H","K","L"]
[261,"ACDEGHJL","3H","3G","3J","3C","3A","3D","3L","3E","H","G","J","C","A","D","L","E",72,71,74,67,65,68,76,69,null,65,67,68,69,71,72,74,76,null,"A","C","D","E","G","H","J","L"]
[262,"ACDEGHJK","3H","3G","3J","3C","3A","3D","3E","3K","H","G","J","C","A","D","E","K",72,71,74,67,65,68,69,75,null,65,67,68,69,71,72,74,75,null,"A","C","D","E","G","H","J","K"]
[263,"ACDEGHIL","3H","3G","3E","3C","3A","3D","3L","3I","H","G","E","C","A","D","L","I",72,71,69,67,65,68,76,73,null,65,67,68,69,71,72,73,76,null,"A","C","D","E","G","H","I","L"]
[264,"ACDEGHIK","3H","3G","3E","3C","3A","3D","3I","3K",{"$f":"MID(C265,2,1)","v":"H"},{"$f":"MID(D265,2,1)","v":"G"},{"$f":"MID(E265,2,1)","v":"E"},{"$f":"MID(F265,2,1)","v":"C"},"A","D","I","K",{"$f":"CODE(K265)","v":72},{"$f":"CODE(L265)","v":71},{"$f":"CODE(M265)","v":69},{"$f":"CODE(N265)","v":67},65,68,73,75,null,65,67,68,69,71,72,73,75,null,{"$f":"CHAR(AB265)","v":"A"},{"$f":"CHAR(AC265)","v":"C"},{"$f":"CHAR(AD265)","v":"D"},{"$f":"CHAR(AE265)","v":"E"},"G","H","I","K"]
[265,"ACDEGHIJ","3H","3G","3J","3C","3A","3D","3E","3I","H","G","J","C","A","D","E","I",72,71,74,67,65,68,69,73,null,65,67,68,69,71,72,73,74,null,"A","C","D","E","G","H","I","J"]
[266,"ACDEFJKL","3C","3J","3E","3D","3A","3F","3L","3K","C","J","E","D","A","F","L","K",67,74,69,68,65,70,76,75,null,65,67,68,69,70,74,75,76,null,"A","C","D","E","F","J","K","L"]
[267,"ACDEFIKL","3C","3E","3I","3D","3A","3F","3L","3K","C","E","I","D","A","F","L","K",67,69,73,68,65,70,76,75,null,65,67,68,69,70,73,75,76,null,"A","C","D","E","F","I","K","L"]
[268,"ACDEFIJL","3C","3J","3E","3D","3A","3F","3L","3I","C","J","E","D","A","F","L","I",67,74,69,68,65,70,76,73,null,65,67,68,69,70,73,74,76,null,"A","C","D","E","F","I","J","L"]
[269,"ACDEFIJK","3C","3J","3E","3D","3A","3F","3I","3K","C","J","E","D","A","F","I","K",67,74,69,68,65,70,73,75,null,65,67,68,69,70,73,74,75,null,"A","C","D","E","F","I","J","K"]
[270,"ACDEFHKL","3H","3E","3F","3C","3A","3D","3L","3K","H","E","F","C","A","D","L","K",72,69,70,67,65,68,76,75,null,65,67,68,69,70,72,75,76,null,"A","C","D","E","F","H","K","L"]
[271,"ACDEFHJL","3H","3J","3F","3C","3A","3D","3L","3E","H","J","F","C","A","D","L","E",72,74,70,67,65,68,76,69,null,65,67,68,69,70,72,74,76,null,"A","C","D","E","F","H","J","L"]
[272,"ACDEFHJK","3H","3J","3E","3C","3A","3F","3D","3K","H","J","E","C","A","F","D","K",72,74,69,67,65,70,68,75,null,65,67,68,69,70,72,74,75,null,"A","C","D","E","F","H","J","K"]
[273,"ACDEFHIL","3H","3E","3F","3C","3A","3D","3L","3I","H","E","F","C","A","D","L","I",72,69,70,67,65,68,76,73,null,65,67,68,69,70,72,73,76,null,"A","C","D","E","F","H","I","L"]
[274,"ACDEFHIK","3H","3E","3F","3C","3A","3D","3I","3K","H","E","F","C","A","D","I","K",72,69,70,67,65,68,73,75,null,65,67,68,69,70,72,73,75,null,"A","C","D","E","F","H","I","K"]
[275,"ACDEFHIJ","3H","3J","3E","3C","3A","3F","3D","3I","H","J","E","C","A","F","D","I",72,74,69,67,65,70,68,73,null,65,67,68,69,70,72,73,74,null,"A","C","D","E","F","H","I","J"]
[276,"ACDEFGKL","3C","3G","3E","3D","3A","3F","3L","3K","C","G","E","D","A","F","L","K",67,71,69,68,65,70,76,75,null,65,67,68,69,70,71,75,76,null,"A","C","D","E","F","G","K","L"]
[277,"ACDEFGJL","3C","3G","3J","3D","3A","3F","3L","3E","C","G","J","D","A","F","L","E",67,71,74,68,65,70,76,69,null,65,67,68,69,70,71,74,76,null,"A","C","D","E","F","G","J","L"]
[278,"ACDEFGJK","3C","3G","3J","3D","3A","3F","3E","3K","C","G","J","D","A","F","E","K",67,71,74,68,65,70,69,75,null,65,67,68,69,70,71,74,75,null,"A","C","D","E","F","G","J","K"]
[279,"ACDEFGIL","3C","3G","3E","3D","3A","3F","3L","3I","C","G","E","D","A","F","L","I",67,71,69,68,65,70,76,73,null,65,67,68,69,70,71,73,76,null,"A","C","D","E","F","G","I","L"]
[280,"ACDEFGIK","3C","3G","3E","3D","3A","3F","3I","3K","C","G","E","D","A","F","I","K",67,71,69,68,65,70,73,75,null,65,67,68,69,70,71,73,75,null,"A","C","D","E","F","G","I","K"]
[281,"ACDEFGIJ","3C","3G","3J","3D","3A","3F","3E","3I","C","G","J","D","A","F","E","I",67,71,74,68,65,70,69,73,null,65,67,68,69,70,71,73,74,null,"A","C","D","E","F","G","I","J"]
[282,"ACDEFGHL","3H","3G","3F","3C","3A","3D","3L","3E","H","G","F","C","A","D","L","E",72,71,70,67,65,68,76,69,null,65,67,68,69,70,71,72,76,null,"A","C","D","E","F","G","H","L"]
[283,"ACDEFGHK","3H","3G","3E","3C","3A","3F","3D","3K","H","G","E","C","A","F","D","K",72,71,69,67,65,70,68,75,null,65,67,68,69,70,71,72,75,null,"A","C","D","E","F","G","H","K"]
[284,"ACDEFGHJ","3H","3G","3J","3C","3A","3F","3D","3E","H","G","J","C","A","F","D","E",72,71,74,67,65,70,68,69,null,65,67,68,69,70,71,72,74,null,"A","C","D","E","F","G","H","J"]
[285,"ACDEFGHI","3H","3G","3E","3C","3A","3F","3D","3I","H","G","E","C","A","F","D","I",72,71,69,67,65,70,68,73,null,65,67,68,69,70,71,72,73,null,"A","C","D","E","F","G","H","I"]
[286,"ABGHIJKL","3H","3J","3B","3A","3I","3G","3L","3K","H","J","B","A","I","G","L","K",72,74,66,65,73,71,76,75,null,65,66,71,72,73,74,75,76,null,"A","B","G","H","I","J","K","L"]
[287,"ABFHIJKL","3H","3J","3B","3A","3I","3F","3L","3K","H","J","B","A","I","F","L","K",72,74,66,65,73,70,76,75,null,65,66,70,72,73,74,75,76,null,"A","B","F","H","I","J","K","L"]
[288,"ABFGIJKL","3I","3J","3B","3F","3A","3G","3L","3K","I","J","B","F","A","G","L","K",73,74,66,70,65,71,76,75,null,65,66,70,71,73,74,75,76,null,"A","B","F","G","I","J","K","L"]
[289,"ABFGHJKL","3H","3J","3B","3F","3A","3G","3L","3K","H","J","B","F","A","G","L","K",72,74,66,70,65,71,76,75,null,65,66,70,71,72,74,75,76,null,"A","B","F","G","H","J","K","L"]
[290,"ABFGHIKL","3H","3G","3B","3A","3I","3F","3L","3K","H","G","B","A","I","F","L","K",72,71,66,65,73,70,76,75,null,65,66,70,71,72,73,75,76,null,"A","B","F","G","H","I","K","L"]
[291,"ABFGHIJL","3H","3J","3B","3F","3A","3G","3L","3I","H","J","B","F","A","G","L","I",72,74,66,70,65,71,76,73,null,65,66,70,71,72,73,74,76,null,"A","B","F","G","H","I","J","L"]
[292,"ABFGHIJK","3H","3J","3B","3F","3A","3G","3I","3K","H","J","B","F","A","G","I","K",72,74,66,70,65,71,73,75,null,65,66,70,71,72,73,74,75,null,"A","B","F","G","H","I","J","K"]
[293,"ABEHIJKL","3E","3J","3B","3A","3I","3H","3L","3K","E","J","B","A","I","H","L","K",69,74,66,65,73,72,76,75,null,65,66,69,72,73,74,75,76,null,"A","B","E","H","I","J","K","L"]
[294,"ABEGIJKL","3E","3J","3B","3A","3I","3G","3L","3K","E","J","B","A","I","G","L","K",69,74,66,65,73,71,76,75,null,65,66,69,71,73,74,75,76,null,"A","B","E","G","I","J","K","L"]
[295,"ABEGHJKL","3E","3J","3B","3A","3H","3G","3L","3K","E","J","B","A","H","G","L","K",69,74,66,65,72,71,76,75,null,65,66,69,71,72,74,75,76,null,"A","B","E","G","H","J","K","L"]
[296,"ABEGHIKL","3E","3G","3B","3A","3I","3H","3L","3K",{"$f":"MID(C297,2,1)","v":"E"},{"$f":"MID(D297,2,1)","v":"G"},{"$f":"MID(E297,2,1)","v":"B"},"A","I","H","L","K",{"$f":"CODE(K297)","v":69},{"$f":"CODE(L297)","v":71},{"$f":"CODE(M297)","v":66},65,73,72,76,75,null,65,66,69,71,72,73,75,76,null,{"$f":"CHAR(AB297)","v":"A"},{"$f":"CHAR(AC297)","v":"B"},{"$f":"CHAR(AD297)","v":"E"},"G","H","I","K","L"]
[297,"ABEGHIJL","3E","3J","3B","3A","3H","3G","3L","3I","E","J","B","A","H","G","L","I",69,74,66,65,72,71,76,73,null,65,66,69,71,72,73,74,76,null,"A","B","E","G","H","I","J","L"]
[298,"ABEGHIJK","3E","3J","3B","3A","3H","3G","3I","3K","E","J","B","A","H","G","I","K",69,74,66,65,72,71,73,75,null,65,66,69,71,72,73,74,75,null,"A","B","E","G","H","I","J","K"]
[299,"ABEFIJKL","3E","3J","3B","3A","3I","3F","3L","3K","E","J","B","A","I","F","L","K",69,74,66,65,73,70,76,75,null,65,66,69,70,73,74,75,76,null,"A","B","E","F","I","J","K","L"]
[300,"ABEFHJKL","3E","3J","3B","3F","3A","3H","3L","3K","E","J","B","F","A","H","L","K",69,74,66,70,65,72,76,75,null,65,66,69,70,72,74,75,76,null,"A","B","E","F","H","J","K","L"]
[301,"ABEFHIKL","3E","3I","3B","3F","3A","3H","3L","3K","E","I","B","F","A","H","L","K",69,73,66,70,65,72,76,75,null,65,66,69,70,72,73,75,76,null,"A","B","E","F","H","I","K","L"]
[302,"ABEFHIJL","3E","3J","3B","3F","3A","3H","3L","3I","E","J","B","F","A","H","L","I",69,74,66,70,65,72,76,73,null,65,66,69,70,72,73,74,76,null,"A","B","E","F","H","I","J","L"]
[303,"ABEFHIJK","3E","3J","3B","3F","3A","3H","3I","3K","E","J","B","F","A","H","I","K",69,74,66,70,65,72,73,75,null,65,66,69,70,72,73,74,75,null,"A","B","E","F","H","I","J","K"]
[304,"ABEFGJKL","3E","3J","3B","3F","3A","3G","3L","3K","E","J","B","F","A","G","L","K",69,74,66,70,65,71,76,75,null,65,66,69,70,71,74,75,76,null,"A","B","E","F","G","J","K","L"]
[305,"ABEFGIKL","3E","3G","3B","3A","3I","3F","3L","3K","E","G","B","A","I","F","L","K",69,71,66,65,73,70,76,75,null,65,66,69,70,71,73,75,76,null,"A","B","E","F","G","I","K","L"]
[306,"ABEFGIJL","3E","3J","3B","3F","3A","3G","3L","3I","E","J","B","F","A","G","L","I",69,74,66,70,65,71,76,73,null,65,66,69,70,71,73,74,76,null,"A","B","E","F","G","I","J","L"]
[307,"ABEFGIJK","3E","3J","3B","3F","3A","3G","3I","3K","E","J","B","F","A","G","I","K",69,74,66,70,65,71,73,75,null,65,66,69,70,71,73,74,75,null,"A","B","E","F","G","I","J","K"]
[308,"ABEFGHKL","3E","3G","3B","3F","3A","3H","3L","3K","E","G","B","F","A","H","L","K",69,71,66,70,65,72,76,75,null,65,66,69,70,71,72,75,76,null,"A","B","E","F","G","H","K","L"]
[309,"ABEFGHJL","3H","3J","3B","3F","3A","3G","3L","3E","H","J","B","F","A","G","L","E",72,74,66,70,65,71,76,69,null,65,66,69,70,71,72,74,76,null,"A","B","E","F","G","H","J","L"]
[310,"ABEFGHJK","3H","3J","3B","3F","3A","3G","3E","3K","H","J","B","F","A","G","E","K",72,74,66,70,65,71,69,75,null,65,66,69,70,71,72,74,75,null,"A","B","E","F","G","H","J","K"]
[311,"ABEFGHIL","3E","3G","3B","3F","3A","3H","3L","3I","E","G","B","F","A","H","L","I",69,71,66,70,65,72,76,73,null,65,66,69,70,71,72,73,76,null,"A","B","E","F","G","H","I","L"]
[312,"ABEFGHIK","3E","3G","3B","3F","3A","3H","3I","3K","E","G","B","F","A","H","I","K",69,71,66,70,65,72,73,75,null,65,66,69,70,71,72,73,75,null,"A","B","E","F","G","H","I","K"]
[313,"ABEFGHIJ","3H","3J","3B","3F","3A","3G","3E","3I","H","J","B","F","A","G","E","I",72,74,66,70,65,71,69,73,null,65,66,69,70,71,72,73,74,null,"A","B","E","F","G","H","I","J"]
[314,"ABDHIJKL","3I","3J","3B","3D","3A","3H","3L","3K","I","J","B","D","A","H","L","K",73,74,66,68,65,72,76,75,null,65,66,68,72,73,74,75,76,null,"A","B","D","H","I","J","K","L"]
[315,"ABDGIJKL","3I","3J","3B","3D","3A","3G","3L","3K","I","J","B",{"$f":"MID(F316,2,1)","v":"D"},{"$f":"MID(G316,2,1)","v":"A"},{"$f":"MID(H316,2,1)","v":"G"},{"$f":"MID(I316,2,1)","v":"L"},{"$f":"MID(J316,2,1)","v":"K"},73,74,66,{"$f":"CODE(N316)","v":68},{"$f":"CODE(O316)","v":65},{"$f":"CODE(P316)","v":71},{"$f":"CODE(Q316)","v":76},{"$f":"CODE(R316)","v":75},null,65,66,68,71,73,74,75,76,null,"A","B","D",{"$f":"CHAR(AE316)","v":"G"},{"$f":"CHAR(AF316)","v":"I"},{"$f":"CHAR(AG316)","v":"J"},{"$f":"CHAR(AH316)","v":"K"},{"$f":"CHAR(AI316)","v":"L"}]
[316,"ABDGHJKL","3H","3J","3B","3D","3A","3G","3L","3K","H","J","B","D","A","G","L","K",72,74,66,68,65,71,76,75,null,65,66,68,71,72,74,75,76,null,"A","B","D","G","H","J","K","L"]
[317,"ABDGHIKL","3I","3G","3B","3D","3A","3H","3L","3K","I","G","B","D","A","H","L","K",73,71,66,68,65,72,76,75,null,65,66,68,71,72,73,75,76,null,"A","B","D","G","H","I","K","L"]
[318,"ABDGHIJL","3H","3J","3B","3D","3A","3G","3L","3I","H","J","B","D","A","G","L","I",72,74,66,68,65,71,76,73,null,65,66,68,71,72,73,74,76,null,"A","B","D","G","H","I","J","L"]
[319,"ABDGHIJK","3H","3J","3B","3D","3A","3G","3I","3K","H","J","B","D","A","G","I","K",72,74,66,68,65,71,73,75,null,65,66,68,71,72,73,74,75,null,"A","B","D","G","H","I","J","K"]
[320,"ABDFIJKL","3I","3J","3B","3D","3A","3F","3L","3K","I","J","B","D","A","F","L","K",73,74,66,68,65,70,76,75,null,65,66,68,70,73,74,75,76,null,"A","B","D","F","I","J","K","L"]
[321,"ABDFHJKL","3H","3J","3B","3D","3A","3F","3L","3K","H","J","B","D","A","F","L","K",72,74,66,68,65,70,76,75,null,65,66,68,70,72,74,75,76,null,"A","B","D","F","H","J","K","L"]
[322,{"$f":"CONCATENATE(AK323,AL323,AM323,AN323,AO323,AP323,AQ323,AR323)","v":"ABDFHIKL"},"3H","3I","3B","3D","3A","3F","3L","3K","H","I","B","D","A","F","L","K",72,73,66,68,65,70,76,75,null,{"$f":"SMALL($S323:$Z323,1)","v":65},{"$f":"SMALL($S323:$Z323,2)","v":66},{"$f":"SMALL($S323:$Z323,3)","v":68},{"$f":"SMALL($S323:$Z323,4)","v":70},{"$f":"SMALL($S323:$Z323,5)","v":72},{"$f":"SMALL($S323:$Z323,6)","v":73},{"$f":"SMALL($S323:$Z323,7)","v":75},{"$f":"SMALL($S323:$Z323,8)","v":76},null,"A","B","D","F","H","I","K","L"]
[323,"ABDFHIJL","3H","3J","3B","3D","3A","3F","3L","3I","H","J","B","D","A","F","L","I",72,74,66,68,65,70,76,73,null,65,66,68,70,72,73,74,76,null,"A","B","D","F","H","I","J","L"]
[324,"ABDFHIJK","3H","3J","3B","3D","3A","3F","3I","3K","H","J","B","D","A","F","I","K",72,74,66,68,65,70,73,75,null,65,66,68,70,72,73,74,75,null,"A","B","D","F","H","I","J","K"]
[325,"ABDFGJKL","3F","3J","3B","3D","3A","3G","3L","3K","F","J","B","D","A","G","L","K",70,74,66,68,65,71,76,75,null,65,66,68,70,71,74,75,76,null,"A","B","D","F","G","J","K","L"]
[326,"ABDFGIKL","3I","3G","3B","3D","3A","3F","3L","3K","I","G","B","D","A","F","L","K",73,71,66,68,65,70,76,75,null,65,66,68,70,71,73,75,76,null,"A","B","D","F","G","I","K","L"]
[327,"ABDFGIJL","3F","3J","3B","3D","3A","3G","3L","3I","F","J","B","D","A","G","L","I",70,74,66,68,65,71,76,73,null,65,66,68,70,71,73,74,76,null,"A","B","D","F","G","I","J","L"]
[328,"ABDFGIJK","3F","3J","3B","3D","3A","3G","3I","3K",{"$f":"MID(C329,2,1)","v":"F"},{"$f":"MID(D329,2,1)","v":"J"},"B","D","A","G","I","K",{"$f":"CODE(K329)","v":70},{"$f":"CODE(L329)","v":74},66,68,65,71,73,75,null,65,66,68,70,71,73,74,75,null,{"$f":"CHAR(AB329)","v":"A"},{"$f":"CHAR(AC329)","v":"B"},"D","F","G","I","J","K"]
[329,"ABDFGHKL","3H","3G","3B","3D","3A","3F","3L","3K",{"$f":"MID(C330,2,1)","v":"H"},"G","B","D","A","F","L","K",{"$f":"CODE(K330)","v":72},71,66,68,65,70,76,75,null,65,66,68,70,71,72,75,76,null,{"$f":"CHAR(AB330)","v":"A"},"B","D","F","G","H","K","L"]
[330,"ABDFGHJL","3H","3G","3B","3D","3A","3F","3L","3J","H","G","B","D","A","F","L","J",72,71,66,68,65,70,76,74,null,65,66,68,70,71,72,74,76,null,"A","B","D","F","G","H","J","L"]
[331,"ABDFGHJK","3H","3G","3B","3D","3A","3F","3J","3K","H","G","B","D","A","F","J","K",72,71,66,68,65,70,74,75,null,65,66,68,70,71,72,74,75,null,"A","B","D","F","G","H","J","K"]
[332,"ABDFGHIL","3H","3G","3B","3D","3A","3F","3L","3I","H","G","B","D","A","F","L","I",72,71,66,68,65,70,76,73,null,65,66,68,70,71,72,73,76,null,"A","B","D","F","G","H","I","L"]
[333,"ABDFGHIK","3H","3G","3B","3D","3A","3F","3I","3K","H","G","B","D","A","F","I","K",72,71,66,68,65,70,73,75,null,65,66,68,70,71,72,73,75,null,"A","B","D","F","G","H","I","K"]
[334,"ABDFGHIJ","3H","3G","3B","3D","3A","3F","3I","3J","H","G","B","D","A","F","I","J",72,71,66,68,65,70,73,74,null,65,66,68,70,71,72,73,74,null,"A","B","D","F","G","H","I","J"]
[335,"ABDEIJKL","3E","3J","3B","3A","3I","3D","3L","3K","E","J","B","A","I","D","L","K",69,74,66,65,73,68,76,75,null,65,66,68,69,73,74,75,76,null,"A","B","D","E","I","J","K","L"]
[336,"ABDEHJKL","3E","3J","3B","3D","3A","3H","3L","3K","E","J","B","D","A","H","L","K",69,74,66,68,65,72,76,75,null,65,66,68,69,72,74,75,76,null,"A","B","D","E","H","J","K","L"]
[337,"ABDEHIKL","3E","3I","3B","3D","3A","3H","3L","3K","E","I","B","D","A","H","L","K",69,73,66,68,65,72,76,75,null,65,66,68,69,72,73,75,76,null,"A","B","D","E","H","I","K","L"]
[338,"ABDEHIJL","3E","3J","3B","3D","3A","3H","3L","3I","E","J","B","D","A","H","L","I",69,74,66,68,65,72,76,73,null,65,66,68,69,72,73,74,76,null,"A","B","D","E","H","I","J","L"]
[339,"ABDEHIJK","3E","3J","3B","3D","3A","3H","3I","3K","E","J","B","D","A","H","I","K",69,74,66,68,65,72,73,75,null,65,66,68,69,72,73,74,75,null,"A","B","D","E","H","I","J","K"]
[340,"ABDEGJKL","3E","3J","3B","3D","3A","3G","3L","3K","E","J","B","D","A","G","L","K",69,74,66,68,65,71,76,75,null,65,66,68,69,71,74,75,76,null,"A","B","D","E","G","J","K","L"]
[341,"ABDEGIKL","3E","3G","3B","3A","3I","3D","3L","3K","E","G","B","A","I","D","L","K",69,71,66,65,73,68,76,75,null,65,66,68,69,71,73,75,76,null,"A","B","D","E","G","I","K","L"]
[342,"ABDEGIJL","3E","3J","3B","3D","3A","3G","3L","3I","E","J","B","D","A","G","L","I",69,74,66,68,65,71,76,73,null,65,66,68,69,71,73,74,76,null,"A","B","D","E","G","I","J","L"]
[343,"ABDEGIJK","3E","3J","3B","3D","3A","3G","3I","3K","E","J","B","D","A","G","I","K",69,74,66,68,65,71,73,75,null,65,66,68,69,71,73,74,75,null,"A","B","D","E","G","I","J","K"]
[344,"ABDEGHKL","3E","3G","3B","3D","3A","3H","3L","3K","E","G","B","D","A","H","L","K",69,71,66,68,65,72,76,75,null,65,66,68,69,71,72,75,76,null,"A","B","D","E","G","H","K","L"]
[345,"ABDEGHJL","3H","3J","3B","3D","3A","3G","3L","3E","H","J","B","D","A","G","L","E",72,74,66,68,65,71,76,69,null,65,66,68,69,71,72,74,76,null,"A","B","D","E","G","H","J","L"]
[346,"ABDEGHJK","3H","3J","3B","3D","3A","3G","3E","3K","H","J","B","D","A","G","E","K",72,74,66,68,65,71,69,75,null,65,66,68,69,71,72,74,75,null,"A","B","D","E","G","H","J","K"]
[347,"ABDEGHIL","3E","3G","3B","3D","3A","3H","3L","3I","E","G","B","D","A","H","L","I",69,71,66,68,65,72,76,73,null,65,66,68,69,71,72,73,76,null,"A","B","D","E","G","H","I","L"]
[348,"ABDEGHIK","3E","3G","3B","3D","3A","3H","3I","3K","E","G","B","D","A","H","I","K",69,71,66,68,65,72,73,75,null,65,66,68,69,71,72,73,75,null,"A","B","D","E","G","H","I","K"]
[349,"ABDEGHIJ","3H","3J","3B","3D","3A","3G","3E","3I","H","J","B","D","A","G","E","I",72,74,66,68,65,71,69,73,null,65,66,68,69,71,72,73,74,null,"A","B","D","E","G","H","I","J"]
[350,"ABDEFJKL","3E","3J","3B","3D","3A","3F","3L","3K","E","J","B","D","A","F","L","K",69,74,66,68,65,70,76,75,null,65,66,68,69,70,74,75,76,null,"A","B","D","E","F","J","K","L"]
[351,"ABDEFIKL","3E","3I","3B","3D","3A","3F","3L","3K","E","I","B","D","A","F","L","K",69,73,66,68,65,70,76,75,null,65,66,68,69,70,73,75,76,null,"A","B","D","E","F","I","K","L"]
[352,"ABDEFIJL","3E","3J","3B","3D","3A","3F","3L","3I","E","J","B","D","A","F","L","I",69,74,66,68,65,70,76,73,null,65,66,68,69,70,73,74,76,null,"A","B","D","E","F","I","J","L"]
[353,"ABDEFIJK","3E","3J","3B","3D","3A","3F","3I","3K","E","J","B","D","A","F","I","K",69,74,66,68,65,70,73,75,null,65,66,68,69,70,73,74,75,null,"A","B","D","E","F","I","J","K"]
[354,"ABDEFHKL","3H","3E","3B","3D","3A","3F","3L","3K","H","E","B","D","A","F","L","K",72,69,66,68,65,70,76,75,null,65,66,68,69,70,72,75,76,null,"A","B","D","E","F","H","K","L"]
[355,"ABDEFHJL","3H","3J","3B","3D","3A","3F","3L","3E","H","J","B","D","A","F","L","E",72,74,66,68,65,70,76,69,null,65,66,68,69,70,72,74,76,null,"A","B","D","E","F","H","J","L"]
[356,"ABDEFHJK","3H","3J","3B","3D","3A","3F","3E","3K","H","J","B","D","A","F","E","K",72,74,66,68,65,70,69,75,null,65,66,68,69,70,72,74,75,null,"A","B","D","E","F","H","J","K"]
[357,"ABDEFHIL","3H","3E","3B","3D","3A","3F","3L","3I","H","E","B","D","A","F","L","I",72,69,66,68,65,70,76,73,null,65,66,68,69,70,72,73,76,null,"A","B","D","E","F","H","I","L"]
[358,"ABDEFHIK","3H","3E","3B","3D","3A","3F","3I","3K","H","E","B","D","A","F","I","K",72,69,66,68,65,70,73,75,null,65,66,68,69,70,72,73,75,null,"A","B","D","E","F","H","I","K"]
[359,"ABDEFHIJ","3H","3J","3B","3D","3A","3F","3E","3I","H","J","B","D","A","F","E","I",72,74,66,68,65,70,69,73,null,65,66,68,69,70,72,73,74,null,"A","B","D","E","F","H","I","J"]
[360,"ABDEFGKL","3E","3G","3B","3D","3A","3F","3L","3K","E","G","B","D","A","F","L","K",69,71,66,68,65,70,76,75,null,65,66,68,69,70,71,75,76,null,"A","B","D","E","F","G","K","L"]
[361,"ABDEFGJL","3E","3G","3B","3D","3A","3F","3L","3J","E","G","B","D","A","F","L","J",69,71,66,68,65,70,76,74,null,65,66,68,69,70,71,74,76,null,"A","B","D","E","F","G","J","L"]
[362,"ABDEFGJK","3E","3G","3B","3D","3A","3F","3J","3K","E","G","B","D","A","F","J","K",69,71,66,68,65,70,74,75,null,65,66,68,69,70,71,74,75,null,"A","B","D","E","F","G","J","K"]
[363,"ABDEFGIL","3E","3G","3B","3D","3A","3F","3L","3I","E","G","B","D","A","F","L","I",69,71,66,68,65,70,76,73,null,65,66,68,69,70,71,73,76,null,"A","B","D","E","F","G","I","L"]
[364,"ABDEFGIK","3E","3G","3B","3D","3A","3F","3I","3K","E","G","B","D",{"$f":"MID(G365,2,1)","v":"A"},"F","I","K",69,71,66,68,{"$f":"CODE(O365)","v":65},70,73,75,null,65,66,68,69,70,71,73,75,null,"A","B","D","E",{"$f":"CHAR(AF365)","v":"F"},"G","I","K"]
[365,"ABDEFGIJ","3E","3G","3B","3D","3A","3F","3I","3J","E","G","B","D","A","F","I","J",69,71,66,68,65,70,73,74,null,65,66,68,69,70,71,73,74,null,"A","B","D","E","F","G","I","J"]
[366,"ABDEFGHL","3H","3G","3B","3D","3A","3F","3L","3E","H","G","B","D","A","F","L","E",72,71,66,68,65,70,76,69,null,65,66,68,69,70,71,72,76,null,"A","B","D","E","F","G","H","L"]
[367,"ABDEFGHK","3H","3G","3B","3D","3A","3F","3E","3K","H","G","B","D","A","F","E","K",72,71,66,68,65,70,69,75,null,65,66,68,69,70,71,72,75,null,"A","B","D","E","F","G","H","K"]
[368,"ABDEFGHJ","3H","3G","3B","3D","3A","3F","3E","3J","H","G","B","D","A","F","E","J",72,71,66,68,65,70,69,74,null,65,66,68,69,70,71,72,74,null,"A","B","D","E","F","G","H","J"]
[369,"ABDEFGHI","3H","3G","3B","3D","3A","3F","3E","3I","H","G","B","D","A","F","E","I",72,71,66,68,65,70,69,73,null,65,66,68,69,70,71,72,73,null,"A","B","D","E","F","G","H","I"]
[370,"ABCHIJKL","3I","3J","3B","3C","3A","3H","3L","3K","I","J","B","C","A","H","L","K",73,74,66,67,65,72,76,75,null,65,66,67,72,73,74,75,76,null,"A","B","C","H","I","J","K","L"]
[371,"ABCGIJKL","3I","3J","3B","3C","3A","3G","3L","3K","I","J","B","C","A","G","L","K",73,74,66,67,65,71,76,75,null,65,66,67,71,73,74,75,76,null,"A","B","C","G","I","J","K","L"]
[372,"ABCGHJKL","3H","3J","3B","3C","3A","3G","3L","3K","H","J","B","C","A","G","L","K",72,74,66,67,65,71,76,75,null,65,66,67,71,72,74,75,76,null,"A","B","C","G","H","J","K","L"]
[373,"ABCGHIKL","3I","3G","3B","3C","3A","3H","3L","3K","I","G","B","C","A","H","L","K",73,71,66,67,65,72,76,75,null,65,66,67,71,72,73,75,76,null,"A","B","C","G","H","I","K","L"]
[374,"ABCGHIJL","3H","3J","3B","3C","3A","3G","3L","3I","H","J","B","C","A","G","L","I",72,74,66,67,65,71,76,73,null,65,66,67,71,72,73,74,76,null,"A","B","C","G","H","I","J","L"]
[375,"ABCGHIJK","3H","3J","3B","3C","3A","3G","3I","3K","H","J","B","C","A","G","I","K",72,74,66,67,65,71,73,75,null,65,66,67,71,72,73,74,75,null,"A","B","C","G","H","I","J","K"]
[376,"ABCFIJKL","3I","3J","3B","3C","3A","3F","3L","3K","I","J","B","C","A","F","L","K",73,74,66,67,65,70,76,75,null,65,66,67,70,73,74,75,76,null,"A","B","C","F","I","J","K","L"]
[377,"ABCFHJKL","3H","3J","3B","3C","3A","3F","3L","3K","H","J","B","C","A","F","L","K",72,74,66,67,65,70,76,75,null,65,66,67,70,72,74,75,76,null,"A","B","C","F","H","J","K","L"]
[378,"ABCFHIKL","3H","3I","3B","3C","3A","3F","3L","3K","H","I","B","C","A","F","L","K",72,73,66,67,65,70,76,75,null,65,66,67,70,72,73,75,76,null,"A","B","C","F","H","I","K","L"]
[379,"ABCFHIJL","3H","3J","3B","3C","3A","3F","3L","3I","H","J","B","C","A","F","L","I",72,74,66,67,65,70,76,73,null,65,66,67,70,72,73,74,76,null,"A","B","C","F","H","I","J","L"]
[380,"ABCFHIJK","3H","3J","3B","3C","3A","3F","3I","3K","H","J","B","C","A","F","I","K",72,74,66,67,65,70,73,75,null,65,66,67,70,72,73,74,75,null,"A","B","C","F","H","I","J","K"]
[381,"ABCFGJKL","3C","3J","3B","3F","3A","3G","3L","3K","C","J","B","F","A","G","L","K",67,74,66,70,65,71,76,75,null,65,66,67,70,71,74,75,76,null,"A","B","C","F","G","J","K","L"]
[382,"ABCFGIKL","3I","3G","3B","3C","3A","3F","3L","3K","I","G","B","C","A","F","L","K",73,71,66,67,65,70,76,75,null,65,66,67,70,71,73,75,76,null,"A","B","C","F","G","I","K","L"]
[383,"ABCFGIJL","3C","3J","3B","3F","3A","3G","3L","3I","C","J","B","F","A","G","L","I",67,74,66,70,65,71,76,73,null,65,66,67,70,71,73,74,76,null,"A","B","C","F","G","I","J","L"]
[384,"ABCFGIJK","3C","3J","3B","3F","3A","3G","3I","3K","C","J","B","F","A","G","I","K",67,74,66,70,65,71,73,75,null,65,66,67,70,71,73,74,75,null,"A","B","C","F","G","I","J","K"]
[385,"ABCFGHKL","3H","3G","3B","3C","3A","3F","3L","3K","H","G","B","C","A","F","L","K",72,71,66,67,65,70,76,75,null,65,66,67,70,71,72,75,76,null,"A","B","C","F","G","H","K","L"]
[386,{"$f":"CONCATENATE(AK387,AL387,AM387,AN387,AO387,AP387,AQ387,AR387)","v":"ABCFGHJL"},"3H","3G","3B","3C","3A","3F","3L","3J","H","G","B","C","A","F","L","J",72,71,66,67,65,70,76,74,null,{"$f":"SMALL($S387:$Z387,1)","v":65},{"$f":"SMALL($S387:$Z387,2)","v":66},{"$f":"SMALL($S387:$Z387,3)","v":67},{"$f":"SMALL($S387:$Z387,4)","v":70},{"$f":"SMALL($S387:$Z387,5)","v":71},{"$f":"SMALL($S387:$Z387,6)","v":72},{"$f":"SMALL($S387:$Z387,7)","v":74},{"$f":"SMALL($S387:$Z387,8)","v":76},null,"A","B","C","F","G","H","J","L"]
[387,"ABCFGHJK","3H","3G","3B","3C","3A","3F","3J","3K","H","G","B","C","A","F","J","K",72,71,66,67,65,70,74,75,null,65,66,67,70,71,72,74,75,null,"A","B","C","F","G","H","J","K"]
[388,"ABCFGHIL","3H","3G","3B","3C","3A","3F","3L","3I","H","G","B","C","A","F","L","I",72,71,66,67,65,70,76,73,null,65,66,67,70,71,72,73,76,null,"A","B","C","F","G","H","I","L"]
[389,"ABCFGHIK","3H","3G","3B","3C","3A","3F","3I","3K","H","G","B","C","A","F","I","K",72,71,66,67,65,70,73,75,null,65,66,67,70,71,72,73,75,null,"A","B","C","F","G","H","I","K"]
[390,"ABCFGHIJ","3H","3G","3B","3C","3A","3F","3I","3J","H","G","B","C","A","F","I","J",72,71,66,67,65,70,73,74,null,65,66,67,70,71,72,73,74,null,"A","B","C","F","G","H","I","J"]
[391,"ABCEIJKL","3E","3J","3B","3A","3I","3C","3L","3K","E","J","B","A","I","C","L","K",69,74,66,65,73,67,76,75,null,65,66,67,69,73,74,75,76,null,"A","B","C","E","I","J","K","L"]
[392,"ABCEHJKL","3E","3J","3B","3C","3A","3H","3L","3K","E","J","B","C","A","H","L","K",69,74,66,67,65,72,76,75,null,65,66,67,69,72,74,75,76,null,"A","B","C","E","H","J","K","L"]
[393,"ABCEHIKL","3E","3I","3B","3C","3A","3H","3L","3K",{"$f":"MID(C394,2,1)","v":"E"},"I","B","C","A","H","L","K",{"$f":"CODE(K394)","v":69},73,66,67,65,72,76,75,null,65,66,67,69,72,73,75,76,null,{"$f":"CHAR(AB394)","v":"A"},"B","C","E","H","I","K","L"]
[394,"ABCEHIJL","3E","3J","3B","3C","3A","3H","3L","3I","E","J","B","C","A","H","L","I",69,74,66,67,65,72,76,73,null,65,66,67,69,72,73,74,76,null,"A","B","C","E","H","I","J","L"]
[395,"ABCEHIJK","3E","3J","3B","3C","3A","3H","3I","3K","E","J","B","C","A","H","I","K",69,74,66,67,65,72,73,75,null,65,66,67,69,72,73,74,75,null,"A","B","C","E","H","I","J","K"]
[396,"ABCEGJKL","3E","3J","3B","3C","3A","3G","3L","3K","E","J","B","C","A","G","L","K",69,74,66,67,65,71,76,75,null,65,66,67,69,71,74,75,76,null,"A","B","C","E","G","J","K","L"]
[397,"ABCEGIKL","3E","3G","3B","3A","3I","3C","3L","3K","E","G","B","A","I","C","L","K",69,71,66,65,73,67,76,75,null,65,66,67,69,71,73,75,76,null,"A","B","C","E","G","I","K","L"]
[398,"ABCEGIJL","3E","3J","3B","3C","3A","3G","3L","3I","E","J","B","C","A","G","L","I",69,74,66,67,65,71,76,73,null,65,66,67,69,71,73,74,76,null,"A","B","C","E","G","I","J","L"]
[399,"ABCEGIJK","3E","3J","3B","3C","3A","3G","3I","3K","E","J","B","C","A","G","I","K",69,74,66,67,65,71,73,75,null,65,66,67,69,71,73,74,75,null,"A","B","C","E","G","I","J","K"]
[400,"ABCEGHKL","3E","3G","3B","3C","3A","3H","3L","3K","E","G","B","C","A","H","L","K",69,71,66,67,65,72,76,75,null,65,66,67,69,71,72,75,76,null,"A","B","C","E","G","H","K","L"]
[401,"ABCEGHJL","3H","3J","3B","3C","3A","3G","3L","3E","H","J","B","C","A","G","L","E",72,74,66,67,65,71,76,69,null,65,66,67,69,71,72,74,76,null,"A","B","C","E","G","H","J","L"]
[402,"ABCEGHJK","3H","3J","3B","3C","3A","3G","3E","3K","H","J","B","C","A","G","E","K",72,74,66,67,65,71,69,75,null,65,66,67,69,71,72,74,75,null,"A","B","C","E","G","H","J","K"]
[403,"ABCEGHIL","3E","3G","3B","3C","3A","3H","3L","3I","E","G","B","C","A","H","L","I",69,71,66,67,65,72,76,73,null,65,66,67,69,71,72,73,76,null,"A","B","C","E","G","H","I","L"]
[404,"ABCEGHIK","3E","3G","3B","3C","3A","3H","3I","3K","E","G","B","C","A","H","I","K",69,71,66,67,65,72,73,75,null,65,66,67,69,71,72,73,75,null,"A","B","C","E","G","H","I","K"]
[405,"ABCEGHIJ","3H","3J","3B","3C","3A","3G","3E","3I","H","J","B","C","A","G","E","I",72,74,66,67,65,71,69,73,null,65,66,67,69,71,72,73,74,null,"A","B","C","E","G","H","I","J"]
[406,"ABCEFJKL","3E","3J","3B","3C","3A","3F","3L","3K","E","J","B","C","A","F","L","K",69,74,66,67,65,70,76,75,null,65,66,67,69,70,74,75,76,null,"A","B","C","E","F","J","K","L"]
[407,"ABCEFIKL","3E","3I","3B","3C","3A","3F","3L","3K","E","I","B","C","A","F","L","K",69,73,66,67,65,70,76,75,null,65,66,67,69,70,73,75,76,null,"A","B","C","E","F","I","K","L"]
[408,"ABCEFIJL","3E","3J","3B","3C","3A","3F","3L","3I","E","J","B","C","A","F","L","I",69,74,66,67,65,70,76,73,null,65,66,67,69,70,73,74,76,null,"A","B","C","E","F","I","J","L"]
[409,"ABCEFIJK","3E","3J","3B","3C","3A","3F","3I","3K","E","J","B","C","A","F","I","K",69,74,66,67,65,70,73,75,null,65,66,67,69,70,73,74,75,null,"A","B","C","E","F","I","J","K"]
[410,"ABCEFHKL","3H","3E","3B","3C","3A","3F","3L","3K","H","E","B","C","A","F","L","K",72,69,66,67,65,70,76,75,null,65,66,67,69,70,72,75,76,null,"A","B","C","E","F","H","K","L"]
[411,"ABCEFHJL","3H","3J","3B","3C","3A","3F","3L","3E","H","J","B","C","A","F","L","E",72,74,66,67,65,70,76,69,null,65,66,67,69,70,72,74,76,null,"A","B","C","E","F","H","J","L"]
[412,"ABCEFHJK","3H","3J","3B","3C","3A","3F","3E","3K","H","J","B","C","A","F","E","K",72,74,66,67,65,70,69,75,null,65,66,67,69,70,72,74,75,null,"A","B","C","E","F","H","J","K"]
[413,"ABCEFHIL","3H","3E","3B","3C","3A","3F","3L","3I","H","E","B","C","A","F","L","I",72,69,66,67,65,70,76,73,null,65,66,67,69,70,72,73,76,null,"A","B","C","E","F","H","I","L"]
[414,"ABCEFHIK","3H","3E","3B","3C","3A","3F","3I","3K","H","E","B","C","A","F","I","K",72,69,66,67,65,70,73,75,null,65,66,67,69,70,72,73,75,null,"A","B","C","E","F","H","I","K"]
[415,"ABCEFHIJ","3H","3J","3B","3C","3A","3F","3E","3I","H","J","B","C","A","F","E","I",72,74,66,67,65,70,69,73,null,65,66,67,69,70,72,73,74,null,"A","B","C","E","F","H","I","J"]
[416,"ABCEFGKL","3E","3G","3B","3C","3A","3F","3L","3K","E","G","B","C","A","F","L","K",69,71,66,67,65,70,76,75,null,65,66,67,69,70,71,75,76,null,"A","B","C","E","F","G","K","L"]
[417,"ABCEFGJL","3E","3G","3B","3C","3A","3F","3L","3J","E","G","B","C","A","F","L","J",69,71,66,67,65,70,76,74,null,65,66,67,69,70,71,74,76,null,"A","B","C","E","F","G","J","L"]
[418,"ABCEFGJK","3E","3G","3B","3C","3A","3F","3J","3K","E","G","B","C","A","F","J","K",69,71,66,67,65,70,74,75,null,65,66,67,69,70,71,74,75,null,"A","B","C","E","F","G","J","K"]
[419,"ABCEFGIL","3E","3G","3B","3C","3A","3F","3L","3I","E","G","B","C","A","F","L","I",69,71,66,67,65,70,76,73,null,65,66,67,69,70,71,73,76,null,"A","B","C","E","F","G","I","L"]
[420,"ABCEFGIK","3E","3G","3B","3C","3A","3F","3I","3K","E","G","B","C","A","F","I","K",69,71,66,67,65,70,73,75,null,65,66,67,69,70,71,73,75,null,"A","B","C","E","F","G","I","K"]
[421,"ABCEFGIJ","3E","3G","3B","3C","3A","3F","3I","3J","E","G","B","C","A","F","I","J",69,71,66,67,65,70,73,74,null,65,66,67,69,70,71,73,74,null,"A","B","C","E","F","G","I","J"]
[422,"ABCEFGHL","3H","3G","3B","3C","3A","3F","3L","3E","H","G","B","C","A","F","L","E",72,71,66,67,65,70,76,69,null,65,66,67,69,70,71,72,76,null,"A","B","C","E","F","G","H","L"]
[423,"ABCEFGHK","3H","3G","3B","3C","3A","3F","3E","3K","H","G","B","C","A","F","E","K",72,71,66,67,65,70,69,75,null,65,66,67,69,70,71,72,75,null,"A","B","C","E","F","G","H","K"]
[424,"ABCEFGHJ","3H","3G","3B","3C","3A","3F","3E","3J","H","G","B","C","A","F","E","J",72,71,66,67,65,70,69,74,null,65,66,67,69,70,71,72,74,null,"A","B","C","E","F","G","H","J"]
[425,"ABCEFGHI","3H","3G","3B","3C","3A","3F","3E","3I","H","G","B","C","A","F","E","I",72,71,66,67,65,70,69,73,null,65,66,67,69,70,71,72,73,null,"A","B","C","E","F","G","H","I"]
[426,"ABCDIJKL","3I","3J","3B","3C","3A","3D","3L","3K","I","J","B","C","A","D","L","K",73,74,66,67,65,68,76,75,null,65,66,67,68,73,74,75,76,null,"A","B","C","D","I","J","K","L"]
[427,"ABCDHJKL","3H","3J","3B","3C","3A","3D","3L","3K","H","J","B","C","A","D","L",{"$f":"MID(J428,2,1)","v":"K"},72,74,66,67,65,68,76,{"$f":"CODE(R428)","v":75},null,65,66,67,68,72,74,75,76,null,"A","B","C","D","H","J","K",{"$f":"CHAR(AI428)","v":"L"}]
[428,"ABCDHIKL","3H","3I","3B","3C","3A","3D","3L","3K","H","I","B","C","A","D","L","K",72,73,66,67,65,68,76,75,null,65,66,67,68,72,73,75,76,null,"A","B","C","D","H","I","K","L"]
[429,"ABCDHIJL","3H","3J","3B","3C","3A","3D","3L","3I","H","J","B","C","A","D","L","I",72,74,66,67,65,68,76,73,null,65,66,67,68,72,73,74,76,null,"A","B","C","D","H","I","J","L"]
[430,"ABCDHIJK","3H","3J","3B","3C","3A","3D","3I","3K","H","J","B","C","A","D","I","K",72,74,66,67,65,68,73,75,null,65,66,67,68,72,73,74,75,null,"A","B","C","D","H","I","J","K"]
[431,"ABCDGJKL","3C","3J","3B","3D","3A","3G","3L","3K","C","J","B","D","A","G","L","K",67,74,66,68,65,71,76,75,null,65,66,67,68,71,74,75,76,null,"A","B","C","D","G","J","K","L"]
[432,"ABCDGIKL","3I","3G","3B","3C","3A","3D","3L","3K","I","G","B","C","A","D","L","K",73,71,66,67,65,68,76,75,null,65,66,67,68,71,73,75,76,null,"A","B","C","D","G","I","K","L"]
[433,"ABCDGIJL","3C","3J","3B","3D","3A","3G","3L","3I","C","J","B","D","A","G","L","I",67,74,66,68,65,71,76,73,null,65,66,67,68,71,73,74,76,null,"A","B","C","D","G","I","J","L"]
[434,"ABCDGIJK","3C","3J","3B","3D","3A","3G","3I","3K","C","J","B","D","A","G","I","K",67,74,66,68,65,71,73,75,null,65,66,67,68,71,73,74,75,null,"A","B","C","D","G","I","J","K"]
[435,"ABCDGHKL","3H","3G","3B","3C","3A","3D","3L","3K","H","G","B","C","A","D","L","K",72,71,66,67,65,68,76,75,null,65,66,67,68,71,72,75,76,null,"A","B","C","D","G","H","K","L"]
[436,"ABCDGHJL","3H","3G","3B","3C","3A","3D","3L","3J","H","G","B","C","A","D","L","J",72,71,66,67,65,68,76,74,null,65,66,67,68,71,72,74,76,null,"A","B","C","D","G","H","J","L"]
[437,"ABCDGHJK","3H","3G","3B","3C","3A","3D","3J","3K","H","G","B","C","A","D","J","K",72,71,66,67,65,68,74,75,null,65,66,67,68,71,72,74,75,null,"A","B","C","D","G","H","J","K"]
[438,"ABCDGHIL","3H","3G","3B","3C","3A","3D","3L","3I","H","G","B","C","A","D","L","I",72,71,66,67,65,68,76,73,null,65,66,67,68,71,72,73,76,null,"A","B","C","D","G","H","I","L"]
[439,"ABCDGHIK","3H","3G","3B","3C","3A","3D","3I","3K","H","G","B","C","A","D","I","K",72,71,66,67,65,68,73,75,null,65,66,67,68,71,72,73,75,null,"A","B","C","D","G","H","I","K"]
[440,"ABCDGHIJ","3H","3G","3B","3C","3A","3D","3I","3J","H","G","B","C","A","D","I","J",72,71,66,67,65,68,73,74,null,65,66,67,68,71,72,73,74,null,"A","B","C","D","G","H","I","J"]
[441,"ABCDFJKL","3C","3J","3B","3D","3A","3F","3L","3K","C","J","B","D","A","F","L","K",67,74,66,68,65,70,76,75,null,65,66,67,68,70,74,75,76,null,"A","B","C","D","F","J","K","L"]
[442,"ABCDFIKL","3C","3I","3B","3D","3A","3F","3L","3K","C","I","B","D","A","F","L","K",67,73,66,68,65,70,76,75,null,65,66,67,68,70,73,75,76,null,"A","B","C","D","F","I","K","L"]
[443,"ABCDFIJL","3C","3J","3B","3D","3A","3F","3L","3I","C","J","B","D","A","F","L","I",67,74,66,68,65,70,76,73,null,65,66,67,68,70,73,74,76,null,"A","B","C","D","F","I","J","L"]
[444,"ABCDFIJK","3C","3J","3B","3D","3A","3F","3I","3K","C","J","B",{"$f":"MID(F445,2,1)","v":"D"},"A","F","I","K",67,74,66,{"$f":"CODE(N445)","v":68},65,70,73,75,null,65,66,67,68,70,73,74,75,null,"A","B","C",{"$f":"CHAR(AE445)","v":"D"},"F","I","J","K"]
[445,"ABCDFHKL","3H","3F","3B","3C","3A","3D","3L","3K",{"$f":"MID(C446,2,1)","v":"H"},"F","B","C","A","D","L","K",{"$f":"CODE(K446)","v":72},70,66,67,65,68,76,75,null,65,66,67,68,70,72,75,76,null,{"$f":"CHAR(AB446)","v":"A"},"B","C","D","F","H","K","L"]
[446,"ABCDFHJL","3C","3J","3B","3D","3A","3F","3L","3H","C","J","B","D","A","F","L","H",67,74,66,68,65,70,76,72,null,65,66,67,68,70,72,74,76,null,"A","B","C","D","F","H","J","L"]
[447,"ABCDFHJK","3H","3J","3B","3C","3A","3F","3D","3K","H","J","B","C","A","F","D","K",72,74,66,67,65,70,68,75,null,65,66,67,68,70,72,74,75,null,"A","B","C","D","F","H","J","K"]
[448,"ABCDFHIL","3H","3F","3B","3C","3A","3D","3L","3I","H","F","B","C","A","D","L","I",72,70,66,67,65,68,76,73,null,65,66,67,68,70,72,73,76,null,"A","B","C","D","F","H","I","L"]
[449,"ABCDFHIK","3H","3F","3B","3C","3A","3D","3I","3K","H","F","B","C","A","D","I","K",72,70,66,67,65,68,73,75,null,65,66,67,68,70,72,73,75,null,"A","B","C","D","F","H","I","K"]
[450,{"$f":"CONCATENATE(AK451,AL451,AM451,AN451,AO451,AP451,AQ451,AR451)","v":"ABCDFHIJ"},"3H","3J","3B","3C","3A","3F","3D","3I","H","J","B","C","A","F","D","I",72,74,66,67,65,70,68,73,null,{"$f":"SMALL($S451:$Z451,1)","v":65},{"$f":"SMALL($S451:$Z451,2)","v":66},{"$f":"SMALL($S451:$Z451,3)","v":67},{"$f":"SMALL($S451:$Z451,4)","v":68},{"$f":"SMALL($S451:$Z451,5)","v":70},{"$f":"SMALL($S451:$Z451,6)","v":72},{"$f":"SMALL($S451:$Z451,7)","v":73},{"$f":"SMALL($S451:$Z451,8)","v":74},null,"A","B","C","D","F","H","I","J"]
[451,"ABCDFGKL","3C","3G","3B","3D","3A","3F","3L","3K","C","G","B","D","A","F","L","K",67,71,66,68,65,70,76,75,null,65,66,67,68,70,71,75,76,null,"A","B","C","D","F","G","K","L"]
[452,"ABCDFGJL","3C","3G","3B","3D","3A","3F","3L","3J","C","G","B","D","A","F","L","J",67,71,66,68,65,70,76,74,null,65,66,67,68,70,71,74,76,null,"A","B","C","D","F","G","J","L"]
[453,"ABCDFGJK","3C","3G","3B","3D","3A","3F","3J","3K","C","G","B","D","A","F","J","K",67,71,66,68,65,70,74,75,null,65,66,67,68,70,71,74,75,null,"A","B","C","D","F","G","J","K"]
[454,"ABCDFGIL","3C","3G","3B","3D","3A","3F","3L","3I","C","G","B","D","A","F","L","I",67,71,66,68,65,70,76,73,null,65,66,67,68,70,71,73,76,null,"A","B","C","D","F","G","I","L"]
[455,"ABCDFGIK","3C","3G","3B","3D","3A","3F","3I","3K","C","G","B","D","A","F","I","K",67,71,66,68,65,70,73,75,null,65,66,67,68,70,71,73,75,null,"A","B","C","D","F","G","I","K"]
[456,"ABCDFGIJ","3C","3G","3B","3D","3A","3F","3I","3J","C","G","B","D","A","F","I","J",67,71,66,68,65,70,73,74,null,65,66,67,68,70,71,73,74,null,"A","B","C","D","F","G","I","J"]
[457,"ABCDFGHL","3C","3G","3B","3D","3A","3F","3L","3H","C","G","B","D","A","F","L","H",67,71,66,68,65,70,76,72,null,65,66,67,68,70,71,72,76,null,"A","B","C","D","F","G","H","L"]
[458,"ABCDFGHK","3H","3G","3B","3C","3A","3F","3D","3K","H","G","B","C","A","F","D","K",72,71,66,67,65,70,68,75,null,65,66,67,68,70,71,72,75,null,"A","B","C","D","F","G","H","K"]
[459,"ABCDFGHJ","3H","3G","3B","3C","3A","3F","3D","3J","H","G","B","C","A","F","D","J",72,71,66,67,65,70,68,74,null,65,66,67,68,70,71,72,74,null,"A","B","C","D","F","G","H","J"]
[460,"ABCDFGHI","3H","3G","3B","3C","3A","3F","3D","3I","H","G","B","C","A","F","D","I",72,71,66,67,65,70,68,73,null,65,66,67,68,70,71,72,73,null,"A","B","C","D","F","G","H","I"]
[461,"ABCDEJKL","3E","3J","3B","3C","3A","3D","3L","3K","E","J","B","C","A","D","L","K",69,74,66,67,65,68,76,75,null,65,66,67,68,69,74,75,76,null,"A","B","C","D","E","J","K","L"]
[462,"ABCDEIKL","3E","3I","3B","3C","3A","3D","3L","3K","E","I","B","C","A","D","L","K",69,73,66,67,65,68,76,75,null,65,66,67,68,69,73,75,76,null,"A","B","C","D","E","I","K","L"]
[463,"ABCDEIJL","3E","3J","3B","3C","3A","3D","3L","3I","E","J","B","C","A","D","L","I",69,74,66,67,65,68,76,73,null,65,66,67,68,69,73,74,76,null,"A","B","C","D","E","I","J","L"]
[464,"ABCDEIJK","3E","3J","3B","3C","3A","3D","3I","3K","E","J","B","C","A","D","I","K",69,74,66,67,65,68,73,75,null,65,66,67,68,69,73,74,75,null,"A","B","C","D","E","I","J","K"]
[465,"ABCDEHKL","3H","3E","3B","3C","3A","3D","3L","3K","H","E","B","C","A","D","L","K",72,69,66,67,65,68,76,75,null,65,66,67,68,69,72,75,76,null,"A","B","C","D","E","H","K","L"]
[466,"ABCDEHJL","3H","3J","3B","3C","3A","3D","3L","3E","H","J","B","C","A","D","L","E",72,74,66,67,65,68,76,69,null,65,66,67,68,69,72,74,76,null,"A","B","C","D","E","H","J","L"]
[467,"ABCDEHJK","3H","3J","3B","3C","3A","3D","3E","3K","H","J","B","C","A","D","E","K",72,74,66,67,65,68,69,75,null,65,66,67,68,69,72,74,75,null,"A","B","C","D","E","H","J","K"]
[468,"ABCDEHIL","3H","3E","3B","3C","3A","3D","3L","3I","H","E","B","C","A","D","L","I",72,69,66,67,65,68,76,73,null,65,66,67,68,69,72,73,76,null,"A","B","C","D","E","H","I","L"]
[469,"ABCDEHIK","3H","3E","3B","3C","3A","3D","3I","3K","H","E","B","C","A","D","I","K",72,69,66,67,65,68,73,75,null,65,66,67,68,69,72,73,75,null,"A","B","C","D","E","H","I","K"]
[470,"ABCDEHIJ","3H","3J","3B","3C","3A","3D","3E","3I","H","J","B","C","A","D","E","I",72,74,66,67,65,68,69,73,null,65,66,67,68,69,72,73,74,null,"A","B","C","D","E","H","I","J"]
[471,"ABCDEGKL","3E","3G","3B","3C","3A","3D","3L","3K","E","G","B","C","A","D","L","K",69,71,66,67,65,68,76,75,null,65,66,67,68,69,71,75,76,null,"A","B","C","D","E","G","K","L"]
[472,"ABCDEGJL","3E","3G","3B","3C","3A","3D","3L","3J","E","G","B","C","A","D","L","J",69,71,66,67,65,68,76,74,null,65,66,67,68,69,71,74,76,null,"A","B","C","D","E","G","J","L"]
[473,"ABCDEGJK","3E","3G","3B","3C","3A","3D","3J","3K","E","G","B","C","A","D","J","K",69,71,66,67,65,68,74,75,null,65,66,67,68,69,71,74,75,null,"A","B","C","D","E","G","J","K"]
[474,"ABCDEGIL","3E","3G","3B","3C","3A","3D","3L","3I","E","G","B","C","A","D","L","I",69,71,66,67,65,68,76,73,null,65,66,67,68,69,71,73,76,null,"A","B","C","D","E","G","I","L"]
[475,"ABCDEGIK","3E","3G","3B","3C","3A","3D","3I","3K","E","G","B","C","A","D","I","K",69,71,66,67,65,68,73,75,null,65,66,67,68,69,71,73,75,null,"A","B","C","D","E","G","I","K"]
[476,"ABCDEGIJ","3E","3G","3B","3C","3A","3D","3I","3J","E","G","B","C","A","D","I","J",69,71,66,67,65,68,73,74,null,65,66,67,68,69,71,73,74,null,"A","B","C","D","E","G","I","J"]
[477,"ABCDEGHL","3H","3G","3B","3C","3A","3D","3L","3E","H","G","B","C","A","D","L","E",72,71,66,67,65,68,76,69,null,65,66,67,68,69,71,72,76,null,"A","B","C","D","E","G","H","L"]
[478,"ABCDEGHK","3H","3G","3B","3C","3A","3D","3E","3K","H","G","B","C","A","D","E","K",72,71,66,67,65,68,69,75,null,65,66,67,68,69,71,72,75,null,"A","B","C","D","E","G","H","K"]
[479,"ABCDEGHJ","3H","3G","3B","3C","3A","3D","3E","3J","H","G","B","C","A","D","E","J",72,71,66,67,65,68,69,74,null,65,66,67,68,69,71,72,74,null,"A","B","C","D","E","G","H","J"]
[480,"ABCDEGHI","3H","3G","3B","3C","3A","3D","3E","3I","H","G","B","C","A","D","E","I",72,71,66,67,65,68,69,73,null,65,66,67,68,69,71,72,73,null,"A","B","C","D","E","G","H","I"]
[481,"ABCDEFKL","3C","3E","3B","3D","3A","3F","3L","3K","C","E","B","D","A","F","L","K",67,69,66,68,65,70,76,75,null,65,66,67,68,69,70,75,76,null,"A","B","C","D","E","F","K","L"]
[482,"ABCDEFJL","3C","3J","3B","3D","3A","3F","3L","3E","C","J","B","D","A","F","L","E",67,74,66,68,65,70,76,69,null,65,66,67,68,69,70,74,76,null,"A","B","C","D","E","F","J","L"]
[483,"ABCDEFJK","3C","3J","3B","3D","3A","3F","3E","3K","C","J","B","D","A","F","E","K",67,74,66,68,65,70,69,75,null,65,66,67,68,69,70,74,75,null,"A","B","C","D","E","F","J","K"]
[484,"ABCDEFIL","3C","3E","3B","3D","3A","3F","3L","3I","C","E","B","D","A","F","L","I",67,69,66,68,65,70,76,73,null,65,66,67,68,69,70,73,76,null,"A","B","C","D","E","F","I","L"]
[485,"ABCDEFIK","3C","3E","3B","3D","3A","3F","3I","3K","C","E","B","D","A","F","I","K",67,69,66,68,65,70,73,75,null,65,66,67,68,69,70,73,75,null,"A","B","C","D","E","F","I","K"]
[486,"ABCDEFIJ","3C","3J","3B","3D","3A","3F","3E","3I","C","J","B","D","A","F","E","I",67,74,66,68,65,70,69,73,null,65,66,67,68,69,70,73,74,null,"A","B","C","D","E","F","I","J"]
[487,"ABCDEFHL","3H","3F","3B","3C","3A","3D","3L","3E","H","F","B","C","A","D","L","E",72,70,66,67,65,68,76,69,null,65,66,67,68,69,70,72,76,null,"A","B","C","D","E","F","H","L"]
[488,"ABCDEFHK","3H","3E","3B","3C","3A","3F","3D","3K","H","E","B","C","A","F","D","K",72,69,66,67,65,70,68,75,null,65,66,67,68,69,70,72,75,null,"A","B","C","D","E","F","H","K"]
[489,"ABCDEFHJ","3H","3J","3B","3C","3A","3F","3D","3E","H","J","B","C","A","F","D","E",72,74,66,67,65,70,68,69,null,65,66,67,68,69,70,72,74,null,"A","B","C","D","E","F","H","J"]
[490,"ABCDEFHI","3H","3E","3B","3C","3A","3F","3D","3I","H","E","B","C","A","F","D","I",72,69,66,67,65,70,68,73,null,65,66,67,68,69,70,72,73,null,"A","B","C","D","E","F","H","I"]
[491,"ABCDEFGL","3C","3G","3B","3D","3A","3F","3L","3E","C","G","B","D","A","F","L","E",67,71,66,68,65,70,76,69,null,65,66,67,68,69,70,71,76,null,"A","B","C","D","E","F","G","L"]
[492,"ABCDEFGK","3C","3G","3B","3D","3A","3F","3E","3K","C","G","B","D","A","F","E","K",67,71,66,68,65,70,69,75,null,65,66,67,68,69,70,71,75,null,"A","B","C","D","E","F","G","K"]
[493,"ABCDEFGJ","3C","3G","3B","3D","3A","3F","3E","3J","C","G","B","D","A","F","E","J",67,71,66,68,65,70,69,74,null,65,66,67,68,69,70,71,74,null,"A","B","C","D","E","F","G","J"]
[494,"ABCDEFGI","3C","3G","3B","3D","3A","3F","3E","3I","C","G","B","D","A","F","E","I",67,71,66,68,65,70,69,73,null,65,66,67,68,69,70,71,73,null,"A","B","C","D","E","F","G","I"]
[495,"ABCDEFGH","3H","3G","3B","3C","3A","3F","3D","3E","H","G","B","C","A","F","D","E",72,71,66,67,65,70,68,69,null,65,66,67,68,69,70,71,72,null,"A","B","C","D","E","F","G","H"]
[]
[]
["Test","Combo"]
[{"$f":"A2","v":1},{"$f":"B2","v":"EFGHIJKL"},{"$f":"INDEX(C:C, MATCH($B500, $B:$B, 0))","v":"3E"},{"$f":"INDEX(D:D, MATCH($B500, $B:$B, 0))","v":"3J"},"3I","3F","3H","3G","3L","3K","E","J","I","F","H","G","L","K"]
[{"$f":"A3","v":2},"DFGHIJKL",{"$f":"INDEX(C:C, MATCH($B501, $B:$B, 0))","v":"3H"},"3G","3I","3D","3J","3F","3L","3K","H","G","I","D","J","F","L","K"]
[3,"DEGHIJKL","3E","3J","3I","3D","3H","3G","3L","3K","E","J","I","D","H","G","L","K"]
[4,"DEFHIJKL","3E","3J","3I","3D","3H","3F","3L","3K","E","J","I","D","H","F","L","K"]
[5,"DEFGIJKL","3E","3G","3I","3D","3J","3F","3L","3K","E","G","I","D","J","F","L","K"]
[6,"DEFGHJKL","3E","3G","3J","3D","3H","3F","3L","3K","E","G","J","D","H","F","L","K"]
[7,"DEFGHIKL","3E","3G","3I","3D","3H","3F","3L","3K","E","G","I","D","H","F","L","K"]
[8,"DEFGHIJL","3E","3G","3J","3D","3H","3F","3L","3I","E","G","J","D","H","F","L","I"]
[9,"DEFGHIJK","3E","3G","3J","3D","3H","3F","3I","3K","E","G","J","D","H","F","I","K"]
[10,"CFGHIJKL","3H","3G","3I","3C","3J","3F","3L","3K","H","G","I","C","J","F","L","K"]
[11,"CEGHIJKL","3E","3J","3I","3C","3H","3G","3L","3K","E","J","I","C","H","G","L","K"]
[12,"CEFHIJKL","3E","3J","3I","3C","3H","3F","3L","3K","E","J","I","C","H","F","L","K"]
[13,"CEFGIJKL","3E","3G","3I","3C","3J","3F","3L","3K","E","G","I","C","J","F","L","K"]
[14,"CEFGHJKL","3E","3G","3J","3C","3H","3F","3L","3K","E","G","J","C","H","F","L","K"]
[15,"CEFGHIKL","3E","3G","3I","3C","3H","3F","3L","3K","E","G","I","C","H","F","L","K"]
[16,"CEFGHIJL","3E","3G","3J","3C","3H","3F","3L","3I","E","G","J","C","H","F","L","I"]
[17,"CEFGHIJK","3E","3G","3J","3C","3H","3F","3I","3K","E","G","J","C","H","F","I","K"]
[{"$f":"A19","v":18},"CDGHIJKL","3H","3G","3I","3C","3J","3D","3L","3K","H","G","I","C","J","D","L","K"]
[19,"CDFHIJKL","3C","3J","3I","3D","3H","3F","3L","3K","C","J","I","D","H","F","L","K"]
[20,"CDFGIJKL","3C","3G","3I","3D","3J","3F","3L","3K","C","G","I","D","J","F","L","K"]
[21,"CDFGHJKL","3C","3G","3J","3D","3H","3F","3L","3K","C","G","J","D","H","F","L","K"]
[22,"CDFGHIKL","3C","3G","3I","3D","3H","3F","3L","3K","C","G","I","D","H","F","L","K"]
[23,"CDFGHIJL","3C","3G","3J","3D","3H","3F","3L","3I","C","G","J","D","H","F","L","I"]
[24,"CDFGHIJK","3C","3G","3J","3D","3H","3F","3I","3K","C","G","J","D","H","F","I","K"]
[25,"CDEHIJKL","3E","3J","3I","3C","3H","3D","3L","3K","E","J","I","C","H","D","L","K"]
[26,"CDEGIJKL","3E","3G","3I","3C","3J","3D","3L","3K","E","G","I","C","J","D","L","K"]
[27,"CDEGHJKL","3E","3G","3J","3C","3H","3D","3L","3K","E","G","J","C","H","D","L","K"]
[28,"CDEGHIKL","3E","3G","3I","3C","3H","3D","3L","3K","E","G","I","C","H","D","L","K"]
[29,"CDEGHIJL","3E","3G","3J","3C","3H","3D","3L","3I","E","G","J","C","H","D","L","I"]
[30,"CDEGHIJK","3E","3G","3J","3C","3H","3D","3I","3K","E","G","J","C","H","D","I","K"]
[31,"CDEFIJKL","3C","3J","3E","3D","3I","3F","3L","3K","C","J","E","D","I","F","L","K"]
[32,"CDEFHJKL",{"$f":"INDEX(C:C, MATCH($B531, $B:$B, 0))","v":"3C"},"3J","3E","3D","3H","3F","3L","3K","C","J","E","D","H","F","L","K"]
[33,"CDEFHIKL","3C","3E","3I","3D","3H","3F","3L","3K","C","E","I","D","H","F","L","K"]
[{"$f":"A35","v":34},"CDEFHIJL","3C","3J","3E","3D","3H","3F","3L","3I","C","J","E","D","H","F","L","I"]
[35,"CDEFHIJK","3C","3J","3E","3D","3H","3F","3I","3K","C","J","E","D","H","F","I","K"]
[36,"CDEFGJKL","3C","3G","3E","3D","3J","3F","3L","3K","C","G","E","D","J","F","L","K"]
[37,"CDEFGIKL","3C","3G","3E","3D","3I","3F","3L","3K","C","G","E","D","I","F","L","K"]
[38,"CDEFGIJL","3C","3G","3E","3D","3J","3F","3L","3I","C","G","E","D","J","F","L","I"]
[39,"CDEFGIJK","3C","3G","3E","3D","3J","3F","3I","3K","C","G","E","D","J","F","I","K"]
[40,"CDEFGHKL","3C","3G","3E","3D","3H","3F","3L","3K","C","G","E","D","H","F","L","K"]
[41,"CDEFGHJL","3C","3G","3J","3D","3H","3F","3L","3E","C","G","J","D","H","F","L","E"]
[42,"CDEFGHJK","3C","3G","3J","3D","3H","3F","3E","3K","C","G","J","D","H","F","E","K"]
[43,"CDEFGHIL","3C","3G","3E","3D","3H","3F","3L","3I","C","G","E","D","H","F","L","I"]
[44,"CDEFGHIK","3C","3G","3E","3D","3H","3F","3I","3K","C","G","E","D","H","F","I","K"]
[45,"CDEFGHIJ","3C","3G","3J","3D","3H","3F","3E","3I","C","G","J","D","H","F","E","I"]
[46,"BFGHIJKL","3H","3J","3B","3F","3I","3G","3L","3K","H","J","B","F","I","G","L","K"]
[47,"BEGHIJKL","3E","3J","3I","3B","3H","3G","3L","3K","E","J","I","B","H","G","L",{"$f":"INDEX(R:R, MATCH($B546, $B:$B, 0))","v":"K"}]
[48,"BEFHIJKL",{"$f":"INDEX(C:C, MATCH($B547, $B:$B, 0))","v":"3E"},{"$f":"INDEX(D:D, MATCH($B547, $B:$B, 0))","v":"3J"},"3B","3F","3I","3H","3L","3K","E","J","B","F","I","H","L","K"]
[49,"BEFGIJKL","3E","3J","3B","3F","3I","3G","3L","3K","E","J","B","F","I","G","L","K"]
[{"$f":"A51","v":50},"BEFGHJKL","3E","3J","3B","3F","3H","3G","3L","3K","E","J","B","F","H","G","L","K"]
[51,"BEFGHIKL","3E","3G","3B","3F","3I","3H","3L","3K","E","G","B","F","I","H","L","K"]
[52,"BEFGHIJL","3E","3J","3B","3F","3H","3G","3L","3I","E","J","B","F","H","G","L","I"]
[53,"BEFGHIJK","3E","3J","3B","3F","3H","3G","3I","3K","E","J","B","F","H","G","I","K"]
[54,"BDGHIJKL","3H","3J","3B","3D","3I","3G","3L","3K","H","J","B","D","I","G","L","K"]
[55,"BDFHIJKL","3H","3J","3B","3D","3I","3F","3L","3K","H","J","B","D","I","F","L","K"]
[56,"BDFGIJKL","3I","3G","3B","3D","3J","3F","3L","3K","I","G","B","D","J","F","L","K"]
[57,"BDFGHJKL","3H","3G","3B","3D","3J","3F","3L","3K","H","G","B","D","J","F","L","K"]
[58,"BDFGHIKL","3H","3G","3B","3D","3I","3F","3L","3K","H","G","B","D","I","F","L","K"]
[59,"BDFGHIJL","3H","3G","3B","3D","3J","3F","3L","3I","H","G","B","D","J","F","L","I"]
[60,"BDFGHIJK","3H","3G","3B","3D","3J","3F","3I","3K","H","G","B","D","J","F","I","K"]
[61,"BDEHIJKL","3E","3J","3B","3D","3I","3H","3L","3K","E","J","B","D","I","H","L","K"]
[62,"BDEGIJKL","3E","3J","3B","3D","3I","3G","3L","3K","E","J","B","D","I","G","L","K"]
[63,"BDEGHJKL","3E","3J","3B","3D","3H","3G","3L","3K","E","J","B","D","H","G","L","K"]
[64,"BDEGHIKL","3E","3G","3B","3D","3I","3H","3L","3K","E","G","B","D","I","H","L",{"$f":"INDEX(R:R, MATCH($B563, $B:$B, 0))","v":"K"}]
[65,"BDEGHIJL","3E",{"$f":"INDEX(D:D, MATCH($B564, $B:$B, 0))","v":"3J"},"3B","3D","3H","3G","3L","3I","E","J","B","D","H","G","L","I"]
[{"$f":"A67","v":66},"BDEGHIJK","3E","3J","3B","3D","3H","3G","3I","3K","E","J","B","D","H","G","I","K"]
[67,"BDEFIJKL","3E","3J","3B","3D","3I","3F","3L","3K","E","J","B","D","I","F","L","K"]
[68,"BDEFHJKL","3E","3J","3B","3D","3H","3F","3L","3K","E","J","B","D","H","F","L","K"]
[69,"BDEFHIKL","3E","3I","3B","3D","3H","3F","3L","3K","E","I","B","D","H","F","L","K"]
[70,"BDEFHIJL","3E","3J","3B","3D","3H","3F","3L","3I","E","J","B","D","H","F","L","I"]
[71,"BDEFHIJK","3E","3J","3B","3D","3H","3F","3I","3K","E","J","B","D","H","F","I","K"]
[72,"BDEFGJKL","3E","3G","3B","3D","3J","3F","3L","3K","E","G","B","D","J","F","L","K"]
[73,"BDEFGIKL","3E","3G","3B","3D","3I","3F","3L","3K","E","G","B","D","I","F","L","K"]
[74,"BDEFGIJL","3E","3G","3B","3D","3J","3F","3L","3I","E","G","B","D","J","F","L","I"]
[75,"BDEFGIJK","3E","3G","3B","3D","3J","3F","3I","3K","E","G","B","D","J","F","I","K"]
[76,"BDEFGHKL","3E","3G","3B","3D","3H","3F","3L","3K","E","G","B","D","H","F","L","K"]
[77,"BDEFGHJL","3H","3G","3B","3D","3J","3F","3L","3E","H","G","B","D","J","F","L","E"]
[78,"BDEFGHJK","3H","3G","3B","3D","3J","3F","3E","3K","H","G","B","D","J","F","E","K"]
[79,"BDEFGHIL","3E","3G","3B","3D","3H","3F","3L","3I","E","G","B","D","H","F","L","I"]
[80,"BDEFGHIK","3E","3G","3B","3D","3H","3F","3I","3K","E","G","B","D","H","F","I","K"]
[81,"BDEFGHIJ","3H","3G","3B","3D","3J","3F","3E","3I","H","G","B","D","J","F","E",{"$f":"INDEX(R:R, MATCH($B580, $B:$B, 0))","v":"I"}]
[{"$f":"A83","v":82},"BCGHIJKL","3H",{"$f":"INDEX(D:D, MATCH($B581, $B:$B, 0))","v":"3J"},"3B","3C","3I","3G","3L","3K","H","J","B","C","I","G","L","K"]
[83,"BCFHIJKL","3H","3J","3B","3C","3I","3F","3L","3K","H","J","B","C","I","F","L","K"]
[84,"BCFGIJKL","3I","3G","3B","3C","3J","3F","3L","3K","I","G","B","C","J","F","L","K"]
[85,"BCFGHJKL","3H","3G","3B","3C","3J","3F","3L","3K","H","G","B","C","J","F","L","K"]
[86,"BCFGHIKL","3H","3G","3B","3C","3I","3F","3L","3K","H","G","B","C","I","F","L","K"]
[87,"BCFGHIJL","3H","3G","3B","3C","3J","3F","3L","3I","H","G","B","C","J","F","L","I"]
[88,"BCFGHIJK","3H","3G","3B","3C","3J","3F","3I","3K","H","G","B","C","J","F","I","K"]
[89,"BCEHIJKL","3E","3J","3B","3C","3I","3H","3L","3K","E","J","B","C","I","H","L","K"]
[90,"BCEGIJKL","3E","3J","3B","3C","3I","3G","3L","3K","E","J","B","C","I","G","L","K"]
[91,"BCEGHJKL","3E","3J","3B","3C","3H","3G","3L","3K","E","J","B","C","H","G","L","K"]
[92,"BCEGHIKL","3E","3G","3B","3C","3I","3H","3L","3K","E","G","B","C","I","H","L","K"]
[93,"BCEGHIJL","3E","3J","3B","3C","3H","3G","3L","3I","E","J","B","C","H","G","L","I"]
[94,"BCEGHIJK","3E","3J","3B","3C","3H","3G","3I","3K","E","J","B","C","H","G","I","K"]
[95,"BCEFIJKL","3E","3J","3B","3C","3I","3F","3L","3K","E","J","B","C","I","F","L","K"]
[96,"BCEFHJKL","3E","3J","3B","3C","3H","3F","3L","3K","E","J","B","C","H","F","L","K"]
[97,"BCEFHIKL","3E","3I","3B","3C","3H","3F","3L","3K","E","I","B","C","H","F","L","K"]
[{"$f":"A99","v":98},"BCEFHIJL","3E","3J","3B","3C","3H","3F","3L","3I","E","J","B","C","H","F","L",{"$f":"INDEX(R:R, MATCH($B597, $B:$B, 0))","v":"I"}]
[99,"BCEFHIJK","3E",{"$f":"INDEX(D:D, MATCH($B598, $B:$B, 0))","v":"3J"},"3B","3C","3H","3F","3I","3K","E","J","B","C","H","F","I","K"]
[100,"BCEFGJKL","3E","3G","3B","3C","3J","3F","3L","3K","E","G","B","C","J","F","L","K"]
[101,"BCEFGIKL","3E","3G","3B","3C","3I","3F","3L","3K","E","G","B","C","I","F","L","K"]
[102,"BCEFGIJL","3E","3G","3B","3C","3J","3F","3L","3I","E","G","B","C","J","F","L","I"]
[103,"BCEFGIJK","3E","3G","3B","3C","3J","3F","3I","3K","E","G","B","C","J","F","I","K"]
[104,"BCEFGHKL","3E","3G","3B","3C","3H","3F","3L","3K","E","G","B","C","H","F","L","K"]
[105,"BCEFGHJL","3H","3G","3B","3C","3J","3F","3L","3E","H","G","B","C","J","F","L","E"]
[106,"BCEFGHJK","3H","3G","3B","3C","3J","3F","3E","3K","H","G","B","C","J","F","E","K"]
[107,"BCEFGHIL","3E","3G","3B","3C","3H","3F","3L","3I","E","G","B","C","H","F","L","I"]
[108,"BCEFGHIK","3E","3G","3B","3C","3H","3F","3I","3K","E","G","B","C","H","F","I","K"]
[109,"BCEFGHIJ","3H","3G","3B","3C","3J","3F","3E","3I","H","G","B","C","J","F","E","I"]
[110,"BCDHIJKL","3H","3J","3B","3C","3I","3D","3L","3K","H","J","B","C","I","D","L","K"]
[111,"BCDGIJKL","3I","3G","3B","3C","3J","3D","3L","3K","I","G","B","C","J","D","L","K"]
[112,"BCDGHJKL",{"$f":"INDEX(C:C, MATCH($B611, $B:$B, 0))","v":"3H"},"3G","3B","3C","3J","3D","3L","3K","H","G","B","C","J","D","L","K"]
[113,"BCDGHIKL","3H","3G","3B","3C","3I","3D","3L","3K","H","G","B","C","I","D","L","K"]
[{"$f":"A115","v":114},"BCDGHIJL","3H","3G","3B","3C","3J","3D","3L","3I","H","G","B","C","J","D","L","I"]
[115,"BCDGHIJK","3H","3G","3B","3C","3J","3D","3I","3K","H","G","B","C","J","D","I",{"$f":"INDEX(R:R, MATCH($B614, $B:$B, 0))","v":"K"}]
[116,"BCDFIJKL","3C",{"$f":"INDEX(D:D, MATCH($B615, $B:$B, 0))","v":"3J"},"3B","3D","3I","3F","3L","3K","C","J","B","D","I","F","L","K"]
[117,"BCDFHJKL","3C","3J","3B","3D","3H","3F","3L","3K","C","J","B","D","H","F","L","K"]
[118,"BCDFHIKL","3C","3I","3B","3D","3H","3F","3L","3K","C","I","B","D","H","F","L","K"]
[119,"BCDFHIJL","3C","3J","3B","3D","3H","3F","3L","3I","C","J","B","D","H","F","L","I"]
[120,"BCDFHIJK","3C","3J","3B","3D","3H","3F","3I","3K","C","J","B","D","H","F","I","K"]
[121,"BCDFGJKL","3C","3G","3B","3D","3J","3F","3L","3K","C","G","B","D","J","F","L","K"]
[122,"BCDFGIKL","3C","3G","3B","3D","3I","3F","3L","3K","C","G","B","D","I","F","L","K"]
[123,"BCDFGIJL","3C","3G","3B","3D","3J","3F","3L","3I","C","G","B","D","J","F","L","I"]
[124,"BCDFGIJK","3C","3G","3B","3D","3J","3F","3I","3K","C","G","B","D","J","F","I","K"]
[125,"BCDFGHKL","3C","3G","3B","3D","3H","3F","3L","3K","C","G","B","D","H","F","L","K"]
[126,"BCDFGHJL","3C","3G","3B","3D","3H","3F","3L","3J","C","G","B","D","H","F","L","J"]
[127,"BCDFGHJK","3H","3G","3B","3C","3J","3F","3D","3K","H","G","B","C","J","F","D","K"]
[128,"BCDFGHIL","3C","3G","3B","3D","3H","3F","3L","3I","C","G","B","D","H","F","L","I"]
[129,"BCDFGHIK","3C","3G","3B","3D","3H","3F","3I","3K","C","G","B","D","H","F","I","K"]
[{"$f":"A131","v":130},"BCDFGHIJ","3H","3G","3B","3C","3J","3F","3D","3I","H","G","B","C","J","F","D","I"]
[131,"BCDEIJKL","3E","3J","3B","3C","3I","3D","3L","3K","E","J","B","C","I","D","L","K"]
[132,"BCDEHJKL","3E","3J","3B","3C","3H","3D","3L","3K","E","J","B","C","H","D","L",{"$f":"INDEX(R:R, MATCH($B631, $B:$B, 0))","v":"K"}]
[133,"BCDEHIKL","3E",{"$f":"INDEX(D:D, MATCH($B632, $B:$B, 0))","v":"3I"},"3B","3C","3H","3D","3L","3K","E","I","B","C","H","D","L","K"]
[134,"BCDEHIJL","3E","3J","3B","3C","3H","3D","3L","3I","E","J","B","C","H","D","L","I"]
[135,"BCDEHIJK","3E","3J","3B","3C","3H","3D","3I","3K","E","J","B","C","H","D","I","K"]
[136,"BCDEGJKL","3E","3G","3B","3C","3J","3D","3L","3K","E","G","B","C","J","D","L","K"]
[137,"BCDEGIKL","3E","3G","3B","3C","3I","3D","3L","3K","E","G","B","C","I","D","L","K"]
[138,"BCDEGIJL","3E","3G","3B","3C","3J","3D","3L","3I","E","G","B","C","J","D","L","I"]
[139,"BCDEGIJK","3E","3G","3B","3C","3J","3D","3I","3K","E","G","B","C","J","D","I","K"]
[140,"BCDEGHKL","3E","3G","3B","3C","3H","3D","3L","3K","E","G","B","C","H","D","L","K"]
[141,"BCDEGHJL","3H","3G","3B","3C","3J","3D","3L","3E","H","G","B","C","J","D","L","E"]
[142,"BCDEGHJK","3H","3G","3B","3C","3J","3D","3E","3K","H","G","B","C","J","D","E","K"]
[143,"BCDEGHIL","3E","3G","3B","3C","3H","3D","3L","3I","E","G","B","C","H","D","L","I"]
[144,"BCDEGHIK","3E","3G","3B","3C","3H","3D","3I","3K","E","G","B","C","H","D","I","K"]
[145,"BCDEGHIJ","3H","3G","3B","3C","3J","3D","3E","3I","H","G","B","C","J","D","E","I"]
[{"$f":"A147","v":146},"BCDEFJKL","3C","3J","3B","3D","3E","3F","3L","3K","C","J","B","D","E","F","L","K"]
[147,"BCDEFIKL","3C","3E","3B","3D","3I","3F","3L","3K","C","E","B","D","I","F","L","K"]
[148,"BCDEFIJL","3C","3J","3B","3D","3E","3F","3L","3I","C","J","B","D","E","F","L","I"]
[149,"BCDEFIJK","3C","3J","3B","3D","3E","3F","3I","3K","C","J","B","D","E","F","I",{"$f":"INDEX(R:R, MATCH($B648, $B:$B, 0))","v":"K"}]
[150,"BCDEFHKL","3C",{"$f":"INDEX(D:D, MATCH($B649, $B:$B, 0))","v":"3E"},"3B","3D","3H","3F","3L","3K","C","E","B","D","H","F","L","K"]
[151,"BCDEFHJL","3C","3J","3B","3D","3H","3F","3L","3E","C","J","B","D","H","F","L","E"]
[152,"BCDEFHJK","3C","3J","3B","3D","3H","3F","3E","3K","C","J","B","D","H","F","E","K"]
[153,"BCDEFHIL","3C","3E","3B","3D","3H","3F","3L","3I","C","E","B","D","H","F","L","I"]
[154,"BCDEFHIK","3C","3E","3B","3D","3H","3F","3I","3K","C","E","B","D","H","F","I","K"]
[155,"BCDEFHIJ","3C","3J","3B","3D","3H","3F","3E","3I","C","J","B","D","H","F","E","I"]
[156,"BCDEFGKL","3C","3G","3B","3D","3E","3F","3L","3K","C","G","B","D","E","F","L","K"]
[157,"BCDEFGJL","3C","3G","3B","3D","3J","3F","3L","3E","C","G","B","D","J","F","L","E"]
[158,"BCDEFGJK","3C","3G","3B","3D","3J","3F","3E","3K","C","G","B","D","J","F","E","K"]
[159,"BCDEFGIL","3C","3G","3B","3D","3E","3F","3L","3I","C","G","B","D","E","F","L","I"]
[160,"BCDEFGIK","3C","3G","3B","3D","3E","3F","3I","3K","C","G","B","D","E","F","I","K"]
[161,"BCDEFGIJ","3C","3G","3B","3D","3J","3F","3E","3I","C","G","B","D","J","F","E","I"]
[{"$f":"A163","v":162},"BCDEFGHL","3C","3G","3B","3D","3H","3F","3L","3E","C","G","B","D","H","F","L","E"]
[163,"BCDEFGHK","3C","3G","3B","3D","3H","3F","3E","3K","C","G","B","D","H","F","E","K"]
[164,"BCDEFGHJ","3H","3G","3B","3C","3J","3F","3D","3E","H","G","B","C","J","F","D","E"]
[165,"BCDEFGHI","3C","3G","3B","3D","3H","3F","3E","3I","C","G","B","D","H","F","E","I"]
[166,"AFGHIJKL","3H","3J","3I","3F","3A","3G","3L","3K","H","J","I","F","A","G","L",{"$f":"INDEX(R:R, MATCH($B665, $B:$B, 0))","v":"K"}]
[167,"AEGHIJKL","3E",{"$f":"INDEX(D:D, MATCH($B666, $B:$B, 0))","v":"3J"},"3I","3A","3H","3G","3L","3K","E","J","I","A","H","G","L","K"]
[168,"AEFHIJKL","3E","3J","3I","3F","3A","3H","3L","3K","E","J","I","F","A","H","L","K"]
[169,"AEFGIJKL","3E","3J","3I","3F","3A","3G","3L","3K","E","J","I","F","A","G","L","K"]
[170,"AEFGHJKL","3E","3G","3J","3F","3A","3H","3L","3K","E","G","J","F","A","H","L","K"]
[171,"AEFGHIKL","3E","3G","3I","3F","3A","3H","3L","3K","E","G","I","F","A","H","L","K"]
[172,"AEFGHIJL","3E","3G","3J","3F","3A","3H","3L","3I","E","G","J","F","A","H","L","I"]
[173,"AEFGHIJK","3E","3G","3J","3F","3A","3H","3I","3K","E","G","J","F","A","H","I","K"]
[174,"ADGHIJKL","3H","3J","3I","3D","3A","3G","3L","3K","H","J","I","D","A","G","L","K"]
[175,"ADFHIJKL","3H","3J","3I","3D","3A","3F","3L","3K","H","J","I","D","A","F","L","K"]
[176,"ADFGIJKL",{"$f":"INDEX(C:C, MATCH($B675, $B:$B, 0))","v":"3I"},"3G","3J","3D","3A","3F","3L","3K","I","G","J","D","A","F","L","K"]
[177,"ADFGHJKL","3H","3G","3J","3D","3A","3F","3L","3K","H","G","J","D","A","F","L","K"]
[{"$f":"A179","v":178},"ADFGHIKL","3H","3G","3I","3D","3A","3F","3L","3K","H","G","I","D","A","F","L","K"]
[179,"ADFGHIJL","3H","3G","3J","3D","3A","3F","3L","3I","H","G","J","D","A","F","L","I"]
[180,"ADFGHIJK","3H","3G","3J","3D","3A","3F","3I","3K","H","G","J","D","A","F","I","K"]
[181,"ADEHIJKL","3E","3J","3I","3D","3A","3H","3L","3K","E","J","I","D","A","H","L","K"]
[182,"ADEGIJKL","3E","3J","3I","3D","3A","3G","3L","3K","E","J","I","D","A","G","L","K"]
[183,"ADEGHJKL","3E","3G","3J","3D","3A","3H","3L","3K","E","G","J","D","A","H","L",{"$f":"INDEX(R:R, MATCH($B682, $B:$B, 0))","v":"K"}]
[184,"ADEGHIKL","3E",{"$f":"INDEX(D:D, MATCH($B683, $B:$B, 0))","v":"3G"},"3I","3D","3A","3H","3L","3K","E","G","I","D","A","H","L","K"]
[185,"ADEGHIJL","3E","3G","3J","3D","3A","3H","3L","3I","E","G","J","D","A","H","L","I"]
[186,"ADEGHIJK","3E","3G","3J","3D","3A","3H","3I","3K","E","G","J","D","A","H","I","K"]
[187,"ADEFIJKL","3E","3J","3I","3D","3A","3F","3L","3K","E","J","I","D","A","F","L","K"]
[188,"ADEFHJKL","3H","3J","3E","3D","3A","3F","3L","3K","H","J","E","D","A","F","L","K"]
[189,"ADEFHIKL","3H","3E","3I","3D","3A","3F","3L","3K","H","E","I","D","A","F","L","K"]
[190,"ADEFHIJL","3H","3J","3E","3D","3A","3F","3L","3I","H","J","E","D","A","F","L","I"]
[191,"ADEFHIJK","3H","3J","3E","3D","3A","3F","3I","3K","H","J","E","D","A","F","I","K"]
[192,"ADEFGJKL","3E","3G","3J","3D","3A","3F","3L","3K","E","G","J","D","A","F","L","K"]
[193,"ADEFGIKL","3E","3G","3I","3D","3A","3F","3L","3K","E","G","I","D","A","F","L","K"]
[{"$f":"A195","v":194},"ADEFGIJL","3E","3G","3J","3D","3A","3F","3L","3I","E","G","J","D","A","F","L","I"]
[195,"ADEFGIJK","3E","3G","3J","3D","3A","3F","3I","3K","E","G","J","D","A","F","I","K"]
[196,"ADEFGHKL","3H","3G","3E","3D","3A","3F","3L","3K","H","G","E","D","A","F","L","K"]
[197,"ADEFGHJL","3H","3G","3J","3D","3A","3F","3L","3E","H","G","J","D","A","F","L","E"]
[198,"ADEFGHJK","3H","3G","3J","3D","3A","3F","3E","3K","H","G","J","D","A","F","E","K"]
[199,"ADEFGHIL","3H","3G","3E","3D","3A","3F","3L","3I","H","G","E","D","A","F","L","I"]
[200,"ADEFGHIK","3H","3G","3E","3D","3A","3F","3I","3K","H","G","E","D","A","F","I",{"$f":"INDEX(R:R, MATCH($B699, $B:$B, 0))","v":"K"}]
[201,"ADEFGHIJ","3H",{"$f":"INDEX(D:D, MATCH($B700, $B:$B, 0))","v":"3G"},"3J","3D","3A","3F","3E","3I","H","G","J","D","A","F","E","I"]
[202,"ACGHIJKL","3H","3J","3I","3C","3A","3G","3L","3K","H","J","I","C","A","G","L","K"]
[203,"ACFHIJKL","3H","3J","3I","3C","3A","3F","3L","3K","H","J","I","C","A","F","L","K"]
[204,"ACFGIJKL","3I","3G","3J","3C","3A","3F","3L","3K","I","G","J","C","A","F","L","K"]
[205,"ACFGHJKL","3H","3G","3J","3C","3A","3F","3L","3K","H","G","J","C","A","F","L","K"]
[206,"ACFGHIKL","3H","3G","3I","3C","3A","3F","3L","3K","H","G","I","C","A","F","L","K"]
[207,"ACFGHIJL","3H","3G","3J","3C","3A","3F","3L","3I","H","G","J","C","A","F","L","I"]
[208,"ACFGHIJK","3H","3G","3J","3C","3A","3F","3I","3K","H","G","J","C","A","F","I","K"]
[209,"ACEHIJKL","3E","3J","3I","3C","3A","3H","3L","3K","E","J","I","C","A","H","L","K"]
[{"$f":"A211","v":210},"ACEGIJKL","3E","3J","3I","3C","3A","3G","3L","3K","E","J","I","C","A","G","L","K"]
[211,"ACEGHJKL","3E","3G","3J","3C","3A","3H","3L","3K","E","G","J","C","A","H","L","K"]
[212,"ACEGHIKL","3E","3G","3I","3C","3A","3H","3L","3K","E","G","I","C","A","H","L","K"]
[213,"ACEGHIJL","3E","3G","3J","3C","3A","3H","3L","3I","E","G","J","C","A","H","L","I"]
[214,"ACEGHIJK","3E","3G","3J","3C","3A","3H","3I","3K","E","G","J","C","A","H","I","K"]
[215,"ACEFIJKL","3E","3J","3I","3C","3A","3F","3L","3K","E","J","I","C","A","F","L","K"]
[216,"ACEFHJKL","3H","3J","3E","3C","3A","3F","3L","3K","H","J","E","C","A","F","L","K"]
[217,"ACEFHIKL","3H","3E","3I","3C","3A","3F","3L","3K","H","E","I","C","A","F","L",{"$f":"INDEX(R:R, MATCH($B716, $B:$B, 0))","v":"K"}]
[218,"ACEFHIJL","3H",{"$f":"INDEX(D:D, MATCH($B717, $B:$B, 0))","v":"3J"},"3E","3C","3A","3F","3L","3I","H","J","E","C","A","F","L","I"]
[219,"ACEFHIJK","3H","3J","3E","3C","3A","3F","3I","3K","H","J","E","C","A","F","I","K"]
[220,"ACEFGJKL","3E","3G","3J","3C","3A","3F","3L","3K","E","G","J","C","A","F","L","K"]
[221,"ACEFGIKL","3E","3G","3I","3C","3A","3F","3L","3K","E","G","I","C","A","F","L","K"]
[222,"ACEFGIJL","3E","3G","3J","3C","3A","3F","3L","3I","E","G","J","C","A","F","L","I"]
[223,"ACEFGIJK","3E","3G","3J","3C","3A","3F","3I","3K","E","G","J","C","A","F","I","K"]
[224,"ACEFGHKL","3H","3G","3E","3C","3A","3F","3L","3K","H","G","E","C","A","F","L","K"]
[225,"ACEFGHJL","3H","3G","3J","3C","3A","3F","3L","3E","H","G","J","C","A","F","L","E"]
[{"$f":"A227","v":226},"ACEFGHJK","3H","3G","3J","3C","3A","3F","3E","3K","H","G","J","C","A","F","E","K"]
[227,"ACEFGHIL","3H","3G","3E","3C","3A","3F","3L","3I","H","G","E","C","A","F","L","I"]
[228,"ACEFGHIK","3H","3G","3E","3C","3A","3F","3I","3K","H","G","E","C","A","F","I","K"]
[229,"ACEFGHIJ","3H","3G","3J","3C","3A","3F","3E","3I","H","G","J","C","A","F","E","I"]
[230,"ACDHIJKL","3H","3J","3I","3C","3A","3D","3L","3K","H","J","I","C","A","D","L","K"]
[231,"ACDGIJKL","3I","3G","3J","3C","3A","3D","3L","3K","I","G","J","C","A","D","L","K"]
[232,"ACDGHJKL","3H","3G","3J","3C","3A","3D","3L","3K","H","G","J","C","A","D","L","K"]
[233,"ACDGHIKL","3H","3G","3I","3C","3A","3D","3L","3K","H","G","I","C","A","D","L","K"]
[234,"ACDGHIJL","3H","3G","3J","3C","3A","3D","3L","3I","H","G","J","C","A","D","L",{"$f":"INDEX(R:R, MATCH($B733, $B:$B, 0))","v":"I"}]
[235,"ACDGHIJK","3H",{"$f":"INDEX(D:D, MATCH($B734, $B:$B, 0))","v":"3G"},"3J","3C","3A","3D","3I","3K","H","G","J","C","A","D","I","K"]
[236,"ACDFIJKL","3C","3J","3I","3D","3A","3F","3L","3K","C","J","I","D","A","F","L","K"]
[237,"ACDFHJKL","3H","3J","3F","3C","3A","3D","3L","3K","H","J","F","C","A","D","L","K"]
[238,"ACDFHIKL","3H","3F","3I","3C","3A","3D","3L","3K","H","F","I","C","A","D","L","K"]
[239,"ACDFHIJL","3H","3J","3F","3C","3A","3D","3L","3I","H","J","F","C","A","D","L","I"]
[240,"ACDFHIJK",{"$f":"INDEX(C:C, MATCH($B739, $B:$B, 0))","v":"3H"},"3J","3F","3C","3A","3D","3I","3K","H","J","F","C","A","D","I","K"]
[241,"ACDFGJKL","3C","3G","3J","3D","3A","3F","3L","3K","C","G","J","D","A","F","L","K"]
[{"$f":"A243","v":242},"ACDFGIKL","3C","3G","3I","3D","3A","3F","3L","3K","C","G","I","D","A","F","L","K"]
[243,"ACDFGIJL","3C","3G","3J","3D","3A","3F","3L","3I","C","G","J","D","A","F","L","I"]
[244,"ACDFGIJK","3C","3G","3J","3D","3A","3F","3I","3K","C","G","J","D","A","F","I","K"]
[245,"ACDFGHKL","3H","3G","3F","3C","3A","3D","3L","3K","H","G","F","C","A","D","L","K"]
[246,"ACDFGHJL","3C","3G","3J","3D","3A","3F","3L","3H","C","G","J","D","A","F","L","H"]
[247,"ACDFGHJK","3H","3G","3J","3C","3A","3F","3D","3K","H","G","J","C","A","F","D","K"]
[248,"ACDFGHIL","3H","3G","3F","3C","3A","3D","3L","3I","H","G","F","C","A","D","L","I"]
[249,"ACDFGHIK","3H","3G","3F","3C","3A","3D","3I","3K","H","G","F","C","A","D","I","K"]
[250,"ACDFGHIJ","3H","3G","3J","3C","3A","3F","3D","3I","H","G","J","C","A","F","D","I"]
[251,"ACDEIJKL","3E","3J","3I","3C","3A","3D","3L","3K","E","J","I","C","A","D","L",{"$f":"INDEX(R:R, MATCH($B750, $B:$B, 0))","v":"K"}]
[252,"ACDEHJKL","3H",{"$f":"INDEX(D:D, MATCH($B751, $B:$B, 0))","v":"3J"},"3E","3C","3A","3D","3L","3K","H","J","E","C","A","D","L","K"]
[253,"ACDEHIKL","3H","3E","3I","3C","3A","3D","3L","3K","H","E","I","C","A","D","L","K"]
[254,"ACDEHIJL","3H","3J","3E","3C","3A","3D","3L","3I","H","J","E","C","A","D","L","I"]
[255,"ACDEHIJK","3H","3J","3E","3C","3A","3D","3I","3K","H","J","E","C","A","D","I","K"]
[256,"ACDEGJKL","3E","3G","3J","3C","3A","3D","3L","3K","E","G","J","C","A","D","L","K"]
[257,"ACDEGIKL","3E","3G","3I","3C","3A","3D","3L","3K","E","G","I","C","A","D","L","K"]
[{"$f":"A259","v":258},"ACDEGIJL","3E","3G","3J","3C","3A","3D","3L","3I","E","G","J","C","A","D","L","I"]
[259,"ACDEGIJK","3E","3G","3J","3C","3A","3D","3I","3K","E","G","J","C","A","D","I","K"]
[260,"ACDEGHKL","3H","3G","3E","3C","3A","3D","3L","3K","H","G","E","C","A","D","L","K"]
[261,"ACDEGHJL","3H","3G","3J","3C","3A","3D","3L","3E","H","G","J","C","A","D","L","E"]
[262,"ACDEGHJK","3H","3G","3J","3C","3A","3D","3E","3K","H","G","J","C","A","D","E","K"]
[263,"ACDEGHIL","3H","3G","3E","3C","3A","3D","3L","3I","H","G","E","C","A","D","L","I"]
[264,"ACDEGHIK","3H","3G","3E","3C","3A","3D","3I","3K","H","G","E","C","A","D","I","K"]
[265,"ACDEGHIJ","3H","3G","3J","3C","3A","3D","3E","3I","H","G","J","C","A","D","E","I"]
[266,"ACDEFJKL","3C","3J","3E","3D","3A","3F","3L","3K","C","J","E","D","A","F","L","K"]
[267,"ACDEFIKL","3C","3E","3I","3D","3A","3F","3L","3K","C","E","I","D","A","F","L","K"]
[268,"ACDEFIJL","3C","3J","3E","3D","3A","3F","3L","3I","C","J","E","D","A","F","L",{"$f":"INDEX(R:R, MATCH($B767, $B:$B, 0))","v":"I"}]
[269,"ACDEFIJK","3C",{"$f":"INDEX(D:D, MATCH($B768, $B:$B, 0))","v":"3J"},"3E","3D","3A","3F","3I","3K","C","J","E","D","A","F","I","K"]
[270,"ACDEFHKL","3H","3E","3F","3C","3A","3D","3L","3K","H","E","F","C","A","D","L","K"]
[271,"ACDEFHJL","3H","3J","3F","3C","3A","3D","3L","3E","H","J","F","C","A","D","L","E"]
[272,"ACDEFHJK","3H","3J","3E","3C","3A","3F","3D","3K","H","J","E","C","A","F","D","K"]
[273,"ACDEFHIL","3H","3E","3F","3C","3A","3D","3L","3I","H","E","F","C","A","D","L","I"]
[{"$f":"A275","v":274},"ACDEFHIK","3H","3E","3F","3C","3A","3D","3I","3K","H","E","F","C","A","D","I","K"]
[275,"ACDEFHIJ","3H","3J","3E","3C","3A","3F","3D","3I","H","J","E","C","A","F","D","I"]
[276,"ACDEFGKL","3C","3G","3E","3D","3A","3F","3L","3K","C","G","E","D","A","F","L","K"]
[277,"ACDEFGJL","3C","3G","3J","3D","3A","3F","3L","3E","C","G","J","D","A","F","L","E"]
[278,"ACDEFGJK","3C","3G","3J","3D","3A","3F","3E","3K","C","G","J","D","A","F","E","K"]
[279,"ACDEFGIL","3C","3G","3E","3D","3A","3F","3L","3I","C","G","E","D","A","F","L","I"]
[280,"ACDEFGIK","3C","3G","3E","3D","3A","3F","3I","3K","C","G","E","D","A","F","I","K"]
[281,"ACDEFGIJ","3C","3G","3J","3D","3A","3F","3E","3I","C","G","J","D","A","F","E","I"]
[282,"ACDEFGHL","3H","3G","3F","3C","3A","3D","3L","3E","H","G","F","C","A","D","L","E"]
[283,"ACDEFGHK","3H","3G","3E","3C","3A","3F","3D","3K","H","G","E","C","A","F","D","K"]
[284,"ACDEFGHJ","3H","3G","3J","3C","3A","3F","3D","3E","H","G","J","C","A","F","D","E"]
[285,"ACDEFGHI","3H","3G","3E","3C","3A","3F","3D","3I","H","G","E","C","A","F","D",{"$f":"INDEX(R:R, MATCH($B784, $B:$B, 0))","v":"I"}]
[286,"ABGHIJKL","3H",{"$f":"INDEX(D:D, MATCH($B785, $B:$B, 0))","v":"3J"},"3B","3A","3I","3G","3L","3K","H","J","B","A","I","G","L","K"]
[287,"ABFHIJKL","3H","3J","3B","3A","3I","3F","3L","3K","H","J","B","A","I","F","L","K"]
[288,"ABFGIJKL","3I","3J","3B","3F","3A","3G","3L","3K","I","J","B","F","A","G","L","K"]
[289,"ABFGHJKL","3H","3J","3B","3F","3A","3G","3L","3K","H","J","B","F","A","G","L","K"]
[{"$f":"A291","v":290},"ABFGHIKL","3H","3G","3B","3A","3I","3F","3L","3K","H","G","B","A","I","F","L","K"]
[291,"ABFGHIJL","3H","3J","3B","3F","3A","3G","3L","3I","H","J","B","F","A","G","L","I"]
[292,"ABFGHIJK","3H","3J","3B","3F","3A","3G","3I","3K","H","J","B","F","A","G","I","K"]
[293,"ABEHIJKL","3E","3J","3B","3A","3I","3H","3L","3K","E","J","B","A","I","H","L","K"]
[294,"ABEGIJKL","3E","3J","3B","3A","3I","3G","3L","3K","E","J","B","A","I","G","L","K"]
[295,"ABEGHJKL","3E","3J","3B","3A","3H","3G","3L","3K","E","J","B","A","H","G","L","K"]
[296,"ABEGHIKL","3E","3G","3B","3A","3I","3H","3L","3K","E","G","B","A","I","H","L","K"]
[297,"ABEGHIJL","3E","3J","3B","3A","3H","3G","3L","3I","E","J","B","A","H","G","L","I"]
[298,"ABEGHIJK","3E","3J","3B","3A","3H","3G","3I","3K","E","J","B","A","H","G","I","K"]
[299,"ABEFIJKL","3E","3J","3B","3A","3I","3F","3L","3K","E","J","B","A","I","F","L","K"]
[300,"ABEFHJKL","3E","3J","3B","3F","3A","3H","3L","3K","E","J","B","F","A","H","L","K"]
[301,"ABEFHIKL","3E","3I","3B","3F","3A","3H","3L","3K","E","I","B","F","A","H","L","K"]
[302,"ABEFHIJL","3E","3J","3B","3F","3A","3H","3L","3I","E","J","B","F","A","H","L",{"$f":"INDEX(R:R, MATCH($B801, $B:$B, 0))","v":"I"}]
[303,"ABEFHIJK","3E",{"$f":"INDEX(D:D, MATCH($B802, $B:$B, 0))","v":"3J"},"3B","3F","3A","3H","3I","3K","E","J","B","F","A","H","I","K"]
[304,"ABEFGJKL",{"$f":"INDEX(C:C, MATCH($B803, $B:$B, 0))","v":"3E"},"3J","3B","3F","3A","3G","3L","3K","E","J","B","F","A","G","L","K"]
[305,"ABEFGIKL","3E","3G","3B","3A","3I","3F","3L","3K","E","G","B","A","I","F","L","K"]
[{"$f":"A307","v":306},"ABEFGIJL","3E","3J","3B","3F","3A","3G","3L","3I","E","J","B","F","A","G","L","I"]
[307,"ABEFGIJK","3E","3J","3B","3F","3A","3G","3I","3K","E","J","B","F","A","G","I","K"]
[308,"ABEFGHKL","3E","3G","3B","3F","3A","3H","3L","3K","E","G","B","F","A","H","L","K"]
[309,"ABEFGHJL","3H","3J","3B","3F","3A","3G","3L","3E","H","J","B","F","A","G","L","E"]
[310,"ABEFGHJK","3H","3J","3B","3F","3A","3G","3E","3K","H","J","B","F","A","G","E","K"]
[311,"ABEFGHIL","3E","3G","3B","3F","3A","3H","3L","3I","E","G","B","F","A","H","L","I"]
[312,"ABEFGHIK","3E","3G","3B","3F","3A","3H","3I","3K","E","G","B","F","A","H","I","K"]
[313,"ABEFGHIJ","3H","3J","3B","3F","3A","3G","3E","3I","H","J","B","F","A","G","E","I"]
[314,"ABDHIJKL","3I","3J","3B","3D","3A","3H","3L","3K","I","J","B","D","A","H","L","K"]
[315,"ABDGIJKL","3I","3J","3B","3D","3A","3G","3L","3K","I","J","B","D","A","G","L","K"]
[316,"ABDGHJKL","3H","3J","3B","3D","3A","3G","3L","3K","H","J","B","D","A","G","L","K"]
[317,"ABDGHIKL","3I","3G","3B","3D","3A","3H","3L","3K","I","G","B","D","A","H","L","K"]
[318,"ABDGHIJL","3H","3J","3B","3D","3A","3G","3L","3I","H","J","B","D","A","G","L","I"]
[319,"ABDGHIJK","3H","3J","3B","3D","3A","3G","3I","3K","H","J","B","D","A","G","I",{"$f":"INDEX(R:R, MATCH($B818, $B:$B, 0))","v":"K"}]
[320,"ABDFIJKL","3I",{"$f":"INDEX(D:D, MATCH($B819, $B:$B, 0))","v":"3J"},"3B","3D","3A","3F","3L","3K","I","J","B","D","A","F","L","K"]
[321,"ABDFHJKL","3H","3J","3B","3D","3A","3F","3L","3K","H","J","B","D","A","F","L","K"]
[{"$f":"A323","v":322},"ABDFHIKL","3H","3I","3B","3D","3A","3F","3L","3K","H","I","B","D","A","F","L","K"]
[323,"ABDFHIJL","3H","3J","3B","3D","3A","3F","3L","3I","H","J","B","D","A","F","L","I"]
[324,"ABDFHIJK","3H","3J","3B","3D","3A","3F","3I","3K","H","J","B","D","A","F","I","K"]
[325,"ABDFGJKL","3F","3J","3B","3D","3A","3G","3L","3K","F","J","B","D","A","G","L","K"]
[326,"ABDFGIKL","3I","3G","3B","3D","3A","3F","3L","3K","I","G","B","D","A","F","L","K"]
[327,"ABDFGIJL","3F","3J","3B","3D","3A","3G","3L","3I","F","J","B","D","A","G","L","I"]
[328,"ABDFGIJK","3F","3J","3B","3D","3A","3G","3I","3K","F","J","B","D","A","G","I","K"]
[329,"ABDFGHKL","3H","3G","3B","3D","3A","3F","3L","3K","H","G","B","D","A","F","L","K"]
[330,"ABDFGHJL","3H","3G","3B","3D","3A","3F","3L","3J","H","G","B","D","A","F","L","J"]
[331,"ABDFGHJK","3H","3G","3B","3D","3A","3F","3J","3K","H","G","B","D","A","F","J","K"]
[332,"ABDFGHIL","3H","3G","3B","3D","3A","3F","3L","3I","H","G","B","D","A","F","L","I"]
[333,"ABDFGHIK","3H","3G","3B","3D","3A","3F","3I","3K","H","G","B","D","A","F","I","K"]
[334,"ABDFGHIJ","3H","3G","3B","3D","3A","3F","3I","3J","H","G","B","D","A","F","I","J"]
[335,"ABDEIJKL","3E","3J","3B","3A","3I","3D","3L","3K","E","J","B","A","I","D","L","K"]
[336,"ABDEHJKL","3E","3J","3B","3D","3A","3H","3L","3K","E","J","B","D","A","H","L",{"$f":"INDEX(R:R, MATCH($B835, $B:$B, 0))","v":"K"}]
[337,"ABDEHIKL","3E",{"$f":"INDEX(D:D, MATCH($B836, $B:$B, 0))","v":"3I"},"3B","3D","3A","3H","3L","3K","E","I","B","D","A","H","L","K"]
[{"$f":"A339","v":338},"ABDEHIJL","3E","3J","3B","3D","3A","3H","3L","3I","E","J","B","D","A","H","L","I"]
[339,"ABDEHIJK","3E","3J","3B","3D","3A","3H","3I","3K","E","J","B","D","A","H","I","K"]
[340,"ABDEGJKL","3E","3J","3B","3D","3A","3G","3L","3K","E","J","B","D","A","G","L","K"]
[341,"ABDEGIKL","3E","3G","3B","3A","3I","3D","3L","3K","E","G","B","A","I","D","L","K"]
[342,"ABDEGIJL","3E","3J","3B","3D","3A","3G","3L","3I","E","J","B","D","A","G","L","I"]
[343,"ABDEGIJK","3E","3J","3B","3D","3A","3G","3I","3K","E","J","B","D","A","G","I","K"]
[344,"ABDEGHKL","3E","3G","3B","3D","3A","3H","3L","3K","E","G","B","D","A","H","L","K"]
[345,"ABDEGHJL","3H","3J","3B","3D","3A","3G","3L","3E","H","J","B","D","A","G","L","E"]
[346,"ABDEGHJK","3H","3J","3B","3D","3A","3G","3E","3K","H","J","B","D","A","G","E","K"]
[347,"ABDEGHIL","3E","3G","3B","3D","3A","3H","3L","3I","E","G","B","D","A","H","L","I"]
[348,"ABDEGHIK","3E","3G","3B","3D","3A","3H","3I","3K","E","G","B","D","A","H","I","K"]
[349,"ABDEGHIJ","3H","3J","3B","3D","3A","3G","3E","3I","H","J","B","D","A","G","E","I"]
[350,"ABDEFJKL","3E","3J","3B","3D","3A","3F","3L","3K","E","J","B","D","A","F","L","K"]
[351,"ABDEFIKL","3E","3I","3B","3D","3A","3F","3L","3K","E","I","B","D","A","F","L","K"]
[352,"ABDEFIJL","3E","3J","3B","3D","3A","3F","3L","3I","E","J","B","D","A","F","L","I"]
[353,"ABDEFIJK","3E","3J","3B","3D","3A","3F","3I","3K","E","J","B","D","A","F","I",{"$f":"INDEX(R:R, MATCH($B852, $B:$B, 0))","v":"K"}]
[{"$f":"A355","v":354},"ABDEFHKL","3H",{"$f":"INDEX(D:D, MATCH($B853, $B:$B, 0))","v":"3E"},"3B","3D","3A","3F","3L","3K","H","E","B","D","A","F","L","K"]
[355,"ABDEFHJL","3H","3J","3B","3D","3A","3F","3L","3E","H","J","B","D","A","F","L","E"]
[356,"ABDEFHJK","3H","3J","3B","3D","3A","3F","3E","3K","H","J","B","D","A","F","E","K"]
[357,"ABDEFHIL","3H","3E","3B","3D","3A","3F","3L","3I","H","E","B","D","A","F","L","I"]
[358,"ABDEFHIK","3H","3E","3B","3D","3A","3F","3I","3K","H","E","B","D","A","F","I","K"]
[359,"ABDEFHIJ","3H","3J","3B","3D","3A","3F","3E","3I","H","J","B","D","A","F","E","I"]
[360,"ABDEFGKL","3E","3G","3B","3D","3A","3F","3L","3K","E","G","B","D","A","F","L","K"]
[361,"ABDEFGJL","3E","3G","3B","3D","3A","3F","3L","3J","E","G","B","D","A","F","L","J"]
[362,"ABDEFGJK","3E","3G","3B","3D","3A","3F","3J","3K","E","G","B","D","A","F","J","K"]
[363,"ABDEFGIL","3E","3G","3B","3D","3A","3F","3L","3I","E","G","B","D","A","F","L","I"]
[364,"ABDEFGIK","3E","3G","3B","3D","3A","3F","3I","3K","E","G","B","D","A","F","I","K"]
[365,"ABDEFGIJ","3E","3G","3B","3D","3A","3F","3I","3J","E","G","B","D","A","F","I","J"]
[366,"ABDEFGHL","3H","3G","3B","3D","3A","3F","3L","3E","H","G","B","D","A","F","L","E"]
[367,"ABDEFGHK","3H","3G","3B","3D","3A","3F","3E","3K","H","G","B","D","A","F","E","K"]
[368,"ABDEFGHJ",{"$f":"INDEX(C:C, MATCH($B867, $B:$B, 0))","v":"3H"},"3G","3B","3D","3A","3F","3E","3J","H","G","B","D","A","F","E","J"]
[369,"ABDEFGHI","3H","3G","3B","3D","3A","3F","3E","3I","H","G","B","D","A","F","E","I"]
[{"$f":"A371","v":370},"ABCHIJKL","3I","3J","3B","3C","3A","3H","3L","3K","I","J","B","C","A","H","L",{"$f":"INDEX(R:R, MATCH($B869, $B:$B, 0))","v":"K"}]
[371,"ABCGIJKL","3I",{"$f":"INDEX(D:D, MATCH($B870, $B:$B, 0))","v":"3J"},"3B","3C","3A","3G","3L","3K","I","J","B","C","A","G","L","K"]
[372,"ABCGHJKL","3H","3J","3B","3C","3A","3G","3L","3K","H","J","B","C","A","G","L","K"]
[373,"ABCGHIKL","3I","3G","3B","3C","3A","3H","3L","3K","I","G","B","C","A","H","L","K"]
[374,"ABCGHIJL","3H","3J","3B","3C","3A","3G","3L","3I","H","J","B","C","A","G","L","I"]
[375,"ABCGHIJK","3H","3J","3B","3C","3A","3G","3I","3K","H","J","B","C","A","G","I","K"]
[376,"ABCFIJKL","3I","3J","3B","3C","3A","3F","3L","3K","I","J","B","C","A","F","L","K"]
[377,"ABCFHJKL","3H","3J","3B","3C","3A","3F","3L","3K","H","J","B","C","A","F","L","K"]
[378,"ABCFHIKL","3H","3I","3B","3C","3A","3F","3L","3K","H","I","B","C","A","F","L","K"]
[379,"ABCFHIJL","3H","3J","3B","3C","3A","3F","3L","3I","H","J","B","C","A","F","L","I"]
[380,"ABCFHIJK","3H","3J","3B","3C","3A","3F","3I","3K","H","J","B","C","A","F","I","K"]
[381,"ABCFGJKL","3C","3J","3B","3F","3A","3G","3L","3K","C","J","B","F","A","G","L","K"]
[382,"ABCFGIKL","3I","3G","3B","3C","3A","3F","3L","3K","I","G","B","C","A","F","L","K"]
[383,"ABCFGIJL","3C","3J","3B","3F","3A","3G","3L","3I","C","J","B","F","A","G","L","I"]
[384,"ABCFGIJK","3C","3J","3B","3F","3A","3G","3I","3K","C","J","B","F","A","G","I","K"]
[385,"ABCFGHKL","3H","3G","3B","3C","3A","3F","3L","3K","H","G","B","C","A","F","L","K"]
[{"$f":"A387","v":386},"ABCFGHJL","3H","3G","3B","3C","3A","3F","3L","3J","H","G","B","C","A","F","L","J"]
[387,"ABCFGHJK","3H","3G","3B","3C","3A","3F","3J","3K","H","G","B","C","A","F","J",{"$f":"INDEX(R:R, MATCH($B886, $B:$B, 0))","v":"K"}]
[388,"ABCFGHIL","3H",{"$f":"INDEX(D:D, MATCH($B887, $B:$B, 0))","v":"3G"},"3B","3C","3A","3F","3L","3I","H","G","B","C","A","F","L","I"]
[389,"ABCFGHIK","3H","3G","3B","3C","3A","3F","3I","3K","H","G","B","C","A","F","I","K"]
[390,"ABCFGHIJ","3H","3G","3B","3C","3A","3F","3I","3J","H","G","B","C","A","F","I","J"]
[391,"ABCEIJKL","3E","3J","3B","3A","3I","3C","3L","3K","E","J","B","A","I","C","L","K"]
[392,"ABCEHJKL","3E","3J","3B","3C","3A","3H","3L","3K","E","J","B","C","A","H","L","K"]
[393,"ABCEHIKL","3E","3I","3B","3C","3A","3H","3L","3K","E","I","B","C","A","H","L","K"]
[394,"ABCEHIJL","3E","3J","3B","3C","3A","3H","3L","3I","E","J","B","C","A","H","L","I"]
[395,"ABCEHIJK","3E","3J","3B","3C","3A","3H","3I","3K","E","J","B","C","A","H","I","K"]
[396,"ABCEGJKL","3E","3J","3B","3C","3A","3G","3L","3K","E","J","B","C","A","G","L","K"]
[397,"ABCEGIKL","3E","3G","3B","3A","3I","3C","3L","3K","E","G","B","A","I","C","L","K"]
[398,"ABCEGIJL","3E","3J","3B","3C","3A","3G","3L","3I","E","J","B","C","A","G","L","I"]
[399,"ABCEGIJK","3E","3J","3B","3C","3A","3G","3I","3K","E","J","B","C","A","G","I","K"]
[400,"ABCEGHKL","3E","3G","3B","3C","3A","3H","3L","3K","E","G","B","C","A","H","L","K"]
[401,"ABCEGHJL","3H","3J","3B","3C","3A","3G","3L","3E","H","J","B","C","A","G","L","E"]
[{"$f":"A403","v":402},"ABCEGHJK","3H","3J","3B","3C","3A","3G","3E","3K","H","J","B","C","A","G","E","K"]
[403,"ABCEGHIL","3E","3G","3B","3C","3A","3H","3L","3I","E","G","B","C","A","H","L","I"]
[404,"ABCEGHIK","3E","3G","3B","3C","3A","3H","3I","3K","E","G","B","C","A","H","I",{"$f":"INDEX(R:R, MATCH($B903, $B:$B, 0))","v":"K"}]
[405,"ABCEGHIJ","3H",{"$f":"INDEX(D:D, MATCH($B904, $B:$B, 0))","v":"3J"},"3B","3C","3A","3G","3E","3I","H","J","B","C","A","G","E","I"]
[406,"ABCEFJKL","3E","3J","3B","3C","3A","3F","3L","3K","E","J","B","C","A","F","L","K"]
[407,"ABCEFIKL","3E","3I","3B","3C","3A","3F","3L","3K","E","I","B","C","A","F","L","K"]
[408,"ABCEFIJL","3E","3J","3B","3C","3A","3F","3L","3I","E","J","B","C","A","F","L","I"]
[409,"ABCEFIJK","3E","3J","3B","3C","3A","3F","3I","3K","E","J","B","C","A","F","I","K"]
[410,"ABCEFHKL","3H","3E","3B","3C","3A","3F","3L","3K","H","E","B","C","A","F","L","K"]
[411,"ABCEFHJL","3H","3J","3B","3C","3A","3F","3L","3E","H","J","B","C","A","F","L","E"]
[412,"ABCEFHJK","3H","3J","3B","3C","3A","3F","3E","3K","H","J","B","C","A","F","E","K"]
[413,"ABCEFHIL","3H","3E","3B","3C","3A","3F","3L","3I","H","E","B","C","A","F","L","I"]
[414,"ABCEFHIK","3H","3E","3B","3C","3A","3F","3I","3K","H","E","B","C","A","F","I","K"]
[415,"ABCEFHIJ","3H","3J","3B","3C","3A","3F","3E","3I","H","J","B","C","A","F","E","I"]
[416,"ABCEFGKL","3E","3G","3B","3C","3A","3F","3L","3K","E","G","B","C","A","F","L","K"]
[417,"ABCEFGJL","3E","3G","3B","3C","3A","3F","3L","3J","E","G","B","C","A","F","L","J"]
[{"$f":"A419","v":418},"ABCEFGJK","3E","3G","3B","3C","3A","3F","3J","3K","E","G","B","C","A","F","J","K"]
[419,"ABCEFGIL","3E","3G","3B","3C","3A","3F","3L","3I","E","G","B","C","A","F","L","I"]
[420,"ABCEFGIK","3E","3G","3B","3C","3A","3F","3I","3K","E","G","B","C","A","F","I","K"]
[421,"ABCEFGIJ","3E","3G","3B","3C","3A","3F","3I","3J","E","G","B","C","A","F","I",{"$f":"INDEX(R:R, MATCH($B920, $B:$B, 0))","v":"J"}]
[422,"ABCEFGHL","3H",{"$f":"INDEX(D:D, MATCH($B921, $B:$B, 0))","v":"3G"},"3B","3C","3A","3F","3L","3E","H","G","B","C","A","F","L","E"]
[423,"ABCEFGHK","3H","3G","3B","3C","3A","3F","3E","3K","H","G","B","C","A","F","E","K"]
[424,"ABCEFGHJ","3H","3G","3B","3C","3A","3F","3E","3J","H","G","B","C","A","F","E","J"]
[425,"ABCEFGHI","3H","3G","3B","3C","3A","3F","3E","3I","H","G","B","C","A","F","E","I"]
[426,"ABCDIJKL","3I","3J","3B","3C","3A","3D","3L","3K","I","J","B","C","A","D","L","K"]
[427,"ABCDHJKL","3H","3J","3B","3C","3A","3D","3L","3K","H","J","B","C","A","D","L","K"]
[428,"ABCDHIKL","3H","3I","3B","3C","3A","3D","3L","3K","H","I","B","C","A","D","L","K"]
[429,"ABCDHIJL","3H","3J","3B","3C","3A","3D","3L","3I","H","J","B","C","A","D","L","I"]
[430,"ABCDHIJK","3H","3J","3B","3C","3A","3D","3I","3K","H","J","B","C","A","D","I","K"]
[431,"ABCDGJKL","3C","3J","3B","3D","3A","3G","3L","3K","C","J","B","D","A","G","L","K"]
[432,"ABCDGIKL",{"$f":"INDEX(C:C, MATCH($B931, $B:$B, 0))","v":"3I"},"3G","3B","3C","3A","3D","3L","3K","I","G","B","C","A","D","L","K"]
[433,"ABCDGIJL","3C","3J","3B","3D","3A","3G","3L","3I","C","J","B","D","A","G","L","I"]
[{"$f":"A435","v":434},"ABCDGIJK","3C","3J","3B","3D","3A","3G","3I","3K","C","J","B","D","A","G","I","K"]
[435,"ABCDGHKL","3H","3G","3B","3C","3A","3D","3L","3K","H","G","B","C","A","D","L","K"]
[436,"ABCDGHJL","3H","3G","3B","3C","3A","3D","3L","3J","H","G","B","C","A","D","L","J"]
[437,"ABCDGHJK","3H","3G","3B","3C","3A","3D","3J","3K","H","G","B","C","A","D","J","K"]
[438,"ABCDGHIL","3H","3G","3B","3C","3A","3D","3L","3I","H","G","B","C","A","D","L",{"$f":"INDEX(R:R, MATCH($B937, $B:$B, 0))","v":"I"}]
[439,"ABCDGHIK","3H",{"$f":"INDEX(D:D, MATCH($B938, $B:$B, 0))","v":"3G"},"3B","3C","3A","3D","3I","3K","H","G","B","C","A","D","I","K"]
[440,"ABCDGHIJ","3H","3G","3B","3C","3A","3D","3I","3J","H","G","B","C","A","D","I","J"]
[441,"ABCDFJKL","3C","3J","3B","3D","3A","3F","3L","3K","C","J","B","D","A","F","L","K"]
[442,"ABCDFIKL","3C","3I","3B","3D","3A","3F","3L","3K","C","I","B","D","A","F","L","K"]
[443,"ABCDFIJL","3C","3J","3B","3D","3A","3F","3L","3I","C","J","B","D","A","F","L","I"]
[444,"ABCDFIJK","3C","3J","3B","3D","3A","3F","3I","3K","C","J","B","D","A","F","I","K"]
[445,"ABCDFHKL","3H","3F","3B","3C","3A","3D","3L","3K","H","F","B","C","A","D","L","K"]
[446,"ABCDFHJL","3C","3J","3B","3D","3A","3F","3L","3H","C","J","B","D","A","F","L","H"]
[447,"ABCDFHJK","3H","3J","3B","3C","3A","3F","3D","3K","H","J","B","C","A","F","D","K"]
[448,"ABCDFHIL","3H","3F","3B","3C","3A","3D","3L","3I","H","F","B","C","A","D","L","I"]
[449,"ABCDFHIK","3H","3F","3B","3C","3A","3D","3I","3K","H","F","B","C","A","D","I","K"]
[{"$f":"A451","v":450},"ABCDFHIJ","3H","3J","3B","3C","3A","3F","3D","3I","H","J","B","C","A","F","D","I"]
[451,"ABCDFGKL","3C","3G","3B","3D","3A","3F","3L","3K","C","G","B","D","A","F","L","K"]
[452,"ABCDFGJL","3C","3G","3B","3D","3A","3F","3L","3J","C","G","B","D","A","F","L","J"]
[453,"ABCDFGJK","3C","3G","3B","3D","3A","3F","3J","3K","C","G","B","D","A","F","J","K"]
[454,"ABCDFGIL","3C","3G","3B","3D","3A","3F","3L","3I","C","G","B","D","A","F","L","I"]
[455,"ABCDFGIK","3C","3G","3B","3D","3A","3F","3I","3K","C","G","B","D","A","F","I",{"$f":"INDEX(R:R, MATCH($B954, $B:$B, 0))","v":"K"}]
[456,"ABCDFGIJ","3C",{"$f":"INDEX(D:D, MATCH($B955, $B:$B, 0))","v":"3G"},"3B","3D","3A","3F","3I","3J","C","G","B","D","A","F","I","J"]
[457,"ABCDFGHL","3C","3G","3B","3D","3A","3F","3L","3H","C","G","B","D","A","F","L","H"]
[458,"ABCDFGHK","3H","3G","3B","3C","3A","3F","3D","3K","H","G","B","C","A","F","D","K"]
[459,"ABCDFGHJ","3H","3G","3B","3C","3A","3F","3D","3J","H","G","B","C","A","F","D","J"]
[460,"ABCDFGHI","3H","3G","3B","3C","3A","3F","3D","3I","H","G","B","C","A","F","D","I"]
[461,"ABCDEJKL","3E","3J","3B","3C","3A","3D","3L","3K","E","J","B","C","A","D","L","K"]
[462,"ABCDEIKL","3E","3I","3B","3C","3A","3D","3L","3K","E","I","B","C","A","D","L","K"]
[463,"ABCDEIJL","3E","3J","3B","3C","3A","3D","3L","3I","E","J","B","C","A","D","L","I"]
[464,"ABCDEIJK","3E","3J","3B","3C","3A","3D","3I","3K","E","J","B","C","A","D","I","K"]
[465,"ABCDEHKL","3H","3E","3B","3C","3A","3D","3L","3K","H","E","B","C","A","D","L","K"]
[{"$f":"A467","v":466},"ABCDEHJL","3H","3J","3B","3C","3A","3D","3L","3E","H","J","B","C","A","D","L","E"]
[467,"ABCDEHJK","3H","3J","3B","3C","3A","3D","3E","3K","H","J","B","C","A","D","E","K"]
[468,"ABCDEHIL","3H","3E","3B","3C","3A","3D","3L","3I","H","E","B","C","A","D","L","I"]
[469,"ABCDEHIK","3H","3E","3B","3C","3A","3D","3I","3K","H","E","B","C","A","D","I","K"]
[470,"ABCDEHIJ","3H","3J","3B","3C","3A","3D","3E","3I","H","J","B","C","A","D","E","I"]
[471,"ABCDEGKL","3E","3G","3B","3C","3A","3D","3L","3K","E","G","B","C","A","D","L","K"]
[472,"ABCDEGJL","3E","3G","3B","3C","3A","3D","3L","3J","E","G","B","C","A","D","L",{"$f":"INDEX(R:R, MATCH($B971, $B:$B, 0))","v":"J"}]
[473,"ABCDEGJK","3E",{"$f":"INDEX(D:D, MATCH($B972, $B:$B, 0))","v":"3G"},"3B","3C","3A","3D","3J","3K","E","G","B","C","A","D","J","K"]
[474,"ABCDEGIL","3E","3G","3B","3C","3A","3D","3L","3I","E","G","B","C","A","D","L","I"]
[475,"ABCDEGIK","3E","3G","3B","3C","3A","3D","3I","3K","E","G","B","C","A","D","I","K"]
[476,"ABCDEGIJ","3E","3G","3B","3C","3A","3D","3I","3J","E","G","B","C","A","D","I","J"]
[477,"ABCDEGHL","3H","3G","3B","3C","3A","3D","3L","3E","H","G","B","C","A","D","L","E"]
[478,"ABCDEGHK","3H","3G","3B","3C","3A","3D","3E","3K","H","G","B","C","A","D","E","K"]
[479,"ABCDEGHJ","3H","3G","3B","3C","3A","3D","3E","3J","H","G","B","C","A","D","E","J"]
[480,"ABCDEGHI","3H","3G","3B","3C","3A","3D","3E","3I","H","G","B","C","A","D","E","I"]
[481,"ABCDEFKL","3C","3E","3B","3D","3A","3F","3L","3K","C","E","B","D","A","F","L","K"]
[{"$f":"A483","v":482},"ABCDEFJL","3C","3J","3B","3D","3A","3F","3L","3E","C","J","B","D","A","F","L","E"]
[483,"ABCDEFJK","3C","3J","3B","3D","3A","3F","3E","3K","C","J","B","D","A","F","E","K"]
[484,"ABCDEFIL","3C","3E","3B","3D","3A","3F","3L","3I","C","E","B","D","A","F","L","I"]
[485,"ABCDEFIK","3C","3E","3B","3D","3A","3F","3I","3K","C","E","B","D","A","F","I","K"]
[486,"ABCDEFIJ","3C","3J","3B","3D","3A","3F","3E","3I","C","J","B","D","A","F","E","I"]
[487,"ABCDEFHL","3H","3F","3B","3C","3A","3D","3L","3E","H","F","B","C","A","D","L","E"]
[488,"ABCDEFHK","3H","3E","3B","3C","3A","3F","3D","3K","H","E","B","C","A","F","D","K"]
[489,"ABCDEFHJ","3H","3J","3B","3C","3A","3F","3D","3E","H","J","B","C","A","F","D",{"$f":"INDEX(R:R, MATCH($B988, $B:$B, 0))","v":"E"}]
[490,"ABCDEFHI","3H",{"$f":"INDEX(D:D, MATCH($B989, $B:$B, 0))","v":"3E"},"3B","3C","3A","3F","3D","3I","H","E","B","C","A","F","D","I"]
[491,"ABCDEFGL","3C","3G","3B","3D","3A","3F","3L","3E","C","G","B","D","A","F","L","E"]
[492,"ABCDEFGK","3C","3G","3B","3D","3A","3F","3E","3K","C","G","B","D","A","F","E","K"]
[493,"ABCDEFGJ","3C","3G","3B","3D","3A","3F","3E","3J","C","G","B","D","A","F","E","J"]
[494,"ABCDEFGI","3C","3G","3B","3D","3A","3F","3E","3I","C","G","B","D","A","F","E","I"]
[495,"ABCDEFGH","3H","3G","3B","3C","3A","3F","3D","3E","H","G","B","C","A","F","D","E"]

{"sheet":"WM2026-48","index":7,"n_rows":100,"n_cols":102,"rows_kept":100,"cut":false,"hidden":false,"merged":[]}
["SP","Vorrunde","Gruppe A"," ",null,null,null,null,null,null,null,null,"Tabelle","P","T+","T-","T+/-",null,null,null,null,null,null,"G","Berechnungen","P","T+","T-","T+/-",null,"L0","DV",null,null,null,"S1","L1","DV-TD",null,null,null,"S2","DV-Tore",null,null,null,"S3","L4",null,"Info",null,null,null,"Vorrunde","Gruppe D"," ",null,null,null,null,null,null,null,null,"Tabelle","P","T+","T-","T+/-",null,null,null,null,null,null,"G","Berechnungen","P","T+","T-","T+/-",null,"L0","DV",null,null,null,"S1","L1","DV-TD",null,null,null,"S2","DV-Tore",null,null,null,"S3","L4",null,"Info"]
[null,"Datum/Zeit","Spielort",null,null,null,null,null,null,null,null,null,{"$f":"VLOOKUP(1,$X$2:$AC$5,2,FALSE)","v":"A4"},{"$f":"VLOOKUP(1,$X$2:$AC$5,3,FALSE)","v":6},{"$f":"VLOOKUP(1,$X$2:$AC$5,4,FALSE)","v":2},{"$f":"VLOOKUP(1,$X$2:$AC$5,5,FALSE)","v":1},{"$f":"VLOOKUP(1,$X$2:$AC$5,6,FALSE)","v":1},null,null,{"$f":"IF(H3=\"\",0,IF(K3=$B$98,IF(H3>J3,3,IF(H3=J3,1,0)),0))","v":3},{"$f":"IF(H5=\"\",0,IF(K5=$B$98,IF(H5>J5,3,IF(H5=J5,1,0)),0))","v":3},{"$f":"IF(J7=\"\",0,IF(K8=$B$98,IF(H7<J7,3,IF(H7=J7,1,0)),0))","v":0},null,{"$f":"RANK(AD2,$AD$2:$AD$5)","v":2},"A1",{"$f":"SUM(S2:V2)","v":6},{"$f":"SUM(S6:V6)","v":2},{"$f":"SUM(S6:S9)","v":1},{"$f":"AA2-AB2","v":1},{"$f":"IF(P$8=\"\",(((((((AE2*10+Z2)*100+AC2)*100+AA2)*10+AK2)*10+AJ2)*100+AP2)*100+AU2)*10+AV2,(((((((AE2*10+Z2)*10+AK2)*10+AJ2)*100+AP2)*100+AU2)*100+AC2)*100+AA2)*10+AV2)","v":596990001024},null,null,{"$f":"IF($Z2=$Z3,$T2-$S3,0)","v":0},{"$f":"IF($Z2=$Z4,$U2-$S4,0)","v":0},{"$f":"IF($Z2=$Z5,$V2-$S5,0)","v":-3},{"$f":"SUM(AF2:AI2)","v":-3},null,null,{"$f":"IF($Z2=$Z3,$T6-$S7,0)","v":0},{"$f":"IF($Z2=$Z4,$U6-$S8,0)","v":0},{"$f":"IF($Z2=$Z5,$V6-$S9,0)","v":-1},{"$f":"SUM(AL2:AO2)","v":-1},null,{"$f":"IF($Z2=$Z3,$T6,0)","v":0},{"$f":"IF($Z2=$Z4,$U6,0)","v":0},{"$f":"IF($Z2=$Z5,$V6,0)","v":0},{"$f":"SUM(AQ2:AT2)","v":0},4,null,null,null,null,null,"Datum/Zeit","Spielort",null,null,null,null,null,null,null,null,null,{"$f":"VLOOKUP(1,$BX$2:$CC$5,2,FALSE)","v":"D4"},{"$f":"VLOOKUP(1,$BX$2:$CC$5,3,FALSE)","v":6},{"$f":"VLOOKUP(1,$BX$2:$CC$5,4,FALSE)","v":2},{"$f":"VLOOKUP(1,$BX$2:$CC$5,5,FALSE)","v":1},{"$f":"VLOOKUP(1,$BX$2:$CC$5,6,FALSE)","v":1},null,null,{"$f":"IF(BH3=\"\",0,IF(BK3=$B$98,IF(BH3>BJ3,3,IF(BH3=BJ3,1,0)),0))","v":3},{"$f":"IF(BH5=\"\",0,IF(BK5=$B$98,IF(BH5>BJ5,3,IF(BH5=BJ5,1,0)),0))","v":3},{"$f":"IF(BJ7=\"\",0,IF(BK8=$B$98,IF(BH7<BJ7,3,IF(BH7=BJ7,1,0)),0))","v":0},null,{"$f":"RANK(CD2,$CD$2:$CD$5)","v":2},"D1",{"$f":"SUM(BS2:BV2)","v":6},{"$f":"SUM(BS6:BV6)","v":2},{"$f":"SUM(BS6:BS9)","v":1},{"$f":"CA2-CB2","v":1},{"$f":"IF(BP$8=\"\",(((((((CE2*10+BZ2)*100+CC2)*100+CA2)*10+CK2)*10+CJ2)*100+CP2)*100+CU2)*10+CV2,(((((((CE2*10+BZ2)*10+CK2)*10+CJ2)*100+CP2)*100+CU2)*100+CC2)*100+CA2)*10+CV2)","v":596990001024},null,null,{"$f":"IF($BZ2=$BZ3,$BT2-$BS3,0)","v":0},{"$f":"IF($BZ2=$BZ4,$BU2-$BS4,0)","v":0},{"$f":"IF($BZ2=$BZ5,$BV2-$BS5,0)","v":-3},{"$f":"SUM(CF2:CI2)","v":-3},null,null,{"$f":"IF($BZ2=$BZ3,$BT6-$BS7,0)","v":0},{"$f":"IF($BZ2=$BZ4,$BU6-$BS8,0)","v":0},{"$f":"IF($BZ2=$BZ5,$BV6-$BS9,0)","v":-1},{"$f":"SUM(CL2:CO2)","v":-1},null,{"$f":"IF($BZ2=$BZ3,$BT6,0)","v":0},{"$f":"IF($BZ2=$BZ4,$BU6,0)","v":0},{"$f":"IF($BZ2=$BZ5,$BV6,0)","v":0},{"$f":"SUM(CQ2:CT2)","v":0},4]
[1,{"$f":"VLOOKUP(A3,Spiele!$A$1:$L$116,2,FALSE)","v":"2026-06-11T14:00:00"},{"$f":"VLOOKUP(A3,Spiele!$A$1:$L$116,9,FALSE)","v":"Mexico City"},{"$f":"Y2","v":"A1"},"-",{"$f":"Y3","v":"A2"},null,{"$f":"IF($B$99=\"\",1,INT(RAND()*5)+INT(RAND()*3)*INT(RAND()*2))","v":1},":",{"$f":"IF($B$99=\"\",0,INT(RAND()*5)+INT(RAND()*3)*INT(RAND()*2))","v":0},"ok",null,{"$f":"VLOOKUP(2,$X$2:$AC$5,2,FALSE)","v":"A1"},{"$f":"VLOOKUP(2,$X$2:$AC$5,3,FALSE)","v":6},{"$f":"VLOOKUP(2,$X$2:$AC$5,4,FALSE)","v":2},{"$f":"VLOOKUP(2,$X$2:$AC$5,5,FALSE)","v":1},{"$f":"VLOOKUP(2,$X$2:$AC$5,6,FALSE)","v":1},null,{"$f":"IF(J3=\"\",0,IF(K3=$B$98,IF(H3<J3,3,IF(H3=J3,1,0)),0))","v":0},null,{"$f":"IF(H8=\"\",0,IF(K7=$B$98,IF(H8>J8,3,IF(H8=J8,1,0)),0))","v":3},{"$f":"IF(J6=\"\",0,IF(K6=$B$98,IF(J6>H6,3,IF(J6=H6,1,0)),0))","v":0},null,{"$f":"RANK(AD3,$AD$2:$AD$5)","v":3},"A2",{"$f":"SUM(S3:V3)","v":3},{"$f":"SUM(S7:V7)","v":1},{"$f":"SUM(T6:T9)","v":2},{"$f":"AA3-AB3","v":-1},{"$f":"IF(P$8=\"\",(((((((AE3*10+Z3)*100+AC3)*100+AA3)*10+AK3)*10+AJ3)*100+AP3)*100+AU3)*10+AV3,(((((((AE3*10+Z3)*10+AK3)*10+AJ3)*100+AP3)*100+AU3)*100+AC3)*100+AA3)*10+AV3)","v":303010099013},null,{"$f":"IF($Z3=$Z2,$S3-$T2,0)","v":0},null,{"$f":"IF($Z3=$Z4,$U3-$T4,0)","v":3},{"$f":"IF($Z3=$Z5,$V3-$T5,0)","v":0},{"$f":"SUM(AF3:AI3)","v":3},null,{"$f":"IF($Z3=$Z2,$S7-$T6,0)","v":0},null,{"$f":"IF($Z3=$Z4,$U7-$T8,0)","v":1},{"$f":"IF($Z3=$Z5,$V7-$T9,0)","v":0},{"$f":"SUM(AL3:AO3)","v":1},{"$f":"IF($Z3=$Z2,$S7,0)","v":0},null,{"$f":"IF($Z3=$Z4,$U7,0)","v":1},{"$f":"IF($Z3=$Z5,$V7,0)","v":0},{"$f":"SUM(AQ3:AT3)","v":1},3,null,{"$f":"VLOOKUP(A3,Spiele!$A$1:$L$116,10,FALSE)","v":"A1-A2"},null,null,4,{"$f":"VLOOKUP(BA3,Spiele!$A$1:$L$116,2,FALSE)","v":"2026-06-12T18:00:00"},{"$f":"VLOOKUP(BA3,Spiele!$A$1:$L$116,9,FALSE)","v":"Los Angeles"},{"$f":"BY2","v":"D1"},"-",{"$f":"BY3","v":"D2"},null,{"$f":"IF($B$99=\"\",1,INT(RAND()*5)+INT(RAND()*3)*INT(RAND()*2))","v":1},":",{"$f":"IF($B$99=\"\",0,INT(RAND()*5)+INT(RAND()*3)*INT(RAND()*2))","v":0},"ok",null,{"$f":"VLOOKUP(2,$BX$2:$CC$5,2,FALSE)","v":"D1"},{"$f":"VLOOKUP(2,$BX$2:$CC$5,3,FALSE)","v":6},{"$f":"VLOOKUP(2,$BX$2:$CC$5,4,FALSE)","v":2},{"$f":"VLOOKUP(2,$BX$2:$CC$5,5,FALSE)","v":1},{"$f":"VLOOKUP(2,$BX$2:$CC$5,6,FALSE)","v":1},null,{"$f":"IF(BJ3=\"\",0,IF(BK3=$B$98,IF(BH3<BJ3,3,IF(BH3=BJ3,1,0)),0))","v":0},null,{"$f":"IF(BH8=\"\",0,IF(BK7=$B$98,IF(BH8>BJ8,3,IF(BH8=BJ8,1,0)),0))","v":3},{"$f":"IF(BJ6=\"\",0,IF(BK6=$B$98,IF(BJ6>BH6,3,IF(BJ6=BH6,1,0)),0))","v":0},null,{"$f":"RANK(CD3,$CD$2:$CD$5)","v":3},"D2",{"$f":"SUM(BS3:BV3)","v":3},{"$f":"SUM(BS7:BV7)","v":1},{"$f":"SUM(BT6:BT9)","v":2},{"$f":"CA3-CB3","v":-1},{"$f":"IF(BP$8=\"\",(((((((CE3*10+BZ3)*100+CC3)*100+CA3)*10+CK3)*10+CJ3)*100+CP3)*100+CU3)*10+CV3,(((((((CE3*10+BZ3)*10+CK3)*10+CJ3)*100+CP3)*100+CU3)*100+CC3)*100+CA3)*10+CV3)","v":303010099013},null,{"$f":"IF($BZ3=$BZ2,$BS3-$BT2,0)","v":0},null,{"$f":"IF($BZ3=$BZ4,$BU3-$BT4,0)","v":3},{"$f":"IF($BZ3=$BZ5,$BV3-$BT5,0)","v":0},{"$f":"SUM(CF3:CI3)","v":3},null,{"$f":"IF($BZ3=$BZ2,$BS7-$BT6,0)","v":0},null,{"$f":"IF($BZ3=$BZ4,$BU7-$BT8,0)","v":1},{"$f":"IF($BZ3=$BZ5,$BV7-$BT9,0)","v":0},{"$f":"SUM(CL3:CO3)","v":1},{"$f":"IF($BZ3=$BZ2,$BS7,0)","v":0},null,{"$f":"IF($BZ3=$BZ4,$BU7,0)","v":1},{"$f":"IF($BZ3=$BZ5,$BV7,0)","v":0},{"$f":"SUM(CQ3:CT3)","v":1},3,null,{"$f":"VLOOKUP(BA3,Spiele!$A$1:$L$116,10,FALSE)","v":"D1-D2"}]
[2,{"$f":"VLOOKUP(A4,Spiele!$A$1:$L$116,2,FALSE)","v":"2026-06-11T21:00:00"},{"$f":"VLOOKUP(A4,Spiele!$A$1:$L$116,9,FALSE)","v":"Guadalajara"},{"$f":"Y4","v":"A3"},"-",{"$f":"Y5","v":"A4"},null,1,":",0,"ok",null,{"$f":"VLOOKUP(3,$X$2:$AC$5,2,FALSE)","v":"A2"},{"$f":"VLOOKUP(3,$X$2:$AC$5,3,FALSE)","v":3},{"$f":"VLOOKUP(3,$X$2:$AC$5,4,FALSE)","v":1},{"$f":"VLOOKUP(3,$X$2:$AC$5,5,FALSE)","v":2},{"$f":"VLOOKUP(3,$X$2:$AC$5,6,FALSE)","v":-1},null,{"$f":"IF(J5=\"\",0,IF(K5=$B$98,IF(H5<J5,3,IF(H5=J5,1,0)),0))","v":0},{"$f":"IF(J8=\"\",0,IF(K7=$B$98,IF(H8<J8,3,IF(H8=J8,1,0)),0))","v":0},null,{"$f":"IF(H4=\"\",0,IF(K4=$B$98,IF(H4>J4,3,IF(H4=J4,1,0)),0))","v":3},null,{"$f":"RANK(AD4,$AD$2:$AD$5)","v":4},"A3",{"$f":"SUM(S4:V4)","v":3},{"$f":"SUM(S8:V8)","v":1},{"$f":"SUM(U6:U9)","v":2},{"$f":"AA4-AB4","v":-1},{"$f":"IF(P$8=\"\",(((((((AE4*10+Z4)*100+AC4)*100+AA4)*10+AK4)*10+AJ4)*100+AP4)*100+AU4)*10+AV4,(((((((AE4*10+Z4)*10+AK4)*10+AJ4)*100+AP4)*100+AU4)*100+AC4)*100+AA4)*10+AV4)","v":296989999012},null,{"$f":"IF($Z4=$Z2,$S4-$U2,0)","v":0},{"$f":"IF($Z4=$Z3,$T4-$U3,0)","v":-3},null,{"$f":"IF($Z4=$Z5,$V4-$U5,0)","v":0},{"$f":"SUM(AF4:AI4)","v":-3},null,{"$f":"IF($Z4=$Z2,$S8-$U6,0)","v":0},{"$f":"IF($Z4=$Z3,$T8-$U7,0)","v":-1},null,{"$f":"IF($Z4=$Z5,$V8-$U9,0)","v":0},{"$f":"SUM(AL4:AO4)","v":-1},{"$f":"IF($Z4=$Z2,$S8,0)","v":0},{"$f":"IF($Z4=$Z3,$T8,0)","v":0},null,{"$f":"IF($Z4=$Z5,$V8,0)","v":0},{"$f":"SUM(AQ4:AT4)","v":0},2,null,{"$f":"VLOOKUP(A4,Spiele!$A$1:$L$116,10,FALSE)","v":"A3-A4"},null,null,6,{"$f":"VLOOKUP(BA4,Spiele!$A$1:$L$116,2,FALSE)","v":"2026-06-13T21:00:00"},{"$f":"VLOOKUP(BA4,Spiele!$A$1:$L$116,9,FALSE)","v":"Vancouver"},{"$f":"BY4","v":"D3"},"-",{"$f":"BY5","v":"D4"},null,1,":",0,"ok",null,{"$f":"VLOOKUP(3,$BX$2:$CC$5,2,FALSE)","v":"D2"},{"$f":"VLOOKUP(3,$BX$2:$CC$5,3,FALSE)","v":3},{"$f":"VLOOKUP(3,$BX$2:$CC$5,4,FALSE)","v":1},{"$f":"VLOOKUP(3,$BX$2:$CC$5,5,FALSE)","v":2},{"$f":"VLOOKUP(3,$BX$2:$CC$5,6,FALSE)","v":-1},null,{"$f":"IF(BJ5=\"\",0,IF(BK5=$B$98,IF(BH5<BJ5,3,IF(BH5=BJ5,1,0)),0))","v":0},{"$f":"IF(BJ8=\"\",0,IF(BK7=$B$98,IF(BH8<BJ8,3,IF(BH8=BJ8,1,0)),0))","v":0},null,{"$f":"IF(BH4=\"\",0,IF(BK4=$B$98,IF(BH4>BJ4,3,IF(BH4=BJ4,1,0)),0))","v":3},null,{"$f":"RANK(CD4,$CD$2:$CD$5)","v":4},"D3",{"$f":"SUM(BS4:BV4)","v":3},{"$f":"SUM(BS8:BV8)","v":1},{"$f":"SUM(BU6:BU9)","v":2},{"$f":"CA4-CB4","v":-1},{"$f":"IF(BP$8=\"\",(((((((CE4*10+BZ4)*100+CC4)*100+CA4)*10+CK4)*10+CJ4)*100+CP4)*100+CU4)*10+CV4,(((((((CE4*10+BZ4)*10+CK4)*10+CJ4)*100+CP4)*100+CU4)*100+CC4)*100+CA4)*10+CV4)","v":296989999012},null,{"$f":"IF($BZ4=$BZ2,$BS4-$BU2,0)","v":0},{"$f":"IF($BZ4=$BZ3,$BT4-$BU3,0)","v":-3},null,{"$f":"IF($BZ4=$BZ5,$BV4-$BU5,0)","v":0},{"$f":"SUM(CF4:CI4)","v":-3},null,{"$f":"IF($BZ4=$BZ2,$BS8-$BU6,0)","v":0},{"$f":"IF($BZ4=$BZ3,$BT8-$BU7,0)","v":-1},null,{"$f":"IF($BZ4=$BZ5,$BV8-$BU9,0)","v":0},{"$f":"SUM(CL4:CO4)","v":-1},{"$f":"IF($BZ4=$BZ2,$BS8,0)","v":0},{"$f":"IF($BZ4=$BZ3,$BT8,0)","v":0},null,{"$f":"IF($BZ4=$BZ5,$BV8,0)","v":0},{"$f":"SUM(CQ4:CT4)","v":0},2,null,{"$f":"VLOOKUP(BA4,Spiele!$A$1:$L$116,10,FALSE)","v":"D3-D4"}]
[28,{"$f":"VLOOKUP(A5,Spiele!$A$1:$L$116,2,FALSE)","v":"2026-06-18T20:00:00"},{"$f":"VLOOKUP(A5,Spiele!$A$1:$L$116,9,FALSE)","v":"Guadalajara"},{"$f":"Y2","v":"A1"},"-",{"$f":"Y4","v":"A3"},null,1,":",0,"ok",null,{"$f":"VLOOKUP(4,$X$2:$AC$5,2,FALSE)","v":"A3"},{"$f":"VLOOKUP(4,$X$2:$AC$5,3,FALSE)","v":3},{"$f":"VLOOKUP(4,$X$2:$AC$5,4,FALSE)","v":1},{"$f":"VLOOKUP(4,$X$2:$AC$5,5,FALSE)","v":2},{"$f":"VLOOKUP(4,$X$2:$AC$5,6,FALSE)","v":-1},null,{"$f":"IF(H7=\"\",0,IF(K8=$B$98,IF(H7>J7,3,IF(H7=J7,1,0)),0))","v":3},{"$f":"IF(H6=\"\",0,IF(K6=$B$98,IF(J6<H6,3,IF(J6=H6,1,0)),0))","v":3},{"$f":"IF(J4=\"\",0,IF(K4=$B$98,IF(H4<J4,3,IF(H4=J4,1,0)),0))","v":0},null,null,{"$f":"RANK(AD5,$AD$2:$AD$5)","v":1},"A4",{"$f":"SUM(S5:V5)","v":6},{"$f":"SUM(S9:V9)","v":2},{"$f":"SUM(V6:V9)","v":1},{"$f":"AA5-AB5","v":1},{"$f":"IF(P$8=\"\",(((((((AE5*10+Z5)*100+AC5)*100+AA5)*10+AK5)*10+AJ5)*100+AP5)*100+AU5)*10+AV5,(((((((AE5*10+Z5)*10+AK5)*10+AJ5)*100+AP5)*100+AU5)*100+AC5)*100+AA5)*10+AV5)","v":603010101021},null,{"$f":"IF($Z5=$Z2,$S5-$V2,0)","v":3},{"$f":"IF($Z5=$Z3,$T5-$V3,0)","v":0},{"$f":"IF($Z5=$Z4,$U5-$V4,0)","v":0},null,{"$f":"SUM(AF5:AI5)","v":3},null,{"$f":"IF($Z5=$Z2,$S9-$V6,0)","v":1},{"$f":"IF($Z5=$Z3,$T9-$V7,0)","v":0},{"$f":"IF($Z5=$Z4,$U9-$V8,0)","v":0},null,{"$f":"SUM(AL5:AO5)","v":1},{"$f":"IF($Z5=$Z2,$S9,0)","v":1},{"$f":"IF($Z5=$Z3,$T9,0)","v":0},{"$f":"IF($Z5=$Z4,$U9,0)","v":0},null,{"$f":"SUM(AQ5:AT5)","v":1},1,null,{"$f":"VLOOKUP(A5,Spiele!$A$1:$L$116,10,FALSE)","v":"A1-A3"},null,null,32,{"$f":"VLOOKUP(BA5,Spiele!$A$1:$L$116,2,FALSE)","v":"2026-06-19T12:00:00"},{"$f":"VLOOKUP(BA5,Spiele!$A$1:$L$116,9,FALSE)","v":"Seattle"},{"$f":"BY2","v":"D1"},"-",{"$f":"BY4","v":"D3"},null,1,":",0,"ok",null,{"$f":"VLOOKUP(4,$BX$2:$CC$5,2,FALSE)","v":"D3"},{"$f":"VLOOKUP(4,$BX$2:$CC$5,3,FALSE)","v":3},{"$f":"VLOOKUP(4,$BX$2:$CC$5,4,FALSE)","v":1},{"$f":"VLOOKUP(4,$BX$2:$CC$5,5,FALSE)","v":2},{"$f":"VLOOKUP(4,$BX$2:$CC$5,6,FALSE)","v":-1},null,{"$f":"IF(BH7=\"\",0,IF(BK8=$B$98,IF(BH7>BJ7,3,IF(BH7=BJ7,1,0)),0))","v":3},{"$f":"IF(BH6=\"\",0,IF(BK6=$B$98,IF(BJ6<BH6,3,IF(BJ6=BH6,1,0)),0))","v":3},{"$f":"IF(BJ4=\"\",0,IF(BK4=$B$98,IF(BH4<BJ4,3,IF(BH4=BJ4,1,0)),0))","v":0},null,null,{"$f":"RANK(CD5,$CD$2:$CD$5)","v":1},"D4",{"$f":"SUM(BS5:BV5)","v":6},{"$f":"SUM(BS9:BV9)","v":2},{"$f":"SUM(BV6:BV9)","v":1},{"$f":"CA5-CB5","v":1},{"$f":"IF(BP$8=\"\",(((((((CE5*10+BZ5)*100+CC5)*100+CA5)*10+CK5)*10+CJ5)*100+CP5)*100+CU5)*10+CV5,(((((((CE5*10+BZ5)*10+CK5)*10+CJ5)*100+CP5)*100+CU5)*100+CC5)*100+CA5)*10+CV5)","v":603010101021},null,{"$f":"IF($BZ5=$BZ2,$BS5-$BV2,0)","v":3},{"$f":"IF($BZ5=$BZ3,$BT5-$BV3,0)","v":0},{"$f":"IF($BZ5=$BZ4,$BU5-$BV4,0)","v":0},null,{"$f":"SUM(CF5:CI5)","v":3},null,{"$f":"IF($BZ5=$BZ2,$BS9-$BV6,0)","v":1},{"$f":"IF($BZ5=$BZ3,$BT9-$BV7,0)","v":0},{"$f":"IF($BZ5=$BZ4,$BU9-$BV8,0)","v":0},null,{"$f":"SUM(CL5:CO5)","v":1},{"$f":"IF($BZ5=$BZ2,$BS9,0)","v":1},{"$f":"IF($BZ5=$BZ3,$BT9,0)","v":0},{"$f":"IF($BZ5=$BZ4,$BU9,0)","v":0},null,{"$f":"SUM(CQ5:CT5)","v":1},1,null,{"$f":"VLOOKUP(BA5,Spiele!$A$1:$L$116,10,FALSE)","v":"D1-D3"}]
[25,{"$f":"VLOOKUP(A6,Spiele!$A$1:$L$116,2,FALSE)","v":"2026-06-18T12:00:00"},{"$f":"VLOOKUP(A6,Spiele!$A$1:$L$116,9,FALSE)","v":"Atlanta"},{"$f":"Y5","v":"A4"},"-",{"$f":"Y3","v":"A2"},null,1,":",0,"ok",null,null,null,null,null,null,null,null,{"$f":"IF(K3=$B$98,H3,0)","v":1},{"$f":"IF(K5=$B$98,H5,0)","v":1},{"$f":"IF(K8=$B$98,J7,0)","v":0},null,null,null,null,null,null,null,null,null,null,null,null,null,null,null,null,null,null,null,null,null,null,null,null,null,null,null,{"$f":"VLOOKUP(A6,Spiele!$A$1:$L$116,10,FALSE)","v":"A4-A2"},null,null,31,{"$f":"VLOOKUP(BA6,Spiele!$A$1:$L$116,2,FALSE)","v":"2026-06-19T21:00:00"},{"$f":"VLOOKUP(BA6,Spiele!$A$1:$L$116,9,FALSE)","v":"San Francisco"},{"$f":"BY5","v":"D4"},"-",{"$f":"BY3","v":"D2"},null,1,":",0,"ok",null,null,null,null,null,null,null,null,{"$f":"IF(BK3=$B$98,BH3,0)","v":1},{"$f":"IF(BK5=$B$98,BH5,0)","v":1},{"$f":"IF(BK8=$B$98,BJ7,0)","v":0},null,null,null,null,null,null,null,null,null,null,null,null,null,null,null,null,null,null,null,null,null,null,null,null,null,null,null,{"$f":"VLOOKUP(BA6,Spiele!$A$1:$L$116,10,FALSE)","v":"D4-D2"}]
[53,{"$f":"VLOOKUP(A7,Spiele!$A$1:$L$116,2,FALSE)","v":"2026-06-24T20:00:00"},{"$f":"VLOOKUP(A7,Spiele!$A$1:$L$116,9,FALSE)","v":"Mexico City"},{"$f":"Y5","v":"A4"},"-",{"$f":"Y2","v":"A1"},null,1,":",0,"ok",null,{"$f":"IF(N2>0,M2,\"\")","v":"A4"},"1A",null,null,null,null,{"$f":"IF(K3=$B$98,J3,0)","v":0},null,{"$f":"IF(K7=$B$98,H8,0)","v":1},{"$f":"IF(K6=$B$98,J6,0)","v":0},null,null,null,null,null,null,null,"L0=AE hebelt Berechnung aus (top level Losen)",null,null,null,null,null,null,null,null,null,null,null,null,null,null,null,null,null,null,null,{"$f":"VLOOKUP(A7,Spiele!$A$1:$L$116,10,FALSE)","v":"A4-A1"},null,null,59,{"$f":"VLOOKUP(BA7,Spiele!$A$1:$L$116,2,FALSE)","v":"2026-06-25T19:00:00"},{"$f":"VLOOKUP(BA7,Spiele!$A$1:$L$116,9,FALSE)","v":"Los Angeles"},{"$f":"BY5","v":"D4"},"-",{"$f":"BY2","v":"D1"},null,1,":",0,"ok",null,{"$f":"IF(BN2>0,BM2,\"\")","v":"D4"},"1D",null,null,null,null,{"$f":"IF(BK3=$B$98,BJ3,0)","v":0},null,{"$f":"IF(BK7=$B$98,BH8,0)","v":1},{"$f":"IF(BK6=$B$98,BJ6,0)","v":0},null,null,null,null,null,null,null,"L0=AE hebelt Berechnung aus (top level Losen)",null,null,null,null,null,null,null,null,null,null,null,null,null,null,null,null,null,null,null,{"$f":"VLOOKUP(BA7,Spiele!$A$1:$L$116,10,FALSE)","v":"D4-D1"}]
[54,{"$f":"VLOOKUP(A8,Spiele!$A$1:$L$116,2,FALSE)","v":"2026-06-24T20:00:00"},{"$f":"VLOOKUP(A8,Spiele!$A$1:$L$116,9,FALSE)","v":"Monterrey"},{"$f":"Y3","v":"A2"},"-",{"$f":"Y4","v":"A3"},null,1,":",0,"ok",null,{"$f":"IF(N3>0,M3,\"\")","v":"A1"},"2A",null,"DV",null,null,{"$f":"IF(K5=$B$98,J5,0)","v":0},{"$f":"IF(K7=$B$98,J8,0)","v":0},null,{"$f":"IF(K4=$B$98,H4,0)","v":1},null,null,null,null,null,null,null,"L1=AK hebelt Direktvergleich (S1) aus",null,null,null,null,null,null,null,null,null,null,null,null,null,null,null,null,null,null,null,{"$f":"VLOOKUP(A8,Spiele!$A$1:$L$116,10,FALSE)","v":"A2-A3"},null,null,60,{"$f":"VLOOKUP(BA8,Spiele!$A$1:$L$116,2,FALSE)","v":"2026-06-25T19:00:00"},{"$f":"VLOOKUP(BA8,Spiele!$A$1:$L$116,9,FALSE)","v":"San Francisco"},{"$f":"BY3","v":"D2"},"-",{"$f":"BY4","v":"D3"},null,1,":",0,"ok",null,{"$f":"IF(BN3>0,BM3,\"\")","v":"D1"},"2D",null,"DV",null,null,{"$f":"IF(BK5=$B$98,BJ5,0)","v":0},{"$f":"IF(BK7=$B$98,BJ8,0)","v":0},null,{"$f":"IF(BK4=$B$98,BH4,0)","v":1},null,null,null,null,null,null,null,"L1=AK hebelt Direktvergleich (S1) aus",null,null,null,null,null,null,null,null,null,null,null,null,null,null,null,null,null,null,null,{"$f":"VLOOKUP(BA8,Spiele!$A$1:$L$116,10,FALSE)","v":"D2-D3"}]
[null,null,null,null,null,null,null,null,null,null,null,null,{"$f":"IF(N4>0,M4,\"\")","v":"A2"},"3A",null,null,null,null,{"$f":"IF(K8=$B$98,H7,0)","v":1},{"$f":"IF(K6=$B$98,H6,0)","v":1},{"$f":"IF(K4=$B$98,J4,0)","v":0},null,null,null,null,null,null,null,null,"L4=AV Losen UEFA-Koeffizient, Fairplay oder Münzwurf",null,null,null,null,null,null,null,null,null,null,null,null,null,null,null,null,null,null,null,null,null,null,null,null,null,null,null,null,null,null,null,null,null,null,{"$f":"IF(BN4>0,BM4,\"\")","v":"D2"},"3D",null,null,null,null,{"$f":"IF(BK8=$B$98,BH7,0)","v":1},{"$f":"IF(BK6=$B$98,BH6,0)","v":1},{"$f":"IF(BK4=$B$98,BJ4,0)","v":0},null,null,null,null,null,null,null,null,"L4=AV Losen UEFA-Koeffizient, Fairplay oder Münzwurf"]
[]
[null,"Vorrunde","Gruppe B"," ",null,null,null,null,null,null,null,null,"Tabelle","P","T+","T-","T+/-",null,null,null,null,null,null,"G","Berechnungen","P","T+","T-","T+/-",null,"L0","DV",null,null,null,"S1","L1","DV-TD",null,null,null,"S2","DV-Tore",null,null,null,"S3","L4",null,null,null,null,null,"Vorrunde","Gruppe E"," ",null,null,null,null,null,null,null,null,"Tabelle","P","T+","T-","T+/-",null,null,null,null,null,null,"G","Berechnungen","P","T+","T-","T+/-",null,"L0","DV",null,null,null,"S1","L1","DV-TD",null,null,null,"S2","DV-Tore",null,null,null,"S3","L4"]
[null,"Datum/Zeit","Spielort",null,null,null,null,null,null,null,null,null,{"$f":"VLOOKUP(1,$X$12:$AC$15,2,FALSE)","v":"B4"},{"$f":"VLOOKUP(1,$X$12:$AC$15,3,FALSE)","v":6},{"$f":"VLOOKUP(1,$X$12:$AC$15,4,FALSE)","v":2},{"$f":"VLOOKUP(1,$X$12:$AC$15,5,FALSE)","v":1},{"$f":"VLOOKUP(1,$X$12:$AC$15,6,FALSE)","v":1},null,null,{"$f":"IF(H13=\"\",0,IF(K13=$B$98,IF(H13>J13,3,IF(H13=J13,1,0)),0))","v":3},{"$f":"IF(H15=\"\",0,IF(K15=$B$98,IF(H15>J15,3,IF(H15=J15,1,0)),0))","v":3},{"$f":"IF(J17=\"\",0,IF(K18=$B$98,IF(H17<J17,3,IF(H17=J17,1,0)),0))","v":0},null,{"$f":"RANK(AD12,$AD$12:$AD$15)","v":2},"B1",{"$f":"SUM(S12:V12)","v":6},{"$f":"SUM(S16:V16)","v":2},{"$f":"SUM(S16:S19)","v":1},{"$f":"AA12-AB12","v":1},{"$f":"IF(P$18=\"\",(((((((AE12*10+Z12)*100+AC12)*100+AA12)*10+AK12)*10+AJ12)*100+AP12)*100+AU12)*10+AV12,(((((((AE12*10+Z12)*10+AK12)*10+AJ12)*100+AP12)*100+AU12)*100+AC12)*100+AA12)*10+AV12)","v":596990001024},null,null,{"$f":"IF($Z12=$Z13,$T12-$S13,0)","v":0},{"$f":"IF($Z12=$Z14,$U12-$S14,0)","v":0},{"$f":"IF($Z12=$Z15,$V12-$S15,0)","v":-3},{"$f":"SUM(AF12:AI12)","v":-3},null,null,{"$f":"IF($Z12=$Z13,$T16-$S17,0)","v":0},{"$f":"IF($Z12=$Z14,$U16-$S18,0)","v":0},{"$f":"IF($Z12=$Z15,$V16-$S19,0)","v":-1},{"$f":"SUM(AL12:AO12)","v":-1},null,{"$f":"IF($Z12=$Z13,$T16,0)","v":0},{"$f":"IF($Z12=$Z14,$U16,0)","v":0},{"$f":"IF($Z12=$Z15,$V16,0)","v":0},{"$f":"SUM(AQ12:AT12)","v":0},4,null,null,null,null,null,"Datum/Zeit","Spielort",null,null,null,null,null,null,null,null,null,{"$f":"VLOOKUP(1,$BX$12:$CC$15,2,FALSE)","v":"E4"},{"$f":"VLOOKUP(1,$BX$12:$CC$15,3,FALSE)","v":6},{"$f":"VLOOKUP(1,$BX$12:$CC$15,4,FALSE)","v":2},{"$f":"VLOOKUP(1,$BX$12:$CC$15,5,FALSE)","v":1},{"$f":"VLOOKUP(1,$BX$12:$CC$15,6,FALSE)","v":1},null,null,{"$f":"IF(BH13=\"\",0,IF(BK13=$B$98,IF(BH13>BJ13,3,IF(BH13=BJ13,1,0)),0))","v":3},{"$f":"IF(BH15=\"\",0,IF(BK15=$B$98,IF(BH15>BJ15,3,IF(BH15=BJ15,1,0)),0))","v":3},{"$f":"IF(BJ17=\"\",0,IF(BK18=$B$98,IF(BH17<BJ17,3,IF(BH17=BJ17,1,0)),0))","v":0},null,{"$f":"RANK(CD12,$CD$12:$CD$15)","v":2},"E1",{"$f":"SUM(BS12:BV12)","v":6},{"$f":"SUM(BS16:BV16)","v":2},{"$f":"SUM(BS16:BS19)","v":1},{"$f":"CA12-CB12","v":1},{"$f":"IF(BP$18=\"\",(((((((CE12*10+BZ12)*100+CC12)*100+CA12)*10+CK12)*10+CJ12)*100+CP12)*100+CU12)*10+CV12,(((((((CE12*10+BZ12)*10+CK12)*10+CJ12)*100+CP12)*100+CU12)*100+CC12)*100+CA12)*10+CV12)","v":596990001024},null,null,{"$f":"IF($BZ12=$BZ13,$BT12-$BS13,0)","v":0},{"$f":"IF($BZ12=$BZ14,$BU12-$BS14,0)","v":0},{"$f":"IF($BZ12=$BZ15,$BV12-$BS15,0)","v":-3},{"$f":"SUM(CF12:CI12)","v":-3},null,null,{"$f":"IF($BZ12=$BZ13,$BT16-$BS17,0)","v":0},{"$f":"IF($BZ12=$BZ14,$BU16-$BS18,0)","v":0},{"$f":"IF($BZ12=$BZ15,$BV16-$BS19,0)","v":-1},{"$f":"SUM(CL12:CO12)","v":-1},null,{"$f":"IF($BZ12=$BZ13,$BT16,0)","v":0},{"$f":"IF($BZ12=$BZ14,$BU16,0)","v":0},{"$f":"IF($BZ12=$BZ15,$BV16,0)","v":0},{"$f":"SUM(CQ12:CT12)","v":0},4]
[3,{"$f":"VLOOKUP(A13,Spiele!$A$1:$L$116,2,FALSE)","v":"2026-06-12T15:00:00"},{"$f":"VLOOKUP(A13,Spiele!$A$1:$L$116,9,FALSE)","v":"Toronto"},{"$f":"Y12","v":"B1"},"-",{"$f":"Y13","v":"B2"},null,{"$f":"IF($B$99=\"\",1,INT(RAND()*5)+INT(RAND()*3)*INT(RAND()*2))","v":1},":",{"$f":"IF($B$99=\"\",0,INT(RAND()*5)+INT(RAND()*3)*INT(RAND()*2))","v":0},"ok",null,{"$f":"VLOOKUP(2,$X$12:$AC$15,2,FALSE)","v":"B1"},{"$f":"VLOOKUP(2,$X$12:$AC$15,3,FALSE)","v":6},{"$f":"VLOOKUP(2,$X$12:$AC$15,4,FALSE)","v":2},{"$f":"VLOOKUP(2,$X$12:$AC$15,5,FALSE)","v":1},{"$f":"VLOOKUP(2,$X$12:$AC$15,6,FALSE)","v":1},null,{"$f":"IF(J13=\"\",0,IF(K13=$B$98,IF(H13<J13,3,IF(H13=J13,1,0)),0))","v":0},null,{"$f":"IF(H18=\"\",0,IF(K17=$B$98,IF(H18>J18,3,IF(H18=J18,1,0)),0))","v":3},{"$f":"IF(J16=\"\",0,IF(K16=$B$98,IF(J16>H16,3,IF(J16=H16,1,0)),0))","v":0},null,{"$f":"RANK(AD13,$AD$12:$AD$15)","v":3},"B2",{"$f":"SUM(S13:V13)","v":3},{"$f":"SUM(S17:V17)","v":1},{"$f":"SUM(T16:T19)","v":2},{"$f":"AA13-AB13","v":-1},{"$f":"IF(P$18=\"\",(((((((AE13*10+Z13)*100+AC13)*100+AA13)*10+AK13)*10+AJ13)*100+AP13)*100+AU13)*10+AV13,(((((((AE13*10+Z13)*10+AK13)*10+AJ13)*100+AP13)*100+AU13)*100+AC13)*100+AA13)*10+AV13)","v":303010099013},null,{"$f":"IF($Z13=$Z12,$S13-$T12,0)","v":0},null,{"$f":"IF($Z13=$Z14,$U13-$T14,0)","v":3},{"$f":"IF($Z13=$Z15,$V13-$T15,0)","v":0},{"$f":"SUM(AF13:AI13)","v":3},null,{"$f":"IF($Z13=$Z12,$S17-$T16,0)","v":0},null,{"$f":"IF($Z13=$Z14,$U17-$T18,0)","v":1},{"$f":"IF($Z13=$Z15,$V17-$T19,0)","v":0},{"$f":"SUM(AL13:AO13)","v":1},{"$f":"IF($Z13=$Z12,$S17,0)","v":0},null,{"$f":"IF($Z13=$Z14,$U17,0)","v":1},{"$f":"IF($Z13=$Z15,$V17,0)","v":0},{"$f":"SUM(AQ13:AT13)","v":1},3,null,{"$f":"VLOOKUP(A13,Spiele!$A$1:$L$116,10,FALSE)","v":"B1-B2"},null,null,10,{"$f":"VLOOKUP(BA13,Spiele!$A$1:$L$116,2,FALSE)","v":"2026-06-14T12:00:00"},{"$f":"VLOOKUP(BA13,Spiele!$A$1:$L$116,9,FALSE)","v":"Houston"},{"$f":"BY12","v":"E1"},"-",{"$f":"BY13","v":"E2"},null,{"$f":"IF($B$99=\"\",1,INT(RAND()*5)+INT(RAND()*3)*INT(RAND()*2))","v":1},":",{"$f":"IF($B$99=\"\",0,INT(RAND()*5)+INT(RAND()*3)*INT(RAND()*2))","v":0},"ok",null,{"$f":"VLOOKUP(2,$BX$12:$CC$15,2,FALSE)","v":"E1"},{"$f":"VLOOKUP(2,$BX$12:$CC$15,3,FALSE)","v":6},{"$f":"VLOOKUP(2,$BX$12:$CC$15,4,FALSE)","v":2},{"$f":"VLOOKUP(2,$BX$12:$CC$15,5,FALSE)","v":1},{"$f":"VLOOKUP(2,$BX$12:$CC$15,6,FALSE)","v":1},null,{"$f":"IF(BJ13=\"\",0,IF(BK13=$B$98,IF(BH13<BJ13,3,IF(BH13=BJ13,1,0)),0))","v":0},null,{"$f":"IF(BH18=\"\",0,IF(BK17=$B$98,IF(BH18>BJ18,3,IF(BH18=BJ18,1,0)),0))","v":3},{"$f":"IF(BJ16=\"\",0,IF(BK16=$B$98,IF(BJ16>BH16,3,IF(BJ16=BH16,1,0)),0))","v":0},null,{"$f":"RANK(CD13,$CD$12:$CD$15)","v":3},"E2",{"$f":"SUM(BS13:BV13)","v":3},{"$f":"SUM(BS17:BV17)","v":1},{"$f":"SUM(BT16:BT19)","v":2},{"$f":"CA13-CB13","v":-1},{"$f":"IF(BP$18=\"\",(((((((CE13*10+BZ13)*100+CC13)*100+CA13)*10+CK13)*10+CJ13)*100+CP13)*100+CU13)*10+CV13,(((((((CE13*10+BZ13)*10+CK13)*10+CJ13)*100+CP13)*100+CU13)*100+CC13)*100+CA13)*10+CV13)","v":303010099013},null,{"$f":"IF($BZ13=$BZ12,$BS13-$BT12,0)","v":0},null,{"$f":"IF($BZ13=$BZ14,$BU13-$BT14,0)","v":3},{"$f":"IF($BZ13=$BZ15,$BV13-$BT15,0)","v":0},{"$f":"SUM(CF13:CI13)","v":3},null,{"$f":"IF($BZ13=$BZ12,$BS17-$BT16,0)","v":0},null,{"$f":"IF($BZ13=$BZ14,$BU17-$BT18,0)","v":1},{"$f":"IF($BZ13=$BZ15,$BV17-$BT19,0)","v":0},{"$f":"SUM(CL13:CO13)","v":1},{"$f":"IF($BZ13=$BZ12,$BS17,0)","v":0},null,{"$f":"IF($BZ13=$BZ14,$BU17,0)","v":1},{"$f":"IF($BZ13=$BZ15,$BV17,0)","v":0},{"$f":"SUM(CQ13:CT13)","v":1},3,null,{"$f":"VLOOKUP(BA13,Spiele!$A$1:$L$116,10,FALSE)","v":"E1-E2"}]
[8,{"$f":"VLOOKUP(A14,Spiele!$A$1:$L$116,2,FALSE)","v":"2026-06-13T12:00:00"},{"$f":"VLOOKUP(A14,Spiele!$A$1:$L$116,9,FALSE)","v":"San Francisco"},{"$f":"Y14","v":"B3"},"-",{"$f":"Y15","v":"B4"},null,1,":",0,"ok",null,{"$f":"VLOOKUP(3,$X$12:$AC$15,2,FALSE)","v":"B2"},{"$f":"VLOOKUP(3,$X$12:$AC$15,3,FALSE)","v":3},{"$f":"VLOOKUP(3,$X$12:$AC$15,4,FALSE)","v":1},{"$f":"VLOOKUP(3,$X$12:$AC$15,5,FALSE)","v":2},{"$f":"VLOOKUP(3,$X$12:$AC$15,6,FALSE)","v":-1},null,{"$f":"IF(J15=\"\",0,IF(K15=$B$98,IF(H15<J15,3,IF(H15=J15,1,0)),0))","v":0},{"$f":"IF(J18=\"\",0,IF(K17=$B$98,IF(H18<J18,3,IF(H18=J18,1,0)),0))","v":0},null,{"$f":"IF(H14=\"\",0,IF(K14=$B$98,IF(H14>J14,3,IF(H14=J14,1,0)),0))","v":3},null,{"$f":"RANK(AD14,$AD$12:$AD$15)","v":4},"B3",{"$f":"SUM(S14:V14)","v":3},{"$f":"SUM(S18:V18)","v":1},{"$f":"SUM(U16:U19)","v":2},{"$f":"AA14-AB14","v":-1},{"$f":"IF(P$18=\"\",(((((((AE14*10+Z14)*100+AC14)*100+AA14)*10+AK14)*10+AJ14)*100+AP14)*100+AU14)*10+AV14,(((((((AE14*10+Z14)*10+AK14)*10+AJ14)*100+AP14)*100+AU14)*100+AC14)*100+AA14)*10+AV14)","v":296989999012},null,{"$f":"IF($Z14=$Z12,$S14-$U12,0)","v":0},{"$f":"IF($Z14=$Z13,$T14-$U13,0)","v":-3},null,{"$f":"IF($Z14=$Z15,$V14-$U15,0)","v":0},{"$f":"SUM(AF14:AI14)","v":-3},null,{"$f":"IF($Z14=$Z12,$S18-$U16,0)","v":0},{"$f":"IF($Z14=$Z13,$T18-$U17,0)","v":-1},null,{"$f":"IF($Z14=$Z15,$V18-$U19,0)","v":0},{"$f":"SUM(AL14:AO14)","v":-1},{"$f":"IF($Z14=$Z12,$S18,0)","v":0},{"$f":"IF($Z14=$Z13,$T18,0)","v":0},null,{"$f":"IF($Z14=$Z15,$V18,0)","v":0},{"$f":"SUM(AQ14:AT14)","v":0},2,null,{"$f":"VLOOKUP(A14,Spiele!$A$1:$L$116,10,FALSE)","v":"B3-B4"},null,null,9,{"$f":"VLOOKUP(BA14,Spiele!$A$1:$L$116,2,FALSE)","v":"2026-06-14T19:00:00"},{"$f":"VLOOKUP(BA14,Spiele!$A$1:$L$116,9,FALSE)","v":"Philadelphia"},{"$f":"BY14","v":"E3"},"-",{"$f":"BY15","v":"E4"},null,1,":",0,"ok",null,{"$f":"VLOOKUP(3,$BX$12:$CC$15,2,FALSE)","v":"E2"},{"$f":"VLOOKUP(3,$BX$12:$CC$15,3,FALSE)","v":3},{"$f":"VLOOKUP(3,$BX$12:$CC$15,4,FALSE)","v":1},{"$f":"VLOOKUP(3,$BX$12:$CC$15,5,FALSE)","v":2},{"$f":"VLOOKUP(3,$BX$12:$CC$15,6,FALSE)","v":-1},null,{"$f":"IF(BJ15=\"\",0,IF(BK15=$B$98,IF(BH15<BJ15,3,IF(BH15=BJ15,1,0)),0))","v":0},{"$f":"IF(BJ18=\"\",0,IF(BK17=$B$98,IF(BH18<BJ18,3,IF(BH18=BJ18,1,0)),0))","v":0},null,{"$f":"IF(BH14=\"\",0,IF(BK14=$B$98,IF(BH14>BJ14,3,IF(BH14=BJ14,1,0)),0))","v":3},null,{"$f":"RANK(CD14,$CD$12:$CD$15)","v":4},"E3",{"$f":"SUM(BS14:BV14)","v":3},{"$f":"SUM(BS18:BV18)","v":1},{"$f":"SUM(BU16:BU19)","v":2},{"$f":"CA14-CB14","v":-1},{"$f":"IF(BP$18=\"\",(((((((CE14*10+BZ14)*100+CC14)*100+CA14)*10+CK14)*10+CJ14)*100+CP14)*100+CU14)*10+CV14,(((((((CE14*10+BZ14)*10+CK14)*10+CJ14)*100+CP14)*100+CU14)*100+CC14)*100+CA14)*10+CV14)","v":296989999012},null,{"$f":"IF($BZ14=$BZ12,$BS14-$BU12,0)","v":0},{"$f":"IF($BZ14=$BZ13,$BT14-$BU13,0)","v":-3},null,{"$f":"IF($BZ14=$BZ15,$BV14-$BU15,0)","v":0},{"$f":"SUM(CF14:CI14)","v":-3},null,{"$f":"IF($BZ14=$BZ12,$BS18-$BU16,0)","v":0},{"$f":"IF($BZ14=$BZ13,$BT18-$BU17,0)","v":-1},null,{"$f":"IF($BZ14=$BZ15,$BV18-$BU19,0)","v":0},{"$f":"SUM(CL14:CO14)","v":-1},{"$f":"IF($BZ14=$BZ12,$BS18,0)","v":0},{"$f":"IF($BZ14=$BZ13,$BT18,0)","v":0},null,{"$f":"IF($BZ14=$BZ15,$BV18,0)","v":0},{"$f":"SUM(CQ14:CT14)","v":0},2,null,{"$f":"VLOOKUP(BA14,Spiele!$A$1:$L$116,10,FALSE)","v":"E3-E4"}]
[27,{"$f":"VLOOKUP(A15,Spiele!$A$1:$L$116,2,FALSE)","v":"2026-06-18T15:00:00"},{"$f":"VLOOKUP(A15,Spiele!$A$1:$L$116,9,FALSE)","v":"Vancouver"},{"$f":"Y12","v":"B1"},"-",{"$f":"Y14","v":"B3"},null,1,":",0,"ok",null,{"$f":"VLOOKUP(4,$X$12:$AC$15,2,FALSE)","v":"B3"},{"$f":"VLOOKUP(4,$X$12:$AC$15,3,FALSE)","v":3},{"$f":"VLOOKUP(4,$X$12:$AC$15,4,FALSE)","v":1},{"$f":"VLOOKUP(4,$X$12:$AC$15,5,FALSE)","v":2},{"$f":"VLOOKUP(4,$X$12:$AC$15,6,FALSE)","v":-1},null,{"$f":"IF(H17=\"\",0,IF(K18=$B$98,IF(H17>J17,3,IF(H17=J17,1,0)),0))","v":3},{"$f":"IF(H16=\"\",0,IF(K16=$B$98,IF(J16<H16,3,IF(J16=H16,1,0)),0))","v":3},{"$f":"IF(J14=\"\",0,IF(K14=$B$98,IF(H14<J14,3,IF(H14=J14,1,0)),0))","v":0},null,null,{"$f":"RANK(AD15,$AD$12:$AD$15)","v":1},"B4",{"$f":"SUM(S15:V15)","v":6},{"$f":"SUM(S19:V19)","v":2},{"$f":"SUM(V16:V19)","v":1},{"$f":"AA15-AB15","v":1},{"$f":"IF(P$18=\"\",(((((((AE15*10+Z15)*100+AC15)*100+AA15)*10+AK15)*10+AJ15)*100+AP15)*100+AU15)*10+AV15,(((((((AE15*10+Z15)*10+AK15)*10+AJ15)*100+AP15)*100+AU15)*100+AC15)*100+AA15)*10+AV15)","v":603010101021},null,{"$f":"IF($Z15=$Z12,$S15-$V12,0)","v":3},{"$f":"IF($Z15=$Z13,$T15-$V13,0)","v":0},{"$f":"IF($Z15=$Z14,$U15-$V14,0)","v":0},null,{"$f":"SUM(AF15:AI15)","v":3},null,{"$f":"IF($Z15=$Z12,$S19-$V16,0)","v":1},{"$f":"IF($Z15=$Z13,$T19-$V17,0)","v":0},{"$f":"IF($Z15=$Z14,$U19-$V18,0)","v":0},null,{"$f":"SUM(AL15:AO15)","v":1},{"$f":"IF($Z15=$Z12,$S19,0)","v":1},{"$f":"IF($Z15=$Z13,$T19,0)","v":0},{"$f":"IF($Z15=$Z14,$U19,0)","v":0},null,{"$f":"SUM(AQ15:AT15)","v":1},1,null,{"$f":"VLOOKUP(A15,Spiele!$A$1:$L$116,10,FALSE)","v":"B1-B3"},null,null,33,{"$f":"VLOOKUP(BA15,Spiele!$A$1:$L$116,2,FALSE)","v":"2026-06-20T16:00:00"},{"$f":"VLOOKUP(BA15,Spiele!$A$1:$L$116,9,FALSE)","v":"Toronto"},{"$f":"BY12","v":"E1"},"-",{"$f":"BY14","v":"E3"},null,1,":",0,"ok",null,{"$f":"VLOOKUP(4,$BX$12:CC$15,2,FALSE)","v":"E3"},{"$f":"VLOOKUP(4,$BX$12:$CC$15,3,FALSE)","v":3},{"$f":"VLOOKUP(4,$BX$12:$CC$15,4,FALSE)","v":1},{"$f":"VLOOKUP(4,$BX$12:$CC$15,5,FALSE)","v":2},{"$f":"VLOOKUP(4,$BX$12:$CC$15,6,FALSE)","v":-1},null,{"$f":"IF(BH17=\"\",0,IF(BK18=$B$98,IF(BH17>BJ17,3,IF(BH17=BJ17,1,0)),0))","v":3},{"$f":"IF(BH16=\"\",0,IF(BK16=$B$98,IF(BJ16<BH16,3,IF(BJ16=BH16,1,0)),0))","v":3},{"$f":"IF(BJ14=\"\",0,IF(BK14=$B$98,IF(BH14<BJ14,3,IF(BH14=BJ14,1,0)),0))","v":0},null,null,{"$f":"RANK(CD15,$CD$12:$CD$15)","v":1},"E4",{"$f":"SUM(BS15:BV15)","v":6},{"$f":"SUM(BS19:BV19)","v":2},{"$f":"SUM(BV16:BV19)","v":1},{"$f":"CA15-CB15","v":1},{"$f":"IF(BP$18=\"\",(((((((CE15*10+BZ15)*100+CC15)*100+CA15)*10+CK15)*10+CJ15)*100+CP15)*100+CU15)*10+CV15,(((((((CE15*10+BZ15)*10+CK15)*10+CJ15)*100+CP15)*100+CU15)*100+CC15)*100+CA15)*10+CV15)","v":603010101021},null,{"$f":"IF($BZ15=$BZ12,$BS15-$BV12,0)","v":3},{"$f":"IF($BZ15=$BZ13,$BT15-$BV13,0)","v":0},{"$f":"IF($BZ15=$BZ14,$BU15-$BV14,0)","v":0},null,{"$f":"SUM(CF15:CI15)","v":3},null,{"$f":"IF($BZ15=$BZ12,$BS19-$BV16,0)","v":1},{"$f":"IF($BZ15=$BZ13,$BT19-$BV17,0)","v":0},{"$f":"IF($BZ15=$BZ14,$BU19-$BV18,0)","v":0},null,{"$f":"SUM(CL15:CO15)","v":1},{"$f":"IF($BZ15=$BZ12,$BS19,0)","v":1},{"$f":"IF($BZ15=$BZ13,$BT19,0)","v":0},{"$f":"IF($BZ15=$BZ14,$BU19,0)","v":0},null,{"$f":"SUM(CQ15:CT15)","v":1},1,null,{"$f":"VLOOKUP(BA15,Spiele!$A$1:$L$116,10,FALSE)","v":"E1-E3"}]
[26,{"$f":"VLOOKUP(A16,Spiele!$A$1:$L$116,2,FALSE)","v":"2026-06-18T12:00:00"},{"$f":"VLOOKUP(A16,Spiele!$A$1:$L$116,9,FALSE)","v":"Los Angeles"},{"$f":"Y15","v":"B4"},"-",{"$f":"Y13","v":"B2"},null,1,":",0,"ok",null,null,null,null,null,null,null,null,{"$f":"IF(K13=$B$98,H13,0)","v":1},{"$f":"IF(K15=$B$98,H15,0)","v":1},{"$f":"IF(K18=$B$98,J17,0)","v":0},null,null,null,null,null,null,null,null,null,null,null,null,null,null,null,null,null,null,null,null,null,null,null,null,null,null,null,{"$f":"VLOOKUP(A16,Spiele!$A$1:$L$116,10,FALSE)","v":"B4-B2"},null,null,34,{"$f":"VLOOKUP(BA16,Spiele!$A$1:$L$116,2,FALSE)","v":"2026-06-20T19:00:00"},{"$f":"VLOOKUP(BA16,Spiele!$A$1:$L$116,9,FALSE)","v":"Kansas City"},{"$f":"BY15","v":"E4"},"-",{"$f":"BY13","v":"E2"},null,1,":",0,"ok",null,null,null,null,null,null,null,null,{"$f":"IF(BK13=$B$98,BH13,0)","v":1},{"$f":"IF(BK15=$B$98,BH15,0)","v":1},{"$f":"IF(BK18=$B$98,BJ17,0)","v":0},null,null,null,null,null,null,null,null,null,null,null,null,null,null,null,null,null,null,null,null,null,null,null,null,null,null,null,{"$f":"VLOOKUP(BA16,Spiele!$A$1:$L$116,10,FALSE)","v":"E4-E2"}]
[51,{"$f":"VLOOKUP(A17,Spiele!$A$1:$L$116,2,FALSE)","v":"2026-06-24T12:00:00"},{"$f":"VLOOKUP(A17,Spiele!$A$1:$L$116,9,FALSE)","v":"Vancouver"},{"$f":"Y15","v":"B4"},"-",{"$f":"Y12","v":"B1"},null,1,":",0,"ok",null,{"$f":"IF(N12>0,M12,\"\")","v":"B4"},"1B",null,null,null,null,{"$f":"IF(K13=$B$98,J13,0)","v":0},null,{"$f":"IF(K17=$B$98,H18,0)","v":1},{"$f":"IF(K16=$B$98,J16,0)","v":0},null,null,null,null,null,null,null,"L0=AE hebelt Berechnung aus (top level Losen)",null,null,null,null,null,null,null,null,null,null,null,null,null,null,null,null,null,null,null,{"$f":"VLOOKUP(A17,Spiele!$A$1:$L$116,10,FALSE)","v":"B4-B1"},null,null,57,{"$f":"VLOOKUP(BA17,Spiele!$A$1:$L$116,2,FALSE)","v":"2026-06-25T18:00:00"},{"$f":"VLOOKUP(BA17,Spiele!$A$1:$L$116,9,FALSE)","v":"Dallas"},{"$f":"BY15","v":"E4"},"-",{"$f":"BY12","v":"E1"},null,1,":",0,"ok",null,{"$f":"IF(BN12>0,BM12,\"\")","v":"E4"},"1E",null,null,null,null,{"$f":"IF(BK13=$B$98,BJ13,0)","v":0},null,{"$f":"IF(BK17=$B$98,BH18,0)","v":1},{"$f":"IF(BK16=$B$98,BJ16,0)","v":0},null,null,null,null,null,null,null,"L0=AE hebelt Berechnung aus (top level Losen)",null,null,null,null,null,null,null,null,null,null,null,null,null,null,null,null,null,null,null,{"$f":"VLOOKUP(BA17,Spiele!$A$1:$L$116,10,FALSE)","v":"F2-F3"}]
[52,{"$f":"VLOOKUP(A18,Spiele!$A$1:$L$116,2,FALSE)","v":"2026-06-24T12:00:00"},{"$f":"VLOOKUP(A18,Spiele!$A$1:$L$116,9,FALSE)","v":"Seattle"},{"$f":"Y13","v":"B2"},"-",{"$f":"Y14","v":"B3"},null,1,":",0,"ok",null,{"$f":"IF(N13>0,M13,\"\")","v":"B1"},"2B",null,"DV",null,null,{"$f":"IF(K15=$B$98,J15,0)","v":0},{"$f":"IF(K17=$B$98,J18,0)","v":0},null,{"$f":"IF(K14=$B$98,H14,0)","v":1},null,null,null,null,null,null,null,"L1=AK hebelt Direktvergleich (S1) aus",null,null,null,null,null,null,null,null,null,null,null,null,null,null,null,null,null,null,null,{"$f":"VLOOKUP(A18,Spiele!$A$1:$L$116,10,FALSE)","v":"B2-B3"},null,null,58,{"$f":"VLOOKUP(BA18,Spiele!$A$1:$L$116,2,FALSE)","v":"2026-06-25T18:00:00"},{"$f":"VLOOKUP(BA18,Spiele!$A$1:$L$116,9,FALSE)","v":"Kansas City"},{"$f":"BY13","v":"E2"},"-",{"$f":"BY14","v":"E3"},null,1,":",0,"ok",null,{"$f":"IF(BN13>0,BM13,\"\")","v":"E1"},"2E",null,"DV",null,null,{"$f":"IF(BK15=$B$98,BJ15,0)","v":0},{"$f":"IF(BK17=$B$98,BJ18,0)","v":0},null,{"$f":"IF(BK14=$B$98,BH14,0)","v":1},null,null,null,null,null,null,null,"L1=AK hebelt Direktvergleich (S1) aus",null,null,null,null,null,null,null,null,null,null,null,null,null,null,null,null,null,null,null,{"$f":"VLOOKUP(BA18,Spiele!$A$1:$L$116,10,FALSE)","v":"F4-F1"}]
[null,null,null,null,null,null,null,null,null,null,null,null,{"$f":"IF(N14>0,M14,\"\")","v":"B2"},"3B",null,null,null,null,{"$f":"IF(K18=$B$98,H17,0)","v":1},{"$f":"IF(K16=$B$98,H16,0)","v":1},{"$f":"IF(K14=$B$98,J14,0)","v":0},null,null,null,null,null,null,null,null,"L4=AV Losen UEFA-Koeffizient, Fairplay oder Münzwurf",null,null,null,null,null,null,null,null,null,null,null,null,null,null,null,null,null,null,null,null,null,null,null," ",null,null,null,null,null,null,null,null,null,null,{"$f":"IF(BN14>0,BM14,\"\")","v":"E2"},"3E",null,null,null,null,{"$f":"IF(BK18=$B$98,BH17,0)","v":1},{"$f":"IF(BK16=$B$98,BH16,0)","v":1},{"$f":"IF(BK14=$B$98,BJ14,0)","v":0},null,null,null,null,null,null,null,null,"L4=AV Losen UEFA-Koeffizient, Fairplay oder Münzwurf"]
[]
[null,"Vorrunde","Gruppe C"," ",null,null,null,null,null,null,null,null,"Tabelle","P","T+","T-","T+/-",null,null,null,null,null,null,"G","Berechnungen","P","T+","T-","T+/-",null,"L0","DV",null,null,null,"S1","L1","DV-TD",null,null,null,"S2","DV-Tore",null,null,null,"S3","L4",null,null,null,null,null,"Vorrunde","Gruppe F"," ",null,null,null,null,null,null,null,null,"Tabelle","P","T+","T-","T+/-",null,null,null,null,null,null,"G","Berechnungen","P","T+","T-","T+/-",null,"L0","DV",null,null,null,"S1","L1","DV-TD",null,null,null,"S2","DV-Tore",null,null,null,"S3","L4"]
[null,"Datum/Zeit","Spielort",null,null,null,null,null,null,null,null,null,{"$f":"VLOOKUP(1,$X$22:$AC$25,2,FALSE)","v":"C4"},{"$f":"VLOOKUP(1,$X$22:$AC$25,3,FALSE)","v":6},{"$f":"VLOOKUP(1,$X$22:$AC$25,4,FALSE)","v":2},{"$f":"VLOOKUP(1,$X$22:$AC$25,5,FALSE)","v":1},{"$f":"VLOOKUP(1,$X$22:$AC$25,6,FALSE)","v":1},null,null,{"$f":"IF(H23=\"\",0,IF(K23=$B$98,IF(H23>J23,3,IF(H23=J23,1,0)),0))","v":3},{"$f":"IF(H25=\"\",0,IF(K25=$B$98,IF(H25>J25,3,IF(H25=J25,1,0)),0))","v":3},{"$f":"IF(J27=\"\",0,IF(K28=$B$98,IF(H27<J27,3,IF(H27=J27,1,0)),0))","v":0},null,{"$f":"RANK(AD22,$AD$22:$AD$25)","v":2},"C1",{"$f":"SUM(S22:V22)","v":6},{"$f":"SUM(S26:V26)","v":2},{"$f":"SUM(S26:S29)","v":1},{"$f":"AA22-AB22","v":1},{"$f":"IF(P$28=\"\",(((((((AE22*10+Z22)*100+AC22)*100+AA22)*10+AK22)*10+AJ22)*100+AP22)*100+AU22)*10+AV22,(((((((AE22*10+Z22)*10+AK22)*10+AJ22)*100+AP22)*100+AU22)*100+AC22)*100+AA22)*10+AV22)","v":596990001024},null,null,{"$f":"IF($Z22=$Z23,$T22-$S23,0)","v":0},{"$f":"IF($Z22=$Z24,$U22-$S24,0)","v":0},{"$f":"IF($Z22=$Z25,$V22-$S25,0)","v":-3},{"$f":"SUM(AF22:AI22)","v":-3},null,null,{"$f":"IF($Z22=$Z23,$T26-$S27,0)","v":0},{"$f":"IF($Z22=$Z24,$U26-$S28,0)","v":0},{"$f":"IF($Z22=$Z25,$V26-$S29,0)","v":-1},{"$f":"SUM(AL22:AO22)","v":-1},null,{"$f":"IF($Z22=$Z23,$T26,0)","v":0},{"$f":"IF($Z22=$Z24,$U26,0)","v":0},{"$f":"IF($Z22=$Z25,$V26,0)","v":0},{"$f":"SUM(AQ22:AT22)","v":0},4,null,null,null,null,null,"Datum/Zeit","Spielort",null,null,null,null,null,null,null,null,null,{"$f":"VLOOKUP(1,$BX$22:$CC$25,2,FALSE)","v":"F4"},{"$f":"VLOOKUP(1,$BX$22:$CC$25,3,FALSE)","v":6},{"$f":"VLOOKUP(1,$BX$22:$CC$25,4,FALSE)","v":2},{"$f":"VLOOKUP(1,$BX$22:$CC$25,5,FALSE)","v":1},{"$f":"VLOOKUP(1,$BX$22:$CC$25,6,FALSE)","v":1},null,null,{"$f":"IF(BH23=\"\",0,IF(BK23=$B$98,IF(BH23>BJ23,3,IF(BH23=BJ23,1,0)),0))","v":3},{"$f":"IF(BH25=\"\",0,IF(BK25=$B$98,IF(BH25>BJ25,3,IF(BH25=BJ25,1,0)),0))","v":3},{"$f":"IF(BJ27=\"\",0,IF(BK28=$B$98,IF(BH27<BJ27,3,IF(BH27=BJ27,1,0)),0))","v":0},null,{"$f":"RANK(CD22,$CD$22:$CD$25)","v":2},"F1",{"$f":"SUM(BS22:BV22)","v":6},{"$f":"SUM(BS26:BV26)","v":2},{"$f":"SUM(BS26:BS29)","v":1},{"$f":"CA22-CB22","v":1},{"$f":"IF(BP$28=\"\",(((((((CE22*10+BZ22)*100+CC22)*100+CA22)*10+CK22)*10+CJ22)*100+CP22)*100+CU22)*10+CV22,(((((((CE22*10+BZ22)*10+CK22)*10+CJ22)*100+CP22)*100+CU22)*100+CC22)*100+CA22)*10+CV22)","v":596990001024},null,null,{"$f":"IF($BZ22=$BZ23,$BT22-$BS23,0)","v":0},{"$f":"IF($BZ22=$BZ24,$BU22-$BS24,0)","v":0},{"$f":"IF($BZ22=$BZ25,$BV22-$BS25,0)","v":-3},{"$f":"SUM(CF22:CI22)","v":-3},null,null,{"$f":"IF($BZ22=$BZ23,$BT26-$BS27,0)","v":0},{"$f":"IF($BZ22=$BZ24,$BU26-$BS28,0)","v":0},{"$f":"IF($BZ22=$BZ25,$BV26-$BS29,0)","v":-1},{"$f":"SUM(CL22:CO22)","v":-1},null,{"$f":"IF($BZ22=$BZ23,$BT26,0)","v":0},{"$f":"IF($BZ22=$BZ24,$BU26,0)","v":0},{"$f":"IF($BZ22=$BZ25,$BV26,0)","v":0},{"$f":"SUM(CQ22:CT22)","v":0},4]
[7,{"$f":"VLOOKUP(A23,Spiele!$A$1:$L$116,2,FALSE)","v":"2026-06-13T18:00:00"},{"$f":"VLOOKUP(A23,Spiele!$A$1:$L$116,9,FALSE)","v":"New York"},{"$f":"Y22","v":"C1"},"-",{"$f":"Y23","v":"C2"},null,{"$f":"IF($B$99=\"\",1,INT(RAND()*5)+INT(RAND()*3)*INT(RAND()*2))","v":1},":",{"$f":"IF($B$99=\"\",0,INT(RAND()*5)+INT(RAND()*3)*INT(RAND()*2))","v":0},"ok",null,{"$f":"VLOOKUP(2,$X$22:$AC$25,2,FALSE)","v":"C1"},{"$f":"VLOOKUP(2,$X$22:$AC$25,3,FALSE)","v":6},{"$f":"VLOOKUP(2,$X$22:$AC$25,4,FALSE)","v":2},{"$f":"VLOOKUP(2,$X$22:$AC$25,5,FALSE)","v":1},{"$f":"VLOOKUP(2,$X$22:$AC$25,6,FALSE)","v":1},null,{"$f":"IF(J23=\"\",0,IF(K23=$B$98,IF(H23<J23,3,IF(H23=J23,1,0)),0))","v":0},null,{"$f":"IF(H28=\"\",0,IF(K27=$B$98,IF(H28>J28,3,IF(H28=J28,1,0)),0))","v":3},{"$f":"IF(J26=\"\",0,IF(K26=$B$98,IF(J26>H26,3,IF(J26=H26,1,0)),0))","v":0},null,{"$f":"RANK(AD23,$AD$22:$AD$25)","v":3},"C2",{"$f":"SUM(S23:V23)","v":3},{"$f":"SUM(S27:V27)","v":1},{"$f":"SUM(T26:T29)","v":2},{"$f":"AA23-AB23","v":-1},{"$f":"IF(P$28=\"\",(((((((AE23*10+Z23)*100+AC23)*100+AA23)*10+AK23)*10+AJ23)*100+AP23)*100+AU23)*10+AV23,(((((((AE23*10+Z23)*10+AK23)*10+AJ23)*100+AP23)*100+AU23)*100+AC23)*100+AA23)*10+AV23)","v":303010099013},null,{"$f":"IF($Z23=$Z22,$S23-$T22,0)","v":0},null,{"$f":"IF($Z23=$Z24,$U23-$T24,0)","v":3},{"$f":"IF($Z23=$Z25,$V23-$T25,0)","v":0},{"$f":"SUM(AF23:AI23)","v":3},null,{"$f":"IF($Z23=$Z22,$S27-$T26,0)","v":0},null,{"$f":"IF($Z23=$Z24,$U27-$T28,0)","v":1},{"$f":"IF($Z23=$Z25,$V27-$T29,0)","v":0},{"$f":"SUM(AL23:AO23)","v":1},{"$f":"IF($Z23=$Z22,$S27,0)","v":0},null,{"$f":"IF($Z23=$Z24,$U27,0)","v":1},{"$f":"IF($Z23=$Z25,$V27,0)","v":0},{"$f":"SUM(AQ23:AT23)","v":1},3,null,{"$f":"VLOOKUP(A23,Spiele!$A$1:$L$116,10,FALSE)","v":"C1-C2"},null,null,11,{"$f":"VLOOKUP(BA23,Spiele!$A$1:$L$116,2,FALSE)","v":"2026-06-14T15:00:00"},{"$f":"VLOOKUP(BA23,Spiele!$A$1:$L$116,9,FALSE)","v":"Dallas"},{"$f":"BY22","v":"F1"},"-",{"$f":"BY23","v":"F2"},null,{"$f":"IF($B$99=\"\",1,INT(RAND()*5)+INT(RAND()*3)*INT(RAND()*2))","v":1},":",{"$f":"IF($B$99=\"\",0,INT(RAND()*5)+INT(RAND()*3)*INT(RAND()*2))","v":0},"ok",null,{"$f":"VLOOKUP(2,$BX$22:$CC$25,2,FALSE)","v":"F1"},{"$f":"VLOOKUP(2,$BX$22:$CC$25,3,FALSE)","v":6},{"$f":"VLOOKUP(2,$BX$22:$CC$25,4,FALSE)","v":2},{"$f":"VLOOKUP(2,$BX$22:$CC$25,5,FALSE)","v":1},{"$f":"VLOOKUP(2,$BX$22:$CC$25,6,FALSE)","v":1},null,{"$f":"IF(BJ23=\"\",0,IF(BK23=$B$98,IF(BH23<BJ23,3,IF(BH23=BJ23,1,0)),0))","v":0},null,{"$f":"IF(BH28=\"\",0,IF(BK27=$B$98,IF(BH28>BJ28,3,IF(BH28=BJ28,1,0)),0))","v":3},{"$f":"IF(BJ26=\"\",0,IF(BK26=$B$98,IF(BJ26>BH26,3,IF(BJ26=BH26,1,0)),0))","v":0},null,{"$f":"RANK(CD23,$CD$22:$CD$25)","v":3},"F2",{"$f":"SUM(BS23:BV23)","v":3},{"$f":"SUM(BS27:BV27)","v":1},{"$f":"SUM(BT26:BT29)","v":2},{"$f":"CA23-CB23","v":-1},{"$f":"IF(BP$28=\"\",(((((((CE23*10+BZ23)*100+CC23)*100+CA23)*10+CK23)*10+CJ23)*100+CP23)*100+CU23)*10+CV23,(((((((CE23*10+BZ23)*10+CK23)*10+CJ23)*100+CP23)*100+CU23)*100+CC23)*100+CA23)*10+CV23)","v":303010099013},null,{"$f":"IF($BZ23=$BZ22,$BS23-$BT22,0)","v":0},null,{"$f":"IF($BZ23=$BZ24,$BU23-$BT24,0)","v":3},{"$f":"IF($BZ23=$BZ25,$BV23-$BT25,0)","v":0},{"$f":"SUM(CF23:CI23)","v":3},null,{"$f":"IF($BZ23=$BZ22,$BS27-$BT26,0)","v":0},null,{"$f":"IF($BZ23=$BZ24,$BU27-$BT28,0)","v":1},{"$f":"IF($BZ23=$BZ25,$BV27-$BT29,0)","v":0},{"$f":"SUM(CL23:CO23)","v":1},{"$f":"IF($BZ23=$BZ22,$BS27,0)","v":0},null,{"$f":"IF($BZ23=$BZ24,$BU27,0)","v":1},{"$f":"IF($BZ23=$BZ25,$BV27,0)","v":0},{"$f":"SUM(CQ23:CT23)","v":1},3,null,{"$f":"VLOOKUP(BA23,Spiele!$A$1:$L$116,10,FALSE)","v":"F1-F2"}]
[5,{"$f":"VLOOKUP(A24,Spiele!$A$1:$L$116,2,FALSE)","v":"2026-06-13T21:00:00"},{"$f":"VLOOKUP(A24,Spiele!$A$1:$L$116,9,FALSE)","v":"Boston"},{"$f":"Y24","v":"C3"},"-",{"$f":"Y25","v":"C4"},null,1,":",0,"ok",null,{"$f":"VLOOKUP(3,$X$22:$AC$25,2,FALSE)","v":"C2"},{"$f":"VLOOKUP(3,$X$22:$AC$25,3,FALSE)","v":3},{"$f":"VLOOKUP(3,$X$22:$AC$25,4,FALSE)","v":1},{"$f":"VLOOKUP(3,$X$22:$AC$25,5,FALSE)","v":2},{"$f":"VLOOKUP(3,$X$22:$AC$25,6,FALSE)","v":-1},null,{"$f":"IF(J25=\"\",0,IF(K25=$B$98,IF(H25<J25,3,IF(H25=J25,1,0)),0))","v":0},{"$f":"IF(J28=\"\",0,IF(K27=$B$98,IF(H28<J28,3,IF(H28=J28,1,0)),0))","v":0},null,{"$f":"IF(H24=\"\",0,IF(K24=$B$98,IF(H24>J24,3,IF(H24=J24,1,0)),0))","v":3},null,{"$f":"RANK(AD24,$AD$22:$AD$25)","v":4},"C3",{"$f":"SUM(S24:V24)","v":3},{"$f":"SUM(S28:V28)","v":1},{"$f":"SUM(U26:U29)","v":2},{"$f":"AA24-AB24","v":-1},{"$f":"IF(P$28=\"\",(((((((AE24*10+Z24)*100+AC24)*100+AA24)*10+AK24)*10+AJ24)*100+AP24)*100+AU24)*10+AV24,(((((((AE24*10+Z24)*10+AK24)*10+AJ24)*100+AP24)*100+AU24)*100+AC24)*100+AA24)*10+AV24)","v":296989999012},null,{"$f":"IF($Z24=$Z22,$S24-$U22,0)","v":0},{"$f":"IF($Z24=$Z23,$T24-$U23,0)","v":-3},null,{"$f":"IF($Z24=$Z25,$V24-$U25,0)","v":0},{"$f":"SUM(AF24:AI24)","v":-3},null,{"$f":"IF($Z24=$Z22,$S28-$U26,0)","v":0},{"$f":"IF($Z24=$Z23,$T28-$U27,0)","v":-1},null,{"$f":"IF($Z24=$Z25,$V28-$U29,0)","v":0},{"$f":"SUM(AL24:AO24)","v":-1},{"$f":"IF($Z24=$Z22,$S28,0)","v":0},{"$f":"IF($Z24=$Z23,$T28,0)","v":0},null,{"$f":"IF($Z24=$Z25,$V28,0)","v":0},{"$f":"SUM(AQ24:AT24)","v":0},2,null,{"$f":"VLOOKUP(A24,Spiele!$A$1:$L$116,10,FALSE)","v":"C3-C4"},null,null,12,{"$f":"VLOOKUP(BA24,Spiele!$A$1:$L$116,2,FALSE)","v":"2026-06-14T21:00:00"},{"$f":"VLOOKUP(BA24,Spiele!$A$1:$L$116,9,FALSE)","v":"Monterrey"},{"$f":"BY24","v":"F3"},"-",{"$f":"BY25","v":"F4"},null,1,":",0,"ok",null,{"$f":"VLOOKUP(3,$BX$22:$CC$25,2,FALSE)","v":"F2"},{"$f":"VLOOKUP(3,$BX$22:$CC$25,3,FALSE)","v":3},{"$f":"VLOOKUP(3,$BX$22:$CC$25,4,FALSE)","v":1},{"$f":"VLOOKUP(3,$BX$22:$CC$25,5,FALSE)","v":2},{"$f":"VLOOKUP(3,$BX$22:$CC$25,6,FALSE)","v":-1},null,{"$f":"IF(BJ25=\"\",0,IF(BK25=$B$98,IF(BH25<BJ25,3,IF(BH25=BJ25,1,0)),0))","v":0},{"$f":"IF(BJ28=\"\",0,IF(BK27=$B$98,IF(BH28<BJ28,3,IF(BH28=BJ28,1,0)),0))","v":0},null,{"$f":"IF(BH24=\"\",0,IF(BK24=$B$98,IF(BH24>BJ24,3,IF(BH24=BJ24,1,0)),0))","v":3},null,{"$f":"RANK(CD24,$CD$22:$CD$25)","v":4},"F3",{"$f":"SUM(BS24:BV24)","v":3},{"$f":"SUM(BS28:BV28)","v":1},{"$f":"SUM(BU26:BU29)","v":2},{"$f":"CA24-CB24","v":-1},{"$f":"IF(BP$28=\"\",(((((((CE24*10+BZ24)*100+CC24)*100+CA24)*10+CK24)*10+CJ24)*100+CP24)*100+CU24)*10+CV24,(((((((CE24*10+BZ24)*10+CK24)*10+CJ24)*100+CP24)*100+CU24)*100+CC24)*100+CA24)*10+CV24)","v":296989999012},null,{"$f":"IF($BZ24=$BZ22,$BS24-$BU22,0)","v":0},{"$f":"IF($BZ24=$BZ23,$BT24-$BU23,0)","v":-3},null,{"$f":"IF($BZ24=$BZ25,$BV24-$BU25,0)","v":0},{"$f":"SUM(CF24:CI24)","v":-3},null,{"$f":"IF($BZ24=$BZ22,$BS28-$BU26,0)","v":0},{"$f":"IF($BZ24=$BZ23,$BT28-$BU27,0)","v":-1},null,{"$f":"IF($BZ24=$BZ25,$BV28-$BU29,0)","v":0},{"$f":"SUM(CL24:CO24)","v":-1},{"$f":"IF($BZ24=$BZ22,$BS28,0)","v":0},{"$f":"IF($BZ24=$BZ23,$BT28,0)","v":0},null,{"$f":"IF($BZ24=$BZ25,$BV28,0)","v":0},{"$f":"SUM(CQ24:CT24)","v":0},2,null,{"$f":"VLOOKUP(BA24,Spiele!$A$1:$L$116,10,FALSE)","v":"F3-F4"}]
[29,{"$f":"VLOOKUP(A25,Spiele!$A$1:$L$116,2,FALSE)","v":"2026-06-19T21:00:00"},{"$f":"VLOOKUP(A25,Spiele!$A$1:$L$116,9,FALSE)","v":"Philadelphia"},{"$f":"Y22","v":"C1"},"-",{"$f":"Y24","v":"C3"},null,1,":",0,"ok",null,{"$f":"VLOOKUP(4,$X$22:$AC$25,2,FALSE)","v":"C3"},{"$f":"VLOOKUP(4,$X$22:$AC$25,3,FALSE)","v":3},{"$f":"VLOOKUP(4,$X$22:$AC$25,4,FALSE)","v":1},{"$f":"VLOOKUP(4,$X$22:$AC$25,5,FALSE)","v":2},{"$f":"VLOOKUP(4,$X$22:$AC$25,6,FALSE)","v":-1},null,{"$f":"IF(H27=\"\",0,IF(K28=$B$98,IF(H27>J27,3,IF(H27=J27,1,0)),0))","v":3},{"$f":"IF(H26=\"\",0,IF(K26=$B$98,IF(J26<H26,3,IF(J26=H26,1,0)),0))","v":3},{"$f":"IF(J24=\"\",0,IF(K24=$B$98,IF(H24<J24,3,IF(H24=J24,1,0)),0))","v":0},null,null,{"$f":"RANK(AD25,$AD$22:$AD$25)","v":1},"C4",{"$f":"SUM(S25:V25)","v":6},{"$f":"SUM(S29:V29)","v":2},{"$f":"SUM(V26:V29)","v":1},{"$f":"AA25-AB25","v":1},{"$f":"IF(P$28=\"\",(((((((AE25*10+Z25)*100+AC25)*100+AA25)*10+AK25)*10+AJ25)*100+AP25)*100+AU25)*10+AV25,(((((((AE25*10+Z25)*10+AK25)*10+AJ25)*100+AP25)*100+AU25)*100+AC25)*100+AA25)*10+AV25)","v":603010101021},null,{"$f":"IF($Z25=$Z22,$S25-$V22,0)","v":3},{"$f":"IF($Z25=$Z23,$T25-$V23,0)","v":0},{"$f":"IF($Z25=$Z24,$U25-$V24,0)","v":0},null,{"$f":"SUM(AF25:AI25)","v":3},null,{"$f":"IF($Z25=$Z22,$S29-$V26,0)","v":1},{"$f":"IF($Z25=$Z23,$T29-$V27,0)","v":0},{"$f":"IF($Z25=$Z24,$U29-$V28,0)","v":0},null,{"$f":"SUM(AL25:AO25)","v":1},{"$f":"IF($Z25=$Z22,$S29,0)","v":1},{"$f":"IF($Z25=$Z23,$T29,0)","v":0},{"$f":"IF($Z25=$Z24,$U29,0)","v":0},null,{"$f":"SUM(AQ25:AT25)","v":1},1,null,{"$f":"VLOOKUP(A25,Spiele!$A$1:$L$116,10,FALSE)","v":"C1-C3"},null,null,35,{"$f":"VLOOKUP(BA25,Spiele!$A$1:$L$116,2,FALSE)","v":"2026-06-20T12:00:00"},{"$f":"VLOOKUP(BA25,Spiele!$A$1:$L$116,9,FALSE)","v":"Houston"},{"$f":"BY22","v":"F1"},"-",{"$f":"BY24","v":"F3"},null,1,":",0,"ok",null,{"$f":"VLOOKUP(4,$BX$22:$CC$25,2,FALSE)","v":"F3"},{"$f":"VLOOKUP(4,$BX$22:$CC$25,3,FALSE)","v":3},{"$f":"VLOOKUP(4,$BX$22:$CC$25,4,FALSE)","v":1},{"$f":"VLOOKUP(4,$BX$22:$CC$25,5,FALSE)","v":2},{"$f":"VLOOKUP(4,$BX$22:$CC$25,6,FALSE)","v":-1},null,{"$f":"IF(BH27=\"\",0,IF(BK28=$B$98,IF(BH27>BJ27,3,IF(BH27=BJ27,1,0)),0))","v":3},{"$f":"IF(BH26=\"\",0,IF(BK26=$B$98,IF(BJ26<BH26,3,IF(BJ26=BH26,1,0)),0))","v":3},{"$f":"IF(BJ24=\"\",0,IF(BK24=$B$98,IF(BH24<BJ24,3,IF(BH24=BJ24,1,0)),0))","v":0},null,null,{"$f":"RANK(CD25,$CD$22:$CD$25)","v":1},"F4",{"$f":"SUM(BS25:BV25)","v":6},{"$f":"SUM(BS29:BV29)","v":2},{"$f":"SUM(BV26:BV29)","v":1},{"$f":"CA25-CB25","v":1},{"$f":"IF(BP$28=\"\",(((((((CE25*10+BZ25)*100+CC25)*100+CA25)*10+CK25)*10+CJ25)*100+CP25)*100+CU25)*10+CV25,(((((((CE25*10+BZ25)*10+CK25)*10+CJ25)*100+CP25)*100+CU25)*100+CC25)*100+CA25)*10+CV25)","v":603010101021},null,{"$f":"IF($BZ25=$BZ22,$BS25-$BV22,0)","v":3},{"$f":"IF($BZ25=$BZ23,$BT25-$BV23,0)","v":0},{"$f":"IF($BZ25=$BZ24,$BU25-$BV24,0)","v":0},null,{"$f":"SUM(CF25:CI25)","v":3},null,{"$f":"IF($BZ25=$BZ22,$BS29-$BV26,0)","v":1},{"$f":"IF($BZ25=$BZ23,$BT29-$BV27,0)","v":0},{"$f":"IF($BZ25=$BZ24,$BU29-$BV28,0)","v":0},null,{"$f":"SUM(CL25:CO25)","v":1},{"$f":"IF($BZ25=$BZ22,$BS29,0)","v":1},{"$f":"IF($BZ25=$BZ23,$BT29,0)","v":0},{"$f":"IF($BZ25=$BZ24,$BU29,0)","v":0},null,{"$f":"SUM(CQ25:CT25)","v":1},1,null,{"$f":"VLOOKUP(BA25,Spiele!$A$1:$L$116,10,FALSE)","v":"F1-F3"}]
[30,{"$f":"VLOOKUP(A26,Spiele!$A$1:$L$116,2,FALSE)","v":"2026-06-19T18:00:00"},{"$f":"VLOOKUP(A26,Spiele!$A$1:$L$116,9,FALSE)","v":"Boston"},{"$f":"Y25","v":"C4"},"-",{"$f":"Y23","v":"C2"},null,1,":",0,"ok",null,null,null,null,null,null,null,null,{"$f":"IF(K23=$B$98,H23,0)","v":1},{"$f":"IF(K25=$B$98,H25,0)","v":1},{"$f":"IF(K28=$B$98,J27,0)","v":0},null,null,null,null,null,null,null,null,null,null,null,null,null,null,null,null,null,null,null,null,null,null,null,null,null,null,null,{"$f":"VLOOKUP(A26,Spiele!$A$1:$L$116,10,FALSE)","v":"C4-C2"},null,null,36,{"$f":"VLOOKUP(BA26,Spiele!$A$1:$L$116,2,FALSE)","v":"2026-06-20T23:00:00"},{"$f":"VLOOKUP(BA26,Spiele!$A$1:$L$116,9,FALSE)","v":"Monterrey"},{"$f":"BY25","v":"F4"},"-",{"$f":"BY23","v":"F2"},null,1,":",0,"ok",null,null,null,null,null,null,null,null,{"$f":"IF(BK23=$B$98,BH23,0)","v":1},{"$f":"IF(BK25=$B$98,BH25,0)","v":1},{"$f":"IF(BK28=$B$98,BJ27,0)","v":0},null,null,null,null,null,null,null,null,null,null,null,null,null,null,null,null,null,null,null,null,null,null,null,null,null,null,null,{"$f":"VLOOKUP(BA26,Spiele!$A$1:$L$116,10,FALSE)","v":"F4-F2"}]
[49,{"$f":"VLOOKUP(A27,Spiele!$A$1:$L$116,2,FALSE)","v":"2026-06-24T18:00:00"},{"$f":"VLOOKUP(A27,Spiele!$A$1:$L$116,9,FALSE)","v":"Miami"},{"$f":"Y25","v":"C4"},"-",{"$f":"Y22","v":"C1"},null,1,":",0,"ok",null,{"$f":"IF(N22>0,M22,\"\")","v":"C4"},"1C",null,null,null,null,{"$f":"IF(K23=$B$98,J23,0)","v":0},null,{"$f":"IF(K27=$B$98,H28,0)","v":1},{"$f":"IF(K26=$B$98,J26,0)","v":0},null,null,null,null,null,null,null,"L0=AE hebelt Berechnung aus (top level Losen)",null,null,null,null,null,null,null,null,null,null,null,null,null,null,null,null,null,null,null,{"$f":"VLOOKUP(A27,Spiele!$A$1:$L$116,10,FALSE)","v":"C4-C1"},null,null,55,{"$f":"VLOOKUP(BA27,Spiele!$A$1:$L$116,2,FALSE)","v":"2026-06-25T16:00:00"},{"$f":"VLOOKUP(BA27,Spiele!$A$1:$L$116,9,FALSE)","v":"Philadelphia"},{"$f":"BY25","v":"F4"},"-",{"$f":"BY22","v":"F1"},null,1,":",0,"ok",null,{"$f":"IF(BN22>0,BM22,\"\")","v":"F4"},"1F",null,null,null,null,{"$f":"IF(BK23=$B$98,BJ23,0)","v":0},null,{"$f":"IF(BK27=$B$98,BH28,0)","v":1},{"$f":"IF(BK26=$B$98,BJ26,0)","v":0},null,null,null,null,null,null,null,"L0=AE hebelt Berechnung aus (top level Losen)",null,null,null,null,null,null,null,null,null,null,null,null,null,null,null,null,null,null,null,{"$f":"VLOOKUP(BA27,Spiele!$A$1:$L$116,10,FALSE)","v":"E2-E3"}]
[50,{"$f":"VLOOKUP(A28,Spiele!$A$1:$L$116,2,FALSE)","v":"2026-06-24T18:00:00"},{"$f":"VLOOKUP(A28,Spiele!$A$1:$L$116,9,FALSE)","v":"Atlanta"},{"$f":"Y23","v":"C2"},"-",{"$f":"Y24","v":"C3"},null,1,":",0,"ok",null,{"$f":"IF(N23>0,M23,\"\")","v":"C1"},"2C",null,"DV",null,null,{"$f":"IF(K25=$B$98,J25,0)","v":0},{"$f":"IF(K27=$B$98,J28,0)","v":0},null,{"$f":"IF(K24=$B$98,H24,0)","v":1},null,null,null,null,null,null,null,"L1=AK hebelt Direktvergleich (S1) aus",null,null,null,null,null,null,null,null,null,null,null,null,null,null,null,null,null,null,null,{"$f":"VLOOKUP(A28,Spiele!$A$1:$L$116,10,FALSE)","v":"C2-C3"},null,null,56,{"$f":"VLOOKUP(BA28,Spiele!$A$1:$L$116,2,FALSE)","v":"2026-06-25T16:00:00"},{"$f":"VLOOKUP(BA28,Spiele!$A$1:$L$116,9,FALSE)","v":"New York"},{"$f":"BY23","v":"F2"},"-",{"$f":"BY24","v":"F3"},null,1,":",0,"ok",null,{"$f":"IF(BN23>0,BM23,\"\")","v":"F1"},"2F",null,"DV",null,null,{"$f":"IF(BK25=$B$98,BJ25,0)","v":0},{"$f":"IF(BK27=$B$98,BJ28,0)","v":0},null,{"$f":"IF(BK24=$B$98,BH24,0)","v":1},null,null,null,null,null,null,null,"L1=AK hebelt Direktvergleich (S1) aus",null,null,null,null,null,null,null,null,null,null,null,null,null,null,null,null,null,null,null,{"$f":"VLOOKUP(BA28,Spiele!$A$1:$L$116,10,FALSE)","v":"E4-E1"}]
[null,null,null,null,null,null,null,null,null,null,null,null,{"$f":"IF(N24>0,M24,\"\")","v":"C2"},"3C",null,null,null,null,{"$f":"IF(K28=$B$98,H27,0)","v":1},{"$f":"IF(K26=$B$98,H26,0)","v":1},{"$f":"IF(K24=$B$98,J24,0)","v":0},null,null,null,null,null,null,null,null,"L4=AV Losen UEFA-Koeffizient, Fairplay oder Münzwurf",null,null,null,null,null,null,null,null,null,null,null,null,null,null,null,null,null,null,null,null,null,null,null,null,null,null,null,null,null,null,null,null,null,null,{"$f":"IF(BN24>0,BM24,\"\")","v":"F2"},"3F",null,null,null,null,{"$f":"IF(BK28=$B$98,BH27,0)","v":1},{"$f":"IF(BK26=$B$98,BH26,0)","v":1},{"$f":"IF(BK24=$B$98,BJ24,0)","v":0},null,null,null,null,null,null,null,null,"L4=AV Losen UEFA-Koeffizient, Fairplay oder Münzwurf"]
[]
["SP","Vorrunde","Gruppe G"," ",null,null,null,null,null,null,null,null,"Tabelle","P","T+","T-","T+/-",null,null,null,null,null,null,"G","Berechnungen","P","T+","T-","T+/-",null,"L0","DV",null,null,null,"S1","L1","DV-TD",null,null,null,"S2","DV-Tore",null,null,null,"S3","L4",null,null,null,null,null,"Vorrunde","Gruppe J"," ",null,null,null,null,null,null,null,null,"Tabelle","P","T+","T-","T+/-",null,null,null,null,null,null,"G","Berechnungen","P","T+","T-","T+/-",null,"L0","DV",null,null,null,"S1","L1","DV-TD",null,null,null,"S2","DV-Tore",null,null,null,"S3","L4"]
[null,"Datum/Zeit","Spielort",null,null,null,null,null,null,null,null,null,{"$f":"VLOOKUP(1,$X$32:$AC$35,2,FALSE)","v":"G4"},{"$f":"VLOOKUP(1,$X$32:$AC$35,3,FALSE)","v":6},{"$f":"VLOOKUP(1,$X$32:$AC$35,4,FALSE)","v":2},{"$f":"VLOOKUP(1,$X$32:$AC$35,5,FALSE)","v":1},{"$f":"VLOOKUP(1,$X$32:$AC$35,6,FALSE)","v":1},null,null,{"$f":"IF(H33=\"\",0,IF(K33=$B$98,IF(H33>J33,3,IF(H33=J33,1,0)),0))","v":3},{"$f":"IF(H35=\"\",0,IF(K35=$B$98,IF(H35>J35,3,IF(H35=J35,1,0)),0))","v":3},{"$f":"IF(J37=\"\",0,IF(K38=$B$98,IF(H37<J37,3,IF(H37=J37,1,0)),0))","v":0},null,{"$f":"RANK(AD32,$AD$32:$AD$35)","v":2},"G1",{"$f":"SUM(S32:V32)","v":6},{"$f":"SUM(S36:V36)","v":2},{"$f":"SUM(S36:S39)","v":1},{"$f":"AA32-AB32","v":1},{"$f":"IF(P$8=\"\",(((((((AE32*10+Z32)*100+AC32)*100+AA32)*10+AK32)*10+AJ32)*100+AP32)*100+AU32)*10+AV32,(((((((AE32*10+Z32)*10+AK32)*10+AJ32)*100+AP32)*100+AU32)*100+AC32)*100+AA32)*10+AV32)","v":596990001024},null,null,{"$f":"IF($Z32=$Z33,$T32-$S33,0)","v":0},{"$f":"IF($Z32=$Z34,$U32-$S34,0)","v":0},{"$f":"IF($Z32=$Z35,$V32-$S35,0)","v":-3},{"$f":"SUM(AF32:AI32)","v":-3},null,null,{"$f":"IF($Z32=$Z33,$T36-$S37,0)","v":0},{"$f":"IF($Z32=$Z34,$U36-$S38,0)","v":0},{"$f":"IF($Z32=$Z35,$V36-$S39,0)","v":-1},{"$f":"SUM(AL32:AO32)","v":-1},null,{"$f":"IF($Z32=$Z33,$T36,0)","v":0},{"$f":"IF($Z32=$Z34,$U36,0)","v":0},{"$f":"IF($Z32=$Z35,$V36,0)","v":0},{"$f":"SUM(AQ32:AT32)","v":0},4,null,null,null,null,null,"Datum/Zeit","Spielort",null,null,null,null,null,null,null,null,null,{"$f":"VLOOKUP(1,$BX$32:$CC$35,2,FALSE)","v":"J4"},{"$f":"VLOOKUP(1,$BX$32:$CC$35,3,FALSE)","v":6},{"$f":"VLOOKUP(1,$BX$32:$CC$35,4,FALSE)","v":2},{"$f":"VLOOKUP(1,$BX$32:$CC$35,5,FALSE)","v":1},{"$f":"VLOOKUP(1,$BX$32:$CC$35,6,FALSE)","v":1},null,null,{"$f":"IF(BH33=\"\",0,IF(BK33=$B$98,IF(BH33>BJ33,3,IF(BH33=BJ33,1,0)),0))","v":3},{"$f":"IF(BH35=\"\",0,IF(BK35=$B$98,IF(BH35>BJ35,3,IF(BH35=BJ35,1,0)),0))","v":3},{"$f":"IF(BJ37=\"\",0,IF(BK38=$B$98,IF(BH37<BJ37,3,IF(BH37=BJ37,1,0)),0))","v":0},null,{"$f":"RANK(CD32,$CD$32:$CD$35)","v":2},"J1",{"$f":"SUM(BS32:BV32)","v":6},{"$f":"SUM(BS36:BV36)","v":2},{"$f":"SUM(BS36:BS39)","v":1},{"$f":"CA32-CB32","v":1},{"$f":"IF(BP$8=\"\",(((((((CE32*10+BZ32)*100+CC32)*100+CA32)*10+CK32)*10+CJ32)*100+CP32)*100+CU32)*10+CV32,(((((((CE32*10+BZ32)*10+CK32)*10+CJ32)*100+CP32)*100+CU32)*100+CC32)*100+CA32)*10+CV32)","v":596990001024},null,null,{"$f":"IF($BZ32=$BZ33,$BT32-$BS33,0)","v":0},{"$f":"IF($BZ32=$BZ34,$BU32-$BS34,0)","v":0},{"$f":"IF($BZ32=$BZ35,$BV32-$BS35,0)","v":-3},{"$f":"SUM(CF32:CI32)","v":-3},null,null,{"$f":"IF($BZ32=$BZ33,$BT36-$BS37,0)","v":0},{"$f":"IF($BZ32=$BZ34,$BU36-$BS38,0)","v":0},{"$f":"IF($BZ32=$BZ35,$BV36-$BS39,0)","v":-1},{"$f":"SUM(CL32:CO32)","v":-1},null,{"$f":"IF($BZ32=$BZ33,$BT36,0)","v":0},{"$f":"IF($BZ32=$BZ34,$BU36,0)","v":0},{"$f":"IF($BZ32=$BZ35,$BV36,0)","v":0},{"$f":"SUM(CQ32:CT32)","v":0},4]
[16,{"$f":"VLOOKUP(A33,Spiele!$A$1:$L$116,2,FALSE)","v":"2026-06-15T12:00:00"},{"$f":"VLOOKUP(A33,Spiele!$A$1:$L$116,9,FALSE)","v":"Seattle"},{"$f":"Y32","v":"G1"},"-",{"$f":"Y33","v":"G2"},null,{"$f":"IF($B$99=\"\",1,INT(RAND()*5)+INT(RAND()*3)*INT(RAND()*2))","v":1},":",{"$f":"IF($B$99=\"\",0,INT(RAND()*5)+INT(RAND()*3)*INT(RAND()*2))","v":0},"ok",null,{"$f":"VLOOKUP(2,$X$32:$AC$35,2,FALSE)","v":"G1"},{"$f":"VLOOKUP(2,$X$32:$AC$35,3,FALSE)","v":6},{"$f":"VLOOKUP(2,$X$32:$AC$35,4,FALSE)","v":2},{"$f":"VLOOKUP(2,$X$32:$AC$35,5,FALSE)","v":1},{"$f":"VLOOKUP(2,$X$32:$AC$35,6,FALSE)","v":1},null,{"$f":"IF(J33=\"\",0,IF(K33=$B$98,IF(H33<J33,3,IF(H33=J33,1,0)),0))","v":0},null,{"$f":"IF(H38=\"\",0,IF(K37=$B$98,IF(H38>J38,3,IF(H38=J38,1,0)),0))","v":3},{"$f":"IF(J36=\"\",0,IF(K36=$B$98,IF(J36>H36,3,IF(J36=H36,1,0)),0))","v":0},null,{"$f":"RANK(AD33,$AD$32:$AD$35)","v":3},"G2",{"$f":"SUM(S33:V33)","v":3},{"$f":"SUM(S37:V37)","v":1},{"$f":"SUM(T36:T39)","v":2},{"$f":"AA33-AB33","v":-1},{"$f":"IF(P$8=\"\",(((((((AE33*10+Z33)*100+AC33)*100+AA33)*10+AK33)*10+AJ33)*100+AP33)*100+AU33)*10+AV33,(((((((AE33*10+Z33)*10+AK33)*10+AJ33)*100+AP33)*100+AU33)*100+AC33)*100+AA33)*10+AV33)","v":303010099013},null,{"$f":"IF($Z33=$Z32,$S33-$T32,0)","v":0},null,{"$f":"IF($Z33=$Z34,$U33-$T34,0)","v":3},{"$f":"IF($Z33=$Z35,$V33-$T35,0)","v":0},{"$f":"SUM(AF33:AI33)","v":3},null,{"$f":"IF($Z33=$Z32,$S37-$T36,0)","v":0},null,{"$f":"IF($Z33=$Z34,$U37-$T38,0)","v":1},{"$f":"IF($Z33=$Z35,$V37-$T39,0)","v":0},{"$f":"SUM(AL33:AO33)","v":1},{"$f":"IF($Z33=$Z32,$S37,0)","v":0},null,{"$f":"IF($Z33=$Z34,$U37,0)","v":1},{"$f":"IF($Z33=$Z35,$V37,0)","v":0},{"$f":"SUM(AQ33:AT33)","v":1},3,null,{"$f":"VLOOKUP(A33,Spiele!$A$1:$L$116,10,FALSE)","v":"G1-G2"},null,null,17,{"$f":"VLOOKUP(BA33,Spiele!$A$1:$L$116,2,FALSE)","v":"2026-06-16T15:00:00"},{"$f":"VLOOKUP(BA33,Spiele!$A$1:$L$116,9,FALSE)","v":"New York"},{"$f":"BY32","v":"J1"},"-",{"$f":"BY33","v":"J2"},null,{"$f":"IF($B$99=\"\",1,INT(RAND()*5)+INT(RAND()*3)*INT(RAND()*2))","v":1},":",{"$f":"IF($B$99=\"\",0,INT(RAND()*5)+INT(RAND()*3)*INT(RAND()*2))","v":0},"ok",null,{"$f":"VLOOKUP(2,$BX$32:$CC$35,2,FALSE)","v":"J1"},{"$f":"VLOOKUP(2,$BX$32:$CC$35,3,FALSE)","v":6},{"$f":"VLOOKUP(2,$BX$32:$CC$35,4,FALSE)","v":2},{"$f":"VLOOKUP(2,$BX$32:$CC$35,5,FALSE)","v":1},{"$f":"VLOOKUP(2,$BX$32:$CC$35,6,FALSE)","v":1},null,{"$f":"IF(BJ33=\"\",0,IF(BK33=$B$98,IF(BH33<BJ33,3,IF(BH33=BJ33,1,0)),0))","v":0},null,{"$f":"IF(BH38=\"\",0,IF(BK37=$B$98,IF(BH38>BJ38,3,IF(BH38=BJ38,1,0)),0))","v":3},{"$f":"IF(BJ36=\"\",0,IF(BK36=$B$98,IF(BJ36>BH36,3,IF(BJ36=BH36,1,0)),0))","v":0},null,{"$f":"RANK(CD33,$CD$32:$CD$35)","v":3},"J2",{"$f":"SUM(BS33:BV33)","v":3},{"$f":"SUM(BS37:BV37)","v":1},{"$f":"SUM(BT36:BT39)","v":2},{"$f":"CA33-CB33","v":-1},{"$f":"IF(BP$8=\"\",(((((((CE33*10+BZ33)*100+CC33)*100+CA33)*10+CK33)*10+CJ33)*100+CP33)*100+CU33)*10+CV33,(((((((CE33*10+BZ33)*10+CK33)*10+CJ33)*100+CP33)*100+CU33)*100+CC33)*100+CA33)*10+CV33)","v":303010099013},null,{"$f":"IF($BZ33=$BZ32,$BS33-$BT32,0)","v":0},null,{"$f":"IF($BZ33=$BZ34,$BU33-$BT34,0)","v":3},{"$f":"IF($BZ33=$BZ35,$BV33-$BT35,0)","v":0},{"$f":"SUM(CF33:CI33)","v":3},null,{"$f":"IF($BZ33=$BZ32,$BS37-$BT36,0)","v":0},null,{"$f":"IF($BZ33=$BZ34,$BU37-$BT38,0)","v":1},{"$f":"IF($BZ33=$BZ35,$BV37-$BT39,0)","v":0},{"$f":"SUM(CL33:CO33)","v":1},{"$f":"IF($BZ33=$BZ32,$BS37,0)","v":0},null,{"$f":"IF($BZ33=$BZ34,$BU37,0)","v":1},{"$f":"IF($BZ33=$BZ35,$BV37,0)","v":0},{"$f":"SUM(CQ33:CT33)","v":1},3,null,{"$f":"VLOOKUP(BA33,Spiele!$A$1:$L$116,10,FALSE)","v":"I1-I2"}]
[15,{"$f":"VLOOKUP(A34,Spiele!$A$1:$L$116,2,FALSE)","v":"2026-06-15T18:00:00"},{"$f":"VLOOKUP(A34,Spiele!$A$1:$L$116,9,FALSE)","v":"Los Angeles"},{"$f":"Y34","v":"G3"},"-",{"$f":"Y35","v":"G4"},null,1,":",0,"ok",null,{"$f":"VLOOKUP(3,$X$32:$AC$35,2,FALSE)","v":"G2"},{"$f":"VLOOKUP(3,$X$32:$AC$35,3,FALSE)","v":3},{"$f":"VLOOKUP(3,$X$32:$AC$35,4,FALSE)","v":1},{"$f":"VLOOKUP(3,$X$32:$AC$35,5,FALSE)","v":2},{"$f":"VLOOKUP(3,$X$32:$AC$35,6,FALSE)","v":-1},null,{"$f":"IF(J35=\"\",0,IF(K35=$B$98,IF(H35<J35,3,IF(H35=J35,1,0)),0))","v":0},{"$f":"IF(J38=\"\",0,IF(K37=$B$98,IF(H38<J38,3,IF(H38=J38,1,0)),0))","v":0},null,{"$f":"IF(H34=\"\",0,IF(K34=$B$98,IF(H34>J34,3,IF(H34=J34,1,0)),0))","v":3},null,{"$f":"RANK(AD34,$AD$32:$AD$35)","v":4},"G3",{"$f":"SUM(S34:V34)","v":3},{"$f":"SUM(S38:V38)","v":1},{"$f":"SUM(U36:U39)","v":2},{"$f":"AA34-AB34","v":-1},{"$f":"IF(P$8=\"\",(((((((AE34*10+Z34)*100+AC34)*100+AA34)*10+AK34)*10+AJ34)*100+AP34)*100+AU34)*10+AV34,(((((((AE34*10+Z34)*10+AK34)*10+AJ34)*100+AP34)*100+AU34)*100+AC34)*100+AA34)*10+AV34)","v":296989999012},null,{"$f":"IF($Z34=$Z32,$S34-$U32,0)","v":0},{"$f":"IF($Z34=$Z33,$T34-$U33,0)","v":-3},null,{"$f":"IF($Z34=$Z35,$V34-$U35,0)","v":0},{"$f":"SUM(AF34:AI34)","v":-3},null,{"$f":"IF($Z34=$Z32,$S38-$U36,0)","v":0},{"$f":"IF($Z34=$Z33,$T38-$U37,0)","v":-1},null,{"$f":"IF($Z34=$Z35,$V38-$U39,0)","v":0},{"$f":"SUM(AL34:AO34)","v":-1},{"$f":"IF($Z34=$Z32,$S38,0)","v":0},{"$f":"IF($Z34=$Z33,$T38,0)","v":0},null,{"$f":"IF($Z34=$Z35,$V38,0)","v":0},{"$f":"SUM(AQ34:AT34)","v":0},2,null,{"$f":"VLOOKUP(A34,Spiele!$A$1:$L$116,10,FALSE)","v":"G3-G4"},null,null,18,{"$f":"VLOOKUP(BA34,Spiele!$A$1:$L$116,2,FALSE)","v":"2026-06-16T18:00:00"},{"$f":"VLOOKUP(BA34,Spiele!$A$1:$L$116,9,FALSE)","v":"Boston"},{"$f":"BY34","v":"J3"},"-",{"$f":"BY35","v":"J4"},null,1,":",0,"ok",null,{"$f":"VLOOKUP(3,$BX$32:$CC$35,2,FALSE)","v":"J2"},{"$f":"VLOOKUP(3,$BX$32:$CC$35,3,FALSE)","v":3},{"$f":"VLOOKUP(3,$BX$32:$CC$35,4,FALSE)","v":1},{"$f":"VLOOKUP(3,$BX$32:$CC$35,5,FALSE)","v":2},{"$f":"VLOOKUP(3,$BX$32:$CC$35,6,FALSE)","v":-1},null,{"$f":"IF(BJ35=\"\",0,IF(BK35=$B$98,IF(BH35<BJ35,3,IF(BH35=BJ35,1,0)),0))","v":0},{"$f":"IF(BJ38=\"\",0,IF(BK37=$B$98,IF(BH38<BJ38,3,IF(BH38=BJ38,1,0)),0))","v":0},null,{"$f":"IF(BH34=\"\",0,IF(BK34=$B$98,IF(BH34>BJ34,3,IF(BH34=BJ34,1,0)),0))","v":3},null,{"$f":"RANK(CD34,$CD$32:$CD$35)","v":4},"J3",{"$f":"SUM(BS34:BV34)","v":3},{"$f":"SUM(BS38:BV38)","v":1},{"$f":"SUM(BU36:BU39)","v":2},{"$f":"CA34-CB34","v":-1},{"$f":"IF(BP$8=\"\",(((((((CE34*10+BZ34)*100+CC34)*100+CA34)*10+CK34)*10+CJ34)*100+CP34)*100+CU34)*10+CV34,(((((((CE34*10+BZ34)*10+CK34)*10+CJ34)*100+CP34)*100+CU34)*100+CC34)*100+CA34)*10+CV34)","v":296989999012},null,{"$f":"IF($BZ34=$BZ32,$BS34-$BU32,0)","v":0},{"$f":"IF($BZ34=$BZ33,$BT34-$BU33,0)","v":-3},null,{"$f":"IF($BZ34=$BZ35,$BV34-$BU35,0)","v":0},{"$f":"SUM(CF34:CI34)","v":-3},null,{"$f":"IF($BZ34=$BZ32,$BS38-$BU36,0)","v":0},{"$f":"IF($BZ34=$BZ33,$BT38-$BU37,0)","v":-1},null,{"$f":"IF($BZ34=$BZ35,$BV38-$BU39,0)","v":0},{"$f":"SUM(CL34:CO34)","v":-1},{"$f":"IF($BZ34=$BZ32,$BS38,0)","v":0},{"$f":"IF($BZ34=$BZ33,$BT38,0)","v":0},null,{"$f":"IF($BZ34=$BZ35,$BV38,0)","v":0},{"$f":"SUM(CQ34:CT34)","v":0},2,null,{"$f":"VLOOKUP(BA34,Spiele!$A$1:$L$116,10,FALSE)","v":"I3-I4"}]
[39,{"$f":"VLOOKUP(A35,Spiele!$A$1:$L$116,2,FALSE)","v":"2026-06-21T12:00:00"},{"$f":"VLOOKUP(A35,Spiele!$A$1:$L$116,9,FALSE)","v":"Los Angeles"},{"$f":"Y32","v":"G1"},"-",{"$f":"Y34","v":"G3"},null,1,":",0,"ok",null,{"$f":"VLOOKUP(4,$X$32:$AC$35,2,FALSE)","v":"G3"},{"$f":"VLOOKUP(4,$X$32:$AC$35,3,FALSE)","v":3},{"$f":"VLOOKUP(4,$X$32:$AC$35,4,FALSE)","v":1},{"$f":"VLOOKUP(4,$X$32:$AC$35,5,FALSE)","v":2},{"$f":"VLOOKUP(4,$X$32:$AC$35,6,FALSE)","v":-1},null,{"$f":"IF(H37=\"\",0,IF(K38=$B$98,IF(H37>J37,3,IF(H37=J37,1,0)),0))","v":3},{"$f":"IF(H36=\"\",0,IF(K36=$B$98,IF(J36<H36,3,IF(J36=H36,1,0)),0))","v":3},{"$f":"IF(J34=\"\",0,IF(K34=$B$98,IF(H34<J34,3,IF(H34=J34,1,0)),0))","v":0},null,null,{"$f":"RANK(AD35,$AD$32:$AD$35)","v":1},"G4",{"$f":"SUM(S35:V35)","v":6},{"$f":"SUM(S39:V39)","v":2},{"$f":"SUM(V36:V39)","v":1},{"$f":"AA35-AB35","v":1},{"$f":"IF(P$8=\"\",(((((((AE35*10+Z35)*100+AC35)*100+AA35)*10+AK35)*10+AJ35)*100+AP35)*100+AU35)*10+AV35,(((((((AE35*10+Z35)*10+AK35)*10+AJ35)*100+AP35)*100+AU35)*100+AC35)*100+AA35)*10+AV35)","v":603010101021},null,{"$f":"IF($Z35=$Z32,$S35-$V32,0)","v":3},{"$f":"IF($Z35=$Z33,$T35-$V33,0)","v":0},{"$f":"IF($Z35=$Z34,$U35-$V34,0)","v":0},null,{"$f":"SUM(AF35:AI35)","v":3},null,{"$f":"IF($Z35=$Z32,$S39-$V36,0)","v":1},{"$f":"IF($Z35=$Z33,$T39-$V37,0)","v":0},{"$f":"IF($Z35=$Z34,$U39-$V38,0)","v":0},null,{"$f":"SUM(AL35:AO35)","v":1},{"$f":"IF($Z35=$Z32,$S39,0)","v":1},{"$f":"IF($Z35=$Z33,$T39,0)","v":0},{"$f":"IF($Z35=$Z34,$U39,0)","v":0},null,{"$f":"SUM(AQ35:AT35)","v":1},1,null,{"$f":"VLOOKUP(A35,Spiele!$A$1:$L$116,10,FALSE)","v":"G1-G3"},null,null,43,{"$f":"VLOOKUP(BA35,Spiele!$A$1:$L$116,2,FALSE)","v":"2026-06-22T12:00:00"},{"$f":"VLOOKUP(BA35,Spiele!$A$1:$L$116,9,FALSE)","v":"Dallas"},{"$f":"BY32","v":"J1"},"-",{"$f":"BY34","v":"J3"},null,1,":",0,"ok",null,{"$f":"VLOOKUP(4,$BX$32:$CC$35,2,FALSE)","v":"J3"},{"$f":"VLOOKUP(4,$BX$32:$CC$35,3,FALSE)","v":3},{"$f":"VLOOKUP(4,$BX$32:$CC$35,4,FALSE)","v":1},{"$f":"VLOOKUP(4,$BX$32:$CC$35,5,FALSE)","v":2},{"$f":"VLOOKUP(4,$BX$32:$CC$35,6,FALSE)","v":-1},null,{"$f":"IF(BH37=\"\",0,IF(BK38=$B$98,IF(BH37>BJ37,3,IF(BH37=BJ37,1,0)),0))","v":3},{"$f":"IF(BH36=\"\",0,IF(BK36=$B$98,IF(BJ36<BH36,3,IF(BJ36=BH36,1,0)),0))","v":3},{"$f":"IF(BJ34=\"\",0,IF(BK34=$B$98,IF(BH34<BJ34,3,IF(BH34=BJ34,1,0)),0))","v":0},null,null,{"$f":"RANK(CD35,$CD$32:$CD$35)","v":1},"J4",{"$f":"SUM(BS35:BV35)","v":6},{"$f":"SUM(BS39:BV39)","v":2},{"$f":"SUM(BV36:BV39)","v":1},{"$f":"CA35-CB35","v":1},{"$f":"IF(BP$8=\"\",(((((((CE35*10+BZ35)*100+CC35)*100+CA35)*10+CK35)*10+CJ35)*100+CP35)*100+CU35)*10+CV35,(((((((CE35*10+BZ35)*10+CK35)*10+CJ35)*100+CP35)*100+CU35)*100+CC35)*100+CA35)*10+CV35)","v":603010101021},null,{"$f":"IF($BZ35=$BZ32,$BS35-$BV32,0)","v":3},{"$f":"IF($BZ35=$BZ33,$BT35-$BV33,0)","v":0},{"$f":"IF($BZ35=$BZ34,$BU35-$BV34,0)","v":0},null,{"$f":"SUM(CF35:CI35)","v":3},null,{"$f":"IF($BZ35=$BZ32,$BS39-$BV36,0)","v":1},{"$f":"IF($BZ35=$BZ33,$BT39-$BV37,0)","v":0},{"$f":"IF($BZ35=$BZ34,$BU39-$BV38,0)","v":0},null,{"$f":"SUM(CL35:CO35)","v":1},{"$f":"IF($BZ35=$BZ32,$BS39,0)","v":1},{"$f":"IF($BZ35=$BZ33,$BT39,0)","v":0},{"$f":"IF($BZ35=$BZ34,$BU39,0)","v":0},null,{"$f":"SUM(CQ35:CT35)","v":1},1,null,{"$f":"VLOOKUP(BA35,Spiele!$A$1:$L$116,10,FALSE)","v":"J1-J3"}]
[40,{"$f":"VLOOKUP(A36,Spiele!$A$1:$L$116,2,FALSE)","v":"2026-06-21T18:00:00"},{"$f":"VLOOKUP(A36,Spiele!$A$1:$L$116,9,FALSE)","v":"Vancouver"},{"$f":"Y35","v":"G4"},"-",{"$f":"Y33","v":"G2"},null,1,":",0,"ok",null,null,null,null,null,null,null,null,{"$f":"IF(K33=$B$98,H33,0)","v":1},{"$f":"IF(K35=$B$98,H35,0)","v":1},{"$f":"IF(K38=$B$98,J37,0)","v":0},null,null,null,null,null,null,null,null,null,null,null,null,null,null,null,null,null,null,null,null,null,null,null,null,null,null,null,{"$f":"VLOOKUP(A36,Spiele!$A$1:$L$116,10,FALSE)","v":"G4-G2"},null,null,44,{"$f":"VLOOKUP(BA36,Spiele!$A$1:$L$116,2,FALSE)","v":"2026-06-22T20:00:00"},{"$f":"VLOOKUP(BA36,Spiele!$A$1:$L$116,9,FALSE)","v":"San Francisco"},{"$f":"BY35","v":"J4"},"-",{"$f":"BY33","v":"J2"},null,1,":",0,"ok",null,null,null,null,null,null,null,null,{"$f":"IF(BK33=$B$98,BH33,0)","v":1},{"$f":"IF(BK35=$B$98,BH35,0)","v":1},{"$f":"IF(BK38=$B$98,BJ37,0)","v":0},null,null,null,null,null,null,null,null,null,null,null,null,null,null,null,null,null,null,null,null,null,null,null,null,null,null,null,{"$f":"VLOOKUP(BA36,Spiele!$A$1:$L$116,10,FALSE)","v":"J4-J2"}]
[64,{"$f":"VLOOKUP(A37,Spiele!$A$1:$L$116,2,FALSE)","v":"2026-06-26T20:00:00"},{"$f":"VLOOKUP(A37,Spiele!$A$1:$L$116,9,FALSE)","v":"Vancouver"},{"$f":"Y35","v":"G4"},"-",{"$f":"Y32","v":"G1"},null,1,":",0,"ok",null,{"$f":"IF(N32>0,M32,\"\")","v":"G4"},"1G",null,null,null,null,{"$f":"IF(K33=$B$98,J33,0)","v":0},null,{"$f":"IF(K37=$B$98,H38,0)","v":1},{"$f":"IF(K36=$B$98,J36,0)","v":0},null,null,null,null,null,null,null,"L0=AE hebelt Berechnung aus (top level Losen)",null,null,null,null,null,null,null,null,null,null,null,null,null,null,null,null,null,null,null,{"$f":"VLOOKUP(A37,Spiele!$A$1:$L$116,10,FALSE)","v":"G4-G1"},null,null,70,{"$f":"VLOOKUP(BA37,Spiele!$A$1:$L$116,2,FALSE)","v":"2026-06-27T21:00:00"},{"$f":"VLOOKUP(BA37,Spiele!$A$1:$L$116,9,FALSE)","v":"Dallas"},{"$f":"BY35","v":"J4"},"-",{"$f":"BY32","v":"J1"},null,1,":",0,"ok",null,{"$f":"IF(BN32>0,BM32,\"\")","v":"J4"},"1J",null,null,null,null,{"$f":"IF(BK33=$B$98,BJ33,0)","v":0},null,{"$f":"IF(BK37=$B$98,BH38,0)","v":1},{"$f":"IF(BK36=$B$98,BJ36,0)","v":0},null,null,null,null,null,null,null,"L0=AE hebelt Berechnung aus (top level Losen)",null,null,null,null,null,null,null,null,null,null,null,null,null,null,null,null,null,null,null,{"$f":"VLOOKUP(BA37,Spiele!$A$1:$L$116,10,FALSE)","v":"J4-J1"}]
[63,{"$f":"VLOOKUP(A38,Spiele!$A$1:$L$116,2,FALSE)","v":"2026-06-26T20:00:00"},{"$f":"VLOOKUP(A38,Spiele!$A$1:$L$116,9,FALSE)","v":"Seattle"},{"$f":"Y33","v":"G2"},"-",{"$f":"Y34","v":"G3"},null,1,":",0,"ok",null,{"$f":"IF(N33>0,M33,\"\")","v":"G1"},"2G",null,"DV",null,null,{"$f":"IF(K35=$B$98,J35,0)","v":0},{"$f":"IF(K37=$B$98,J38,0)","v":0},null,{"$f":"IF(K34=$B$98,H34,0)","v":1},null,null,null,null,null,null,null,"L1=AK hebelt Direktvergleich (S1) aus",null,null,null,null,null,null,null,null,null,null,null,null,null,null,null,null,null,null,null,{"$f":"VLOOKUP(A38,Spiele!$A$1:$L$116,10,FALSE)","v":"G2-G3"},null,null,69,{"$f":"VLOOKUP(BA38,Spiele!$A$1:$L$116,2,FALSE)","v":"2026-06-27T21:00:00"},{"$f":"VLOOKUP(BA38,Spiele!$A$1:$L$116,9,FALSE)","v":"Kansas City"},{"$f":"BY33","v":"J2"},"-",{"$f":"BY34","v":"J3"},null,1,":",0,"ok",null,{"$f":"IF(BN33>0,BM33,\"\")","v":"J1"},"2J",null,"DV",null,null,{"$f":"IF(BK35=$B$98,BJ35,0)","v":0},{"$f":"IF(BK37=$B$98,BJ38,0)","v":0},null,{"$f":"IF(BK34=$B$98,BH34,0)","v":1},null,null,null,null,null,null,null,"L1=AK hebelt Direktvergleich (S1) aus",null,null,null,null,null,null,null,null,null,null,null,null,null,null,null,null,null,null,null,{"$f":"VLOOKUP(BA38,Spiele!$A$1:$L$116,10,FALSE)","v":"J2-J3"}]
[null,null,null,null,null,null,null,null,null,null,null,null,{"$f":"IF(N34>0,M34,\"\")","v":"G2"},"3G",null,null,null,null,{"$f":"IF(K38=$B$98,H37,0)","v":1},{"$f":"IF(K36=$B$98,H36,0)","v":1},{"$f":"IF(K34=$B$98,J34,0)","v":0},null,null,null,null,null,null,null,null,"L4=AV Losen UEFA-Koeffizient, Fairplay oder Münzwurf",null,null,null,null,null,null,null,null,null,null,null,null,null,null,null,null,null,null,null,null,null,null,null,null,null,null,null,null,null,null,null,null,null,null,{"$f":"IF(BN34>0,BM34,\"\")","v":"J2"},"3J",null,null,null,null,{"$f":"IF(BK38=$B$98,BH37,0)","v":1},{"$f":"IF(BK36=$B$98,BH36,0)","v":1},{"$f":"IF(BK34=$B$98,BJ34,0)","v":0},null,null,null,null,null,null,null,null,"L4=AV Losen UEFA-Koeffizient, Fairplay oder Münzwurf"]
[]
[null,"Vorrunde","Gruppe H"," ",null,null,null,null,null,null,null,null,"Tabelle","P","T+","T-","T+/-",null,null,null,null,null,null,"G","Berechnungen","P","T+","T-","T+/-",null,"L0","DV",null,null,null,"S1","L1","DV-TD",null,null,null,"S2","DV-Tore",null,null,null,"S3","L4",null,null,null,null,null,"Vorrunde","Gruppe K"," ",null,null,null,null,null,null,null,null,"Tabelle","P","T+","T-","T+/-",null,null,null,null,null,null,"G","Berechnungen","P","T+","T-","T+/-",null,"L0","DV",null,null,null,"S1","L1","DV-TD",null,null,null,"S2","DV-Tore",null,null,null,"S3","L4"]
[null,"Datum/Zeit","Spielort",null,null,null,null,null,null,null,null,null,{"$f":"VLOOKUP(1,$X$42:$AC$45,2,FALSE)","v":"H4"},{"$f":"VLOOKUP(1,$X$42:$AC$45,3,FALSE)","v":6},{"$f":"VLOOKUP(1,$X$42:$AC$45,4,FALSE)","v":2},{"$f":"VLOOKUP(1,$X$42:$AC$45,5,FALSE)","v":1},{"$f":"VLOOKUP(1,$X$42:$AC$45,6,FALSE)","v":1},null,null,{"$f":"IF(H43=\"\",0,IF(K43=$B$98,IF(H43>J43,3,IF(H43=J43,1,0)),0))","v":3},{"$f":"IF(H45=\"\",0,IF(K45=$B$98,IF(H45>J45,3,IF(H45=J45,1,0)),0))","v":3},{"$f":"IF(J47=\"\",0,IF(K48=$B$98,IF(H47<J47,3,IF(H47=J47,1,0)),0))","v":0},null,{"$f":"RANK(AD42,$AD$42:$AD$45)","v":2},"H1",{"$f":"SUM(S42:V42)","v":6},{"$f":"SUM(S46:V46)","v":2},{"$f":"SUM(S46:S49)","v":1},{"$f":"AA42-AB42","v":1},{"$f":"IF(P$18=\"\",(((((((AE42*10+Z42)*100+AC42)*100+AA42)*10+AK42)*10+AJ42)*100+AP42)*100+AU42)*10+AV42,(((((((AE42*10+Z42)*10+AK42)*10+AJ42)*100+AP42)*100+AU42)*100+AC42)*100+AA42)*10+AV42)","v":596990001024},null,null,{"$f":"IF($Z42=$Z43,$T42-$S43,0)","v":0},{"$f":"IF($Z42=$Z44,$U42-$S44,0)","v":0},{"$f":"IF($Z42=$Z45,$V42-$S45,0)","v":-3},{"$f":"SUM(AF42:AI42)","v":-3},null,null,{"$f":"IF($Z42=$Z43,$T46-$S47,0)","v":0},{"$f":"IF($Z42=$Z44,$U46-$S48,0)","v":0},{"$f":"IF($Z42=$Z45,$V46-$S49,0)","v":-1},{"$f":"SUM(AL42:AO42)","v":-1},null,{"$f":"IF($Z42=$Z43,$T46,0)","v":0},{"$f":"IF($Z42=$Z44,$U46,0)","v":0},{"$f":"IF($Z42=$Z45,$V46,0)","v":0},{"$f":"SUM(AQ42:AT42)","v":0},4,null,null,null,null,null,"Datum/Zeit","Spielort",null,null,null,null,null,null,null,null,null,{"$f":"VLOOKUP(1,$BX$42:$CC$45,2,FALSE)","v":"K4"},{"$f":"VLOOKUP(1,$BX$42:$CC$45,3,FALSE)","v":6},{"$f":"VLOOKUP(1,$BX$42:$CC$45,4,FALSE)","v":2},{"$f":"VLOOKUP(1,$BX$42:$CC$45,5,FALSE)","v":1},{"$f":"VLOOKUP(1,$BX$42:$CC$45,6,FALSE)","v":1},null,null,{"$f":"IF(BH43=\"\",0,IF(BK43=$B$98,IF(BH43>BJ43,3,IF(BH43=BJ43,1,0)),0))","v":3},{"$f":"IF(BH45=\"\",0,IF(BK45=$B$98,IF(BH45>BJ45,3,IF(BH45=BJ45,1,0)),0))","v":3},{"$f":"IF(BJ47=\"\",0,IF(BK48=$B$98,IF(BH47<BJ47,3,IF(BH47=BJ47,1,0)),0))","v":0},null,{"$f":"RANK(CD42,$CD$42:$CD$45)","v":2},"K1",{"$f":"SUM(BS42:BV42)","v":6},{"$f":"SUM(BS46:BV46)","v":2},{"$f":"SUM(BS46:BS49)","v":1},{"$f":"CA42-CB42","v":1},{"$f":"IF(BP$8=\"\",(((((((CE42*10+BZ42)*100+CC42)*100+CA42)*10+CK42)*10+CJ42)*100+CP42)*100+CU42)*10+CV42,(((((((CE42*10+BZ42)*10+CK42)*10+CJ42)*100+CP42)*100+CU42)*100+CC42)*100+CA42)*10+CV42)","v":596990001024},null,null,{"$f":"IF($BZ42=$BZ43,$BT42-$BS43,0)","v":0},{"$f":"IF($BZ42=$BZ44,$BU42-$BS44,0)","v":0},{"$f":"IF($BZ42=$BZ45,$BV42-$BS45,0)","v":-3},{"$f":"SUM(CF42:CI42)","v":-3},null,null,{"$f":"IF($BZ42=$BZ43,$BT46-$BS47,0)","v":0},{"$f":"IF($BZ42=$BZ44,$BU46-$BS48,0)","v":0},{"$f":"IF($BZ42=$BZ45,$BV46-$BS49,0)","v":-1},{"$f":"SUM(CL42:CO42)","v":-1},null,{"$f":"IF($BZ42=$BZ43,$BT46,0)","v":0},{"$f":"IF($BZ42=$BZ44,$BU46,0)","v":0},{"$f":"IF($BZ42=$BZ45,$BV46,0)","v":0},{"$f":"SUM(CQ42:CT42)","v":0},4]
[14,{"$f":"VLOOKUP(A43,Spiele!$A$1:$L$116,2,FALSE)","v":"2026-06-15T12:00:00"},{"$f":"VLOOKUP(A43,Spiele!$A$1:$L$116,9,FALSE)","v":"Atlanta"},{"$f":"Y42","v":"H1"},"-",{"$f":"Y43","v":"H2"},null,{"$f":"IF($B$99=\"\",1,INT(RAND()*5)+INT(RAND()*3)*INT(RAND()*2))","v":1},":",{"$f":"IF($B$99=\"\",0,INT(RAND()*5)+INT(RAND()*3)*INT(RAND()*2))","v":0},"ok",null,{"$f":"VLOOKUP(2,$X$42:$AC$45,2,FALSE)","v":"H1"},{"$f":"VLOOKUP(2,$X$42:$AC$45,3,FALSE)","v":6},{"$f":"VLOOKUP(2,$X$42:$AC$45,4,FALSE)","v":2},{"$f":"VLOOKUP(2,$X$42:$AC$45,5,FALSE)","v":1},{"$f":"VLOOKUP(2,$X$42:$AC$45,6,FALSE)","v":1},null,{"$f":"IF(J43=\"\",0,IF(K43=$B$98,IF(H43<J43,3,IF(H43=J43,1,0)),0))","v":0},null,{"$f":"IF(H48=\"\",0,IF(K47=$B$98,IF(H48>J48,3,IF(H48=J48,1,0)),0))","v":3},{"$f":"IF(J46=\"\",0,IF(K46=$B$98,IF(J46>H46,3,IF(J46=H46,1,0)),0))","v":0},null,{"$f":"RANK(AD43,$AD$42:$AD$45)","v":3},"H2",{"$f":"SUM(S43:V43)","v":3},{"$f":"SUM(S47:V47)","v":1},{"$f":"SUM(T46:T49)","v":2},{"$f":"AA43-AB43","v":-1},{"$f":"IF(P$18=\"\",(((((((AE43*10+Z43)*100+AC43)*100+AA43)*10+AK43)*10+AJ43)*100+AP43)*100+AU43)*10+AV43,(((((((AE43*10+Z43)*10+AK43)*10+AJ43)*100+AP43)*100+AU43)*100+AC43)*100+AA43)*10+AV43)","v":303010099013},null,{"$f":"IF($Z43=$Z42,$S43-$T42,0)","v":0},null,{"$f":"IF($Z43=$Z44,$U43-$T44,0)","v":3},{"$f":"IF($Z43=$Z45,$V43-$T45,0)","v":0},{"$f":"SUM(AF43:AI43)","v":3},null,{"$f":"IF($Z43=$Z42,$S47-$T46,0)","v":0},null,{"$f":"IF($Z43=$Z44,$U47-$T48,0)","v":1},{"$f":"IF($Z43=$Z45,$V47-$T49,0)","v":0},{"$f":"SUM(AL43:AO43)","v":1},{"$f":"IF($Z43=$Z42,$S47,0)","v":0},null,{"$f":"IF($Z43=$Z44,$U47,0)","v":1},{"$f":"IF($Z43=$Z45,$V47,0)","v":0},{"$f":"SUM(AQ43:AT43)","v":1},3,null,{"$f":"VLOOKUP(A43,Spiele!$A$1:$L$116,10,FALSE)","v":"H1-H2"},null,null,23,{"$f":"VLOOKUP(BA43,Spiele!$A$1:$L$116,2,FALSE)","v":"2026-06-17T12:00:00"},{"$f":"VLOOKUP(BA43,Spiele!$A$1:$L$116,9,FALSE)","v":"Houston"},{"$f":"BY42","v":"K1"},"-",{"$f":"BY43","v":"K2"},null,{"$f":"IF($B$99=\"\",1,INT(RAND()*5)+INT(RAND()*3)*INT(RAND()*2))","v":1},":",{"$f":"IF($B$99=\"\",0,INT(RAND()*5)+INT(RAND()*3)*INT(RAND()*2))","v":0},"ok",null,{"$f":"VLOOKUP(2,$BX$42:$CC$45,2,FALSE)","v":"K1"},{"$f":"VLOOKUP(2,$BX$42:$CC$45,3,FALSE)","v":6},{"$f":"VLOOKUP(2,$BX$42:$CC$45,4,FALSE)","v":2},{"$f":"VLOOKUP(2,$BX$42:$CC$45,5,FALSE)","v":1},{"$f":"VLOOKUP(2,$BX$42:$CC$45,6,FALSE)","v":1},null,{"$f":"IF(BJ43=\"\",0,IF(BK43=$B$98,IF(BH43<BJ43,3,IF(BH43=BJ43,1,0)),0))","v":0},null,{"$f":"IF(BH48=\"\",0,IF(BK47=$B$98,IF(BH48>BJ48,3,IF(BH48=BJ48,1,0)),0))","v":3},{"$f":"IF(BJ46=\"\",0,IF(BK46=$B$98,IF(BJ46>BH46,3,IF(BJ46=BH46,1,0)),0))","v":0},null,{"$f":"RANK(CD43,$CD$42:$CD$45)","v":3},"K2",{"$f":"SUM(BS43:BV43)","v":3},{"$f":"SUM(BS47:BV47)","v":1},{"$f":"SUM(BT46:BT49)","v":2},{"$f":"CA43-CB43","v":-1},{"$f":"IF(BP$8=\"\",(((((((CE43*10+BZ43)*100+CC43)*100+CA43)*10+CK43)*10+CJ43)*100+CP43)*100+CU43)*10+CV43,(((((((CE43*10+BZ43)*10+CK43)*10+CJ43)*100+CP43)*100+CU43)*100+CC43)*100+CA43)*10+CV43)","v":303010099013},null,{"$f":"IF($BZ43=$BZ42,$BS43-$BT42,0)","v":0},null,{"$f":"IF($BZ43=$BZ44,$BU43-$BT44,0)","v":3},{"$f":"IF($BZ43=$BZ45,$BV43-$BT45,0)","v":0},{"$f":"SUM(CF43:CI43)","v":3},null,{"$f":"IF($BZ43=$BZ42,$BS47-$BT46,0)","v":0},null,{"$f":"IF($BZ43=$BZ44,$BU47-$BT48,0)","v":1},{"$f":"IF($BZ43=$BZ45,$BV47-$BT49,0)","v":0},{"$f":"SUM(CL43:CO43)","v":1},{"$f":"IF($BZ43=$BZ42,$BS47,0)","v":0},null,{"$f":"IF($BZ43=$BZ44,$BU47,0)","v":1},{"$f":"IF($BZ43=$BZ45,$BV47,0)","v":0},{"$f":"SUM(CQ43:CT43)","v":1},3,null,{"$f":"VLOOKUP(BA43,Spiele!$A$1:$L$116,10,FALSE)","v":"K1-K2"}]
[13,{"$f":"VLOOKUP(A44,Spiele!$A$1:$L$116,2,FALSE)","v":"2026-06-15T18:00:00"},{"$f":"VLOOKUP(A44,Spiele!$A$1:$L$116,9,FALSE)","v":"Miami"},{"$f":"Y44","v":"H3"},"-",{"$f":"Y45","v":"H4"},null,1,":",0,"ok",null,{"$f":"VLOOKUP(3,$X$42:$AC$45,2,FALSE)","v":"H2"},{"$f":"VLOOKUP(3,$X$42:$AC$45,3,FALSE)","v":3},{"$f":"VLOOKUP(3,$X$42:$AC$45,4,FALSE)","v":1},{"$f":"VLOOKUP(3,$X$42:$AC$45,5,FALSE)","v":2},{"$f":"VLOOKUP(3,$X$42:$AC$45,6,FALSE)","v":-1},null,{"$f":"IF(J45=\"\",0,IF(K45=$B$98,IF(H45<J45,3,IF(H45=J45,1,0)),0))","v":0},{"$f":"IF(J48=\"\",0,IF(K47=$B$98,IF(H48<J48,3,IF(H48=J48,1,0)),0))","v":0},null,{"$f":"IF(H44=\"\",0,IF(K44=$B$98,IF(H44>J44,3,IF(H44=J44,1,0)),0))","v":3},null,{"$f":"RANK(AD44,$AD$42:$AD$45)","v":4},"H3",{"$f":"SUM(S44:V44)","v":3},{"$f":"SUM(S48:V48)","v":1},{"$f":"SUM(U46:U49)","v":2},{"$f":"AA44-AB44","v":-1},{"$f":"IF(P$18=\"\",(((((((AE44*10+Z44)*100+AC44)*100+AA44)*10+AK44)*10+AJ44)*100+AP44)*100+AU44)*10+AV44,(((((((AE44*10+Z44)*10+AK44)*10+AJ44)*100+AP44)*100+AU44)*100+AC44)*100+AA44)*10+AV44)","v":296989999012},null,{"$f":"IF($Z44=$Z42,$S44-$U42,0)","v":0},{"$f":"IF($Z44=$Z43,$T44-$U43,0)","v":-3},null,{"$f":"IF($Z44=$Z45,$V44-$U45,0)","v":0},{"$f":"SUM(AF44:AI44)","v":-3},null,{"$f":"IF($Z44=$Z42,$S48-$U46,0)","v":0},{"$f":"IF($Z44=$Z43,$T48-$U47,0)","v":-1},null,{"$f":"IF($Z44=$Z45,$V48-$U49,0)","v":0},{"$f":"SUM(AL44:AO44)","v":-1},{"$f":"IF($Z44=$Z42,$S48,0)","v":0},{"$f":"IF($Z44=$Z43,$T48,0)","v":0},null,{"$f":"IF($Z44=$Z45,$V48,0)","v":0},{"$f":"SUM(AQ44:AT44)","v":0},2,null,{"$f":"VLOOKUP(A44,Spiele!$A$1:$L$116,10,FALSE)","v":"H3-H4"},null,null,24,{"$f":"VLOOKUP(BA44,Spiele!$A$1:$L$116,2,FALSE)","v":"2026-06-17T21:00:00"},{"$f":"VLOOKUP(BA44,Spiele!$A$1:$L$116,9,FALSE)","v":"Mexico City"},{"$f":"BY44","v":"K3"},"-",{"$f":"BY45","v":"K4"},null,1,":",0,"ok",null,{"$f":"VLOOKUP(3,$BX$42:$CC$45,2,FALSE)","v":"K2"},{"$f":"VLOOKUP(3,$BX$42:$CC$45,3,FALSE)","v":3},{"$f":"VLOOKUP(3,$BX$42:$CC$45,4,FALSE)","v":1},{"$f":"VLOOKUP(3,$BX$42:$CC$45,5,FALSE)","v":2},{"$f":"VLOOKUP(3,$BX$42:$CC$45,6,FALSE)","v":-1},null,{"$f":"IF(BJ45=\"\",0,IF(BK45=$B$98,IF(BH45<BJ45,3,IF(BH45=BJ45,1,0)),0))","v":0},{"$f":"IF(BJ48=\"\",0,IF(BK47=$B$98,IF(BH48<BJ48,3,IF(BH48=BJ48,1,0)),0))","v":0},null,{"$f":"IF(BH44=\"\",0,IF(BK44=$B$98,IF(BH44>BJ44,3,IF(BH44=BJ44,1,0)),0))","v":3},null,{"$f":"RANK(CD44,$CD$42:$CD$45)","v":4},"K3",{"$f":"SUM(BS44:BV44)","v":3},{"$f":"SUM(BS48:BV48)","v":1},{"$f":"SUM(BU46:BU49)","v":2},{"$f":"CA44-CB44","v":-1},{"$f":"IF(BP$8=\"\",(((((((CE44*10+BZ44)*100+CC44)*100+CA44)*10+CK44)*10+CJ44)*100+CP44)*100+CU44)*10+CV44,(((((((CE44*10+BZ44)*10+CK44)*10+CJ44)*100+CP44)*100+CU44)*100+CC44)*100+CA44)*10+CV44)","v":296989999012},null,{"$f":"IF($BZ44=$BZ42,$BS44-$BU42,0)","v":0},{"$f":"IF($BZ44=$BZ43,$BT44-$BU43,0)","v":-3},null,{"$f":"IF($BZ44=$BZ45,$BV44-$BU45,0)","v":0},{"$f":"SUM(CF44:CI44)","v":-3},null,{"$f":"IF($BZ44=$BZ42,$BS48-$BU46,0)","v":0},{"$f":"IF($BZ44=$BZ43,$BT48-$BU47,0)","v":-1},null,{"$f":"IF($BZ44=$BZ45,$BV48-$BU49,0)","v":0},{"$f":"SUM(CL44:CO44)","v":-1},{"$f":"IF($BZ44=$BZ42,$BS48,0)","v":0},{"$f":"IF($BZ44=$BZ43,$BT48,0)","v":0},null,{"$f":"IF($BZ44=$BZ45,$BV48,0)","v":0},{"$f":"SUM(CQ44:CT44)","v":0},2,null,{"$f":"VLOOKUP(BA44,Spiele!$A$1:$L$116,10,FALSE)","v":"K3-K4"}]
[38,{"$f":"VLOOKUP(A45,Spiele!$A$1:$L$116,2,FALSE)","v":"2026-06-21T12:00:00"},{"$f":"VLOOKUP(A45,Spiele!$A$1:$L$116,9,FALSE)","v":"Atlanta"},{"$f":"Y42","v":"H1"},"-",{"$f":"Y44","v":"H3"},null,1,":",0,"ok",null,{"$f":"VLOOKUP(4,$X$42:$AC$45,2,FALSE)","v":"H3"},{"$f":"VLOOKUP(4,$X$42:$AC$45,3,FALSE)","v":3},{"$f":"VLOOKUP(4,$X$42:$AC$45,4,FALSE)","v":1},{"$f":"VLOOKUP(4,$X$42:$AC$45,5,FALSE)","v":2},{"$f":"VLOOKUP(4,$X$42:$AC$45,6,FALSE)","v":-1},null,{"$f":"IF(H47=\"\",0,IF(K48=$B$98,IF(H47>J47,3,IF(H47=J47,1,0)),0))","v":3},{"$f":"IF(H46=\"\",0,IF(K46=$B$98,IF(J46<H46,3,IF(J46=H46,1,0)),0))","v":3},{"$f":"IF(J44=\"\",0,IF(K44=$B$98,IF(H44<J44,3,IF(H44=J44,1,0)),0))","v":0},null,null,{"$f":"RANK(AD45,$AD$42:$AD$45)","v":1},"H4",{"$f":"SUM(S45:V45)","v":6},{"$f":"SUM(S49:V49)","v":2},{"$f":"SUM(V46:V49)","v":1},{"$f":"AA45-AB45","v":1},{"$f":"IF(P$18=\"\",(((((((AE45*10+Z45)*100+AC45)*100+AA45)*10+AK45)*10+AJ45)*100+AP45)*100+AU45)*10+AV45,(((((((AE45*10+Z45)*10+AK45)*10+AJ45)*100+AP45)*100+AU45)*100+AC45)*100+AA45)*10+AV45)","v":603010101021},null,{"$f":"IF($Z45=$Z42,$S45-$V42,0)","v":3},{"$f":"IF($Z45=$Z43,$T45-$V43,0)","v":0},{"$f":"IF($Z45=$Z44,$U45-$V44,0)","v":0},null,{"$f":"SUM(AF45:AI45)","v":3},null,{"$f":"IF($Z45=$Z42,$S49-$V46,0)","v":1},{"$f":"IF($Z45=$Z43,$T49-$V47,0)","v":0},{"$f":"IF($Z45=$Z44,$U49-$V48,0)","v":0},null,{"$f":"SUM(AL45:AO45)","v":1},{"$f":"IF($Z45=$Z42,$S49,0)","v":1},{"$f":"IF($Z45=$Z43,$T49,0)","v":0},{"$f":"IF($Z45=$Z44,$U49,0)","v":0},null,{"$f":"SUM(AQ45:AT45)","v":1},1,null,{"$f":"VLOOKUP(A45,Spiele!$A$1:$L$116,10,FALSE)","v":"H1-H3"},null,null,47,{"$f":"VLOOKUP(BA45,Spiele!$A$1:$L$116,2,FALSE)","v":"2026-06-23T12:00:00"},{"$f":"VLOOKUP(BA45,Spiele!$A$1:$L$116,9,FALSE)","v":"Houston"},{"$f":"BY42","v":"K1"},"-",{"$f":"BY44","v":"K3"},null,1,":",0,"ok",null,{"$f":"VLOOKUP(4,$BX$42:CC$45,2,FALSE)","v":"K3"},{"$f":"VLOOKUP(4,$BX$42:$CC$45,3,FALSE)","v":3},{"$f":"VLOOKUP(4,$BX$42:$CC$45,4,FALSE)","v":1},{"$f":"VLOOKUP(4,$BX$42:$CC$45,5,FALSE)","v":2},{"$f":"VLOOKUP(4,$BX$42:$CC$45,6,FALSE)","v":-1},null,{"$f":"IF(BH47=\"\",0,IF(BK48=$B$98,IF(BH47>BJ47,3,IF(BH47=BJ47,1,0)),0))","v":3},{"$f":"IF(BH46=\"\",0,IF(BK46=$B$98,IF(BJ46<BH46,3,IF(BJ46=BH46,1,0)),0))","v":3},{"$f":"IF(BJ44=\"\",0,IF(BK44=$B$98,IF(BH44<BJ44,3,IF(BH44=BJ44,1,0)),0))","v":0},null,null,{"$f":"RANK(CD45,$CD$42:$CD$45)","v":1},"K4",{"$f":"SUM(BS45:BV45)","v":6},{"$f":"SUM(BS49:BV49)","v":2},{"$f":"SUM(BV46:BV49)","v":1},{"$f":"CA45-CB45","v":1},{"$f":"IF(BP$8=\"\",(((((((CE45*10+BZ45)*100+CC45)*100+CA45)*10+CK45)*10+CJ45)*100+CP45)*100+CU45)*10+CV45,(((((((CE45*10+BZ45)*10+CK45)*10+CJ45)*100+CP45)*100+CU45)*100+CC45)*100+CA45)*10+CV45)","v":603010101021},null,{"$f":"IF($BZ45=$BZ42,$BS45-$BV42,0)","v":3},{"$f":"IF($BZ45=$BZ43,$BT45-$BV43,0)","v":0},{"$f":"IF($BZ45=$BZ44,$BU45-$BV44,0)","v":0},null,{"$f":"SUM(CF45:CI45)","v":3},null,{"$f":"IF($BZ45=$BZ42,$BS49-$BV46,0)","v":1},{"$f":"IF($BZ45=$BZ43,$BT49-$BV47,0)","v":0},{"$f":"IF($BZ45=$BZ44,$BU49-$BV48,0)","v":0},null,{"$f":"SUM(CL45:CO45)","v":1},{"$f":"IF($BZ45=$BZ42,$BS49,0)","v":1},{"$f":"IF($BZ45=$BZ43,$BT49,0)","v":0},{"$f":"IF($BZ45=$BZ44,$BU49,0)","v":0},null,{"$f":"SUM(CQ45:CT45)","v":1},1,null,{"$f":"VLOOKUP(BA45,Spiele!$A$1:$L$116,10,FALSE)","v":"K1-K3"}]
[37,{"$f":"VLOOKUP(A46,Spiele!$A$1:$L$116,2,FALSE)","v":"2026-06-21T18:00:00"},{"$f":"VLOOKUP(A46,Spiele!$A$1:$L$116,9,FALSE)","v":"Miami"},{"$f":"Y45","v":"H4"},"-",{"$f":"Y43","v":"H2"},null,1,":",0,"ok",null,null,null,null,null,null,null,null,{"$f":"IF(K43=$B$98,H43,0)","v":1},{"$f":"IF(K45=$B$98,H45,0)","v":1},{"$f":"IF(K48=$B$98,J47,0)","v":0},null,null,null,null,null,null,null,null,null,null,null,null,null,null,null,null,null,null,null,null,null,null,null,null,null,null,null,{"$f":"VLOOKUP(A46,Spiele!$A$1:$L$116,10,FALSE)","v":"H4-H2"},null,null,48,{"$f":"VLOOKUP(BA46,Spiele!$A$1:$L$116,2,FALSE)","v":"2026-06-23T21:00:00"},{"$f":"VLOOKUP(BA46,Spiele!$A$1:$L$116,9,FALSE)","v":"Guadalajara"},{"$f":"BY45","v":"K4"},"-",{"$f":"BY43","v":"K2"},null,1,":",0,"ok",null,null,null,null,null,null,null,null,{"$f":"IF(BK43=$B$98,BH43,0)","v":1},{"$f":"IF(BK45=$B$98,BH45,0)","v":1},{"$f":"IF(BK48=$B$98,BJ47,0)","v":0},null,null,null,null,null,null,null,null,null,null,null,null,null,null,null,null,null,null,null,null,null,null,null,null,null,null,null,{"$f":"VLOOKUP(BA46,Spiele!$A$1:$L$116,10,FALSE)","v":"K4-K2"}]
[66,{"$f":"VLOOKUP(A47,Spiele!$A$1:$L$116,2,FALSE)","v":"2026-06-26T19:00:00"},{"$f":"VLOOKUP(A47,Spiele!$A$1:$L$116,9,FALSE)","v":"Guadalajara"},{"$f":"Y45","v":"H4"},"-",{"$f":"Y42","v":"H1"},null,1,":",0,"ok",null,{"$f":"IF(N42>0,M42,\"\")","v":"H4"},"1H",null,null,null,null,{"$f":"IF(K43=$B$98,J43,0)","v":0},null,{"$f":"IF(K47=$B$98,H48,0)","v":1},{"$f":"IF(K46=$B$98,J46,0)","v":0},null,null,null,null,null,null,null,"L0=AE hebelt Berechnung aus (top level Losen)",null,null,null,null,null,null,null,null,null,null,null,null,null,null,null,null,null,null,null,{"$f":"VLOOKUP(A47,Spiele!$A$1:$L$116,10,FALSE)","v":"H4-H1"},null,null,72,{"$f":"VLOOKUP(BA47,Spiele!$A$1:$L$116,2,FALSE)","v":"2026-06-27T19:30:00"},{"$f":"VLOOKUP(BA47,Spiele!$A$1:$L$116,9,FALSE)","v":"Atlanta"},{"$f":"BY45","v":"K4"},"-",{"$f":"BY42","v":"K1"},null,1,":",0,"ok",null,{"$f":"IF(BN42>0,BM42,\"\")","v":"K4"},"1K",null,null,null,null,{"$f":"IF(BK43=$B$98,BJ43,0)","v":0},null,{"$f":"IF(BK47=$B$98,BH48,0)","v":1},{"$f":"IF(BK46=$B$98,BJ46,0)","v":0},null,null,null,null,null,null,null,"L0=AE hebelt Berechnung aus (top level Losen)",null,null,null,null,null,null,null,null,null,null,null,null,null,null,null,null,null,null,null,{"$f":"VLOOKUP(BA47,Spiele!$A$1:$L$116,10,FALSE)","v":"K2-K3"}]
[65,{"$f":"VLOOKUP(A48,Spiele!$A$1:$L$116,2,FALSE)","v":"2026-06-26T19:00:00"},{"$f":"VLOOKUP(A48,Spiele!$A$1:$L$116,9,FALSE)","v":"Houston"},{"$f":"Y43","v":"H2"},"-",{"$f":"Y44","v":"H3"},null,1,":",0,"ok",null,{"$f":"IF(N43>0,M43,\"\")","v":"H1"},"2H",null,"DV",null,null,{"$f":"IF(K45=$B$98,J45,0)","v":0},{"$f":"IF(K47=$B$98,J48,0)","v":0},null,{"$f":"IF(K44=$B$98,H44,0)","v":1},null,null,null,null,null,null,null,"L1=AK hebelt Direktvergleich (S1) aus",null,null,null,null,null,null,null,null,null,null,null,null,null,null,null,null,null,null,null,{"$f":"VLOOKUP(A48,Spiele!$A$1:$L$116,10,FALSE)","v":"H2-H3"},null,null,71,{"$f":"VLOOKUP(BA48,Spiele!$A$1:$L$116,2,FALSE)","v":"2026-06-27T19:30:00"},{"$f":"VLOOKUP(BA48,Spiele!$A$1:$L$116,9,FALSE)","v":"Miami"},{"$f":"BY43","v":"K2"},"-",{"$f":"BY44","v":"K3"},null,1,":",0,"ok",null,{"$f":"IF(BN43>0,BM43,\"\")","v":"K1"},"2K",null,"DV",null,null,{"$f":"IF(BK45=$B$98,BJ45,0)","v":0},{"$f":"IF(BK47=$B$98,BJ48,0)","v":0},null,{"$f":"IF(BK44=$B$98,BH44,0)","v":1},null,null,null,null,null,null,null,"L1=AK hebelt Direktvergleich (S1) aus",null,null,null,null,null,null,null,null,null,null,null,null,null,null,null,null,null,null,null,{"$f":"VLOOKUP(BA48,Spiele!$A$1:$L$116,10,FALSE)","v":"K4-K1"}]
[null,null,null,null,null,null,null,null,null,null,null,null,{"$f":"IF(N44>0,M44,\"\")","v":"H2"},"3H",null,null,null,null,{"$f":"IF(K48=$B$98,H47,0)","v":1},{"$f":"IF(K46=$B$98,H46,0)","v":1},{"$f":"IF(K44=$B$98,J44,0)","v":0},null,null,null,null,null,null,null,null,"L4=AV Losen UEFA-Koeffizient, Fairplay oder Münzwurf",null,null,null,null,null,null,null,null,null,null,null,null,null,null,null,null,null,null,null,null,null,null,null," ",null,null,null,null,null,null,null,null,null,null,{"$f":"IF(BN44>0,BM44,\"\")","v":"K2"},"3K",null,null,null,null,{"$f":"IF(BK48=$B$98,BH47,0)","v":1},{"$f":"IF(BK46=$B$98,BH46,0)","v":1},{"$f":"IF(BK44=$B$98,BJ44,0)","v":0},null,null,null,null,null,null,null,null,"L4=AV Losen UEFA-Koeffizient, Fairplay oder Münzwurf"]
[]
[null,"Vorrunde","Gruppe I"," ",null,null,null,null,null,null,null,null,"Tabelle","P","T+","T-","T+/-",null,null,null,null,null,null,"G","Berechnungen","P","T+","T-","T+/-",null,"L0","DV",null,null,null,"S1","L1","DV-TD",null,null,null,"S2","DV-Tore",null,null,null,"S3","L4",null,null,null,null,null,"Vorrunde","Gruppe L"," ",null,null,null,null,null,null,null,null,"Tabelle","P","T+","T-","T+/-",null,null,null,null,null,null,"G","Berechnungen","P","T+","T-","T+/-",null,"L0","DV",null,null,null,"S1","L1","DV-TD",null,null,null,"S2","DV-Tore",null,null,null,"S3","L4"]
[null,"Datum/Zeit","Spielort",null,null,null,null,null,null,null,null,null,{"$f":"VLOOKUP(1,$X$52:$AC$55,2,FALSE)","v":"I4"},{"$f":"VLOOKUP(1,$X$52:$AC$55,3,FALSE)","v":6},{"$f":"VLOOKUP(1,$X$52:$AC$55,4,FALSE)","v":2},{"$f":"VLOOKUP(1,$X$52:$AC$55,5,FALSE)","v":1},{"$f":"VLOOKUP(1,$X$52:$AC$55,6,FALSE)","v":1},null,null,{"$f":"IF(H53=\"\",0,IF(K53=$B$98,IF(H53>J53,3,IF(H53=J53,1,0)),0))","v":3},{"$f":"IF(H55=\"\",0,IF(K55=$B$98,IF(H55>J55,3,IF(H55=J55,1,0)),0))","v":3},{"$f":"IF(J57=\"\",0,IF(K58=$B$98,IF(H57<J57,3,IF(H57=J57,1,0)),0))","v":0},null,{"$f":"RANK(AD52,$AD$52:$AD$55)","v":2},"I1",{"$f":"SUM(S52:V52)","v":6},{"$f":"SUM(S56:V56)","v":2},{"$f":"SUM(S56:S59)","v":1},{"$f":"AA52-AB52","v":1},{"$f":"IF(P$28=\"\",(((((((AE52*10+Z52)*100+AC52)*100+AA52)*10+AK52)*10+AJ52)*100+AP52)*100+AU52)*10+AV52,(((((((AE52*10+Z52)*10+AK52)*10+AJ52)*100+AP52)*100+AU52)*100+AC52)*100+AA52)*10+AV52)","v":596990001024},null,null,{"$f":"IF($Z52=$Z53,$T52-$S53,0)","v":0},{"$f":"IF($Z52=$Z54,$U52-$S54,0)","v":0},{"$f":"IF($Z52=$Z55,$V52-$S55,0)","v":-3},{"$f":"SUM(AF52:AI52)","v":-3},null,null,{"$f":"IF($Z52=$Z53,$T56-$S57,0)","v":0},{"$f":"IF($Z52=$Z54,$U56-$S58,0)","v":0},{"$f":"IF($Z52=$Z55,$V56-$S59,0)","v":-1},{"$f":"SUM(AL52:AO52)","v":-1},null,{"$f":"IF($Z52=$Z53,$T56,0)","v":0},{"$f":"IF($Z52=$Z54,$U56,0)","v":0},{"$f":"IF($Z52=$Z55,$V56,0)","v":0},{"$f":"SUM(AQ52:AT52)","v":0},4,null,null,null,null,null,"Datum/Zeit","Spielort",null,null,null,null,null,null,null,null,null,{"$f":"VLOOKUP(1,$BX$52:$CC$55,2,FALSE)","v":"L4"},{"$f":"VLOOKUP(1,$BX$52:$CC$55,3,FALSE)","v":6},{"$f":"VLOOKUP(1,$BX$52:$CC$55,4,FALSE)","v":2},{"$f":"VLOOKUP(1,$BX$52:$CC$55,5,FALSE)","v":1},{"$f":"VLOOKUP(1,$BX$52:$CC$55,6,FALSE)","v":1},null,null,{"$f":"IF(BH53=\"\",0,IF(BK53=$B$98,IF(BH53>BJ53,3,IF(BH53=BJ53,1,0)),0))","v":3},{"$f":"IF(BH55=\"\",0,IF(BK55=$B$98,IF(BH55>BJ55,3,IF(BH55=BJ55,1,0)),0))","v":3},{"$f":"IF(BJ57=\"\",0,IF(BK58=$B$98,IF(BH57<BJ57,3,IF(BH57=BJ57,1,0)),0))","v":0},null,{"$f":"RANK(CD52,$CD$52:$CD$55)","v":2},"L1",{"$f":"SUM(BS52:BV52)","v":6},{"$f":"SUM(BS56:BV56)","v":2},{"$f":"SUM(BS56:BS59)","v":1},{"$f":"CA52-CB52","v":1},{"$f":"IF(BP$28=\"\",(((((((CE52*10+BZ52)*100+CC52)*100+CA52)*10+CK52)*10+CJ52)*100+CP52)*100+CU52)*10+CV52,(((((((CE52*10+BZ52)*10+CK52)*10+CJ52)*100+CP52)*100+CU52)*100+CC52)*100+CA52)*10+CV52)","v":596990001024},null,null,{"$f":"IF($BZ52=$BZ53,$BT52-$BS53,0)","v":0},{"$f":"IF($BZ52=$BZ54,$BU52-$BS54,0)","v":0},{"$f":"IF($BZ52=$BZ55,$BV52-$BS55,0)","v":-3},{"$f":"SUM(CF52:CI52)","v":-3},null,null,{"$f":"IF($BZ52=$BZ53,$BT56-$BS57,0)","v":0},{"$f":"IF($BZ52=$BZ54,$BU56-$BS58,0)","v":0},{"$f":"IF($BZ52=$BZ55,$BV56-$BS59,0)","v":-1},{"$f":"SUM(CL52:CO52)","v":-1},null,{"$f":"IF($BZ52=$BZ53,$BT56,0)","v":0},{"$f":"IF($BZ52=$BZ54,$BU56,0)","v":0},{"$f":"IF($BZ52=$BZ55,$BV56,0)","v":0},{"$f":"SUM(CQ52:CT52)","v":0},4]
[17,{"$f":"VLOOKUP(A53,Spiele!$A$1:$L$116,2,FALSE)","v":"2026-06-16T15:00:00"},{"$f":"VLOOKUP(A53,Spiele!$A$1:$L$116,9,FALSE)","v":"New York"},{"$f":"Y52","v":"I1"},"-",{"$f":"Y53","v":"I2"},null,{"$f":"IF($B$99=\"\",1,INT(RAND()*5)+INT(RAND()*3)*INT(RAND()*2))","v":1},":",{"$f":"IF($B$99=\"\",0,INT(RAND()*5)+INT(RAND()*3)*INT(RAND()*2))","v":0},"ok",null,{"$f":"VLOOKUP(2,$X$52:$AC$55,2,FALSE)","v":"I1"},{"$f":"VLOOKUP(2,$X$52:$AC$55,3,FALSE)","v":6},{"$f":"VLOOKUP(2,$X$52:$AC$55,4,FALSE)","v":2},{"$f":"VLOOKUP(2,$X$52:$AC$55,5,FALSE)","v":1},{"$f":"VLOOKUP(2,$X$52:$AC$55,6,FALSE)","v":1},null,{"$f":"IF(J53=\"\",0,IF(K53=$B$98,IF(H53<J53,3,IF(H53=J53,1,0)),0))","v":0},null,{"$f":"IF(H58=\"\",0,IF(K57=$B$98,IF(H58>J58,3,IF(H58=J58,1,0)),0))","v":3},{"$f":"IF(J56=\"\",0,IF(K56=$B$98,IF(J56>H56,3,IF(J56=H56,1,0)),0))","v":0},null,{"$f":"RANK(AD53,$AD$52:$AD$55)","v":3},"I2",{"$f":"SUM(S53:V53)","v":3},{"$f":"SUM(S57:V57)","v":1},{"$f":"SUM(T56:T59)","v":2},{"$f":"AA53-AB53","v":-1},{"$f":"IF(P$28=\"\",(((((((AE53*10+Z53)*100+AC53)*100+AA53)*10+AK53)*10+AJ53)*100+AP53)*100+AU53)*10+AV53,(((((((AE53*10+Z53)*10+AK53)*10+AJ53)*100+AP53)*100+AU53)*100+AC53)*100+AA53)*10+AV53)","v":303010099013},null,{"$f":"IF($Z53=$Z52,$S53-$T52,0)","v":0},null,{"$f":"IF($Z53=$Z54,$U53-$T54,0)","v":3},{"$f":"IF($Z53=$Z55,$V53-$T55,0)","v":0},{"$f":"SUM(AF53:AI53)","v":3},null,{"$f":"IF($Z53=$Z52,$S57-$T56,0)","v":0},null,{"$f":"IF($Z53=$Z54,$U57-$T58,0)","v":1},{"$f":"IF($Z53=$Z55,$V57-$T59,0)","v":0},{"$f":"SUM(AL53:AO53)","v":1},{"$f":"IF($Z53=$Z52,$S57,0)","v":0},null,{"$f":"IF($Z53=$Z54,$U57,0)","v":1},{"$f":"IF($Z53=$Z55,$V57,0)","v":0},{"$f":"SUM(AQ53:AT53)","v":1},3,null,{"$f":"VLOOKUP(A53,Spiele!$A$1:$L$116,10,FALSE)","v":"I1-I2"},null,null,22,{"$f":"VLOOKUP(BA53,Spiele!$A$1:$L$116,2,FALSE)","v":"2026-06-17T15:00:00"},{"$f":"VLOOKUP(BA53,Spiele!$A$1:$L$116,9,FALSE)","v":"Dallas"},{"$f":"BY52","v":"L1"},"-",{"$f":"BY53","v":"L2"},null,{"$f":"IF($B$99=\"\",1,INT(RAND()*5)+INT(RAND()*3)*INT(RAND()*2))","v":1},":",{"$f":"IF($B$99=\"\",0,INT(RAND()*5)+INT(RAND()*3)*INT(RAND()*2))","v":0},"ok",null,{"$f":"VLOOKUP(2,$BX$52:$CC$55,2,FALSE)","v":"L1"},{"$f":"VLOOKUP(2,$BX$52:$CC$55,3,FALSE)","v":6},{"$f":"VLOOKUP(2,$BX$52:$CC$55,4,FALSE)","v":2},{"$f":"VLOOKUP(2,$BX$52:$CC$55,5,FALSE)","v":1},{"$f":"VLOOKUP(2,$BX$52:$CC$55,6,FALSE)","v":1},null,{"$f":"IF(BJ53=\"\",0,IF(BK53=$B$98,IF(BH53<BJ53,3,IF(BH53=BJ53,1,0)),0))","v":0},null,{"$f":"IF(BH58=\"\",0,IF(BK57=$B$98,IF(BH58>BJ58,3,IF(BH58=BJ58,1,0)),0))","v":3},{"$f":"IF(BJ56=\"\",0,IF(BK56=$B$98,IF(BJ56>BH56,3,IF(BJ56=BH56,1,0)),0))","v":0},null,{"$f":"RANK(CD53,$CD$52:$CD$55)","v":3},"L2",{"$f":"SUM(BS53:BV53)","v":3},{"$f":"SUM(BS57:BV57)","v":1},{"$f":"SUM(BT56:BT59)","v":2},{"$f":"CA53-CB53","v":-1},{"$f":"IF(BP$28=\"\",(((((((CE53*10+BZ53)*100+CC53)*100+CA53)*10+CK53)*10+CJ53)*100+CP53)*100+CU53)*10+CV53,(((((((CE53*10+BZ53)*10+CK53)*10+CJ53)*100+CP53)*100+CU53)*100+CC53)*100+CA53)*10+CV53)","v":303010099013},null,{"$f":"IF($BZ53=$BZ52,$BS53-$BT52,0)","v":0},null,{"$f":"IF($BZ53=$BZ54,$BU53-$BT54,0)","v":3},{"$f":"IF($BZ53=$BZ55,$BV53-$BT55,0)","v":0},{"$f":"SUM(CF53:CI53)","v":3},null,{"$f":"IF($BZ53=$BZ52,$BS57-$BT56,0)","v":0},null,{"$f":"IF($BZ53=$BZ54,$BU57-$BT58,0)","v":1},{"$f":"IF($BZ53=$BZ55,$BV57-$BT59,0)","v":0},{"$f":"SUM(CL53:CO53)","v":1},{"$f":"IF($BZ53=$BZ52,$BS57,0)","v":0},null,{"$f":"IF($BZ53=$BZ54,$BU57,0)","v":1},{"$f":"IF($BZ53=$BZ55,$BV57,0)","v":0},{"$f":"SUM(CQ53:CT53)","v":1},3,null,{"$f":"VLOOKUP(BA53,Spiele!$A$1:$L$116,10,FALSE)","v":"L1-L2"}]
[18,{"$f":"VLOOKUP(A54,Spiele!$A$1:$L$116,2,FALSE)","v":"2026-06-16T18:00:00"},{"$f":"VLOOKUP(A54,Spiele!$A$1:$L$116,9,FALSE)","v":"Boston"},{"$f":"Y54","v":"I3"},"-",{"$f":"Y55","v":"I4"},null,1,":",0,"ok",null,{"$f":"VLOOKUP(3,$X$52:$AC$55,2,FALSE)","v":"I2"},{"$f":"VLOOKUP(3,$X$52:$AC$55,3,FALSE)","v":3},{"$f":"VLOOKUP(3,$X$52:$AC$55,4,FALSE)","v":1},{"$f":"VLOOKUP(3,$X$52:$AC$55,5,FALSE)","v":2},{"$f":"VLOOKUP(3,$X$52:$AC$55,6,FALSE)","v":-1},null,{"$f":"IF(J55=\"\",0,IF(K55=$B$98,IF(H55<J55,3,IF(H55=J55,1,0)),0))","v":0},{"$f":"IF(J58=\"\",0,IF(K57=$B$98,IF(H58<J58,3,IF(H58=J58,1,0)),0))","v":0},null,{"$f":"IF(H54=\"\",0,IF(K54=$B$98,IF(H54>J54,3,IF(H54=J54,1,0)),0))","v":3},null,{"$f":"RANK(AD54,$AD$52:$AD$55)","v":4},"I3",{"$f":"SUM(S54:V54)","v":3},{"$f":"SUM(S58:V58)","v":1},{"$f":"SUM(U56:U59)","v":2},{"$f":"AA54-AB54","v":-1},{"$f":"IF(P$28=\"\",(((((((AE54*10+Z54)*100+AC54)*100+AA54)*10+AK54)*10+AJ54)*100+AP54)*100+AU54)*10+AV54,(((((((AE54*10+Z54)*10+AK54)*10+AJ54)*100+AP54)*100+AU54)*100+AC54)*100+AA54)*10+AV54)","v":296989999012},null,{"$f":"IF($Z54=$Z52,$S54-$U52,0)","v":0},{"$f":"IF($Z54=$Z53,$T54-$U53,0)","v":-3},null,{"$f":"IF($Z54=$Z55,$V54-$U55,0)","v":0},{"$f":"SUM(AF54:AI54)","v":-3},null,{"$f":"IF($Z54=$Z52,$S58-$U56,0)","v":0},{"$f":"IF($Z54=$Z53,$T58-$U57,0)","v":-1},null,{"$f":"IF($Z54=$Z55,$V58-$U59,0)","v":0},{"$f":"SUM(AL54:AO54)","v":-1},{"$f":"IF($Z54=$Z52,$S58,0)","v":0},{"$f":"IF($Z54=$Z53,$T58,0)","v":0},null,{"$f":"IF($Z54=$Z55,$V58,0)","v":0},{"$f":"SUM(AQ54:AT54)","v":0},2,null,{"$f":"VLOOKUP(A54,Spiele!$A$1:$L$116,10,FALSE)","v":"I3-I4"},null,null,21,{"$f":"VLOOKUP(BA54,Spiele!$A$1:$L$116,2,FALSE)","v":"2026-06-17T19:00:00"},{"$f":"VLOOKUP(BA54,Spiele!$A$1:$L$116,9,FALSE)","v":"Toronto"},{"$f":"BY54","v":"L3"},"-",{"$f":"BY55","v":"L4"},null,1,":",0,"ok",null,{"$f":"VLOOKUP(3,$BX$52:$CC$55,2,FALSE)","v":"L2"},{"$f":"VLOOKUP(3,$BX$52:$CC$55,3,FALSE)","v":3},{"$f":"VLOOKUP(3,$BX$52:$CC$55,4,FALSE)","v":1},{"$f":"VLOOKUP(3,$BX$52:$CC$55,5,FALSE)","v":2},{"$f":"VLOOKUP(3,$BX$52:$CC$55,6,FALSE)","v":-1},null,{"$f":"IF(BJ55=\"\",0,IF(BK55=$B$98,IF(BH55<BJ55,3,IF(BH55=BJ55,1,0)),0))","v":0},{"$f":"IF(BJ58=\"\",0,IF(BK57=$B$98,IF(BH58<BJ58,3,IF(BH58=BJ58,1,0)),0))","v":0},null,{"$f":"IF(BH54=\"\",0,IF(BK54=$B$98,IF(BH54>BJ54,3,IF(BH54=BJ54,1,0)),0))","v":3},null,{"$f":"RANK(CD54,$CD$52:$CD$55)","v":4},"L3",{"$f":"SUM(BS54:BV54)","v":3},{"$f":"SUM(BS58:BV58)","v":1},{"$f":"SUM(BU56:BU59)","v":2},{"$f":"CA54-CB54","v":-1},{"$f":"IF(BP$28=\"\",(((((((CE54*10+BZ54)*100+CC54)*100+CA54)*10+CK54)*10+CJ54)*100+CP54)*100+CU54)*10+CV54,(((((((CE54*10+BZ54)*10+CK54)*10+CJ54)*100+CP54)*100+CU54)*100+CC54)*100+CA54)*10+CV54)","v":296989999012},null,{"$f":"IF($BZ54=$BZ52,$BS54-$BU52,0)","v":0},{"$f":"IF($BZ54=$BZ53,$BT54-$BU53,0)","v":-3},null,{"$f":"IF($BZ54=$BZ55,$BV54-$BU55,0)","v":0},{"$f":"SUM(CF54:CI54)","v":-3},null,{"$f":"IF($BZ54=$BZ52,$BS58-$BU56,0)","v":0},{"$f":"IF($BZ54=$BZ53,$BT58-$BU57,0)","v":-1},null,{"$f":"IF($BZ54=$BZ55,$BV58-$BU59,0)","v":0},{"$f":"SUM(CL54:CO54)","v":-1},{"$f":"IF($BZ54=$BZ52,$BS58,0)","v":0},{"$f":"IF($BZ54=$BZ53,$BT58,0)","v":0},null,{"$f":"IF($BZ54=$BZ55,$BV58,0)","v":0},{"$f":"SUM(CQ54:CT54)","v":0},2,null,{"$f":"VLOOKUP(BA54,Spiele!$A$1:$L$116,10,FALSE)","v":"L3-L4"}]
[42,{"$f":"VLOOKUP(A55,Spiele!$A$1:$L$116,2,FALSE)","v":"2026-06-22T17:00:00"},{"$f":"VLOOKUP(A55,Spiele!$A$1:$L$116,9,FALSE)","v":"Philadelphia"},{"$f":"Y52","v":"I1"},"-",{"$f":"Y54","v":"I3"},null,1,":",0,"ok",null,{"$f":"VLOOKUP(4,$X$52:$AC$55,2,FALSE)","v":"I3"},{"$f":"VLOOKUP(4,$X$52:$AC$55,3,FALSE)","v":3},{"$f":"VLOOKUP(4,$X$52:$AC$55,4,FALSE)","v":1},{"$f":"VLOOKUP(4,$X$52:$AC$55,5,FALSE)","v":2},{"$f":"VLOOKUP(4,$X$52:$AC$55,6,FALSE)","v":-1},null,{"$f":"IF(H57=\"\",0,IF(K58=$B$98,IF(H57>J57,3,IF(H57=J57,1,0)),0))","v":3},{"$f":"IF(H56=\"\",0,IF(K56=$B$98,IF(J56<H56,3,IF(J56=H56,1,0)),0))","v":3},{"$f":"IF(J54=\"\",0,IF(K54=$B$98,IF(H54<J54,3,IF(H54=J54,1,0)),0))","v":0},null,null,{"$f":"RANK(AD55,$AD$52:$AD$55)","v":1},"I4",{"$f":"SUM(S55:V55)","v":6},{"$f":"SUM(S59:V59)","v":2},{"$f":"SUM(V56:V59)","v":1},{"$f":"AA55-AB55","v":1},{"$f":"IF(P$28=\"\",(((((((AE55*10+Z55)*100+AC55)*100+AA55)*10+AK55)*10+AJ55)*100+AP55)*100+AU55)*10+AV55,(((((((AE55*10+Z55)*10+AK55)*10+AJ55)*100+AP55)*100+AU55)*100+AC55)*100+AA55)*10+AV55)","v":603010101021},null,{"$f":"IF($Z55=$Z52,$S55-$V52,0)","v":3},{"$f":"IF($Z55=$Z53,$T55-$V53,0)","v":0},{"$f":"IF($Z55=$Z54,$U55-$V54,0)","v":0},null,{"$f":"SUM(AF55:AI55)","v":3},null,{"$f":"IF($Z55=$Z52,$S59-$V56,0)","v":1},{"$f":"IF($Z55=$Z53,$T59-$V57,0)","v":0},{"$f":"IF($Z55=$Z54,$U59-$V58,0)","v":0},null,{"$f":"SUM(AL55:AO55)","v":1},{"$f":"IF($Z55=$Z52,$S59,0)","v":1},{"$f":"IF($Z55=$Z53,$T59,0)","v":0},{"$f":"IF($Z55=$Z54,$U59,0)","v":0},null,{"$f":"SUM(AQ55:AT55)","v":1},1,null,{"$f":"VLOOKUP(A55,Spiele!$A$1:$L$116,10,FALSE)","v":"I1-I3"},null,null,45,{"$f":"VLOOKUP(BA55,Spiele!$A$1:$L$116,2,FALSE)","v":"2026-06-23T16:00:00"},{"$f":"VLOOKUP(BA55,Spiele!$A$1:$L$116,9,FALSE)","v":"Boston"},{"$f":"BY52","v":"L1"},"-",{"$f":"BY54","v":"L3"},null,1,":",0,"ok",null,{"$f":"VLOOKUP(4,$BX$52:$CC$55,2,FALSE)","v":"L3"},{"$f":"VLOOKUP(4,$BX$52:$CC$55,3,FALSE)","v":3},{"$f":"VLOOKUP(4,$BX$52:$CC$55,4,FALSE)","v":1},{"$f":"VLOOKUP(4,$BX$52:$CC$55,5,FALSE)","v":2},{"$f":"VLOOKUP(4,$BX$52:$CC$55,6,FALSE)","v":-1},null,{"$f":"IF(BH57=\"\",0,IF(BK58=$B$98,IF(BH57>BJ57,3,IF(BH57=BJ57,1,0)),0))","v":3},{"$f":"IF(BH56=\"\",0,IF(BK56=$B$98,IF(BJ56<BH56,3,IF(BJ56=BH56,1,0)),0))","v":3},{"$f":"IF(BJ54=\"\",0,IF(BK54=$B$98,IF(BH54<BJ54,3,IF(BH54=BJ54,1,0)),0))","v":0},null,null,{"$f":"RANK(CD55,$CD$52:$CD$55)","v":1},"L4",{"$f":"SUM(BS55:BV55)","v":6},{"$f":"SUM(BS59:BV59)","v":2},{"$f":"SUM(BV56:BV59)","v":1},{"$f":"CA55-CB55","v":1},{"$f":"IF(BP$28=\"\",(((((((CE55*10+BZ55)*100+CC55)*100+CA55)*10+CK55)*10+CJ55)*100+CP55)*100+CU55)*10+CV55,(((((((CE55*10+BZ55)*10+CK55)*10+CJ55)*100+CP55)*100+CU55)*100+CC55)*100+CA55)*10+CV55)","v":603010101021},null,{"$f":"IF($BZ55=$BZ52,$BS55-$BV52,0)","v":3},{"$f":"IF($BZ55=$BZ53,$BT55-$BV53,0)","v":0},{"$f":"IF($BZ55=$BZ54,$BU55-$BV54,0)","v":0},null,{"$f":"SUM(CF55:CI55)","v":3},null,{"$f":"IF($BZ55=$BZ52,$BS59-$BV56,0)","v":1},{"$f":"IF($BZ55=$BZ53,$BT59-$BV57,0)","v":0},{"$f":"IF($BZ55=$BZ54,$BU59-$BV58,0)","v":0},null,{"$f":"SUM(CL55:CO55)","v":1},{"$f":"IF($BZ55=$BZ52,$BS59,0)","v":1},{"$f":"IF($BZ55=$BZ53,$BT59,0)","v":0},{"$f":"IF($BZ55=$BZ54,$BU59,0)","v":0},null,{"$f":"SUM(CQ55:CT55)","v":1},1,null,{"$f":"VLOOKUP(BA55,Spiele!$A$1:$L$116,10,FALSE)","v":"L1-L3"}]
[41,{"$f":"VLOOKUP(A56,Spiele!$A$1:$L$116,2,FALSE)","v":"2026-06-22T20:00:00"},{"$f":"VLOOKUP(A56,Spiele!$A$1:$L$116,9,FALSE)","v":"New York"},{"$f":"Y55","v":"I4"},"-",{"$f":"Y53","v":"I2"},null,1,":",0,"ok",null,null,null,null,null,null,null,null,{"$f":"IF(K53=$B$98,H53,0)","v":1},{"$f":"IF(K55=$B$98,H55,0)","v":1},{"$f":"IF(K58=$B$98,J57,0)","v":0},null,null,null,null,null,null,null,null,null,null,null,null,null,null,null,null,null,null,null,null,null,null,null,null,null,null,null,{"$f":"VLOOKUP(A56,Spiele!$A$1:$L$116,10,FALSE)","v":"I4-I2"},null,null,46,{"$f":"VLOOKUP(BA56,Spiele!$A$1:$L$116,2,FALSE)","v":"2026-06-23T19:00:00"},{"$f":"VLOOKUP(BA56,Spiele!$A$1:$L$116,9,FALSE)","v":"Toronto"},{"$f":"BY55","v":"L4"},"-",{"$f":"BY53","v":"L2"},null,1,":",0,"ok",null,null,null,null,null,null,null,null,{"$f":"IF(BK53=$B$98,BH53,0)","v":1},{"$f":"IF(BK55=$B$98,BH55,0)","v":1},{"$f":"IF(BK58=$B$98,BJ57,0)","v":0},null,null,null,null,null,null,null,null,null,null,null,null,null,null,null,null,null,null,null,null,null,null,null,null,null,null,null,{"$f":"VLOOKUP(BA56,Spiele!$A$1:$L$116,10,FALSE)","v":"L4-L2"}]
[61,{"$f":"VLOOKUP(A57,Spiele!$A$1:$L$116,2,FALSE)","v":"2026-06-26T15:00:00"},{"$f":"VLOOKUP(A57,Spiele!$A$1:$L$116,9,FALSE)","v":"Boston"},{"$f":"Y55","v":"I4"},"-",{"$f":"Y52","v":"I1"},null,1,":",0,"ok",null,{"$f":"IF(N52>0,M52,\"\")","v":"I4"},"1I",null,null,null,null,{"$f":"IF(K53=$B$98,J53,0)","v":0},null,{"$f":"IF(K57=$B$98,H58,0)","v":1},{"$f":"IF(K56=$B$98,J56,0)","v":0},null,null,null,null,null,null,null,"L0=AE hebelt Berechnung aus (top level Losen)",null,null,null,null,null,null,null,null,null,null,null,null,null,null,null,null,null,null,null,{"$f":"VLOOKUP(A57,Spiele!$A$1:$L$116,10,FALSE)","v":"I4-I1"},null,null,68,{"$f":"VLOOKUP(BA57,Spiele!$A$1:$L$116,2,FALSE)","v":"2026-06-27T17:00:00"},{"$f":"VLOOKUP(BA57,Spiele!$A$1:$L$116,9,FALSE)","v":"Philadelphia"},{"$f":"BY55","v":"L4"},"-",{"$f":"BY52","v":"L1"},null,1,":",0,"ok",null,{"$f":"IF(BN52>0,BM52,\"\")","v":"L4"},"1L",null,null,null,null,{"$f":"IF(BK53=$B$98,BJ53,0)","v":0},null,{"$f":"IF(BK57=$B$98,BH58,0)","v":1},{"$f":"IF(BK56=$B$98,BJ56,0)","v":0},null,null,null,null,null,null,null,"L0=AE hebelt Berechnung aus (top level Losen)",null,null,null,null,null,null,null,null,null,null,null,null,null,null,null,null,null,null,null,{"$f":"VLOOKUP(BA57,Spiele!$A$1:$L$116,10,FALSE)","v":"L2-L3"}]
[62,{"$f":"VLOOKUP(A58,Spiele!$A$1:$L$116,2,FALSE)","v":"2026-06-26T15:00:00"},{"$f":"VLOOKUP(A58,Spiele!$A$1:$L$116,9,FALSE)","v":"Toronto"},{"$f":"Y53","v":"I2"},"-",{"$f":"Y54","v":"I3"},null,1,":",0,"ok",null,{"$f":"IF(N53>0,M53,\"\")","v":"I1"},"2I",null,"DV",null,null,{"$f":"IF(K55=$B$98,J55,0)","v":0},{"$f":"IF(K57=$B$98,J58,0)","v":0},null,{"$f":"IF(K54=$B$98,H54,0)","v":1},null,null,null,null,null,null,null,"L1=AK hebelt Direktvergleich (S1) aus",null,null,null,null,null,null,null,null,null,null,null,null,null,null,null,null,null,null,null,{"$f":"VLOOKUP(A58,Spiele!$A$1:$L$116,10,FALSE)","v":"I2-I3"},null,null,67,{"$f":"VLOOKUP(BA58,Spiele!$A$1:$L$116,2,FALSE)","v":"2026-06-27T17:00:00"},{"$f":"VLOOKUP(BA58,Spiele!$A$1:$L$116,9,FALSE)","v":"New York"},{"$f":"BY53","v":"L2"},"-",{"$f":"BY54","v":"L3"},null,1,":",0,"ok",null,{"$f":"IF(BN53>0,BM53,\"\")","v":"L1"},"2L",null,"DV",null,null,{"$f":"IF(BK55=$B$98,BJ55,0)","v":0},{"$f":"IF(BK57=$B$98,BJ58,0)","v":0},null,{"$f":"IF(BK54=$B$98,BH54,0)","v":1},null,null,null,null,null,null,null,"L1=AK hebelt Direktvergleich (S1) aus",null,null,null,null,null,null,null,null,null,null,null,null,null,null,null,null,null,null,null,{"$f":"VLOOKUP(BA58,Spiele!$A$1:$L$116,10,FALSE)","v":"L4-L1"}]
[null,null,null,null,null,null,null,null,null,null,null,null,{"$f":"IF(N54>0,M54,\"\")","v":"I2"},"3I",null,null,null,null,{"$f":"IF(K58=$B$98,H57,0)","v":1},{"$f":"IF(K56=$B$98,H56,0)","v":1},{"$f":"IF(K54=$B$98,J54,0)","v":0},null,null,null,null,null,null,null,null,"L4=AV Losen UEFA-Koeffizient, Fairplay oder Münzwurf",null,null,null,null,null,null,null,null,null,null,null,null,null,null,null,null,null,null,null,null,null,null,null,null,null,null,null,null,null,null,null,null,null,null,{"$f":"IF(BN54>0,BM54,\"\")","v":"L2"},"3L",null,null,null,null,{"$f":"IF(BK58=$B$98,BH57,0)","v":1},{"$f":"IF(BK56=$B$98,BH56,0)","v":1},{"$f":"IF(BK54=$B$98,BJ54,0)","v":0},null,null,null,null,null,null,null,null,"L4=AV Losen UEFA-Koeffizient, Fairplay oder Münzwurf"]
[]
[null,"Sechzehntelfinale"]
[null,"Datum/Zeit","Spielort",null,null,null,null,null,null,null,null,null,null,null,null,null,null,null,null,null,null,null,null,null,null,null,null,null,null,"Info",null,null,null,null,null,null,null,null,null,null,null,null,null,null,null,null,null,null,null,null,null,null,null,"Gruppendritte",{"$f":"CONCATENATE(BH66,BH67,BH68,BH69,BH70,BH71,BH72,BH73)","v":"ABCDEFGH"}]
[73,{"$f":"VLOOKUP(A63,Spiele!$A$1:$L$116,2,FALSE)","v":"2026-06-28T12:00:00"},{"$f":"VLOOKUP(A63,Spiele!$A$1:$L$116,9,FALSE)","v":"Los Angeles"},{"$f":"M8","v":"A1"},"-",{"$f":"M18","v":"B1"},null,{"$f":"IF($B$99=\"\",1,IF(OR(J63<1,INT(RAND()*10<6)),J63+1,J63-1))","v":1},":",{"$f":"IF($B$99=\"\",0,INT(RAND()*5)+INT(RAND()*3)*INT(RAND()*2))","v":0},"ok",null,{"$f":"IF(J63=\"\",\"\",IF(J63=H63,\"falsch!!! K.Remis\",IF(H63>J63,D63,F63)))","v":"A1"},{"$f":"N8","v":"2A"},{"$f":"N18","v":"2B"},"S01",null,null,null,null,null,null,null,null,null,null,null,null,null,{"$f":"VLOOKUP(A63,Spiele!$A$1:$L$116,10,FALSE)","v":"SF01:2A-2B"}]
[76,{"$f":"VLOOKUP(A64,Spiele!$A$1:$L$116,2,FALSE)","v":"2026-06-29T12:00:00"},{"$f":"VLOOKUP(A64,Spiele!$A$1:$L$116,9,FALSE)","v":"Houston"},{"$f":"M27","v":"C4"},"-",{"$f":"BM28","v":"F1"},null,1,":",0,"ok",null,"C4",{"$f":"N27","v":"1C"},{"$f":"BN28","v":"2F"},"S02",null,null,null,null,null,null,null,null,null,null,null,null,null,{"$f":"VLOOKUP(A64,Spiele!$A$1:$L$116,10,FALSE)","v":"SF02:1C-2F"},null,null,null,null,null,null,null,null,null,null,null,null,null,null,null,null,null,null,null,null,null,null,null,null,null,null,null,null,null,null,null,null,null,null,"Bestimmen Buchstabencode"]
[74,{"$f":"VLOOKUP(A65,Spiele!$A$1:$L$116,2,FALSE)","v":"2026-06-29T16:30:00"},{"$f":"VLOOKUP(A65,Spiele!$A$1:$L$116,9,FALSE)","v":"Boston"},{"$f":"BM17","v":"E4"},"-",{"$f":"VLOOKUP(R65,$BC$66:$BF$73,4,FALSE)","v":"C2"},null,1,":",0,"ok",null,"E4",{"$f":"BN17","v":"1E"},{"$f":"R65","v":"3C"},"S03",null,{"$f":"VLOOKUP(N65,BB$66:BC$73,2,FALSE)","v":"3C"},null,null,null,null,null,null,null,null,null,null,null,{"$f":"VLOOKUP(A65,Spiele!$A$1:$L$116,10,FALSE)","v":"SF03:1E-3-ABCDF"},null,null,null,null,null,null,null,null,null,null,null,null,null,null,null,null,null,null,null,null,null,null,null,"Team 1","Dritter","Automatisch",null,"Team 2",null,null,null,null,null,null,"Tabelle","P","T+","T-","T+/-","C","G",null,null,null,null,"R","Gruppendritte",null,null,null,null,null,"L0","G",null,"L8",null,"L16"]
[75,{"$f":"VLOOKUP(A66,Spiele!$A$1:$L$116,2,FALSE)","v":"2026-06-29T20:00:00"},{"$f":"VLOOKUP(A66,Spiele!$A$1:$L$116,9,FALSE)","v":"Monterrey"},{"$f":"BM27","v":"F4"},"-",{"$f":"M28","v":"C1"},null,1,":",0,"ok",null,"F4",{"$f":"BN27","v":"1F"},{"$f":"N28","v":"2C"},"S04",null,null,null,null,null,null,null,null,null,null,null,null,null,{"$f":"VLOOKUP(A66,Spiele!$A$1:$L$116,10,FALSE)","v":"SF04:1F-2C"},null,null,null,null,null,null,null,null,null,null,null,null,null,null,null,null,null,null,null,null,null,null,null,{"$f":"FIFA!C1","v":"1A"},{"$f":"IF(CJ66=\"\",INDEX(FIFA!C:C, MATCH($BC$62, FIFA!B:B, 0)),CJ66)","v":"3H"},"3CEFHI",null,{"$f":"VLOOKUP(CODE(MID(BC66,2,1))-64,$BL$66:$BM$77,2,FALSE)","v":"H2"},null,{"$f":"CHAR(BJ66+64)","v":"A"},null,{"$f":"SMALL(BR$66:BR$73,1)","v":1},{"$f":"BS66","v":"A"},{"$f":"CODE(BK66)-64","v":1},{"$f":"VLOOKUP(1,$BX$66:$CC$77,2,FALSE)","v":"A2"},{"$f":"VLOOKUP(1,$BX$66:$CC$77,3,FALSE)","v":3},{"$f":"VLOOKUP(1,$BX$66:$CC$77,4,FALSE)","v":1},{"$f":"VLOOKUP(1,$BX$66:$CC$77,5,FALSE)","v":2},{"$f":"VLOOKUP(1,$BX$66:$CC$77,6,FALSE)","v":-1},{"$f":"CODE(BS66)-64","v":1},{"$f":"MID(VLOOKUP(1,$BX$66:$CF$77,9,FALSE),2,1)","v":"A"},null,null,null,null,{"$f":"RANK(CD66,$CD$66:$CD$77)","v":1},{"$f":"M4","v":"A2"},{"$f":"N4","v":3},{"$f":"O4","v":1},{"$f":"P4","v":2},{"$f":"Q4","v":-1},{"$f":"CE66*10000000000000000+BZ66*100000000000000+CC66*1000000000000+CA66*10000000000+CH66","v":299010000000012},null,{"$f":"N9","v":"3A"},null,12]
[78,{"$f":"VLOOKUP(A67,Spiele!$A$1:$L$116,2,FALSE)","v":"2026-06-30T12:00:00"},{"$f":"VLOOKUP(A67,Spiele!$A$1:$L$116,9,FALSE)","v":"Dallas"},{"$f":"BM18","v":"E1"},"-",{"$f":"M58","v":"I1"},null,1,":",0,"ok",null,"E1",{"$f":"BN18","v":"2E"},{"$f":"N58","v":"2I"},"S05",null,null,null,null,null,null,null,null,null,null,null,null,null,{"$f":"VLOOKUP(A67,Spiele!$A$1:$L$116,10,FALSE)","v":"SF05:2E-2I"},null,null,null,null,null,null,null,null,null,null,null,null,null,null,null,null,null,null,null,null,null,null,null,{"$f":"FIFA!D1","v":"1B"},{"$f":"IF(CJ67=\"\",INDEX(FIFA!D:D, MATCH($BC$62, FIFA!B:B, 0)),CJ67)","v":"3G"},"3EFGIJ",null,"G2",null,"B",null,{"$f":"SMALL(BR$66:BR$73,2)","v":2},"B",2,{"$f":"VLOOKUP(2,$BX$66:$CC$77,2,FALSE)","v":"B2"},{"$f":"VLOOKUP(2,$BX$66:$CC$77,3,FALSE)","v":3},{"$f":"VLOOKUP(2,$BX$66:$CC$77,4,FALSE)","v":1},{"$f":"VLOOKUP(2,$BX$66:$CC$77,5,FALSE)","v":2},{"$f":"VLOOKUP(2,$BX$66:$CC$77,6,FALSE)","v":-1},2,{"$f":"MID(VLOOKUP(2,$BX$66:$CF$77,9,FALSE),2,1)","v":"B"},null,null,null,null,2,{"$f":"M14","v":"B2"},{"$f":"N14","v":3},{"$f":"O14","v":1},{"$f":"P14","v":2},{"$f":"Q14","v":-1},299010000000011,null,{"$f":"N19","v":"3B"},null,{"$f":"CH66-1","v":11}]
[77,{"$f":"VLOOKUP(A68,Spiele!$A$1:$L$116,2,FALSE)","v":"2026-06-30T17:00:00"},{"$f":"VLOOKUP(A68,Spiele!$A$1:$L$116,9,FALSE)","v":"New York"},{"$f":"M57","v":"I4"},"-",{"$f":"VLOOKUP(R68,$BC$66:$BF$73,4,FALSE)","v":"F2"},null,1,":",0,"ok",null,"I4",{"$f":"N57","v":"1I"},{"$f":"R68","v":"3F"},"S06",null,{"$f":"VLOOKUP(N68,BB$66:BC$73,2,FALSE)","v":"3F"},null,null,null,null,null,null,null,null,null,null,null,{"$f":"VLOOKUP(A68,Spiele!$A$1:$L$116,10,FALSE)","v":"SF06:1I-3-CDFGH"},null,null,null,null,null,null,null,null,null,null,null,null,null,null,null,null,null,null,null,null,null,null,null,{"$f":"FIFA!E1","v":"1D"},{"$f":"IF(CJ68=\"\",INDEX(FIFA!E:E, MATCH($BC$62, FIFA!B:B, 0)),CJ68)","v":"3B"},"3BEFIJ",null,"B2",null,"C",null,{"$f":"SMALL(BR$66:BR$73,3)","v":3},"C",3,{"$f":"VLOOKUP(3,$BX$66:$CC$77,2,FALSE)","v":"C2"},{"$f":"VLOOKUP(3,$BX$66:$CC$77,3,FALSE)","v":3},{"$f":"VLOOKUP(3,$BX$66:$CC$77,4,FALSE)","v":1},{"$f":"VLOOKUP(3,$BX$66:$CC$77,5,FALSE)","v":2},{"$f":"VLOOKUP(3,$BX$66:$CC$77,6,FALSE)","v":-1},3,{"$f":"MID(VLOOKUP(3,$BX$66:$CF$77,9,FALSE),2,1)","v":"C"},null,null,null,null,3,{"$f":"M24","v":"C2"},{"$f":"N24","v":3},{"$f":"O24","v":1},{"$f":"P24","v":2},{"$f":"Q24","v":-1},299010000000010,null,{"$f":"N29","v":"3C"},null,{"$f":"CH67-1","v":10}]
[79,{"$f":"VLOOKUP(A69,Spiele!$A$1:$L$116,2,FALSE)","v":"2026-06-30T20:00:00"},{"$f":"VLOOKUP(A69,Spiele!$A$1:$L$116,9,FALSE)","v":"Mexico City"},{"$f":"M7","v":"A4"},"-",{"$f":"VLOOKUP(R69,$BC$66:$BF$73,4,FALSE)","v":"H2"},null,1,":",0,"ok",null,"A4",{"$f":"N7","v":"1A"},{"$f":"R69","v":"3H"},"S07",null,{"$f":"VLOOKUP(N69,BB$66:BC$73,2,FALSE)","v":"3H"},null,null,null,null,null,null,null,null,null,null,null,{"$f":"VLOOKUP(A69,Spiele!$A$1:$L$116,10,FALSE)","v":"SF07:1A-3-CEFHI"},null,null,null,null,null,null,null,null,null,null,null,null,null,null,null,null,null,null,null,null,null,null,null,{"$f":"FIFA!F1","v":"1E"},{"$f":"IF(CJ69=\"\",INDEX(FIFA!F:F,MATCH($BC$62,FIFA!B:B,0)),CJ69)","v":"3C"},"3ABCDF",null,"C2",null,"D",null,{"$f":"SMALL(BR$66:BR$73,4)","v":4},"D",4,{"$f":"VLOOKUP(4,$BX$66:$CC$77,2,FALSE)","v":"D2"},{"$f":"VLOOKUP(4,$BX$66:$CC$77,3,FALSE)","v":3},{"$f":"VLOOKUP(4,$BX$66:$CC$77,4,FALSE)","v":1},{"$f":"VLOOKUP(4,$BX$66:$CC$77,5,FALSE)","v":2},{"$f":"VLOOKUP(4,$BX$66:$CC$77,6,FALSE)","v":-1},4,{"$f":"MID(VLOOKUP(4,$BX$66:$CF$77,9,FALSE),2,1)","v":"D"},null,null,null,null,4,{"$f":"BM4","v":"D2"},{"$f":"BN4","v":3},{"$f":"BO4","v":1},{"$f":"BP4","v":2},{"$f":"BQ4","v":-1},299010000000009,null,{"$f":"BN9","v":"3D"},null,9]
[80,{"$f":"VLOOKUP(A70,Spiele!$A$1:$L$116,2,FALSE)","v":"2026-07-01T12:00:00"},{"$f":"VLOOKUP(A70,Spiele!$A$1:$L$116,9,FALSE)","v":"Atlanta"},{"$f":"BM57","v":"L4"},"-",{"$f":"VLOOKUP(R70,$BC$66:$BF$73,4,FALSE)","v":"E2"},null,1,":",0,"ok",null,"L4",{"$f":"BN57","v":"1L"},{"$f":"R70","v":"3E"},"S08",null,{"$f":"VLOOKUP(N70,BB$66:BC$73,2,FALSE)","v":"3E"},null,null,null,null,null,null,null,null,null,null,null,{"$f":"VLOOKUP(A70,Spiele!$A$1:$L$116,10,FALSE)","v":"SF08:1L-3-EHIJK"},null,null,null,null,null,null,null,null,null,null,null,null,null,null,null,null,null,null,null,null,null,null,null,{"$f":"FIFA!G1","v":"1G"},{"$f":"IF(CJ70=\"\",INDEX(FIFA!G:G, MATCH($BC$62, FIFA!B:B, 0)),CJ70)","v":"3A"},"3AEHIJ",null,"A2",null,"E",null,{"$f":"SMALL(BR$66:BR$73,5)","v":5},"E",5,{"$f":"VLOOKUP(5,$BX$66:$CC$77,2,FALSE)","v":"E2"},{"$f":"VLOOKUP(5,$BX$66:$CC$77,3,FALSE)","v":3},{"$f":"VLOOKUP(5,$BX$66:$CC$77,4,FALSE)","v":1},{"$f":"VLOOKUP(5,$BX$66:$CC$77,5,FALSE)","v":2},{"$f":"VLOOKUP(5,$BX$66:$CC$77,6,FALSE)","v":-1},5,{"$f":"MID(VLOOKUP(5,$BX$66:$CF$77,9,FALSE),2,1)","v":"E"},null,null,null,null,5,{"$f":"BM14","v":"E2"},{"$f":"BN14","v":3},{"$f":"BO14","v":1},{"$f":"BP14","v":2},{"$f":"BQ14","v":-1},299010000000008,null,{"$f":"BN19","v":"3E"},null,8]
[82,{"$f":"VLOOKUP(A71,Spiele!$A$1:$L$116,2,FALSE)","v":"2026-07-01T13:00:00"},{"$f":"VLOOKUP(A71,Spiele!$A$1:$L$116,9,FALSE)","v":"Seattle"},{"$f":"M37","v":"G4"},"-",{"$f":"VLOOKUP(R71,$BC$66:$BF$73,4,FALSE)","v":"A2"},null,1,":",0,"ok",null,"G4",{"$f":"N37","v":"1G"},{"$f":"R71","v":"3A"},"S09",null,{"$f":"VLOOKUP(N71,BB$66:BC$73,2,FALSE)","v":"3A"},null,null,null,null,null,null,null,null,null,null,null,{"$f":"VLOOKUP(A71,Spiele!$A$1:$L$116,10,FALSE)","v":"SF09:1G-3-AEHIJ"},null,null,null,null,null,null,null,null,null,null,null,null,null,null,null,null,null,null,null,null,null,null,null,{"$f":"FIFA!H1","v":"1I"},{"$f":"IF(CJ71=\"\",INDEX(FIFA!H:H, MATCH($BC$62, FIFA!B:B, 0)),CJ71)","v":"3F"},"3CDFGH",null,"F2",null,"F",null,{"$f":"SMALL(BR$66:BR$73,6)","v":6},"F",6,{"$f":"VLOOKUP(6,$BX$66:$CC$77,2,FALSE)","v":"F2"},{"$f":"VLOOKUP(6,$BX$66:$CC$77,3,FALSE)","v":3},{"$f":"VLOOKUP(6,$BX$66:$CC$77,4,FALSE)","v":1},{"$f":"VLOOKUP(6,$BX$66:$CC$77,5,FALSE)","v":2},{"$f":"VLOOKUP(6,$BX$66:$CC$77,6,FALSE)","v":-1},6,{"$f":"MID(VLOOKUP(6,$BX$66:$CF$77,9,FALSE),2,1)","v":"F"},null,null,null,null,6,{"$f":"BM24","v":"F2"},{"$f":"BN24","v":3},{"$f":"BO24","v":1},{"$f":"BP24","v":2},{"$f":"BQ24","v":-1},299010000000007,null,{"$f":"BN29","v":"3F"},null,7]
[81,{"$f":"VLOOKUP(A72,Spiele!$A$1:$L$116,2,FALSE)","v":"2026-07-01T17:00:00"},{"$f":"VLOOKUP(A72,Spiele!$A$1:$L$116,9,FALSE)","v":"San Francisco"},{"$f":"BM7","v":"D4"},"-",{"$f":"VLOOKUP(R72,$BC$66:$BF$73,4,FALSE)","v":"B2"},null,1,":",0,"ok",null,"D4",{"$f":"BN7","v":"1D"},{"$f":"R72","v":"3B"},"S10",null,{"$f":"VLOOKUP(N72,BB$66:BC$73,2,FALSE)","v":"3B"},null,null,null,null,null,null,null,null,null,null,null,{"$f":"VLOOKUP(A72,Spiele!$A$1:$L$116,10,FALSE)","v":"SF10:1D-3-BEFIJ"},null,null,null,null,null,null,null,null,null,null,null,null,null,null,null,null,null,null,null,null,null,null,null,{"$f":"FIFA!I1","v":"1K"},{"$f":"IF(CJ72=\"\",INDEX(FIFA!I:I, MATCH($BC$62, FIFA!B:B, 0)),CJ72)","v":"3D"},"3DEIJL",null,"D2",null,"G",null,{"$f":"SMALL(BR$66:BR$73,7)","v":7},"G",7,{"$f":"VLOOKUP(7,$BX$66:$CC$77,2,FALSE)","v":"G2"},3,1,2,-1,7,{"$f":"MID(VLOOKUP(7,$BX$66:$CF$77,9,FALSE),2,1)","v":"G"},null,null,null,null,7,{"$f":"M34","v":"G2"},{"$f":"N34","v":3},{"$f":"O34","v":1},{"$f":"P34","v":2},{"$f":"Q34","v":-1},299010000000006,null,"3G",null,6]
[84,{"$f":"VLOOKUP(A73,Spiele!$A$1:$L$116,2,FALSE)","v":"2026-07-02T12:00:00"},{"$f":"VLOOKUP(A73,Spiele!$A$1:$L$116,9,FALSE)","v":"Los Angeles"},{"$f":"M47","v":"H4"},"-",{"$f":"BM38","v":"J1"},null,1,":",0,"ok",null,"H4",{"$f":"N47","v":"1H"},{"$f":"BN38","v":"2J"},"S11",null,null,null,null,null,null,null,null,null,null,null,null,null,{"$f":"VLOOKUP(A73,Spiele!$A$1:$L$116,10,FALSE)","v":"SF11:1H-2J"},null,null,null,null,null,null,null,null,null,null,null,null,null,null,null,null,null,null,null,null,null,null,null,{"$f":"FIFA!J1","v":"1L"},{"$f":"IF(CJ73=\"\",INDEX(FIFA!J:J, MATCH($BC$62, FIFA!B:B, 0)),CJ73)","v":"3E"},"3EHIJK",null,"E2",null,"H",null,{"$f":"SMALL(BR$66:BR$73,8)","v":8},"H",8,{"$f":"VLOOKUP(8,$BX$66:$CC$77,2,FALSE)","v":"H2"},3,1,2,-1,8,{"$f":"MID(VLOOKUP(8,$BX$66:$CF$77,9,FALSE),2,1)","v":"H"},null,null,null,null,8,{"$f":"M44","v":"H2"},{"$f":"N44","v":3},{"$f":"O44","v":1},{"$f":"P44","v":2},{"$f":"Q44","v":-1},299010000000005,null,"3H",null,5]
[83,{"$f":"VLOOKUP(A74,Spiele!$A$1:$L$116,2,FALSE)","v":"2026-07-02T19:00:00"},{"$f":"VLOOKUP(A74,Spiele!$A$1:$L$116,9,FALSE)","v":"Toronto"},{"$f":"BM48","v":"K1"},"-",{"$f":"BM58","v":"L1"},null,1,":",0,"ok",null,"K1",{"$f":"BN48","v":"2K"},{"$f":"BN58","v":"2L"},"S12",null,null,null,null,null,null,null,null,null,null,null,null,null,{"$f":"VLOOKUP(A74,Spiele!$A$1:$L$116,10,FALSE)","v":"SF12:2K-2L"},null,null,null,null,null,null,null,null,null,null,null,null,null,null,null,null,null,null,null,null,null,null,null,null,null,null,null,null,null,null,null,null,"I",9,{"$f":"VLOOKUP(9,$BX$66:$CC$77,2,FALSE)","v":"I2"},3,1,2,-1,9,{"$f":"MID(VLOOKUP(9,$BX$66:$CF$77,9,FALSE),2,1)","v":"I"},null,null,null,null,9,{"$f":"M54","v":"I2"},{"$f":"N54","v":3},{"$f":"O54","v":1},{"$f":"P54","v":2},{"$f":"Q54","v":-1},299010000000004,null,"3I",null,4]
[85,{"$f":"VLOOKUP(A75,Spiele!$A$1:$L$116,2,FALSE)","v":"2026-07-02T20:00:00"},{"$f":"VLOOKUP(A75,Spiele!$A$1:$L$116,9,FALSE)","v":"Vancouver"},{"$f":"M17","v":"B4"},"-",{"$f":"VLOOKUP(R75,$BC$66:$BF$73,4,FALSE)","v":"G2"},null,1,":",0,"ok",null,"B4",{"$f":"N17","v":"1B"},{"$f":"R75","v":"3G"},"S13",null,{"$f":"VLOOKUP(N75,BB$66:BC$73,2,FALSE)","v":"3G"},null,null,null,null,null,null,null,null,null,null,null,{"$f":"VLOOKUP(A75,Spiele!$A$1:$L$116,10,FALSE)","v":"SF13:1B-3-EFGIJ"},null,null,null,null,null,null,null,null,null,null,null,null,null,null,null,null,null,null,null,null,null,null,null,null,null,null,null,null,null,null,null,null,"J",10,{"$f":"VLOOKUP(10,$BX$66:$CC$77,2,FALSE)","v":"J2"},3,1,2,-1,10,{"$f":"MID(VLOOKUP(10,$BX$66:$CF$77,9,FALSE),2,1)","v":"J"},null,null,null,null,10,{"$f":"BM34","v":"J2"},{"$f":"BN34","v":3},{"$f":"BO34","v":1},{"$f":"BP34","v":2},{"$f":"BQ34","v":-1},299010000000003,null,"3J",null,3]
[88,{"$f":"VLOOKUP(A76,Spiele!$A$1:$L$116,2,FALSE)","v":"2026-07-03T13:00:00"},{"$f":"VLOOKUP(A76,Spiele!$A$1:$L$116,9,FALSE)","v":"Dallas"},{"$f":"BM8","v":"D1"},"-",{"$f":"M38","v":"G1"},null,1,":",0,"ok",null,"D1",{"$f":"BN8","v":"2D"},{"$f":"N38","v":"2G"},"S14",null,null,null,null,null,null,null,null,null,null,null,null,null,{"$f":"VLOOKUP(A76,Spiele!$A$1:$L$116,10,FALSE)","v":"SF14:2D-2G"},null,null,null,null,null,null,null,null,null,null,null,null,null,null,null,null,null,null,null,null,null,null,null,null,null,null,null,null,null,null,null,null,"K",11,{"$f":"VLOOKUP(11,$BX$66:$CC$77,2,FALSE)","v":"K2"},3,1,2,-1,11,{"$f":"MID(VLOOKUP(11,$BX$66:$CF$77,9,FALSE),2,1)","v":"K"},null,null,null,null,11,{"$f":"BM44","v":"K2"},{"$f":"BN44","v":3},{"$f":"BO44","v":1},{"$f":"BP44","v":2},{"$f":"BQ44","v":-1},299010000000002,null,"3K",null,2]
[86,{"$f":"VLOOKUP(A77,Spiele!$A$1:$L$116,2,FALSE)","v":"2026-07-03T18:00:00"},{"$f":"VLOOKUP(A77,Spiele!$A$1:$L$116,9,FALSE)","v":"Miami"},{"$f":"BM37","v":"J4"},"-",{"$f":"M48","v":"H1"},null,1,":",0,"ok",null,"J4",{"$f":"BN37","v":"1J"},{"$f":"N48","v":"2H"},"S15",null,null,null,null,null,null,null,null,null,null,null,null,null,{"$f":"VLOOKUP(A77,Spiele!$A$1:$L$116,10,FALSE)","v":"SF15:1J-2H"},null,null,null,null,null,null,null,null,null,null,null,null,null,null,null,null,null,null,null,null,null,null,null,null,null,null,null,null,null,null,null,null,"L",12,{"$f":"VLOOKUP(12,$BX$66:$CC$77,2,FALSE)","v":"L2"},3,1,2,-1,12,{"$f":"MID(VLOOKUP(12,$BX$66:$CF$77,9,FALSE),2,1)","v":"L"},null,null,null,null,12,{"$f":"BM54","v":"L2"},{"$f":"BN54","v":3},{"$f":"BO54","v":1},{"$f":"BP54","v":2},{"$f":"BQ54","v":-1},299010000000001,null,"3L",null,1]
[87,{"$f":"VLOOKUP(A78,Spiele!$A$1:$L$116,2,FALSE)","v":"2026-07-03T20:30:00"},{"$f":"VLOOKUP(A78,Spiele!$A$1:$L$116,9,FALSE)","v":"Kansas City"},{"$f":"BM47","v":"K4"},"-",{"$f":"VLOOKUP(R78,$BC$66:$BF$73,4,FALSE)","v":"D2"},null,1,":",0,"ok",null,"K4",{"$f":"BN47","v":"1K"},{"$f":"R78","v":"3D"},"S16",null,{"$f":"VLOOKUP(N78,BB$66:BC$73,2,FALSE)","v":"3D"},null,null,null,null,null,null,null,null,null,null,null,{"$f":"VLOOKUP(A78,Spiele!$A$1:$L$116,10,FALSE)","v":"SF16:1K-3-DEIJL"}]
[null,null,null,null,null,null,null,null,null,null,null,null,null,null,null,null,null,null,null,null,null,null,null,null,null,null,null,null,null,null,null,null,null,null,null,null,null,null,null,null,null,null,null,null,null,null,null,null,null,null,null,null,null,null,null,null,null,null,null,null,null,null,null,null,null,null,null,null,null,null,null,null,null,null,null,null,null,null,null,null,null,"L0=AE hebelt Berechnung aus (top level Losen)"]
[null,"Achtelfinale",null,null,null,null,null,null,null,null,null,null,null,null,null,null,null,null,null,null,null,null,null,null,null,null,null,null,null,null,null,null,null,null,null,null,null,null,null,null,null,null,null,null,null,null,null,null,null,null,null,null,null,"Viertelfinale",null,null,null,null,null,null,null,null,null,null,null,null,null,null,null,null,null,null,null,null,null,null,null,null,null,null,null,"L8=AV Losen UEFA-Koeffizient, Fairplay oder Münzwurf"]
[null,"Datum/Zeit","Spielort",null,null,null,null,null,null,null,null,null,null,null,null,null,null,null,null,null,null,null,null,null,null,null,null,null,null,"Info",null,null,null,null,null,null,null,null,null,null,null,null,null,null,null,null,null,null,null,null,null,null,null,"Datum/Zeit","Spielort",null,null,null,null,null,null,null,null,null,null,null,null,null,null,null,null,null,null,null,null,null,null,null,null,null,null,"L16=manuelle Zuordnung der Dritten (falls Algorithmus nicht hilft)"]
[89,{"$f":"VLOOKUP(A82,Spiele!$A$1:$L$116,2,FALSE)","v":"2026-07-04T17:00:00"},{"$f":"VLOOKUP(A82,Spiele!$A$1:$L$116,9,FALSE)","v":"Philadelphia"},{"$f":"INDEX($M$63:$M$78, MATCH(N82, $P$63:$P$78, 0))","v":"E4"},"-",{"$f":"INDEX($M$63:$M$78, MATCH(O82, $P$63:$P$78, 0))","v":"I4"},null,{"$f":"IF($B$99=\"\",1,IF(OR(J82<1,INT(RAND()*10<6)),J82+1,J82-1))","v":1},":",{"$f":"IF($B$99=\"\",0,INT(RAND()*5)+INT(RAND()*3)*INT(RAND()*2))","v":0},"ok",null,{"$f":"IF(J82=\"\",\"\",IF(J82=H82,\"falsch!!! K.Remis\",IF(H82>J82,D82,F82)))","v":"E4"},{"$f":"P65","v":"S03"},{"$f":"P68","v":"S06"},"AF1",null,null,null,null,null,null,null,null,null,null,null,null,null,{"$f":"VLOOKUP(A82,Spiele!$A$1:$L$116,10,FALSE)","v":"AF01:SF03:SF06:W74-W77"},null,null,null,null,null,null,null,null,null,null,null,null,null,null,null,null,null,null,null,null,null,null,{"$f":"A89+1","v":97},{"$f":"VLOOKUP(BA82,Spiele!$A$1:$L$116,2,FALSE)","v":"2026-07-09T16:00:00"},{"$f":"VLOOKUP(BA82,Spiele!$A$1:$L$116,9,FALSE)","v":"Boston"},{"$f":"INDEX($M$82:$M$89, MATCH(BN82, $P$82:$P$89, 0))","v":"E4"},"-",{"$f":"INDEX($M$82:$M$89, MATCH(BO82, $P$82:$P$89, 0))","v":"A1"},null,{"$f":"IF($B$99=\"\",1,IF(OR(BJ82<1,INT(RAND()*10<6)),BJ82+1,BJ82-1))","v":1},":",{"$f":"IF($B$99=\"\",0,INT(RAND()*5)+INT(RAND()*3)*INT(RAND()*2))","v":0},"ok",null,{"$f":"IF(BJ82=\"\",\"\",IF(BJ82=BH82,\"falsch!!! K.Remis\",IF(BH82>BJ82,BD82,BF82)))","v":"E4"},{"$f":"P82","v":"AF1"},{"$f":"P83","v":"AF2"},"VF1",null,null,null,null,null,null,null,null,null,null,null,null,null,{"$f":"VLOOKUP(BA82,Spiele!$A$1:$L$116,10,FALSE)","v":"VF01:AF01:AF02:W89-W90"}]
[{"$f":"A82+1","v":90},{"$f":"VLOOKUP(A83,Spiele!$A$1:$L$116,2,FALSE)","v":"2026-07-04T12:00:00"},{"$f":"VLOOKUP(A83,Spiele!$A$1:$L$116,9,FALSE)","v":"Houston"},{"$f":"INDEX($M$63:$M$78, MATCH(N83, $P$63:$P$78, 0))","v":"A1"},"-",{"$f":"INDEX($M$63:$M$78, MATCH(O83, $P$63:$P$78, 0))","v":"F4"},null,1,":",0,"ok",null,"A1",{"$f":"P63","v":"S01"},{"$f":"P66","v":"S04"},"AF2",null,null,null,null,null,null,null,null,null,null,null,null,null,{"$f":"VLOOKUP(A83,Spiele!$A$1:$L$116,10,FALSE)","v":"AF02:SF01:SF04:W73-W75"},null,null,null,null,null,null,null,null,null,null,null,null,null,null,null,null,null,null,null,null,null,null,{"$f":"BA82+1","v":98},{"$f":"VLOOKUP(BA83,Spiele!$A$1:$L$116,2,FALSE)","v":"2026-07-10T12:00:00"},{"$f":"VLOOKUP(BA83,Spiele!$A$1:$L$116,9,FALSE)","v":"Los Angeles"},{"$f":"INDEX($M$82:$M$89, MATCH(BN83, $P$82:$P$89, 0))","v":"K1"},"-",{"$f":"INDEX($M$82:$M$89, MATCH(BO83, $P$82:$P$89, 0))","v":"D4"},null,{"$f":"IF($B$99=\"\",1,IF(OR(BJ83<1,INT(RAND()*10<6)),BJ83+1,BJ83-1))","v":1},":",{"$f":"IF($B$99=\"\",0,INT(RAND()*5)+INT(RAND()*3)*INT(RAND()*2))","v":0},"ok",null,{"$f":"IF(BJ83=\"\",\"\",IF(BJ83=BH83,\"falsch!!! K.Remis\",IF(BH83>BJ83,BD83,BF83)))","v":"K1"},{"$f":"P86","v":"AF5"},{"$f":"P87","v":"AF6"},"VF2",null,null,null,null,null,null,null,null,null,null,null,null,null,{"$f":"VLOOKUP(BA83,Spiele!$A$1:$L$116,10,FALSE)","v":"VF02:AF05:AF06:W93-W94"}]
[91,{"$f":"VLOOKUP(A84,Spiele!$A$1:$L$116,2,FALSE)","v":"2026-07-05T16:00:00"},{"$f":"VLOOKUP(A84,Spiele!$A$1:$L$116,9,FALSE)","v":"New York"},{"$f":"INDEX($M$63:$M$78, MATCH(N84, $P$63:$P$78, 0))","v":"C4"},"-",{"$f":"INDEX($M$63:$M$78, MATCH(O84, $P$63:$P$78, 0))","v":"E1"},null,1,":",0,"ok",null,"C4",{"$f":"P64","v":"S02"},{"$f":"P67","v":"S05"},"AF3",null,null,null,null,null,null,null,null,null,null,null,null,null,{"$f":"VLOOKUP(A84,Spiele!$A$1:$L$116,10,FALSE)","v":"AF03:SF02:SF05:W76-W78"},null,null,null,null,null,null,null,null,null,null,null,null,null,null,null,null,null,null,null,null,null,null,{"$f":"BA83+1","v":99},{"$f":"VLOOKUP(BA84,Spiele!$A$1:$L$116,2,FALSE)","v":"2026-07-11T17:00:00"},{"$f":"VLOOKUP(BA84,Spiele!$A$1:$L$116,9,FALSE)","v":"Miami"},{"$f":"INDEX($M$82:$M$89, MATCH(BN84, $P$82:$P$89, 0))","v":"C4"},"-",{"$f":"INDEX($M$82:$M$89, MATCH(BO84, $P$82:$P$89, 0))","v":"A4"},null,{"$f":"IF($B$99=\"\",1,IF(OR(BJ84<1,INT(RAND()*10<6)),BJ84+1,BJ84-1))","v":1},":",{"$f":"IF($B$99=\"\",0,INT(RAND()*5)+INT(RAND()*3)*INT(RAND()*2))","v":0},"ok",null,{"$f":"IF(BJ84=\"\",\"\",IF(BJ84=BH84,\"falsch!!! K.Remis\",IF(BH84>BJ84,BD84,BF84)))","v":"C4"},{"$f":"P84","v":"AF3"},{"$f":"P85","v":"AF4"},"VF3",null,null,null,null,null,null,null,null,null,null,null,null,null,{"$f":"VLOOKUP(BA84,Spiele!$A$1:$L$116,10,FALSE)","v":"VF03:AF03:AF04:W91-W92"}]
[92,{"$f":"VLOOKUP(A85,Spiele!$A$1:$L$116,2,FALSE)","v":"2026-07-05T19:00:00"},{"$f":"VLOOKUP(A85,Spiele!$A$1:$L$116,9,FALSE)","v":"Mexico City"},"A4","-","L4",null,1,":",0,"ok",null,"A4",{"$f":"P69","v":"S07"},{"$f":"P70","v":"S08"},"AF4",null,null,null,null,null,null,null,null,null,null,null,null,null,{"$f":"VLOOKUP(A85,Spiele!$A$1:$L$116,10,FALSE)","v":"AF04:SF07:SF08:W79-W80"},null,null,null,null,null,null,null,null,null,null,null,null,null,null,null,null,null,null,null,null,null,null,{"$f":"BA84+1","v":100},{"$f":"VLOOKUP(BA85,Spiele!$A$1:$L$116,2,FALSE)","v":"2026-07-11T20:00:00"},{"$f":"VLOOKUP(BA85,Spiele!$A$1:$L$116,9,FALSE)","v":"Kansas City"},{"$f":"INDEX($M$82:$M$89, MATCH(BN85, $P$82:$P$89, 0))","v":"J4"},"-",{"$f":"INDEX($M$82:$M$89, MATCH(BO85, $P$82:$P$89, 0))","v":"B4"},null,{"$f":"IF($B$99=\"\",1,IF(OR(BJ85<1,INT(RAND()*10<6)),BJ85+1,BJ85-1))","v":1},":",{"$f":"IF($B$99=\"\",0,INT(RAND()*5)+INT(RAND()*3)*INT(RAND()*2))","v":0},"ok",null,{"$f":"IF(BJ85=\"\",\"\",IF(BJ85=BH85,\"falsch!!! K.Remis\",IF(BH85>BJ85,BD85,BF85)))","v":"J4"},{"$f":"P88","v":"AF7"},{"$f":"P89","v":"AF8"},"VF4",null,null,null,null,null,null,null,null,null,null,null,null,null,{"$f":"VLOOKUP(BA85,Spiele!$A$1:$L$116,10,FALSE)","v":"VF04:AF07:AF08:W95-W96"}]
[93,{"$f":"VLOOKUP(A86,Spiele!$A$1:$L$116,2,FALSE)","v":"2026-07-06T14:00:00"},{"$f":"VLOOKUP(A86,Spiele!$A$1:$L$116,9,FALSE)","v":"Dallas"},"K1","-","H4",null,1,":",0,"ok",null,"K1",{"$f":"P74","v":"S12"},{"$f":"P73","v":"S11"},"AF5",null,null,null,null,null,null,null,null,null,null,null,null,null,{"$f":"VLOOKUP(A86,Spiele!$A$1:$L$116,10,FALSE)","v":"AF05:SF12:SF11:W83-W84"}]
[94,{"$f":"VLOOKUP(A87,Spiele!$A$1:$L$116,2,FALSE)","v":"2026-07-06T17:00:00"},{"$f":"VLOOKUP(A87,Spiele!$A$1:$L$116,9,FALSE)","v":"Seattle"},"D4","-","G4",null,1,":",0,"ok",null,"D4",{"$f":"P72","v":"S10"},{"$f":"P71","v":"S09"},"AF6",null,null,null,null,null,null,null,null,null,null,null,null,null,{"$f":"VLOOKUP(A87,Spiele!$A$1:$L$116,10,FALSE)","v":"AF06:SF10:SF09:W81-W82"},null,null,null,null,null,null,null,null,null,null,null,null,null,null,null,null,null,null,null,null,null,null,null,"Halbfinale"]
[95,{"$f":"VLOOKUP(A88,Spiele!$A$1:$L$116,2,FALSE)","v":"2026-07-07T12:00:00"},{"$f":"VLOOKUP(A88,Spiele!$A$1:$L$116,9,FALSE)","v":"Atlanta"},"J4","-","D1",null,1,":",0,"ok",null,"J4",{"$f":"P77","v":"S15"},{"$f":"P76","v":"S14"},"AF7",null,null,null,null,null,null,null,null,null,null,null,null,null,{"$f":"VLOOKUP(A88,Spiele!$A$1:$L$116,10,FALSE)","v":"AF07:SF15:SF14:W86-W88"},null,null,null,null,null,null,null,null,null,null,null,null,null,null,null,null,null,null,null,null,null,null,null,"Datum/Zeit","Spielort"]
[{"$f":"A88+1","v":96},{"$f":"VLOOKUP(A89,Spiele!$A$1:$L$116,2,FALSE)","v":"2026-07-07T13:00:00"},{"$f":"VLOOKUP(A89,Spiele!$A$1:$L$116,9,FALSE)","v":"Vancouver"},"B4","-","K4",null,1,":",0,"ok",null,"B4",{"$f":"P75","v":"S13"},{"$f":"P78","v":"S16"},"AF8",null,null,null,null,null,null,null,null,null,null,null,null,null,{"$f":"VLOOKUP(A89,Spiele!$A$1:$L$116,10,FALSE)","v":"AF08:SF13:SF16:W85-W87"},null,null,null,null,null,null,null,null,null,null,null,null,null,null,null,null,null,null,null,null,null,null,{"$f":"BA85+1","v":101},{"$f":"VLOOKUP(BA89,Spiele!$A$1:$L$116,2,FALSE)","v":"2026-07-14T14:00:00"},{"$f":"VLOOKUP(BA89,Spiele!$A$1:$L$116,9,FALSE)","v":"Dallas"},{"$f":"INDEX($BM$82:$BM$85, MATCH(BN89, $BP$82:$BP$85, 0))","v":"E4"},"-",{"$f":"INDEX($BM$82:$BM$85, MATCH(BO89, $BP$82:$BP$85, 0))","v":"K1"},null,{"$f":"IF($B$99=\"\",1,IF(OR(BJ89<1,INT(RAND()*10<6)),BJ89+1,BJ89-1))","v":1},":",{"$f":"IF($B$99=\"\",0,INT(RAND()*5)+INT(RAND()*3)*INT(RAND()*2))","v":0},"ok",null,{"$f":"IF(BJ89=\"\",\"\",IF(BJ89=BH89,\"falsch!!! K.Remis\",IF(BH89>BJ89,BD89,BF89)))","v":"E4"},{"$f":"BP82","v":"VF1"},{"$f":"BP83","v":"VF2"},"F1",null,null,null,null,null,null,null,null,null,null,null,null,null,{"$f":"VLOOKUP(BA89,Spiele!$A$1:$L$116,10,FALSE)","v":"HF01:VF01:VF02:W97-W98"}]
[null,null,null,null,null,null,null,null,null,null,null,null,null,null,null,null,null,null,null,null,null,null,null,null,null,null,null,null,null,null,null,null,null,null,null,null,null,null,null,null,null,null,null,null,null,null,null,null,null,null,null,null,{"$f":"BA89+1","v":102},{"$f":"VLOOKUP(BA90,Spiele!$A$1:$L$116,2,FALSE)","v":"2026-07-15T15:00:00"},{"$f":"VLOOKUP(BA90,Spiele!$A$1:$L$116,9,FALSE)","v":"Atlanta"},{"$f":"INDEX($BM$82:$BM$85, MATCH(BN90, $BP$82:$BP$85, 0))","v":"C4"},"-",{"$f":"INDEX($BM$82:$BM$85, MATCH(BO90, $BP$82:$BP$85, 0))","v":"J4"},null,{"$f":"IF($B$99=\"\",1,IF(OR(BJ90<1,INT(RAND()*10<6)),BJ90+1,BJ90-1))","v":1},":",{"$f":"IF($B$99=\"\",0,INT(RAND()*5)+INT(RAND()*3)*INT(RAND()*2))","v":0},"ok",null,{"$f":"IF(BJ90=\"\",\"\",IF(BJ90=BH90,\"falsch!!! K.Remis\",IF(BH90>BJ90,BD90,BF90)))","v":"C4"},{"$f":"BP84","v":"VF3"},{"$f":"BP85","v":"VF4"},"F2",null,null,null,null,null,null,null,null,null,null,null,null,null,{"$f":"VLOOKUP(BA90,Spiele!$A$1:$L$116,10,FALSE)","v":"HF02:VF03:VF04:W99-W100"}]
[null,null,null,null,null,null,null,null,null,null,null,null,null,null,null,null,null,null,null,null,null,null,null,null,null,null,null,null,null,null,null,null,null,null,null,null,null,null,null,null,null,null,null,null,null,null,null,null,null,null,null,null,null,null,null,null,null,null,null,null,null,null,null,null,{"$f":"IF(BD89=BM89,BF89,BD89)","v":"K1"},null,null,"HF1"]
[null,"Finale",null,null,null,null,null,null,null,null,null,null,null,null,null,null,null,null,null,null,null,null,null,null,null,null,null,null,null,null,null,null,null,null,null,null,null,null,null,null,null,null,null,null,null,null,null,null,null,null,null,null,null,"Um Platz 3",null,null,null,null,null,null,null,null,null,null,{"$f":"IF(BD90=BM90,BF90,BD90)","v":"J4"},null,null,"HF2"]
[null,"Datum/Zeit","Spielort",null,null,null,null,null,null,null,null,null,"Weltmeister",null,null,null,null,null,null,null,null,null,null,null,null,null,null,null,null,null,null,null,null,null,null,null,null,null,null,null,null,null,null,null,null,null,null,null,null,null,null,null,null,"Datum/Zeit","Spielort"]
[{"$f":"BA94+1","v":104},{"$f":"VLOOKUP(A94,Spiele!$A$1:$L$116,2,FALSE)","v":"2026-07-19T15:00:00"},{"$f":"VLOOKUP(A94,Spiele!$A$1:$L$116,9,FALSE)","v":"New York"},{"$f":"BM89","v":"E4"},"-",{"$f":"BM90","v":"C4"},null,{"$f":"IF($B$99=\"\",1,IF(OR(J94<1,INT(RAND()*10<6)),J94+1,J94-1))","v":1},":",{"$f":"IF($B$99=\"\",0,INT(RAND()*5)+INT(RAND()*3)*INT(RAND()*2))","v":0},"ok",null,{"$f":"IF(J94=\"\",\"\",IF(J94=H94,\"falsch!!! K.Remis\",IF(H94>J94,D94,F94)))","v":"E4"},{"$f":"BP89","v":"F1"},{"$f":"BP90","v":"F2"},null,null,null,null,null,null,null,null,null,null,null,null,null,null,{"$f":"VLOOKUP(A94,Spiele!$A$1:$L$116,10,FALSE)","v":"FINALE:HF01:HF02:W101-W102"},null,null,null,null,null,null,null,null,null,null,null,null,null,null,null,null,null,null,null,null,null,null,{"$f":"BA90+1","v":103},{"$f":"VLOOKUP(BA94,Spiele!$A$1:$L$116,2,FALSE)","v":"2026-07-18T17:00:00"},{"$f":"VLOOKUP(BA94,Spiele!$A$1:$L$116,9,FALSE)","v":"Miami"},{"$f":"BM91","v":"K1"},"-",{"$f":"BM92","v":"J4"},null,{"$f":"IF($B$99=\"\",1,IF(OR(BJ94<1,INT(RAND()*10<6)),BJ94+1,BJ94-1))","v":1},":",{"$f":"IF($B$99=\"\",0,INT(RAND()*5)+INT(RAND()*3)*INT(RAND()*2))","v":0},"ok",null,{"$f":"IF(BJ94=\"\",\"\",IF(BJ94=BH94,\"falsch!!! K.Remis\",IF(BH94>BJ94,BD94,BF94)))","v":"K1"},{"$f":"BP91","v":"HF1"},{"$f":"BP92","v":"HF2"},null,null,null,null,null,null,null,null,null,null,null,null,null,null,{"$f":"VLOOKUP(BA94,Spiele!$A$1:$L$116,10,FALSE)","v":"PL03:HF01:HF02:V101-V102"}]
[]
[]
[]
[null,"ok","OK"]
[null,null,"Ergebnis Zufall"]
[null,{"$f":"IF($B$99=\"\",1,INT(RAND()*5)+INT(RAND()*3)*INT(RAND()*2))","v":1},"Zufallsformel"]

{"sheet":"WM2026-Punkte","index":8,"n_rows":100,"n_cols":100,"rows_kept":100,"cut":false,"hidden":false,"merged":[]}
["SP","Vorrunde","Gruppe A"," ",null,null,null,null,null,null,null,null,"Tabelle","P","T+","T-","T+/-",null,null,null,null,null,null,"G","Berechnungen","P","T+","T-","T+/-",null,"L0","DV",null,null,null,"S1","L1","DV-TD",null,null,null,"S2","DV-Tore",null,null,null,"S3","L4",null,null,null,null,"SP","Vorrunde","Gruppe D"," ",null,null,null,null,null,null,null,null,"Tabelle","P","T+","T-","T+/-",null,null,null,null,null,null,"G","Berechnungen","P","T+","T-","T+/-",null,"L0","DV",null,null,null,"S1","L1","DV-TD",null,null,null,"S2","DV-Tore",null,null,null,"S3","L4"]
[null,"Datum/Zeit","Spielort",null,null,null,null,null,null,null,null,null,{"$f":"VLOOKUP(1,$X$2:$AC$5,2,FALSE)","v":"Südafrika"},{"$f":"VLOOKUP(1,$X$2:$AC$5,3,FALSE)","v":6},{"$f":"VLOOKUP(1,$X$2:$AC$5,4,FALSE)","v":11},{"$f":"VLOOKUP(1,$X$2:$AC$5,5,FALSE)","v":5},{"$f":"VLOOKUP(1,$X$2:$AC$5,6,FALSE)","v":6},null,null,{"$f":"IF(H3=\"\",0,IF(K3=$B$98,IF(H3>J3,3,IF(H3=J3,1,0)),0))","v":0},{"$f":"IF(H5=\"\",0,IF(K5=$B$98,IF(H5>J5,3,IF(H5=J5,1,0)),0))","v":1},{"$f":"IF(J7=\"\",0,IF(K8=$B$98,IF(H7<J7,3,IF(H7=J7,1,0)),0))","v":3},null,{"$f":"RANK(AD2,$AD$2:$AD$5)","v":2},"Mexiko",{"$f":"SUM(S2:V2)","v":4},{"$f":"SUM(S6:V6)","v":3},{"$f":"SUM(S6:S9)","v":6},{"$f":"AA2-AB2","v":-3},{"$f":"IF(P$8=\"\",(((((((AE2*10+Z2)*100+AC2)*100+AA2)*10+AK2)*10+AJ2)*100+AP2)*100+AU2)*10+AV2,(((((((AE2*10+Z2)*10+AK2)*10+AJ2)*100+AP2)*100+AU2)*100+AC2)*100+AA2)*10+AV2)","v":403020197034},null,null,{"$f":"IF($Z2=$Z3,$T2-$S3,0)","v":0},{"$f":"IF($Z2=$Z4,$U2-$S4,0)","v":0},{"$f":"IF($Z2=$Z5,$V2-$S5,0)","v":3},{"$f":"SUM(AF2:AI2)","v":3},null,null,{"$f":"IF($Z2=$Z3,$T6-$S7,0)","v":0},{"$f":"IF($Z2=$Z4,$U6-$S8,0)","v":0},{"$f":"IF($Z2=$Z5,$V6-$S9,0)","v":2},{"$f":"SUM(AL2:AO2)","v":2},null,{"$f":"IF($Z2=$Z3,$T6,0)","v":0},{"$f":"IF($Z2=$Z4,$U6,0)","v":0},{"$f":"IF($Z2=$Z5,$V6,0)","v":2},{"$f":"SUM(AQ2:AT2)","v":2},4,null,null,null,null,null,"Datum/Zeit","Spielort",null,null,null,null,null,null,null,null,null,{"$f":"VLOOKUP(1,$BX$2:$CC$5,2,FALSE)","v":"USA"},{"$f":"VLOOKUP(1,$BX$2:$CC$5,3,FALSE)","v":5},{"$f":"VLOOKUP(1,$BX$2:$CC$5,4,FALSE)","v":12},{"$f":"VLOOKUP(1,$BX$2:$CC$5,5,FALSE)","v":8},{"$f":"VLOOKUP(1,$BX$2:$CC$5,6,FALSE)","v":4},null,null,{"$f":"IF(BH3=\"\",0,IF(BK3=$B$98,IF(BH3>BJ3,3,IF(BH3=BJ3,1,0)),0))","v":3},{"$f":"IF(BH5=\"\",0,IF(BK5=$B$98,IF(BH5>BJ5,3,IF(BH5=BJ5,1,0)),0))","v":1},{"$f":"IF(BJ7=\"\",0,IF(BK8=$B$98,IF(BH7<BJ7,3,IF(BH7=BJ7,1,0)),0))","v":1},null,{"$f":"RANK(CD2,$CD$2:$CD$5)","v":1},"USA",{"$f":"SUM(BS2:BV2)","v":5},{"$f":"SUM(BS6:BV6)","v":12},{"$f":"SUM(BS6:BS9)","v":8},{"$f":"CA2-CB2","v":4},{"$f":"IF(BP$8=\"\",(((((((CE2*10+BZ2)*100+CC2)*100+CA2)*10+CK2)*10+CJ2)*100+CP2)*100+CU2)*10+CV2,(((((((CE2*10+BZ2)*10+CK2)*10+CJ2)*100+CP2)*100+CU2)*100+CC2)*100+CA2)*10+CV2)","v":500000404124},null,null,{"$f":"IF($BZ2=$BZ3,$BT2-$BS3,0)","v":0},{"$f":"IF($BZ2=$BZ4,$BU2-$BS4,0)","v":0},{"$f":"IF($BZ2=$BZ5,$BV2-$BS5,0)","v":0},{"$f":"SUM(CF2:CI2)","v":0},null,null,{"$f":"IF($BZ2=$BZ3,$BT6-$BS7,0)","v":0},{"$f":"IF($BZ2=$BZ4,$BU6-$BS8,0)","v":0},{"$f":"IF($BZ2=$BZ5,$BV6-$BS9,0)","v":0},{"$f":"SUM(CL2:CO2)","v":0},null,{"$f":"IF($BZ2=$BZ3,$BT6,0)","v":0},{"$f":"IF($BZ2=$BZ4,$BU6,0)","v":0},{"$f":"IF($BZ2=$BZ5,$BV6,0)","v":4},{"$f":"SUM(CQ2:CT2)","v":4},4]
[1,{"$f":"VLOOKUP(A3,Spiele!$A$1:$L$116,2,FALSE)","v":"2026-06-11T14:00:00"},{"$f":"VLOOKUP(A3,Spiele!$A$1:$L$116,9,FALSE)","v":"Mexico City"},{"$f":"Y2","v":"Mexiko"},"-",{"$f":"Y3","v":"Südafrika"},null,{"$f":"IF($B$99=\"\",1,INT(RAND()*5)+INT(RAND()*3)*INT(RAND()*2))","v":1},":",{"$f":"IF($B$99=\"\",0,INT(RAND()*5)+INT(RAND()*3)*INT(RAND()*2))","v":6},"ok",null,{"$f":"VLOOKUP(2,$X$2:$AC$5,2,FALSE)","v":"Mexiko"},{"$f":"VLOOKUP(2,$X$2:$AC$5,3,FALSE)","v":4},{"$f":"VLOOKUP(2,$X$2:$AC$5,4,FALSE)","v":3},{"$f":"VLOOKUP(2,$X$2:$AC$5,5,FALSE)","v":6},{"$f":"VLOOKUP(2,$X$2:$AC$5,6,FALSE)","v":-3},null,{"$f":"IF(J3=\"\",0,IF(K3=$B$98,IF(H3<J3,3,IF(H3=J3,1,0)),0))","v":3},null,{"$f":"IF(H8=\"\",0,IF(K7=$B$98,IF(H8>J8,3,IF(H8=J8,1,0)),0))","v":3},{"$f":"IF(J6=\"\",0,IF(K6=$B$98,IF(J6>H6,3,IF(J6=H6,1,0)),0))","v":0},null,{"$f":"RANK(AD3,$AD$2:$AD$5)","v":1},"Südafrika",{"$f":"SUM(S3:V3)","v":6},{"$f":"SUM(S7:V7)","v":11},{"$f":"SUM(T6:T9)","v":5},{"$f":"AA3-AB3","v":6},{"$f":"IF(P$8=\"\",(((((((AE3*10+Z3)*100+AC3)*100+AA3)*10+AK3)*10+AJ3)*100+AP3)*100+AU3)*10+AV3,(((((((AE3*10+Z3)*10+AK3)*10+AJ3)*100+AP3)*100+AU3)*100+AC3)*100+AA3)*10+AV3)","v":600000006113},null,{"$f":"IF($Z3=$Z2,$S3-$T2,0)","v":0},null,{"$f":"IF($Z3=$Z4,$U3-$T4,0)","v":0},{"$f":"IF($Z3=$Z5,$V3-$T5,0)","v":0},{"$f":"SUM(AF3:AI3)","v":0},null,{"$f":"IF($Z3=$Z2,$S7-$T6,0)","v":0},null,{"$f":"IF($Z3=$Z4,$U7-$T8,0)","v":0},{"$f":"IF($Z3=$Z5,$V7-$T9,0)","v":0},{"$f":"SUM(AL3:AO3)","v":0},{"$f":"IF($Z3=$Z2,$S7,0)","v":0},null,{"$f":"IF($Z3=$Z4,$U7,0)","v":0},{"$f":"IF($Z3=$Z5,$V7,0)","v":0},{"$f":"SUM(AQ3:AT3)","v":0},3,null,null,null,null,4,{"$f":"VLOOKUP(BA3,Spiele!$A$1:$L$116,2,FALSE)","v":"2026-06-12T18:00:00"},{"$f":"VLOOKUP(BA3,Spiele!$A$1:$L$116,9,FALSE)","v":"Los Angeles"},{"$f":"BY2","v":"USA"},"-",{"$f":"BY3","v":"Paraguay"},null,{"$f":"IF($B$99=\"\",1,INT(RAND()*5)+INT(RAND()*3)*INT(RAND()*2))","v":4},":",{"$f":"IF($B$99=\"\",0,INT(RAND()*5)+INT(RAND()*3)*INT(RAND()*2))","v":0},"ok",null,{"$f":"VLOOKUP(2,$BX$2:$CC$5,2,FALSE)","v":"Türkei"},{"$f":"VLOOKUP(2,$BX$2:$CC$5,3,FALSE)","v":5},{"$f":"VLOOKUP(2,$BX$2:$CC$5,4,FALSE)","v":11},{"$f":"VLOOKUP(2,$BX$2:$CC$5,5,FALSE)","v":7},{"$f":"VLOOKUP(2,$BX$2:$CC$5,6,FALSE)","v":4},null,{"$f":"IF(BJ3=\"\",0,IF(BK3=$B$98,IF(BH3<BJ3,3,IF(BH3=BJ3,1,0)),0))","v":0},null,{"$f":"IF(BH8=\"\",0,IF(BK7=$B$98,IF(BH8>BJ8,3,IF(BH8=BJ8,1,0)),0))","v":3},{"$f":"IF(BJ6=\"\",0,IF(BK6=$B$98,IF(BJ6>BH6,3,IF(BJ6=BH6,1,0)),0))","v":0},null,{"$f":"RANK(CD3,$CD$2:$CD$5)","v":3},"Paraguay",{"$f":"SUM(BS3:BV3)","v":3},{"$f":"SUM(BS7:BV7)","v":3},{"$f":"SUM(BT6:BT9)","v":8},{"$f":"CA3-CB3","v":-5},{"$f":"IF(BP$8=\"\",(((((((CE3*10+BZ3)*100+CC3)*100+CA3)*10+CK3)*10+CJ3)*100+CP3)*100+CU3)*10+CV3,(((((((CE3*10+BZ3)*10+CK3)*10+CJ3)*100+CP3)*100+CU3)*100+CC3)*100+CA3)*10+CV3)","v":299999995033},null,{"$f":"IF($BZ3=$BZ2,$BS3-$BT2,0)","v":0},null,{"$f":"IF($BZ3=$BZ4,$BU3-$BT4,0)","v":0},{"$f":"IF($BZ3=$BZ5,$BV3-$BT5,0)","v":0},{"$f":"SUM(CF3:CI3)","v":0},null,{"$f":"IF($BZ3=$BZ2,$BS7-$BT6,0)","v":0},null,{"$f":"IF($BZ3=$BZ4,$BU7-$BT8,0)","v":0},{"$f":"IF($BZ3=$BZ5,$BV7-$BT9,0)","v":0},{"$f":"SUM(CL3:CO3)","v":0},{"$f":"IF($BZ3=$BZ2,$BS7,0)","v":0},null,{"$f":"IF($BZ3=$BZ4,$BU7,0)","v":0},{"$f":"IF($BZ3=$BZ5,$BV7,0)","v":0},{"$f":"SUM(CQ3:CT3)","v":0},3]
[2,{"$f":"VLOOKUP(A4,Spiele!$A$1:$L$116,2,FALSE)","v":"2026-06-11T21:00:00"},{"$f":"VLOOKUP(A4,Spiele!$A$1:$L$116,9,FALSE)","v":"Guadalajara"},{"$f":"Y4","v":"Südkorea"},"-",{"$f":"Y5","v":"Tschechien"},null,2,":",2,"ok",null,{"$f":"VLOOKUP(3,$X$2:$AC$5,2,FALSE)","v":"Tschechien"},{"$f":"VLOOKUP(3,$X$2:$AC$5,3,FALSE)","v":4},{"$f":"VLOOKUP(3,$X$2:$AC$5,4,FALSE)","v":6},{"$f":"VLOOKUP(3,$X$2:$AC$5,5,FALSE)","v":4},{"$f":"VLOOKUP(3,$X$2:$AC$5,6,FALSE)","v":2},null,{"$f":"IF(J5=\"\",0,IF(K5=$B$98,IF(H5<J5,3,IF(H5=J5,1,0)),0))","v":1},{"$f":"IF(J8=\"\",0,IF(K7=$B$98,IF(H8<J8,3,IF(H8=J8,1,0)),0))","v":0},null,{"$f":"IF(H4=\"\",0,IF(K4=$B$98,IF(H4>J4,3,IF(H4=J4,1,0)),0))","v":1},null,{"$f":"RANK(AD4,$AD$2:$AD$5)","v":4},"Südkorea",{"$f":"SUM(S4:V4)","v":2},{"$f":"SUM(S8:V8)","v":2},{"$f":"SUM(U6:U9)","v":7},{"$f":"AA4-AB4","v":-5},{"$f":"IF(P$8=\"\",(((((((AE4*10+Z4)*100+AC4)*100+AA4)*10+AK4)*10+AJ4)*100+AP4)*100+AU4)*10+AV4,(((((((AE4*10+Z4)*10+AK4)*10+AJ4)*100+AP4)*100+AU4)*100+AC4)*100+AA4)*10+AV4)","v":199999995022},null,{"$f":"IF($Z4=$Z2,$S4-$U2,0)","v":0},{"$f":"IF($Z4=$Z3,$T4-$U3,0)","v":0},null,{"$f":"IF($Z4=$Z5,$V4-$U5,0)","v":0},{"$f":"SUM(AF4:AI4)","v":0},null,{"$f":"IF($Z4=$Z2,$S8-$U6,0)","v":0},{"$f":"IF($Z4=$Z3,$T8-$U7,0)","v":0},null,{"$f":"IF($Z4=$Z5,$V8-$U9,0)","v":0},{"$f":"SUM(AL4:AO4)","v":0},{"$f":"IF($Z4=$Z2,$S8,0)","v":0},{"$f":"IF($Z4=$Z3,$T8,0)","v":0},null,{"$f":"IF($Z4=$Z5,$V8,0)","v":0},{"$f":"SUM(AQ4:AT4)","v":0},2,null,null,null,null,6,{"$f":"VLOOKUP(BA4,Spiele!$A$1:$L$116,2,FALSE)","v":"2026-06-13T21:00:00"},{"$f":"VLOOKUP(BA4,Spiele!$A$1:$L$116,9,FALSE)","v":"Vancouver"},{"$f":"BY4","v":"Australien"},"-",{"$f":"BY5","v":"Türkei"},null,3,":",3,"ok",null,{"$f":"VLOOKUP(3,$BX$2:$CC$5,2,FALSE)","v":"Paraguay"},{"$f":"VLOOKUP(3,$BX$2:$CC$5,3,FALSE)","v":3},{"$f":"VLOOKUP(3,$BX$2:$CC$5,4,FALSE)","v":3},{"$f":"VLOOKUP(3,$BX$2:$CC$5,5,FALSE)","v":8},{"$f":"VLOOKUP(3,$BX$2:$CC$5,6,FALSE)","v":-5},null,{"$f":"IF(BJ5=\"\",0,IF(BK5=$B$98,IF(BH5<BJ5,3,IF(BH5=BJ5,1,0)),0))","v":1},{"$f":"IF(BJ8=\"\",0,IF(BK7=$B$98,IF(BH8<BJ8,3,IF(BH8=BJ8,1,0)),0))","v":0},null,{"$f":"IF(BH4=\"\",0,IF(BK4=$B$98,IF(BH4>BJ4,3,IF(BH4=BJ4,1,0)),0))","v":1},null,{"$f":"RANK(CD4,$CD$2:$CD$5)","v":4},"Australien",{"$f":"SUM(BS4:BV4)","v":2},{"$f":"SUM(BS8:BV8)","v":7},{"$f":"SUM(BU6:BU9)","v":10},{"$f":"CA4-CB4","v":-3},{"$f":"IF(BP$8=\"\",(((((((CE4*10+BZ4)*100+CC4)*100+CA4)*10+CK4)*10+CJ4)*100+CP4)*100+CU4)*10+CV4,(((((((CE4*10+BZ4)*10+CK4)*10+CJ4)*100+CP4)*100+CU4)*100+CC4)*100+CA4)*10+CV4)","v":199999997072},null,{"$f":"IF($BZ4=$BZ2,$BS4-$BU2,0)","v":0},{"$f":"IF($BZ4=$BZ3,$BT4-$BU3,0)","v":0},null,{"$f":"IF($BZ4=$BZ5,$BV4-$BU5,0)","v":0},{"$f":"SUM(CF4:CI4)","v":0},null,{"$f":"IF($BZ4=$BZ2,$BS8-$BU6,0)","v":0},{"$f":"IF($BZ4=$BZ3,$BT8-$BU7,0)","v":0},null,{"$f":"IF($BZ4=$BZ5,$BV8-$BU9,0)","v":0},{"$f":"SUM(CL4:CO4)","v":0},{"$f":"IF($BZ4=$BZ2,$BS8,0)","v":0},{"$f":"IF($BZ4=$BZ3,$BT8,0)","v":0},null,{"$f":"IF($BZ4=$BZ5,$BV8,0)","v":0},{"$f":"SUM(CQ4:CT4)","v":0},2]
[28,{"$f":"VLOOKUP(A5,Spiele!$A$1:$L$116,2,FALSE)","v":"2026-06-18T20:00:00"},{"$f":"VLOOKUP(A5,Spiele!$A$1:$L$116,9,FALSE)","v":"Guadalajara"},{"$f":"Y2","v":"Mexiko"},"-",{"$f":"Y4","v":"Südkorea"},null,0,":",0,"ok",null,{"$f":"VLOOKUP(4,$X$2:$AC$5,2,FALSE)","v":"Südkorea"},{"$f":"VLOOKUP(4,$X$2:$AC$5,3,FALSE)","v":2},{"$f":"VLOOKUP(4,$X$2:$AC$5,4,FALSE)","v":2},{"$f":"VLOOKUP(4,$X$2:$AC$5,5,FALSE)","v":7},{"$f":"VLOOKUP(4,$X$2:$AC$5,6,FALSE)","v":-5},null,{"$f":"IF(H7=\"\",0,IF(K8=$B$98,IF(H7>J7,3,IF(H7=J7,1,0)),0))","v":0},{"$f":"IF(H6=\"\",0,IF(K6=$B$98,IF(J6<H6,3,IF(J6=H6,1,0)),0))","v":3},{"$f":"IF(J4=\"\",0,IF(K4=$B$98,IF(H4<J4,3,IF(H4=J4,1,0)),0))","v":1},null,null,{"$f":"RANK(AD5,$AD$2:$AD$5)","v":3},"Tschechien",{"$f":"SUM(S5:V5)","v":4},{"$f":"SUM(S9:V9)","v":6},{"$f":"SUM(V6:V9)","v":4},{"$f":"AA5-AB5","v":2},{"$f":"IF(P$8=\"\",(((((((AE5*10+Z5)*100+AC5)*100+AA5)*10+AK5)*10+AJ5)*100+AP5)*100+AU5)*10+AV5,(((((((AE5*10+Z5)*10+AK5)*10+AJ5)*100+AP5)*100+AU5)*100+AC5)*100+AA5)*10+AV5)","v":396980002061},null,{"$f":"IF($Z5=$Z2,$S5-$V2,0)","v":-3},{"$f":"IF($Z5=$Z3,$T5-$V3,0)","v":0},{"$f":"IF($Z5=$Z4,$U5-$V4,0)","v":0},null,{"$f":"SUM(AF5:AI5)","v":-3},null,{"$f":"IF($Z5=$Z2,$S9-$V6,0)","v":-2},{"$f":"IF($Z5=$Z3,$T9-$V7,0)","v":0},{"$f":"IF($Z5=$Z4,$U9-$V8,0)","v":0},null,{"$f":"SUM(AL5:AO5)","v":-2},{"$f":"IF($Z5=$Z2,$S9,0)","v":0},{"$f":"IF($Z5=$Z3,$T9,0)","v":0},{"$f":"IF($Z5=$Z4,$U9,0)","v":0},null,{"$f":"SUM(AQ5:AT5)","v":0},1,null,null,null,null,32,{"$f":"VLOOKUP(BA5,Spiele!$A$1:$L$116,2,FALSE)","v":"2026-06-19T12:00:00"},{"$f":"VLOOKUP(BA5,Spiele!$A$1:$L$116,9,FALSE)","v":"Seattle"},{"$f":"BY2","v":"USA"},"-",{"$f":"BY4","v":"Australien"},null,4,":",4,"ok",null,{"$f":"VLOOKUP(4,$BX$2:$CC$5,2,FALSE)","v":"Australien"},{"$f":"VLOOKUP(4,$BX$2:$CC$5,3,FALSE)","v":2},{"$f":"VLOOKUP(4,$BX$2:$CC$5,4,FALSE)","v":7},{"$f":"VLOOKUP(4,$BX$2:$CC$5,5,FALSE)","v":10},{"$f":"VLOOKUP(4,$BX$2:$CC$5,6,FALSE)","v":-3},null,{"$f":"IF(BH7=\"\",0,IF(BK8=$B$98,IF(BH7>BJ7,3,IF(BH7=BJ7,1,0)),0))","v":1},{"$f":"IF(BH6=\"\",0,IF(BK6=$B$98,IF(BJ6<BH6,3,IF(BJ6=BH6,1,0)),0))","v":3},{"$f":"IF(BJ4=\"\",0,IF(BK4=$B$98,IF(BH4<BJ4,3,IF(BH4=BJ4,1,0)),0))","v":1},null,null,{"$f":"RANK(CD5,$CD$2:$CD$5)","v":2},"Türkei",{"$f":"SUM(BS5:BV5)","v":5},{"$f":"SUM(BS9:BV9)","v":11},{"$f":"SUM(BV6:BV9)","v":7},{"$f":"CA5-CB5","v":4},{"$f":"IF(BP$8=\"\",(((((((CE5*10+BZ5)*100+CC5)*100+CA5)*10+CK5)*10+CJ5)*100+CP5)*100+CU5)*10+CV5,(((((((CE5*10+BZ5)*10+CK5)*10+CJ5)*100+CP5)*100+CU5)*100+CC5)*100+CA5)*10+CV5)","v":500000404111},null,{"$f":"IF($BZ5=$BZ2,$BS5-$BV2,0)","v":0},{"$f":"IF($BZ5=$BZ3,$BT5-$BV3,0)","v":0},{"$f":"IF($BZ5=$BZ4,$BU5-$BV4,0)","v":0},null,{"$f":"SUM(CF5:CI5)","v":0},null,{"$f":"IF($BZ5=$BZ2,$BS9-$BV6,0)","v":0},{"$f":"IF($BZ5=$BZ3,$BT9-$BV7,0)","v":0},{"$f":"IF($BZ5=$BZ4,$BU9-$BV8,0)","v":0},null,{"$f":"SUM(CL5:CO5)","v":0},{"$f":"IF($BZ5=$BZ2,$BS9,0)","v":4},{"$f":"IF($BZ5=$BZ3,$BT9,0)","v":0},{"$f":"IF($BZ5=$BZ4,$BU9,0)","v":0},null,{"$f":"SUM(CQ5:CT5)","v":4},1]
[25,{"$f":"VLOOKUP(A6,Spiele!$A$1:$L$116,2,FALSE)","v":"2026-06-18T12:00:00"},{"$f":"VLOOKUP(A6,Spiele!$A$1:$L$116,9,FALSE)","v":"Atlanta"},{"$f":"Y5","v":"Tschechien"},"-",{"$f":"Y3","v":"Südafrika"},null,4,":",0,"ok",null,null,null,null,null,null,null,null,{"$f":"IF(K3=$B$98,H3,0)","v":1},{"$f":"IF(K5=$B$98,H5,0)","v":0},{"$f":"IF(K8=$B$98,J7,0)","v":2},null,null,null,null,null,null,null,null,null,null,null,null,null,null,null,null,null,null,null,null,null,null,null,null,null,null,null,null,null,null,31,{"$f":"VLOOKUP(BA6,Spiele!$A$1:$L$116,2,FALSE)","v":"2026-06-19T21:00:00"},{"$f":"VLOOKUP(BA6,Spiele!$A$1:$L$116,9,FALSE)","v":"San Francisco"},{"$f":"BY5","v":"Türkei"},"-",{"$f":"BY3","v":"Paraguay"},null,4,":",0,"ok",null,null,null,null,null,null,null,null,{"$f":"IF(BK3=$B$98,BH3,0)","v":4},{"$f":"IF(BK5=$B$98,BH5,0)","v":4},{"$f":"IF(BK8=$B$98,BJ7,0)","v":4}]
[53,{"$f":"VLOOKUP(A7,Spiele!$A$1:$L$116,2,FALSE)","v":"2026-06-24T20:00:00"},{"$f":"VLOOKUP(A7,Spiele!$A$1:$L$116,9,FALSE)","v":"Mexico City"},{"$f":"Y5","v":"Tschechien"},"-",{"$f":"Y2","v":"Mexiko"},null,0,":",2,"ok",null,{"$f":"IF(N2>0,M2,\"\")","v":"Südafrika"},"1A",null,null,null,null,{"$f":"IF(K3=$B$98,J3,0)","v":6},null,{"$f":"IF(K7=$B$98,H8,0)","v":5},{"$f":"IF(K6=$B$98,J6,0)","v":0},null,null,null,null,null,null,null,"L0=AE hebelt Berechnung aus (top level Losen)",null,null,null,null,null,null,null,null,null,null,null,null,null,null,null,null,null,null,null,null,null,null,59,{"$f":"VLOOKUP(BA7,Spiele!$A$1:$L$116,2,FALSE)","v":"2026-06-25T19:00:00"},{"$f":"VLOOKUP(BA7,Spiele!$A$1:$L$116,9,FALSE)","v":"Los Angeles"},{"$f":"BY5","v":"Türkei"},"-",{"$f":"BY2","v":"USA"},null,4,":",4,"ok",null,{"$f":"IF(BN2>0,BM2,\"\")","v":"USA"},"1D",null,null,null,null,{"$f":"IF(BK3=$B$98,BJ3,0)","v":0},null,{"$f":"IF(BK7=$B$98,BH8,0)","v":3},{"$f":"IF(BK6=$B$98,BJ6,0)","v":0},null,null,null,null,null,null,null,"L0=AE hebelt Berechnung aus (top level Losen)"]
[54,{"$f":"VLOOKUP(A8,Spiele!$A$1:$L$116,2,FALSE)","v":"2026-06-24T20:00:00"},{"$f":"VLOOKUP(A8,Spiele!$A$1:$L$116,9,FALSE)","v":"Monterrey"},{"$f":"Y3","v":"Südafrika"},"-",{"$f":"Y4","v":"Südkorea"},null,5,":",0,"ok",null,{"$f":"IF(N3>0,M3,\"\")","v":"Mexiko"},"2A",null,"DV",null,null,{"$f":"IF(K5=$B$98,J5,0)","v":0},{"$f":"IF(K7=$B$98,J8,0)","v":0},null,{"$f":"IF(K4=$B$98,H4,0)","v":2},null,null,null,null,null,null,null,"L1=AK hebelt Direktvergleich (S1) aus",null,null,null,null,null,null,null,null,null,null,null,null,null,null,null,null,null,null,null,null,null,null,60,{"$f":"VLOOKUP(BA8,Spiele!$A$1:$L$116,2,FALSE)","v":"2026-06-25T19:00:00"},{"$f":"VLOOKUP(BA8,Spiele!$A$1:$L$116,9,FALSE)","v":"San Francisco"},{"$f":"BY3","v":"Paraguay"},"-",{"$f":"BY4","v":"Australien"},null,3,":",0,"ok",null,{"$f":"IF(BN3>0,BM3,\"\")","v":"Türkei"},"2D",null,"DV",null,null,{"$f":"IF(BK5=$B$98,BJ5,0)","v":4},{"$f":"IF(BK7=$B$98,BJ8,0)","v":0},null,{"$f":"IF(BK4=$B$98,BH4,0)","v":3},null,null,null,null,null,null,null,"L1=AK hebelt Direktvergleich (S1) aus"]
[null,null,null,null,null,null,null,null,null,null,null,null,{"$f":"IF(N4>0,M4,\"\")","v":"Tschechien"},"3A",null,null,null,null,{"$f":"IF(K8=$B$98,H7,0)","v":0},{"$f":"IF(K6=$B$98,H6,0)","v":4},{"$f":"IF(K4=$B$98,J4,0)","v":2},null,null,null,null,null,null,null,null,"L4=AV Losen UEFA-Koeffizient, Fairplay oder Münzwurf",null,null,null,null,null,null,null,null,null,null,null,null,null,null,null,null,null,null,null,null,null,null,null,null,null,null,null,null,null,null,null,null,null,null,{"$f":"IF(BN4>0,BM4,\"\")","v":"Paraguay"},"3D",null,null,null,null,{"$f":"IF(BK8=$B$98,BH7,0)","v":4},{"$f":"IF(BK6=$B$98,BH6,0)","v":4},{"$f":"IF(BK4=$B$98,BJ4,0)","v":3},null,null,null,null,null,null,null,null,"L4=AV Losen UEFA-Koeffizient, Fairplay oder Münzwurf"]
[]
[null,"Vorrunde","Gruppe B"," ",null,null,null,null,null,null,null,null,"Tabelle","P","T+","T-","T+/-",null,null,null,null,null,null,"G","Berechnungen","P","T+","T-","T+/-",null,"L0","DV",null,null,null,"S1","L1","DV-TD",null,null,null,"S2","DV-Tore",null,null,null,"S3","L4",null,null,null,null,null,"Vorrunde","Gruppe E"," ",null,null,null,null,null,null,null,null,"Tabelle","P","T+","T-","T+/-",null,null,null,null,null,null,"G","Berechnungen","P","T+","T-","T+/-",null,"L0","DV",null,null,null,"S1","L1","DV-TD",null,null,null,"S2","DV-Tore",null,null,null,"S3","L4"]
[null,"Datum/Zeit","Spielort",null,null,null,null,null,null,null,null,null,{"$f":"VLOOKUP(1,$X$12:$AC$15,2,FALSE)","v":"Schweiz"},{"$f":"VLOOKUP(1,$X$12:$AC$15,3,FALSE)","v":6},{"$f":"VLOOKUP(1,$X$12:$AC$15,4,FALSE)","v":10},{"$f":"VLOOKUP(1,$X$12:$AC$15,5,FALSE)","v":9},{"$f":"VLOOKUP(1,$X$12:$AC$15,6,FALSE)","v":1},null,null,{"$f":"IF(H13=\"\",0,IF(K13=$B$98,IF(H13>J13,3,IF(H13=J13,1,0)),0))","v":3},{"$f":"IF(H15=\"\",0,IF(K15=$B$98,IF(H15>J15,3,IF(H15=J15,1,0)),0))","v":3},{"$f":"IF(J17=\"\",0,IF(K18=$B$98,IF(H17<J17,3,IF(H17=J17,1,0)),0))","v":0},null,{"$f":"RANK(AD12,$AD$12:$AD$15)","v":2},"Kanada",{"$f":"SUM(S12:V12)","v":6},{"$f":"SUM(S16:V16)","v":6},{"$f":"SUM(S16:S19)","v":5},{"$f":"AA12-AB12","v":1},{"$f":"IF(P$18=\"\",(((((((AE12*10+Z12)*100+AC12)*100+AA12)*10+AK12)*10+AJ12)*100+AP12)*100+AU12)*10+AV12,(((((((AE12*10+Z12)*10+AK12)*10+AJ12)*100+AP12)*100+AU12)*100+AC12)*100+AA12)*10+AV12)","v":596960001064},null,null,{"$f":"IF($Z12=$Z13,$T12-$S13,0)","v":0},{"$f":"IF($Z12=$Z14,$U12-$S14,0)","v":0},{"$f":"IF($Z12=$Z15,$V12-$S15,0)","v":-3},{"$f":"SUM(AF12:AI12)","v":-3},null,null,{"$f":"IF($Z12=$Z13,$T16-$S17,0)","v":0},{"$f":"IF($Z12=$Z14,$U16-$S18,0)","v":0},{"$f":"IF($Z12=$Z15,$V16-$S19,0)","v":-4},{"$f":"SUM(AL12:AO12)","v":-4},null,{"$f":"IF($Z12=$Z13,$T16,0)","v":0},{"$f":"IF($Z12=$Z14,$U16,0)","v":0},{"$f":"IF($Z12=$Z15,$V16,0)","v":0},{"$f":"SUM(AQ12:AT12)","v":0},4,null,null,null,null,null,"Datum/Zeit","Spielort",null,null,null,null,null,null,null,null,null,{"$f":"VLOOKUP(1,$BX$12:$CC$15,2,FALSE)","v":"Deutschland"},{"$f":"VLOOKUP(1,$BX$12:$CC$15,3,FALSE)","v":6},{"$f":"VLOOKUP(1,$BX$12:$CC$15,4,FALSE)","v":9},{"$f":"VLOOKUP(1,$BX$12:$CC$15,5,FALSE)","v":9},{"$f":"VLOOKUP(1,$BX$12:$CC$15,6,FALSE)","v":0},null,null,{"$f":"IF(BH13=\"\",0,IF(BK13=$B$98,IF(BH13>BJ13,3,IF(BH13=BJ13,1,0)),0))","v":0},{"$f":"IF(BH15=\"\",0,IF(BK15=$B$98,IF(BH15>BJ15,3,IF(BH15=BJ15,1,0)),0))","v":3},{"$f":"IF(BJ17=\"\",0,IF(BK18=$B$98,IF(BH17<BJ17,3,IF(BH17=BJ17,1,0)),0))","v":3},null,{"$f":"RANK(CD12,$CD$12:$CD$15)","v":1},"Deutschland",{"$f":"SUM(BS12:BV12)","v":6},{"$f":"SUM(BS16:BV16)","v":9},{"$f":"SUM(BS16:BS19)","v":9},{"$f":"CA12-CB12","v":0},{"$f":"IF(BP$18=\"\",(((((((CE12*10+BZ12)*100+CC12)*100+CA12)*10+CK12)*10+CJ12)*100+CP12)*100+CU12)*10+CV12,(((((((CE12*10+BZ12)*10+CK12)*10+CJ12)*100+CP12)*100+CU12)*100+CC12)*100+CA12)*10+CV12)","v":600000000094},null,null,{"$f":"IF($BZ12=$BZ13,$BT12-$BS13,0)","v":0},{"$f":"IF($BZ12=$BZ14,$BU12-$BS14,0)","v":0},{"$f":"IF($BZ12=$BZ15,$BV12-$BS15,0)","v":0},{"$f":"SUM(CF12:CI12)","v":0},null,null,{"$f":"IF($BZ12=$BZ13,$BT16-$BS17,0)","v":0},{"$f":"IF($BZ12=$BZ14,$BU16-$BS18,0)","v":0},{"$f":"IF($BZ12=$BZ15,$BV16-$BS19,0)","v":0},{"$f":"SUM(CL12:CO12)","v":0},null,{"$f":"IF($BZ12=$BZ13,$BT16,0)","v":0},{"$f":"IF($BZ12=$BZ14,$BU16,0)","v":0},{"$f":"IF($BZ12=$BZ15,$BV16,0)","v":0},{"$f":"SUM(CQ12:CT12)","v":0},4]
[3,{"$f":"VLOOKUP(A13,Spiele!$A$1:$L$116,2,FALSE)","v":"2026-06-12T15:00:00"},{"$f":"VLOOKUP(A13,Spiele!$A$1:$L$116,9,FALSE)","v":"Toronto"},{"$f":"Y12","v":"Kanada"},"-",{"$f":"Y13","v":"Bosnien/Herzg."},null,{"$f":"IF($B$99=\"\",1,INT(RAND()*5)+INT(RAND()*3)*INT(RAND()*2))","v":4},":",{"$f":"IF($B$99=\"\",0,INT(RAND()*5)+INT(RAND()*3)*INT(RAND()*2))","v":0},"ok",null,{"$f":"VLOOKUP(2,$X$12:$AC$15,2,FALSE)","v":"Kanada"},{"$f":"VLOOKUP(2,$X$12:$AC$15,3,FALSE)","v":6},{"$f":"VLOOKUP(2,$X$12:$AC$15,4,FALSE)","v":6},{"$f":"VLOOKUP(2,$X$12:$AC$15,5,FALSE)","v":5},{"$f":"VLOOKUP(2,$X$12:$AC$15,6,FALSE)","v":1},null,{"$f":"IF(J13=\"\",0,IF(K13=$B$98,IF(H13<J13,3,IF(H13=J13,1,0)),0))","v":0},null,{"$f":"IF(H18=\"\",0,IF(K17=$B$98,IF(H18>J18,3,IF(H18=J18,1,0)),0))","v":1},{"$f":"IF(J16=\"\",0,IF(K16=$B$98,IF(J16>H16,3,IF(J16=H16,1,0)),0))","v":0},null,{"$f":"RANK(AD13,$AD$12:$AD$15)","v":4},"Bosnien/Herzg.",{"$f":"SUM(S13:V13)","v":1},{"$f":"SUM(S17:V17)","v":8},{"$f":"SUM(T16:T19)","v":13},{"$f":"AA13-AB13","v":-5},{"$f":"IF(P$18=\"\",(((((((AE13*10+Z13)*100+AC13)*100+AA13)*10+AK13)*10+AJ13)*100+AP13)*100+AU13)*10+AV13,(((((((AE13*10+Z13)*10+AK13)*10+AJ13)*100+AP13)*100+AU13)*100+AC13)*100+AA13)*10+AV13)","v":99999995083},null,{"$f":"IF($Z13=$Z12,$S13-$T12,0)","v":0},null,{"$f":"IF($Z13=$Z14,$U13-$T14,0)","v":0},{"$f":"IF($Z13=$Z15,$V13-$T15,0)","v":0},{"$f":"SUM(AF13:AI13)","v":0},null,{"$f":"IF($Z13=$Z12,$S17-$T16,0)","v":0},null,{"$f":"IF($Z13=$Z14,$U17-$T18,0)","v":0},{"$f":"IF($Z13=$Z15,$V17-$T19,0)","v":0},{"$f":"SUM(AL13:AO13)","v":0},{"$f":"IF($Z13=$Z12,$S17,0)","v":0},null,{"$f":"IF($Z13=$Z14,$U17,0)","v":0},{"$f":"IF($Z13=$Z15,$V17,0)","v":0},{"$f":"SUM(AQ13:AT13)","v":0},3,null,null,null,null,10,{"$f":"VLOOKUP(BA13,Spiele!$A$1:$L$116,2,FALSE)","v":"2026-06-14T12:00:00"},{"$f":"VLOOKUP(BA13,Spiele!$A$1:$L$116,9,FALSE)","v":"Houston"},{"$f":"BY12","v":"Deutschland"},"-",{"$f":"BY13","v":"Curaçao"},null,{"$f":"IF($B$99=\"\",1,INT(RAND()*5)+INT(RAND()*3)*INT(RAND()*2))","v":1},":",{"$f":"IF($B$99=\"\",0,INT(RAND()*5)+INT(RAND()*3)*INT(RAND()*2))","v":4},"ok",null,{"$f":"VLOOKUP(2,$BX$12:$CC$15,2,FALSE)","v":"Ecuador"},{"$f":"VLOOKUP(2,$BX$12:$CC$15,3,FALSE)","v":4},{"$f":"VLOOKUP(2,$BX$12:$CC$15,4,FALSE)","v":6},{"$f":"VLOOKUP(2,$BX$12:$CC$15,5,FALSE)","v":5},{"$f":"VLOOKUP(2,$BX$12:$CC$15,6,FALSE)","v":1},null,{"$f":"IF(BJ13=\"\",0,IF(BK13=$B$98,IF(BH13<BJ13,3,IF(BH13=BJ13,1,0)),0))","v":3},null,{"$f":"IF(BH18=\"\",0,IF(BK17=$B$98,IF(BH18>BJ18,3,IF(BH18=BJ18,1,0)),0))","v":1},{"$f":"IF(BJ16=\"\",0,IF(BK16=$B$98,IF(BJ16>BH16,3,IF(BJ16=BH16,1,0)),0))","v":0},null,{"$f":"RANK(CD13,$CD$12:$CD$15)","v":3},"Curaçao",{"$f":"SUM(BS13:BV13)","v":4},{"$f":"SUM(BS17:BV17)","v":9},{"$f":"SUM(BT16:BT19)","v":9},{"$f":"CA13-CB13","v":0},{"$f":"IF(BP$18=\"\",(((((((CE13*10+BZ13)*100+CC13)*100+CA13)*10+CK13)*10+CJ13)*100+CP13)*100+CU13)*10+CV13,(((((((CE13*10+BZ13)*10+CK13)*10+CJ13)*100+CP13)*100+CU13)*100+CC13)*100+CA13)*10+CV13)","v":396970100093},null,{"$f":"IF($BZ13=$BZ12,$BS13-$BT12,0)","v":0},null,{"$f":"IF($BZ13=$BZ14,$BU13-$BT14,0)","v":0},{"$f":"IF($BZ13=$BZ15,$BV13-$BT15,0)","v":-3},{"$f":"SUM(CF13:CI13)","v":-3},null,{"$f":"IF($BZ13=$BZ12,$BS17-$BT16,0)","v":0},null,{"$f":"IF($BZ13=$BZ14,$BU17-$BT18,0)","v":0},{"$f":"IF($BZ13=$BZ15,$BV17-$BT19,0)","v":-3},{"$f":"SUM(CL13:CO13)","v":-3},{"$f":"IF($BZ13=$BZ12,$BS17,0)","v":0},null,{"$f":"IF($BZ13=$BZ14,$BU17,0)","v":0},{"$f":"IF($BZ13=$BZ15,$BV17,0)","v":1},{"$f":"SUM(CQ13:CT13)","v":1},3]
[8,{"$f":"VLOOKUP(A14,Spiele!$A$1:$L$116,2,FALSE)","v":"2026-06-13T12:00:00"},{"$f":"VLOOKUP(A14,Spiele!$A$1:$L$116,9,FALSE)","v":"San Francisco"},{"$f":"Y14","v":"Katar"},"-",{"$f":"Y15","v":"Schweiz"},null,5,":",1,"ok",null,{"$f":"VLOOKUP(3,$X$12:$AC$15,2,FALSE)","v":"Katar"},{"$f":"VLOOKUP(3,$X$12:$AC$15,3,FALSE)","v":4},{"$f":"VLOOKUP(3,$X$12:$AC$15,4,FALSE)","v":10},{"$f":"VLOOKUP(3,$X$12:$AC$15,5,FALSE)","v":7},{"$f":"VLOOKUP(3,$X$12:$AC$15,6,FALSE)","v":3},null,{"$f":"IF(J15=\"\",0,IF(K15=$B$98,IF(H15<J15,3,IF(H15=J15,1,0)),0))","v":0},{"$f":"IF(J18=\"\",0,IF(K17=$B$98,IF(H18<J18,3,IF(H18=J18,1,0)),0))","v":1},null,{"$f":"IF(H14=\"\",0,IF(K14=$B$98,IF(H14>J14,3,IF(H14=J14,1,0)),0))","v":3},null,{"$f":"RANK(AD14,$AD$12:$AD$15)","v":3},"Katar",{"$f":"SUM(S14:V14)","v":4},{"$f":"SUM(S18:V18)","v":10},{"$f":"SUM(U16:U19)","v":7},{"$f":"AA14-AB14","v":3},{"$f":"IF(P$18=\"\",(((((((AE14*10+Z14)*100+AC14)*100+AA14)*10+AK14)*10+AJ14)*100+AP14)*100+AU14)*10+AV14,(((((((AE14*10+Z14)*10+AK14)*10+AJ14)*100+AP14)*100+AU14)*100+AC14)*100+AA14)*10+AV14)","v":400000003102},null,{"$f":"IF($Z14=$Z12,$S14-$U12,0)","v":0},{"$f":"IF($Z14=$Z13,$T14-$U13,0)","v":0},null,{"$f":"IF($Z14=$Z15,$V14-$U15,0)","v":0},{"$f":"SUM(AF14:AI14)","v":0},null,{"$f":"IF($Z14=$Z12,$S18-$U16,0)","v":0},{"$f":"IF($Z14=$Z13,$T18-$U17,0)","v":0},null,{"$f":"IF($Z14=$Z15,$V18-$U19,0)","v":0},{"$f":"SUM(AL14:AO14)","v":0},{"$f":"IF($Z14=$Z12,$S18,0)","v":0},{"$f":"IF($Z14=$Z13,$T18,0)","v":0},null,{"$f":"IF($Z14=$Z15,$V18,0)","v":0},{"$f":"SUM(AQ14:AT14)","v":0},2,null,null,null,null,9,{"$f":"VLOOKUP(BA14,Spiele!$A$1:$L$116,2,FALSE)","v":"2026-06-14T19:00:00"},{"$f":"VLOOKUP(BA14,Spiele!$A$1:$L$116,9,FALSE)","v":"Philadelphia"},{"$f":"BY14","v":"Elfenbeinküste"},"-",{"$f":"BY15","v":"Ecuador"},null,0,":",0,"ok",null,{"$f":"VLOOKUP(3,$BX$12:$CC$15,2,FALSE)","v":"Curaçao"},{"$f":"VLOOKUP(3,$BX$12:$CC$15,3,FALSE)","v":4},{"$f":"VLOOKUP(3,$BX$12:$CC$15,4,FALSE)","v":9},{"$f":"VLOOKUP(3,$BX$12:$CC$15,5,FALSE)","v":9},{"$f":"VLOOKUP(3,$BX$12:$CC$15,6,FALSE)","v":0},null,{"$f":"IF(BJ15=\"\",0,IF(BK15=$B$98,IF(BH15<BJ15,3,IF(BH15=BJ15,1,0)),0))","v":0},{"$f":"IF(BJ18=\"\",0,IF(BK17=$B$98,IF(BH18<BJ18,3,IF(BH18=BJ18,1,0)),0))","v":1},null,{"$f":"IF(BH14=\"\",0,IF(BK14=$B$98,IF(BH14>BJ14,3,IF(BH14=BJ14,1,0)),0))","v":1},null,{"$f":"RANK(CD14,$CD$12:$CD$15)","v":4},"Elfenbeinküste",{"$f":"SUM(BS14:BV14)","v":2},{"$f":"SUM(BS18:BV18)","v":7},{"$f":"SUM(BU16:BU19)","v":8},{"$f":"CA14-CB14","v":-1},{"$f":"IF(BP$18=\"\",(((((((CE14*10+BZ14)*100+CC14)*100+CA14)*10+CK14)*10+CJ14)*100+CP14)*100+CU14)*10+CV14,(((((((CE14*10+BZ14)*10+CK14)*10+CJ14)*100+CP14)*100+CU14)*100+CC14)*100+CA14)*10+CV14)","v":199999999072},null,{"$f":"IF($BZ14=$BZ12,$BS14-$BU12,0)","v":0},{"$f":"IF($BZ14=$BZ13,$BT14-$BU13,0)","v":0},null,{"$f":"IF($BZ14=$BZ15,$BV14-$BU15,0)","v":0},{"$f":"SUM(CF14:CI14)","v":0},null,{"$f":"IF($BZ14=$BZ12,$BS18-$BU16,0)","v":0},{"$f":"IF($BZ14=$BZ13,$BT18-$BU17,0)","v":0},null,{"$f":"IF($BZ14=$BZ15,$BV18-$BU19,0)","v":0},{"$f":"SUM(CL14:CO14)","v":0},{"$f":"IF($BZ14=$BZ12,$BS18,0)","v":0},{"$f":"IF($BZ14=$BZ13,$BT18,0)","v":0},null,{"$f":"IF($BZ14=$BZ15,$BV18,0)","v":0},{"$f":"SUM(CQ14:CT14)","v":0},2]
[27,{"$f":"VLOOKUP(A15,Spiele!$A$1:$L$116,2,FALSE)","v":"2026-06-18T15:00:00"},{"$f":"VLOOKUP(A15,Spiele!$A$1:$L$116,9,FALSE)","v":"Vancouver"},{"$f":"Y12","v":"Kanada"},"-",{"$f":"Y14","v":"Katar"},null,2,":",1,"ok",null,{"$f":"VLOOKUP(4,$X$12:$AC$15,2,FALSE)","v":"Bosnien/Herzg."},{"$f":"VLOOKUP(4,$X$12:$AC$15,3,FALSE)","v":1},{"$f":"VLOOKUP(4,$X$12:$AC$15,4,FALSE)","v":8},{"$f":"VLOOKUP(4,$X$12:$AC$15,5,FALSE)","v":13},{"$f":"VLOOKUP(4,$X$12:$AC$15,6,FALSE)","v":-5},null,{"$f":"IF(H17=\"\",0,IF(K18=$B$98,IF(H17>J17,3,IF(H17=J17,1,0)),0))","v":3},{"$f":"IF(H16=\"\",0,IF(K16=$B$98,IF(J16<H16,3,IF(J16=H16,1,0)),0))","v":3},{"$f":"IF(J14=\"\",0,IF(K14=$B$98,IF(H14<J14,3,IF(H14=J14,1,0)),0))","v":0},null,null,{"$f":"RANK(AD15,$AD$12:$AD$15)","v":1},"Schweiz",{"$f":"SUM(S15:V15)","v":6},{"$f":"SUM(S19:V19)","v":10},{"$f":"SUM(V16:V19)","v":9},{"$f":"AA15-AB15","v":1},{"$f":"IF(P$18=\"\",(((((((AE15*10+Z15)*100+AC15)*100+AA15)*10+AK15)*10+AJ15)*100+AP15)*100+AU15)*10+AV15,(((((((AE15*10+Z15)*10+AK15)*10+AJ15)*100+AP15)*100+AU15)*100+AC15)*100+AA15)*10+AV15)","v":603040401101},null,{"$f":"IF($Z15=$Z12,$S15-$V12,0)","v":3},{"$f":"IF($Z15=$Z13,$T15-$V13,0)","v":0},{"$f":"IF($Z15=$Z14,$U15-$V14,0)","v":0},null,{"$f":"SUM(AF15:AI15)","v":3},null,{"$f":"IF($Z15=$Z12,$S19-$V16,0)","v":4},{"$f":"IF($Z15=$Z13,$T19-$V17,0)","v":0},{"$f":"IF($Z15=$Z14,$U19-$V18,0)","v":0},null,{"$f":"SUM(AL15:AO15)","v":4},{"$f":"IF($Z15=$Z12,$S19,0)","v":4},{"$f":"IF($Z15=$Z13,$T19,0)","v":0},{"$f":"IF($Z15=$Z14,$U19,0)","v":0},null,{"$f":"SUM(AQ15:AT15)","v":4},1,null,null,null,null,33,{"$f":"VLOOKUP(BA15,Spiele!$A$1:$L$116,2,FALSE)","v":"2026-06-20T16:00:00"},{"$f":"VLOOKUP(BA15,Spiele!$A$1:$L$116,9,FALSE)","v":"Toronto"},{"$f":"BY12","v":"Deutschland"},"-",{"$f":"BY14","v":"Elfenbeinküste"},null,4,":",3,"ok",null,{"$f":"VLOOKUP(4,$BX$12:CC$15,2,FALSE)","v":"Elfenbeinküste"},{"$f":"VLOOKUP(4,$BX$12:$CC$15,3,FALSE)","v":2},{"$f":"VLOOKUP(4,$BX$12:$CC$15,4,FALSE)","v":7},{"$f":"VLOOKUP(4,$BX$12:$CC$15,5,FALSE)","v":8},{"$f":"VLOOKUP(4,$BX$12:$CC$15,6,FALSE)","v":-1},null,{"$f":"IF(BH17=\"\",0,IF(BK18=$B$98,IF(BH17>BJ17,3,IF(BH17=BJ17,1,0)),0))","v":0},{"$f":"IF(BH16=\"\",0,IF(BK16=$B$98,IF(BJ16<BH16,3,IF(BJ16=BH16,1,0)),0))","v":3},{"$f":"IF(BJ14=\"\",0,IF(BK14=$B$98,IF(BH14<BJ14,3,IF(BH14=BJ14,1,0)),0))","v":1},null,null,{"$f":"RANK(CD15,$CD$12:$CD$15)","v":2},"Ecuador",{"$f":"SUM(BS15:BV15)","v":4},{"$f":"SUM(BS19:BV19)","v":6},{"$f":"SUM(BV16:BV19)","v":5},{"$f":"CA15-CB15","v":1},{"$f":"IF(BP$18=\"\",(((((((CE15*10+BZ15)*100+CC15)*100+CA15)*10+CK15)*10+CJ15)*100+CP15)*100+CU15)*10+CV15,(((((((CE15*10+BZ15)*10+CK15)*10+CJ15)*100+CP15)*100+CU15)*100+CC15)*100+CA15)*10+CV15)","v":403030401061},null,{"$f":"IF($BZ15=$BZ12,$BS15-$BV12,0)","v":0},{"$f":"IF($BZ15=$BZ13,$BT15-$BV13,0)","v":3},{"$f":"IF($BZ15=$BZ14,$BU15-$BV14,0)","v":0},null,{"$f":"SUM(CF15:CI15)","v":3},null,{"$f":"IF($BZ15=$BZ12,$BS19-$BV16,0)","v":0},{"$f":"IF($BZ15=$BZ13,$BT19-$BV17,0)","v":3},{"$f":"IF($BZ15=$BZ14,$BU19-$BV18,0)","v":0},null,{"$f":"SUM(CL15:CO15)","v":3},{"$f":"IF($BZ15=$BZ12,$BS19,0)","v":0},{"$f":"IF($BZ15=$BZ13,$BT19,0)","v":4},{"$f":"IF($BZ15=$BZ14,$BU19,0)","v":0},null,{"$f":"SUM(CQ15:CT15)","v":4},1]
[26,{"$f":"VLOOKUP(A16,Spiele!$A$1:$L$116,2,FALSE)","v":"2026-06-18T12:00:00"},{"$f":"VLOOKUP(A16,Spiele!$A$1:$L$116,9,FALSE)","v":"Los Angeles"},{"$f":"Y15","v":"Schweiz"},"-",{"$f":"Y13","v":"Bosnien/Herzg."},null,5,":",4,"ok",null,null,null,null,null,null,null,null,{"$f":"IF(K13=$B$98,H13,0)","v":4},{"$f":"IF(K15=$B$98,H15,0)","v":2},{"$f":"IF(K18=$B$98,J17,0)","v":0},null,null,null,null,null,null,null,null,null,null,null,null,null,null,null,null,null,null,null,null,null,null,null,null,null,null,null,null,null,null,34,{"$f":"VLOOKUP(BA16,Spiele!$A$1:$L$116,2,FALSE)","v":"2026-06-20T19:00:00"},{"$f":"VLOOKUP(BA16,Spiele!$A$1:$L$116,9,FALSE)","v":"Kansas City"},{"$f":"BY15","v":"Ecuador"},"-",{"$f":"BY13","v":"Curaçao"},null,4,":",1,"ok",null,null,null,null,null,null,null,null,{"$f":"IF(BK13=$B$98,BH13,0)","v":1},{"$f":"IF(BK15=$B$98,BH15,0)","v":4},{"$f":"IF(BK18=$B$98,BJ17,0)","v":4}]
[51,{"$f":"VLOOKUP(A17,Spiele!$A$1:$L$116,2,FALSE)","v":"2026-06-24T12:00:00"},{"$f":"VLOOKUP(A17,Spiele!$A$1:$L$116,9,FALSE)","v":"Vancouver"},{"$f":"Y15","v":"Schweiz"},"-",{"$f":"Y12","v":"Kanada"},null,4,":",0,"ok",null,{"$f":"IF(N12>0,M12,\"\")","v":"Schweiz"},"1B",null,null,null,null,{"$f":"IF(K13=$B$98,J13,0)","v":0},null,{"$f":"IF(K17=$B$98,H18,0)","v":4},{"$f":"IF(K16=$B$98,J16,0)","v":4},null,null,null,null,null,null,null,"L0=AE hebelt Berechnung aus (top level Losen)",null,null,null,null,null,null,null,null,null,null,null,null,null,null,null,null,null,null,null,null,null,null,57,{"$f":"VLOOKUP(BA17,Spiele!$A$1:$L$116,2,FALSE)","v":"2026-06-25T18:00:00"},{"$f":"VLOOKUP(BA17,Spiele!$A$1:$L$116,9,FALSE)","v":"Dallas"},{"$f":"BY15","v":"Ecuador"},"-",{"$f":"BY12","v":"Deutschland"},null,2,":",4,"ok",null,{"$f":"IF(BN12>0,BM12,\"\")","v":"Deutschland"},"1E",null,null,null,null,{"$f":"IF(BK13=$B$98,BJ13,0)","v":4},null,{"$f":"IF(BK17=$B$98,BH18,0)","v":4},{"$f":"IF(BK16=$B$98,BJ16,0)","v":1},null,null,null,null,null,null,null,"L0=AE hebelt Berechnung aus (top level Losen)"]
[52,{"$f":"VLOOKUP(A18,Spiele!$A$1:$L$116,2,FALSE)","v":"2026-06-24T12:00:00"},{"$f":"VLOOKUP(A18,Spiele!$A$1:$L$116,9,FALSE)","v":"Seattle"},{"$f":"Y13","v":"Bosnien/Herzg."},"-",{"$f":"Y14","v":"Katar"},null,4,":",4,"ok",null,{"$f":"IF(N13>0,M13,\"\")","v":"Kanada"},"2B",null,"DV",null,null,{"$f":"IF(K15=$B$98,J15,0)","v":1},{"$f":"IF(K17=$B$98,J18,0)","v":4},null,{"$f":"IF(K14=$B$98,H14,0)","v":5},null,null,null,null,null,null,null,"L1=AK hebelt Direktvergleich (S1) aus",null,null,null,null,null,null,null,null,null,null,null,null,null,null,null,null,null,null,null,null,null,null,58,{"$f":"VLOOKUP(BA18,Spiele!$A$1:$L$116,2,FALSE)","v":"2026-06-25T18:00:00"},{"$f":"VLOOKUP(BA18,Spiele!$A$1:$L$116,9,FALSE)","v":"Kansas City"},{"$f":"BY13","v":"Curaçao"},"-",{"$f":"BY14","v":"Elfenbeinküste"},null,4,":",4,"ok",null,{"$f":"IF(BN13>0,BM13,\"\")","v":"Ecuador"},"2E",null,"DV",null,null,{"$f":"IF(BK15=$B$98,BJ15,0)","v":3},{"$f":"IF(BK17=$B$98,BJ18,0)","v":4},null,{"$f":"IF(BK14=$B$98,BH14,0)","v":0},null,null,null,null,null,null,null,"L1=AK hebelt Direktvergleich (S1) aus"]
[null,null,null,null,null,null,null,null,null,null,null,null,{"$f":"IF(N14>0,M14,\"\")","v":"Katar"},"3B",null,null,null,null,{"$f":"IF(K18=$B$98,H17,0)","v":4},{"$f":"IF(K16=$B$98,H16,0)","v":5},{"$f":"IF(K14=$B$98,J14,0)","v":1},null,null,null,null,null,null,null,null,"L4=AV Losen UEFA-Koeffizient, Fairplay oder Münzwurf",null,null,null,null,null,null,null,null,null,null,null,null,null,null,null,null,null,null,null,null,null,null,null," ",null,null,null,null,null,null,null,null,null,null,{"$f":"IF(BN14>0,BM14,\"\")","v":"Curaçao"},"3E",null,null,null,null,{"$f":"IF(BK18=$B$98,BH17,0)","v":2},{"$f":"IF(BK16=$B$98,BH16,0)","v":4},{"$f":"IF(BK14=$B$98,BJ14,0)","v":0},null,null,null,null,null,null,null,null,"L4=AV Losen UEFA-Koeffizient, Fairplay oder Münzwurf"]
[]
[null,"Vorrunde","Gruppe C"," ",null,null,null,null,null,null,null,null,"Tabelle","P","T+","T-","T+/-",null,null,null,null,null,null,"G","Berechnungen","P","T+","T-","T+/-",null,"L0","DV",null,null,null,"S1","L1","DV-TD",null,null,null,"S2","DV-Tore",null,null,null,"S3","L4",null,null,null,null,null,"Vorrunde","Gruppe F"," ",null,null,null,null,null,null,null,null,"Tabelle","P","T+","T-","T+/-",null,null,null,null,null,null,"G","Berechnungen","P","T+","T-","T+/-",null,"L0","DV",null,null,null,"S1","L1","DV-TD",null,null,null,"S2","DV-Tore",null,null,null,"S3","L4"]
[null,"Datum/Zeit","Spielort",null,null,null,null,null,null,null,null,null,{"$f":"VLOOKUP(1,$X$22:$AC$25,2,FALSE)","v":"Schottland"},{"$f":"VLOOKUP(1,$X$22:$AC$25,3,FALSE)","v":9},{"$f":"VLOOKUP(1,$X$22:$AC$25,4,FALSE)","v":12},{"$f":"VLOOKUP(1,$X$22:$AC$25,5,FALSE)","v":5},{"$f":"VLOOKUP(1,$X$22:$AC$25,6,FALSE)","v":7},null,null,{"$f":"IF(H23=\"\",0,IF(K23=$B$98,IF(H23>J23,3,IF(H23=J23,1,0)),0))","v":0},{"$f":"IF(H25=\"\",0,IF(K25=$B$98,IF(H25>J25,3,IF(H25=J25,1,0)),0))","v":0},{"$f":"IF(J27=\"\",0,IF(K28=$B$98,IF(H27<J27,3,IF(H27=J27,1,0)),0))","v":0},null,{"$f":"RANK(AD22,$AD$22:$AD$25)","v":4},"Brasilien",{"$f":"SUM(S22:V22)","v":0},{"$f":"SUM(S26:V26)","v":1},{"$f":"SUM(S26:S29)","v":13},{"$f":"AA22-AB22","v":-12},{"$f":"IF(P$28=\"\",(((((((AE22*10+Z22)*100+AC22)*100+AA22)*10+AK22)*10+AJ22)*100+AP22)*100+AU22)*10+AV22,(((((((AE22*10+Z22)*10+AK22)*10+AJ22)*100+AP22)*100+AU22)*100+AC22)*100+AA22)*10+AV22)","v":-11986},null,null,{"$f":"IF($Z22=$Z23,$T22-$S23,0)","v":0},{"$f":"IF($Z22=$Z24,$U22-$S24,0)","v":0},{"$f":"IF($Z22=$Z25,$V22-$S25,0)","v":0},{"$f":"SUM(AF22:AI22)","v":0},null,null,{"$f":"IF($Z22=$Z23,$T26-$S27,0)","v":0},{"$f":"IF($Z22=$Z24,$U26-$S28,0)","v":0},{"$f":"IF($Z22=$Z25,$V26-$S29,0)","v":0},{"$f":"SUM(AL22:AO22)","v":0},null,{"$f":"IF($Z22=$Z23,$T26,0)","v":0},{"$f":"IF($Z22=$Z24,$U26,0)","v":0},{"$f":"IF($Z22=$Z25,$V26,0)","v":0},{"$f":"SUM(AQ22:AT22)","v":0},4,null,null,null,null,null,"Datum/Zeit","Spielort",null,null,null,null,null,null,null,null,null,{"$f":"VLOOKUP(1,$BX$22:$CC$25,2,FALSE)","v":"Japan"},{"$f":"VLOOKUP(1,$BX$22:$CC$25,3,FALSE)","v":9},{"$f":"VLOOKUP(1,$BX$22:$CC$25,4,FALSE)","v":9},{"$f":"VLOOKUP(1,$BX$22:$CC$25,5,FALSE)","v":5},{"$f":"VLOOKUP(1,$BX$22:$CC$25,6,FALSE)","v":4},null,null,{"$f":"IF(BH23=\"\",0,IF(BK23=$B$98,IF(BH23>BJ23,3,IF(BH23=BJ23,1,0)),0))","v":0},{"$f":"IF(BH25=\"\",0,IF(BK25=$B$98,IF(BH25>BJ25,3,IF(BH25=BJ25,1,0)),0))","v":3},{"$f":"IF(BJ27=\"\",0,IF(BK28=$B$98,IF(BH27<BJ27,3,IF(BH27=BJ27,1,0)),0))","v":3},null,{"$f":"RANK(CD22,$CD$22:$CD$25)","v":2},"Niederlande",{"$f":"SUM(BS22:BV22)","v":6},{"$f":"SUM(BS26:BV26)","v":7},{"$f":"SUM(BS26:BS29)","v":7},{"$f":"CA22-CB22","v":0},{"$f":"IF(BP$28=\"\",(((((((CE22*10+BZ22)*100+CC22)*100+CA22)*10+CK22)*10+CJ22)*100+CP22)*100+CU22)*10+CV22,(((((((CE22*10+BZ22)*10+CK22)*10+CJ22)*100+CP22)*100+CU22)*100+CC22)*100+CA22)*10+CV22)","v":600000000074},null,null,{"$f":"IF($BZ22=$BZ23,$BT22-$BS23,0)","v":0},{"$f":"IF($BZ22=$BZ24,$BU22-$BS24,0)","v":0},{"$f":"IF($BZ22=$BZ25,$BV22-$BS25,0)","v":0},{"$f":"SUM(CF22:CI22)","v":0},null,null,{"$f":"IF($BZ22=$BZ23,$BT26-$BS27,0)","v":0},{"$f":"IF($BZ22=$BZ24,$BU26-$BS28,0)","v":0},{"$f":"IF($BZ22=$BZ25,$BV26-$BS29,0)","v":0},{"$f":"SUM(CL22:CO22)","v":0},null,{"$f":"IF($BZ22=$BZ23,$BT26,0)","v":0},{"$f":"IF($BZ22=$BZ24,$BU26,0)","v":0},{"$f":"IF($BZ22=$BZ25,$BV26,0)","v":0},{"$f":"SUM(CQ22:CT22)","v":0},4]
[7,{"$f":"VLOOKUP(A23,Spiele!$A$1:$L$116,2,FALSE)","v":"2026-06-13T18:00:00"},{"$f":"VLOOKUP(A23,Spiele!$A$1:$L$116,9,FALSE)","v":"New York"},{"$f":"Y22","v":"Brasilien"},"-",{"$f":"Y23","v":"Marokko"},null,{"$f":"IF($B$99=\"\",1,INT(RAND()*5)+INT(RAND()*3)*INT(RAND()*2))","v":0},":",{"$f":"IF($B$99=\"\",0,INT(RAND()*5)+INT(RAND()*3)*INT(RAND()*2))","v":5},"ok",null,{"$f":"VLOOKUP(2,$X$22:$AC$25,2,FALSE)","v":"Marokko"},{"$f":"VLOOKUP(2,$X$22:$AC$25,3,FALSE)","v":4},{"$f":"VLOOKUP(2,$X$22:$AC$25,4,FALSE)","v":11},{"$f":"VLOOKUP(2,$X$22:$AC$25,5,FALSE)","v":7},{"$f":"VLOOKUP(2,$X$22:$AC$25,6,FALSE)","v":4},null,{"$f":"IF(J23=\"\",0,IF(K23=$B$98,IF(H23<J23,3,IF(H23=J23,1,0)),0))","v":3},null,{"$f":"IF(H28=\"\",0,IF(K27=$B$98,IF(H28>J28,3,IF(H28=J28,1,0)),0))","v":1},{"$f":"IF(J26=\"\",0,IF(K26=$B$98,IF(J26>H26,3,IF(J26=H26,1,0)),0))","v":0},null,{"$f":"RANK(AD23,$AD$22:$AD$25)","v":2},"Marokko",{"$f":"SUM(S23:V23)","v":4},{"$f":"SUM(S27:V27)","v":11},{"$f":"SUM(T26:T29)","v":7},{"$f":"AA23-AB23","v":4},{"$f":"IF(P$28=\"\",(((((((AE23*10+Z23)*100+AC23)*100+AA23)*10+AK23)*10+AJ23)*100+AP23)*100+AU23)*10+AV23,(((((((AE23*10+Z23)*10+AK23)*10+AJ23)*100+AP23)*100+AU23)*100+AC23)*100+AA23)*10+AV23)","v":400000304113},null,{"$f":"IF($Z23=$Z22,$S23-$T22,0)","v":0},null,{"$f":"IF($Z23=$Z24,$U23-$T24,0)","v":0},{"$f":"IF($Z23=$Z25,$V23-$T25,0)","v":0},{"$f":"SUM(AF23:AI23)","v":0},null,{"$f":"IF($Z23=$Z22,$S27-$T26,0)","v":0},null,{"$f":"IF($Z23=$Z24,$U27-$T28,0)","v":0},{"$f":"IF($Z23=$Z25,$V27-$T29,0)","v":0},{"$f":"SUM(AL23:AO23)","v":0},{"$f":"IF($Z23=$Z22,$S27,0)","v":0},null,{"$f":"IF($Z23=$Z24,$U27,0)","v":3},{"$f":"IF($Z23=$Z25,$V27,0)","v":0},{"$f":"SUM(AQ23:AT23)","v":3},3,null,null,null,null,11,{"$f":"VLOOKUP(BA23,Spiele!$A$1:$L$116,2,FALSE)","v":"2026-06-14T15:00:00"},{"$f":"VLOOKUP(BA23,Spiele!$A$1:$L$116,9,FALSE)","v":"Dallas"},{"$f":"BY22","v":"Niederlande"},"-",{"$f":"BY23","v":"Japan"},null,{"$f":"IF($B$99=\"\",1,INT(RAND()*5)+INT(RAND()*3)*INT(RAND()*2))","v":1},":",{"$f":"IF($B$99=\"\",0,INT(RAND()*5)+INT(RAND()*3)*INT(RAND()*2))","v":3},"ok",null,{"$f":"VLOOKUP(2,$BX$22:$CC$25,2,FALSE)","v":"Niederlande"},{"$f":"VLOOKUP(2,$BX$22:$CC$25,3,FALSE)","v":6},{"$f":"VLOOKUP(2,$BX$22:$CC$25,4,FALSE)","v":7},{"$f":"VLOOKUP(2,$BX$22:$CC$25,5,FALSE)","v":7},{"$f":"VLOOKUP(2,$BX$22:$CC$25,6,FALSE)","v":0},null,{"$f":"IF(BJ23=\"\",0,IF(BK23=$B$98,IF(BH23<BJ23,3,IF(BH23=BJ23,1,0)),0))","v":3},null,{"$f":"IF(BH28=\"\",0,IF(BK27=$B$98,IF(BH28>BJ28,3,IF(BH28=BJ28,1,0)),0))","v":3},{"$f":"IF(BJ26=\"\",0,IF(BK26=$B$98,IF(BJ26>BH26,3,IF(BJ26=BH26,1,0)),0))","v":3},null,{"$f":"RANK(CD23,$CD$22:$CD$25)","v":1},"Japan",{"$f":"SUM(BS23:BV23)","v":9},{"$f":"SUM(BS27:BV27)","v":9},{"$f":"SUM(BT26:BT29)","v":5},{"$f":"CA23-CB23","v":4},{"$f":"IF(BP$28=\"\",(((((((CE23*10+BZ23)*100+CC23)*100+CA23)*10+CK23)*10+CJ23)*100+CP23)*100+CU23)*10+CV23,(((((((CE23*10+BZ23)*10+CK23)*10+CJ23)*100+CP23)*100+CU23)*100+CC23)*100+CA23)*10+CV23)","v":900000004093},null,{"$f":"IF($BZ23=$BZ22,$BS23-$BT22,0)","v":0},null,{"$f":"IF($BZ23=$BZ24,$BU23-$BT24,0)","v":0},{"$f":"IF($BZ23=$BZ25,$BV23-$BT25,0)","v":0},{"$f":"SUM(CF23:CI23)","v":0},null,{"$f":"IF($BZ23=$BZ22,$BS27-$BT26,0)","v":0},null,{"$f":"IF($BZ23=$BZ24,$BU27-$BT28,0)","v":0},{"$f":"IF($BZ23=$BZ25,$BV27-$BT29,0)","v":0},{"$f":"SUM(CL23:CO23)","v":0},{"$f":"IF($BZ23=$BZ22,$BS27,0)","v":0},null,{"$f":"IF($BZ23=$BZ24,$BU27,0)","v":0},{"$f":"IF($BZ23=$BZ25,$BV27,0)","v":0},{"$f":"SUM(CQ23:CT23)","v":0},3]
[5,{"$f":"VLOOKUP(A24,Spiele!$A$1:$L$116,2,FALSE)","v":"2026-06-13T21:00:00"},{"$f":"VLOOKUP(A24,Spiele!$A$1:$L$116,9,FALSE)","v":"Boston"},{"$f":"Y24","v":"Haiti"},"-",{"$f":"Y25","v":"Schottland"},null,2,":",4,"ok",null,{"$f":"VLOOKUP(3,$X$22:$AC$25,2,FALSE)","v":"Haiti"},{"$f":"VLOOKUP(3,$X$22:$AC$25,3,FALSE)","v":4},{"$f":"VLOOKUP(3,$X$22:$AC$25,4,FALSE)","v":9},{"$f":"VLOOKUP(3,$X$22:$AC$25,5,FALSE)","v":8},{"$f":"VLOOKUP(3,$X$22:$AC$25,6,FALSE)","v":1},null,{"$f":"IF(J25=\"\",0,IF(K25=$B$98,IF(H25<J25,3,IF(H25=J25,1,0)),0))","v":3},{"$f":"IF(J28=\"\",0,IF(K27=$B$98,IF(H28<J28,3,IF(H28=J28,1,0)),0))","v":1},null,{"$f":"IF(H24=\"\",0,IF(K24=$B$98,IF(H24>J24,3,IF(H24=J24,1,0)),0))","v":0},null,{"$f":"RANK(AD24,$AD$22:$AD$25)","v":3},"Haiti",{"$f":"SUM(S24:V24)","v":4},{"$f":"SUM(S28:V28)","v":9},{"$f":"SUM(U26:U29)","v":8},{"$f":"AA24-AB24","v":1},{"$f":"IF(P$28=\"\",(((((((AE24*10+Z24)*100+AC24)*100+AA24)*10+AK24)*10+AJ24)*100+AP24)*100+AU24)*10+AV24,(((((((AE24*10+Z24)*10+AK24)*10+AJ24)*100+AP24)*100+AU24)*100+AC24)*100+AA24)*10+AV24)","v":400000301092},null,{"$f":"IF($Z24=$Z22,$S24-$U22,0)","v":0},{"$f":"IF($Z24=$Z23,$T24-$U23,0)","v":0},null,{"$f":"IF($Z24=$Z25,$V24-$U25,0)","v":0},{"$f":"SUM(AF24:AI24)","v":0},null,{"$f":"IF($Z24=$Z22,$S28-$U26,0)","v":0},{"$f":"IF($Z24=$Z23,$T28-$U27,0)","v":0},null,{"$f":"IF($Z24=$Z25,$V28-$U29,0)","v":0},{"$f":"SUM(AL24:AO24)","v":0},{"$f":"IF($Z24=$Z22,$S28,0)","v":0},{"$f":"IF($Z24=$Z23,$T28,0)","v":3},null,{"$f":"IF($Z24=$Z25,$V28,0)","v":0},{"$f":"SUM(AQ24:AT24)","v":3},2,null,null,null,null,12,{"$f":"VLOOKUP(BA24,Spiele!$A$1:$L$116,2,FALSE)","v":"2026-06-14T21:00:00"},{"$f":"VLOOKUP(BA24,Spiele!$A$1:$L$116,9,FALSE)","v":"Monterrey"},{"$f":"BY24","v":"Schweden"},"-",{"$f":"BY25","v":"Tunesien"},null,0,":",3,"ok",null,{"$f":"VLOOKUP(3,$BX$22:$CC$25,2,FALSE)","v":"Tunesien"},{"$f":"VLOOKUP(3,$BX$22:$CC$25,3,FALSE)","v":3},{"$f":"VLOOKUP(3,$BX$22:$CC$25,4,FALSE)","v":8},{"$f":"VLOOKUP(3,$BX$22:$CC$25,5,FALSE)","v":7},{"$f":"VLOOKUP(3,$BX$22:$CC$25,6,FALSE)","v":1},null,{"$f":"IF(BJ25=\"\",0,IF(BK25=$B$98,IF(BH25<BJ25,3,IF(BH25=BJ25,1,0)),0))","v":0},{"$f":"IF(BJ28=\"\",0,IF(BK27=$B$98,IF(BH28<BJ28,3,IF(BH28=BJ28,1,0)),0))","v":0},null,{"$f":"IF(BH24=\"\",0,IF(BK24=$B$98,IF(BH24>BJ24,3,IF(BH24=BJ24,1,0)),0))","v":0},null,{"$f":"RANK(CD24,$CD$22:$CD$25)","v":4},"Schweden",{"$f":"SUM(BS24:BV24)","v":0},{"$f":"SUM(BS28:BV28)","v":3},{"$f":"SUM(BU26:BU29)","v":8},{"$f":"CA24-CB24","v":-5},{"$f":"IF(BP$28=\"\",(((((((CE24*10+BZ24)*100+CC24)*100+CA24)*10+CK24)*10+CJ24)*100+CP24)*100+CU24)*10+CV24,(((((((CE24*10+BZ24)*10+CK24)*10+CJ24)*100+CP24)*100+CU24)*100+CC24)*100+CA24)*10+CV24)","v":-4968},null,{"$f":"IF($BZ24=$BZ22,$BS24-$BU22,0)","v":0},{"$f":"IF($BZ24=$BZ23,$BT24-$BU23,0)","v":0},null,{"$f":"IF($BZ24=$BZ25,$BV24-$BU25,0)","v":0},{"$f":"SUM(CF24:CI24)","v":0},null,{"$f":"IF($BZ24=$BZ22,$BS28-$BU26,0)","v":0},{"$f":"IF($BZ24=$BZ23,$BT28-$BU27,0)","v":0},null,{"$f":"IF($BZ24=$BZ25,$BV28-$BU29,0)","v":0},{"$f":"SUM(CL24:CO24)","v":0},{"$f":"IF($BZ24=$BZ22,$BS28,0)","v":0},{"$f":"IF($BZ24=$BZ23,$BT28,0)","v":0},null,{"$f":"IF($BZ24=$BZ25,$BV28,0)","v":0},{"$f":"SUM(CQ24:CT24)","v":0},2]
[29,{"$f":"VLOOKUP(A25,Spiele!$A$1:$L$116,2,FALSE)","v":"2026-06-19T21:00:00"},{"$f":"VLOOKUP(A25,Spiele!$A$1:$L$116,9,FALSE)","v":"Philadelphia"},{"$f":"Y22","v":"Brasilien"},"-",{"$f":"Y24","v":"Haiti"},null,1,":",4,"ok",null,{"$f":"VLOOKUP(4,$X$22:$AC$25,2,FALSE)","v":"Brasilien"},{"$f":"VLOOKUP(4,$X$22:$AC$25,3,FALSE)","v":0},{"$f":"VLOOKUP(4,$X$22:$AC$25,4,FALSE)","v":1},{"$f":"VLOOKUP(4,$X$22:$AC$25,5,FALSE)","v":13},{"$f":"VLOOKUP(4,$X$22:$AC$25,6,FALSE)","v":-12},null,{"$f":"IF(H27=\"\",0,IF(K28=$B$98,IF(H27>J27,3,IF(H27=J27,1,0)),0))","v":3},{"$f":"IF(H26=\"\",0,IF(K26=$B$98,IF(J26<H26,3,IF(J26=H26,1,0)),0))","v":3},{"$f":"IF(J24=\"\",0,IF(K24=$B$98,IF(H24<J24,3,IF(H24=J24,1,0)),0))","v":3},null,null,{"$f":"RANK(AD25,$AD$22:$AD$25)","v":1},"Schottland",{"$f":"SUM(S25:V25)","v":9},{"$f":"SUM(S29:V29)","v":12},{"$f":"SUM(V26:V29)","v":5},{"$f":"AA25-AB25","v":7},{"$f":"IF(P$28=\"\",(((((((AE25*10+Z25)*100+AC25)*100+AA25)*10+AK25)*10+AJ25)*100+AP25)*100+AU25)*10+AV25,(((((((AE25*10+Z25)*10+AK25)*10+AJ25)*100+AP25)*100+AU25)*100+AC25)*100+AA25)*10+AV25)","v":900000007121},null,{"$f":"IF($Z25=$Z22,$S25-$V22,0)","v":0},{"$f":"IF($Z25=$Z23,$T25-$V23,0)","v":0},{"$f":"IF($Z25=$Z24,$U25-$V24,0)","v":0},null,{"$f":"SUM(AF25:AI25)","v":0},null,{"$f":"IF($Z25=$Z22,$S29-$V26,0)","v":0},{"$f":"IF($Z25=$Z23,$T29-$V27,0)","v":0},{"$f":"IF($Z25=$Z24,$U29-$V28,0)","v":0},null,{"$f":"SUM(AL25:AO25)","v":0},{"$f":"IF($Z25=$Z22,$S29,0)","v":0},{"$f":"IF($Z25=$Z23,$T29,0)","v":0},{"$f":"IF($Z25=$Z24,$U29,0)","v":0},null,{"$f":"SUM(AQ25:AT25)","v":0},1,null,null,null,null,35,{"$f":"VLOOKUP(BA25,Spiele!$A$1:$L$116,2,FALSE)","v":"2026-06-20T12:00:00"},{"$f":"VLOOKUP(BA25,Spiele!$A$1:$L$116,9,FALSE)","v":"Houston"},{"$f":"BY22","v":"Niederlande"},"-",{"$f":"BY24","v":"Schweden"},null,2,":",1,"ok",null,{"$f":"VLOOKUP(4,$BX$22:$CC$25,2,FALSE)","v":"Schweden"},{"$f":"VLOOKUP(4,$BX$22:$CC$25,3,FALSE)","v":0},{"$f":"VLOOKUP(4,$BX$22:$CC$25,4,FALSE)","v":3},{"$f":"VLOOKUP(4,$BX$22:$CC$25,5,FALSE)","v":8},{"$f":"VLOOKUP(4,$BX$22:$CC$25,6,FALSE)","v":-5},null,{"$f":"IF(BH27=\"\",0,IF(BK28=$B$98,IF(BH27>BJ27,3,IF(BH27=BJ27,1,0)),0))","v":0},{"$f":"IF(BH26=\"\",0,IF(BK26=$B$98,IF(BJ26<BH26,3,IF(BJ26=BH26,1,0)),0))","v":0},{"$f":"IF(BJ24=\"\",0,IF(BK24=$B$98,IF(BH24<BJ24,3,IF(BH24=BJ24,1,0)),0))","v":3},null,null,{"$f":"RANK(CD25,$CD$22:$CD$25)","v":3},"Tunesien",{"$f":"SUM(BS25:BV25)","v":3},{"$f":"SUM(BS29:BV29)","v":8},{"$f":"SUM(BV26:BV29)","v":7},{"$f":"CA25-CB25","v":1},{"$f":"IF(BP$28=\"\",(((((((CE25*10+BZ25)*100+CC25)*100+CA25)*10+CK25)*10+CJ25)*100+CP25)*100+CU25)*10+CV25,(((((((CE25*10+BZ25)*10+CK25)*10+CJ25)*100+CP25)*100+CU25)*100+CC25)*100+CA25)*10+CV25)","v":300000001081},null,{"$f":"IF($BZ25=$BZ22,$BS25-$BV22,0)","v":0},{"$f":"IF($BZ25=$BZ23,$BT25-$BV23,0)","v":0},{"$f":"IF($BZ25=$BZ24,$BU25-$BV24,0)","v":0},null,{"$f":"SUM(CF25:CI25)","v":0},null,{"$f":"IF($BZ25=$BZ22,$BS29-$BV26,0)","v":0},{"$f":"IF($BZ25=$BZ23,$BT29-$BV27,0)","v":0},{"$f":"IF($BZ25=$BZ24,$BU29-$BV28,0)","v":0},null,{"$f":"SUM(CL25:CO25)","v":0},{"$f":"IF($BZ25=$BZ22,$BS29,0)","v":0},{"$f":"IF($BZ25=$BZ23,$BT29,0)","v":0},{"$f":"IF($BZ25=$BZ24,$BU29,0)","v":0},null,{"$f":"SUM(CQ25:CT25)","v":0},1]
[30,{"$f":"VLOOKUP(A26,Spiele!$A$1:$L$116,2,FALSE)","v":"2026-06-19T18:00:00"},{"$f":"VLOOKUP(A26,Spiele!$A$1:$L$116,9,FALSE)","v":"Boston"},{"$f":"Y25","v":"Schottland"},"-",{"$f":"Y23","v":"Marokko"},null,4,":",3,"ok",null,null,null,null,null,null,null,null,{"$f":"IF(K23=$B$98,H23,0)","v":0},{"$f":"IF(K25=$B$98,H25,0)","v":1},{"$f":"IF(K28=$B$98,J27,0)","v":0},null,null,null,null,null,null,null,null,null,null,null,null,null,null,null,null,null,null,null,null,null,null,null,null,null,null,null,null,null,null,36,{"$f":"VLOOKUP(BA26,Spiele!$A$1:$L$116,2,FALSE)","v":"2026-06-20T23:00:00"},{"$f":"VLOOKUP(BA26,Spiele!$A$1:$L$116,9,FALSE)","v":"Monterrey"},{"$f":"BY25","v":"Tunesien"},"-",{"$f":"BY23","v":"Japan"},null,2,":",3,"ok",null,null,null,null,null,null,null,null,{"$f":"IF(BK23=$B$98,BH23,0)","v":1},{"$f":"IF(BK25=$B$98,BH25,0)","v":2},{"$f":"IF(BK28=$B$98,BJ27,0)","v":4}]
[49,{"$f":"VLOOKUP(A27,Spiele!$A$1:$L$116,2,FALSE)","v":"2026-06-24T18:00:00"},{"$f":"VLOOKUP(A27,Spiele!$A$1:$L$116,9,FALSE)","v":"Miami"},{"$f":"Y25","v":"Schottland"},"-",{"$f":"Y22","v":"Brasilien"},null,4,":",0,"ok",null,{"$f":"IF(N22>0,M22,\"\")","v":"Schottland"},"1C",null,null,null,null,{"$f":"IF(K23=$B$98,J23,0)","v":5},null,{"$f":"IF(K27=$B$98,H28,0)","v":3},{"$f":"IF(K26=$B$98,J26,0)","v":3},null,null,null,null,null,null,null,"L0=AE hebelt Berechnung aus (top level Losen)",null,null,null,null,null,null,null,null,null,null,null,null,null,null,null,null,null,null,null,null,null,null,55,{"$f":"VLOOKUP(BA27,Spiele!$A$1:$L$116,2,FALSE)","v":"2026-06-25T16:00:00"},{"$f":"VLOOKUP(BA27,Spiele!$A$1:$L$116,9,FALSE)","v":"Philadelphia"},{"$f":"BY25","v":"Tunesien"},"-",{"$f":"BY22","v":"Niederlande"},null,3,":",4,"ok",null,{"$f":"IF(BN22>0,BM22,\"\")","v":"Japan"},"1F",null,null,null,null,{"$f":"IF(BK23=$B$98,BJ23,0)","v":3},null,{"$f":"IF(BK27=$B$98,BH28,0)","v":3},{"$f":"IF(BK26=$B$98,BJ26,0)","v":3},null,null,null,null,null,null,null,"L0=AE hebelt Berechnung aus (top level Losen)"]
[50,{"$f":"VLOOKUP(A28,Spiele!$A$1:$L$116,2,FALSE)","v":"2026-06-24T18:00:00"},{"$f":"VLOOKUP(A28,Spiele!$A$1:$L$116,9,FALSE)","v":"Atlanta"},{"$f":"Y23","v":"Marokko"},"-",{"$f":"Y24","v":"Haiti"},null,3,":",3,"ok",null,{"$f":"IF(N23>0,M23,\"\")","v":"Marokko"},"2C",null,"DV",null,null,{"$f":"IF(K25=$B$98,J25,0)","v":4},{"$f":"IF(K27=$B$98,J28,0)","v":3},null,{"$f":"IF(K24=$B$98,H24,0)","v":2},null,null,null,null,null,null,null,"L1=AK hebelt Direktvergleich (S1) aus",null,null,null,null,null,null,null,null,null,null,null,null,null,null,null,null,null,null,null,null,null,null,56,{"$f":"VLOOKUP(BA28,Spiele!$A$1:$L$116,2,FALSE)","v":"2026-06-25T16:00:00"},{"$f":"VLOOKUP(BA28,Spiele!$A$1:$L$116,9,FALSE)","v":"New York"},{"$f":"BY23","v":"Japan"},"-",{"$f":"BY24","v":"Schweden"},null,3,":",2,"ok",null,{"$f":"IF(BN23>0,BM23,\"\")","v":"Niederlande"},"2F",null,"DV",null,null,{"$f":"IF(BK25=$B$98,BJ25,0)","v":1},{"$f":"IF(BK27=$B$98,BJ28,0)","v":2},null,{"$f":"IF(BK24=$B$98,BH24,0)","v":0},null,null,null,null,null,null,null,"L1=AK hebelt Direktvergleich (S1) aus"]
[null,null,null,null,null,null,null,null,null,null,null,null,{"$f":"IF(N24>0,M24,\"\")","v":"Haiti"},"3C",null,null,null,null,{"$f":"IF(K28=$B$98,H27,0)","v":4},{"$f":"IF(K26=$B$98,H26,0)","v":4},{"$f":"IF(K24=$B$98,J24,0)","v":4},null,null,null,null,null,null,null,null,"L4=AV Losen UEFA-Koeffizient, Fairplay oder Münzwurf",null,null,null,null,null,null,null,null,null,null,null,null,null,null,null,null,null,null,null,null,null,null,null,null,null,null,null,null,null,null,null,null,null,null,{"$f":"IF(BN24>0,BM24,\"\")","v":"Tunesien"},"3F",null,null,null,null,{"$f":"IF(BK28=$B$98,BH27,0)","v":3},{"$f":"IF(BK26=$B$98,BH26,0)","v":2},{"$f":"IF(BK24=$B$98,BJ24,0)","v":3},null,null,null,null,null,null,null,null,"L4=AV Losen UEFA-Koeffizient, Fairplay oder Münzwurf"]
[]
[null,"Vorrunde","Gruppe G"," ",null,null,null,null,null,null,null,null,"Tabelle","P","T+","T-","T+/-",null,null,null,null,null,null,"G","Berechnungen","P","T+","T-","T+/-",null,"L0","DV",null,null,null,"S1","L1","DV-TD",null,null,null,"S2","DV-Tore",null,null,null,"S3","L4",null,null,null,null,null,"Vorrunde","Gruppe J"," ",null,null,null,null,null,null,null,null,"Tabelle","P","T+","T-","T+/-",null,null,null,null,null,null,"G","Berechnungen","P","T+","T-","T+/-",null,"L0","DV",null,null,null,"S1","L1","DV-TD",null,null,null,"S2","DV-Tore",null,null,null,"S3","L4"]
[null,"Datum/Zeit","Spielort",null,null,null,null,null,null,null,null,null,{"$f":"VLOOKUP(1,$X$32:$AC$35,2,FALSE)","v":"Neuseeland"},{"$f":"VLOOKUP(1,$X$32:$AC$35,3,FALSE)","v":9},{"$f":"VLOOKUP(1,$X$32:$AC$35,4,FALSE)","v":6},{"$f":"VLOOKUP(1,$X$32:$AC$35,5,FALSE)","v":1},{"$f":"VLOOKUP(1,$X$32:$AC$35,6,FALSE)","v":5},null,null,{"$f":"IF(H33=\"\",0,IF(K33=$B$98,IF(H33>J33,3,IF(H33=J33,1,0)),0))","v":1},{"$f":"IF(H35=\"\",0,IF(K35=$B$98,IF(H35>J35,3,IF(H35=J35,1,0)),0))","v":0},{"$f":"IF(J37=\"\",0,IF(K38=$B$98,IF(H37<J37,3,IF(H37=J37,1,0)),0))","v":0},null,{"$f":"RANK(AD32,$AD$32:$AD$35)","v":4},"Belgien",{"$f":"SUM(S32:V32)","v":1},{"$f":"SUM(S36:V36)","v":8},{"$f":"SUM(S36:S39)","v":12},{"$f":"AA32-AB32","v":-4},{"$f":"IF(P$8=\"\",(((((((AE32*10+Z32)*100+AC32)*100+AA32)*10+AK32)*10+AJ32)*100+AP32)*100+AU32)*10+AV32,(((((((AE32*10+Z32)*10+AK32)*10+AJ32)*100+AP32)*100+AU32)*100+AC32)*100+AA32)*10+AV32)","v":100000496084},null,null,{"$f":"IF($Z32=$Z33,$T32-$S33,0)","v":0},{"$f":"IF($Z32=$Z34,$U32-$S34,0)","v":0},{"$f":"IF($Z32=$Z35,$V32-$S35,0)","v":0},{"$f":"SUM(AF32:AI32)","v":0},null,null,{"$f":"IF($Z32=$Z33,$T36-$S37,0)","v":0},{"$f":"IF($Z32=$Z34,$U36-$S38,0)","v":0},{"$f":"IF($Z32=$Z35,$V36-$S39,0)","v":0},{"$f":"SUM(AL32:AO32)","v":0},null,{"$f":"IF($Z32=$Z33,$T36,0)","v":5},{"$f":"IF($Z32=$Z34,$U36,0)","v":0},{"$f":"IF($Z32=$Z35,$V36,0)","v":0},{"$f":"SUM(AQ32:AT32)","v":5},4,null,null,null,null,null,"Datum/Zeit","Spielort",null,null,null,null,null,null,null,null,null,{"$f":"VLOOKUP(1,$BX$32:$CC$35,2,FALSE)","v":"Österreich"},{"$f":"VLOOKUP(1,$BX$32:$CC$35,3,FALSE)","v":6},{"$f":"VLOOKUP(1,$BX$32:$CC$35,4,FALSE)","v":9},{"$f":"VLOOKUP(1,$BX$32:$CC$35,5,FALSE)","v":8},{"$f":"VLOOKUP(1,$BX$32:$CC$35,6,FALSE)","v":1},null,null,{"$f":"IF(BH33=\"\",0,IF(BK33=$B$98,IF(BH33>BJ33,3,IF(BH33=BJ33,1,0)),0))","v":3},{"$f":"IF(BH35=\"\",0,IF(BK35=$B$98,IF(BH35>BJ35,3,IF(BH35=BJ35,1,0)),0))","v":0},{"$f":"IF(BJ37=\"\",0,IF(BK38=$B$98,IF(BH37<BJ37,3,IF(BH37=BJ37,1,0)),0))","v":3},null,{"$f":"RANK(CD32,$CD$32:$CD$35)","v":2},"Argentinien",{"$f":"SUM(BS32:BV32)","v":6},{"$f":"SUM(BS36:BV36)","v":12},{"$f":"SUM(BS36:BS39)","v":8},{"$f":"CA32-CB32","v":4},{"$f":"IF(BP$8=\"\",(((((((CE32*10+BZ32)*100+CC32)*100+CA32)*10+CK32)*10+CJ32)*100+CP32)*100+CU32)*10+CV32,(((((((CE32*10+BZ32)*10+CK32)*10+CJ32)*100+CP32)*100+CU32)*100+CC32)*100+CA32)*10+CV32)","v":596990304124},null,null,{"$f":"IF($BZ32=$BZ33,$BT32-$BS33,0)","v":0},{"$f":"IF($BZ32=$BZ34,$BU32-$BS34,0)","v":-3},{"$f":"IF($BZ32=$BZ35,$BV32-$BS35,0)","v":0},{"$f":"SUM(CF32:CI32)","v":-3},null,null,{"$f":"IF($BZ32=$BZ33,$BT36-$BS37,0)","v":0},{"$f":"IF($BZ32=$BZ34,$BU36-$BS38,0)","v":-1},{"$f":"IF($BZ32=$BZ35,$BV36-$BS39,0)","v":0},{"$f":"SUM(CL32:CO32)","v":-1},null,{"$f":"IF($BZ32=$BZ33,$BT36,0)","v":0},{"$f":"IF($BZ32=$BZ34,$BU36,0)","v":3},{"$f":"IF($BZ32=$BZ35,$BV36,0)","v":0},{"$f":"SUM(CQ32:CT32)","v":3},4]
[16,{"$f":"VLOOKUP(A33,Spiele!$A$1:$L$116,2,FALSE)","v":"2026-06-15T12:00:00"},{"$f":"VLOOKUP(A33,Spiele!$A$1:$L$116,9,FALSE)","v":"Seattle"},{"$f":"Y32","v":"Belgien"},"-",{"$f":"Y33","v":"Ägypten"},null,{"$f":"IF($B$99=\"\",1,INT(RAND()*5)+INT(RAND()*3)*INT(RAND()*2))","v":5},":",{"$f":"IF($B$99=\"\",0,INT(RAND()*5)+INT(RAND()*3)*INT(RAND()*2))","v":5},"ok",null,{"$f":"VLOOKUP(2,$X$32:$AC$35,2,FALSE)","v":"IR Iran"},{"$f":"VLOOKUP(2,$X$32:$AC$35,3,FALSE)","v":6},{"$f":"VLOOKUP(2,$X$32:$AC$35,4,FALSE)","v":8},{"$f":"VLOOKUP(2,$X$32:$AC$35,5,FALSE)","v":7},{"$f":"VLOOKUP(2,$X$32:$AC$35,6,FALSE)","v":1},null,{"$f":"IF(J33=\"\",0,IF(K33=$B$98,IF(H33<J33,3,IF(H33=J33,1,0)),0))","v":1},null,{"$f":"IF(H38=\"\",0,IF(K37=$B$98,IF(H38>J38,3,IF(H38=J38,1,0)),0))","v":0},{"$f":"IF(J36=\"\",0,IF(K36=$B$98,IF(J36>H36,3,IF(J36=H36,1,0)),0))","v":0},null,{"$f":"RANK(AD33,$AD$32:$AD$35)","v":3},"Ägypten",{"$f":"SUM(S33:V33)","v":1},{"$f":"SUM(S37:V37)","v":8},{"$f":"SUM(T36:T39)","v":10},{"$f":"AA33-AB33","v":-2},{"$f":"IF(P$8=\"\",(((((((AE33*10+Z33)*100+AC33)*100+AA33)*10+AK33)*10+AJ33)*100+AP33)*100+AU33)*10+AV33,(((((((AE33*10+Z33)*10+AK33)*10+AJ33)*100+AP33)*100+AU33)*100+AC33)*100+AA33)*10+AV33)","v":100000498083},null,{"$f":"IF($Z33=$Z32,$S33-$T32,0)","v":0},null,{"$f":"IF($Z33=$Z34,$U33-$T34,0)","v":0},{"$f":"IF($Z33=$Z35,$V33-$T35,0)","v":0},{"$f":"SUM(AF33:AI33)","v":0},null,{"$f":"IF($Z33=$Z32,$S37-$T36,0)","v":0},null,{"$f":"IF($Z33=$Z34,$U37-$T38,0)","v":0},{"$f":"IF($Z33=$Z35,$V37-$T39,0)","v":0},{"$f":"SUM(AL33:AO33)","v":0},{"$f":"IF($Z33=$Z32,$S37,0)","v":5},null,{"$f":"IF($Z33=$Z34,$U37,0)","v":0},{"$f":"IF($Z33=$Z35,$V37,0)","v":0},{"$f":"SUM(AQ33:AT33)","v":5},3,null,null,null,null,17,{"$f":"VLOOKUP(BA33,Spiele!$A$1:$L$116,2,FALSE)","v":"2026-06-16T15:00:00"},{"$f":"VLOOKUP(BA33,Spiele!$A$1:$L$116,9,FALSE)","v":"New York"},{"$f":"BY32","v":"Argentinien"},"-",{"$f":"BY33","v":"Algerien"},null,{"$f":"IF($B$99=\"\",1,INT(RAND()*5)+INT(RAND()*3)*INT(RAND()*2))","v":4},":",{"$f":"IF($B$99=\"\",0,INT(RAND()*5)+INT(RAND()*3)*INT(RAND()*2))","v":3},"ok",null,{"$f":"VLOOKUP(2,$BX$32:$CC$35,2,FALSE)","v":"Argentinien"},{"$f":"VLOOKUP(2,$BX$32:$CC$35,3,FALSE)","v":6},{"$f":"VLOOKUP(2,$BX$32:$CC$35,4,FALSE)","v":12},{"$f":"VLOOKUP(2,$BX$32:$CC$35,5,FALSE)","v":8},{"$f":"VLOOKUP(2,$BX$32:$CC$35,6,FALSE)","v":4},null,{"$f":"IF(BJ33=\"\",0,IF(BK33=$B$98,IF(BH33<BJ33,3,IF(BH33=BJ33,1,0)),0))","v":0},null,{"$f":"IF(BH38=\"\",0,IF(BK37=$B$98,IF(BH38>BJ38,3,IF(BH38=BJ38,1,0)),0))","v":0},{"$f":"IF(BJ36=\"\",0,IF(BK36=$B$98,IF(BJ36>BH36,3,IF(BJ36=BH36,1,0)),0))","v":3},null,{"$f":"RANK(CD33,$CD$32:$CD$35)","v":3},"Algerien",{"$f":"SUM(BS33:BV33)","v":3},{"$f":"SUM(BS37:BV37)","v":6},{"$f":"SUM(BT36:BT39)","v":9},{"$f":"CA33-CB33","v":-3},{"$f":"IF(BP$8=\"\",(((((((CE33*10+BZ33)*100+CC33)*100+CA33)*10+CK33)*10+CJ33)*100+CP33)*100+CU33)*10+CV33,(((((((CE33*10+BZ33)*10+CK33)*10+CJ33)*100+CP33)*100+CU33)*100+CC33)*100+CA33)*10+CV33)","v":303010197063},null,{"$f":"IF($BZ33=$BZ32,$BS33-$BT32,0)","v":0},null,{"$f":"IF($BZ33=$BZ34,$BU33-$BT34,0)","v":0},{"$f":"IF($BZ33=$BZ35,$BV33-$BT35,0)","v":3},{"$f":"SUM(CF33:CI33)","v":3},null,{"$f":"IF($BZ33=$BZ32,$BS37-$BT36,0)","v":0},null,{"$f":"IF($BZ33=$BZ34,$BU37-$BT38,0)","v":0},{"$f":"IF($BZ33=$BZ35,$BV37-$BT39,0)","v":1},{"$f":"SUM(CL33:CO33)","v":1},{"$f":"IF($BZ33=$BZ32,$BS37,0)","v":0},null,{"$f":"IF($BZ33=$BZ34,$BU37,0)","v":0},{"$f":"IF($BZ33=$BZ35,$BV37,0)","v":2},{"$f":"SUM(CQ33:CT33)","v":2},3]
[15,{"$f":"VLOOKUP(A34,Spiele!$A$1:$L$116,2,FALSE)","v":"2026-06-15T18:00:00"},{"$f":"VLOOKUP(A34,Spiele!$A$1:$L$116,9,FALSE)","v":"Los Angeles"},{"$f":"Y34","v":"IR Iran"},"-",{"$f":"Y35","v":"Neuseeland"},null,0,":",2,"ok",null,{"$f":"VLOOKUP(3,$X$32:$AC$35,2,FALSE)","v":"Ägypten"},{"$f":"VLOOKUP(3,$X$32:$AC$35,3,FALSE)","v":1},{"$f":"VLOOKUP(3,$X$32:$AC$35,4,FALSE)","v":8},{"$f":"VLOOKUP(3,$X$32:$AC$35,5,FALSE)","v":10},{"$f":"VLOOKUP(3,$X$32:$AC$35,6,FALSE)","v":-2},null,{"$f":"IF(J35=\"\",0,IF(K35=$B$98,IF(H35<J35,3,IF(H35=J35,1,0)),0))","v":3},{"$f":"IF(J38=\"\",0,IF(K37=$B$98,IF(H38<J38,3,IF(H38=J38,1,0)),0))","v":3},null,{"$f":"IF(H34=\"\",0,IF(K34=$B$98,IF(H34>J34,3,IF(H34=J34,1,0)),0))","v":0},null,{"$f":"RANK(AD34,$AD$32:$AD$35)","v":2},"IR Iran",{"$f":"SUM(S34:V34)","v":6},{"$f":"SUM(S38:V38)","v":8},{"$f":"SUM(U36:U39)","v":7},{"$f":"AA34-AB34","v":1},{"$f":"IF(P$8=\"\",(((((((AE34*10+Z34)*100+AC34)*100+AA34)*10+AK34)*10+AJ34)*100+AP34)*100+AU34)*10+AV34,(((((((AE34*10+Z34)*10+AK34)*10+AJ34)*100+AP34)*100+AU34)*100+AC34)*100+AA34)*10+AV34)","v":600000001082},null,{"$f":"IF($Z34=$Z32,$S34-$U32,0)","v":0},{"$f":"IF($Z34=$Z33,$T34-$U33,0)","v":0},null,{"$f":"IF($Z34=$Z35,$V34-$U35,0)","v":0},{"$f":"SUM(AF34:AI34)","v":0},null,{"$f":"IF($Z34=$Z32,$S38-$U36,0)","v":0},{"$f":"IF($Z34=$Z33,$T38-$U37,0)","v":0},null,{"$f":"IF($Z34=$Z35,$V38-$U39,0)","v":0},{"$f":"SUM(AL34:AO34)","v":0},{"$f":"IF($Z34=$Z32,$S38,0)","v":0},{"$f":"IF($Z34=$Z33,$T38,0)","v":0},null,{"$f":"IF($Z34=$Z35,$V38,0)","v":0},{"$f":"SUM(AQ34:AT34)","v":0},2,null,null,null,null,18,{"$f":"VLOOKUP(BA34,Spiele!$A$1:$L$116,2,FALSE)","v":"2026-06-16T18:00:00"},{"$f":"VLOOKUP(BA34,Spiele!$A$1:$L$116,9,FALSE)","v":"Boston"},{"$f":"BY34","v":"Österreich"},"-",{"$f":"BY35","v":"Jordanien"},null,1,":",4,"ok",null,{"$f":"VLOOKUP(3,$BX$32:$CC$35,2,FALSE)","v":"Algerien"},{"$f":"VLOOKUP(3,$BX$32:$CC$35,3,FALSE)","v":3},{"$f":"VLOOKUP(3,$BX$32:$CC$35,4,FALSE)","v":6},{"$f":"VLOOKUP(3,$BX$32:$CC$35,5,FALSE)","v":9},{"$f":"VLOOKUP(3,$BX$32:$CC$35,6,FALSE)","v":-3},null,{"$f":"IF(BJ35=\"\",0,IF(BK35=$B$98,IF(BH35<BJ35,3,IF(BH35=BJ35,1,0)),0))","v":3},{"$f":"IF(BJ38=\"\",0,IF(BK37=$B$98,IF(BH38<BJ38,3,IF(BH38=BJ38,1,0)),0))","v":3},null,{"$f":"IF(BH34=\"\",0,IF(BK34=$B$98,IF(BH34>BJ34,3,IF(BH34=BJ34,1,0)),0))","v":0},null,{"$f":"RANK(CD34,$CD$32:$CD$35)","v":1},"Österreich",{"$f":"SUM(BS34:BV34)","v":6},{"$f":"SUM(BS38:BV38)","v":9},{"$f":"SUM(BU36:BU39)","v":8},{"$f":"CA34-CB34","v":1},{"$f":"IF(BP$8=\"\",(((((((CE34*10+BZ34)*100+CC34)*100+CA34)*10+CK34)*10+CJ34)*100+CP34)*100+CU34)*10+CV34,(((((((CE34*10+BZ34)*10+CK34)*10+CJ34)*100+CP34)*100+CU34)*100+CC34)*100+CA34)*10+CV34)","v":603010401092},null,{"$f":"IF($BZ34=$BZ32,$BS34-$BU32,0)","v":3},{"$f":"IF($BZ34=$BZ33,$BT34-$BU33,0)","v":0},null,{"$f":"IF($BZ34=$BZ35,$BV34-$BU35,0)","v":0},{"$f":"SUM(CF34:CI34)","v":3},null,{"$f":"IF($BZ34=$BZ32,$BS38-$BU36,0)","v":1},{"$f":"IF($BZ34=$BZ33,$BT38-$BU37,0)","v":0},null,{"$f":"IF($BZ34=$BZ35,$BV38-$BU39,0)","v":0},{"$f":"SUM(CL34:CO34)","v":1},{"$f":"IF($BZ34=$BZ32,$BS38,0)","v":4},{"$f":"IF($BZ34=$BZ33,$BT38,0)","v":0},null,{"$f":"IF($BZ34=$BZ35,$BV38,0)","v":0},{"$f":"SUM(CQ34:CT34)","v":4},2]
[39,{"$f":"VLOOKUP(A35,Spiele!$A$1:$L$116,2,FALSE)","v":"2026-06-21T12:00:00"},{"$f":"VLOOKUP(A35,Spiele!$A$1:$L$116,9,FALSE)","v":"Los Angeles"},{"$f":"Y32","v":"Belgien"},"-",{"$f":"Y34","v":"IR Iran"},null,2,":",4,"ok",null,{"$f":"VLOOKUP(4,$X$32:$AC$35,2,FALSE)","v":"Belgien"},{"$f":"VLOOKUP(4,$X$32:$AC$35,3,FALSE)","v":1},{"$f":"VLOOKUP(4,$X$32:$AC$35,4,FALSE)","v":8},{"$f":"VLOOKUP(4,$X$32:$AC$35,5,FALSE)","v":12},{"$f":"VLOOKUP(4,$X$32:$AC$35,6,FALSE)","v":-4},null,{"$f":"IF(H37=\"\",0,IF(K38=$B$98,IF(H37>J37,3,IF(H37=J37,1,0)),0))","v":3},{"$f":"IF(H36=\"\",0,IF(K36=$B$98,IF(J36<H36,3,IF(J36=H36,1,0)),0))","v":3},{"$f":"IF(J34=\"\",0,IF(K34=$B$98,IF(H34<J34,3,IF(H34=J34,1,0)),0))","v":3},null,null,{"$f":"RANK(AD35,$AD$32:$AD$35)","v":1},"Neuseeland",{"$f":"SUM(S35:V35)","v":9},{"$f":"SUM(S39:V39)","v":6},{"$f":"SUM(V36:V39)","v":1},{"$f":"AA35-AB35","v":5},{"$f":"IF(P$8=\"\",(((((((AE35*10+Z35)*100+AC35)*100+AA35)*10+AK35)*10+AJ35)*100+AP35)*100+AU35)*10+AV35,(((((((AE35*10+Z35)*10+AK35)*10+AJ35)*100+AP35)*100+AU35)*100+AC35)*100+AA35)*10+AV35)","v":900000005061},null,{"$f":"IF($Z35=$Z32,$S35-$V32,0)","v":0},{"$f":"IF($Z35=$Z33,$T35-$V33,0)","v":0},{"$f":"IF($Z35=$Z34,$U35-$V34,0)","v":0},null,{"$f":"SUM(AF35:AI35)","v":0},null,{"$f":"IF($Z35=$Z32,$S39-$V36,0)","v":0},{"$f":"IF($Z35=$Z33,$T39-$V37,0)","v":0},{"$f":"IF($Z35=$Z34,$U39-$V38,0)","v":0},null,{"$f":"SUM(AL35:AO35)","v":0},{"$f":"IF($Z35=$Z32,$S39,0)","v":0},{"$f":"IF($Z35=$Z33,$T39,0)","v":0},{"$f":"IF($Z35=$Z34,$U39,0)","v":0},null,{"$f":"SUM(AQ35:AT35)","v":0},1,null,null,null,null,43,{"$f":"VLOOKUP(BA35,Spiele!$A$1:$L$116,2,FALSE)","v":"2026-06-22T12:00:00"},{"$f":"VLOOKUP(BA35,Spiele!$A$1:$L$116,9,FALSE)","v":"Dallas"},{"$f":"BY32","v":"Argentinien"},"-",{"$f":"BY34","v":"Österreich"},null,3,":",4,"ok",null,{"$f":"VLOOKUP(4,$BX$32:$CC$35,2,FALSE)","v":"Jordanien"},{"$f":"VLOOKUP(4,$BX$32:$CC$35,3,FALSE)","v":3},{"$f":"VLOOKUP(4,$BX$32:$CC$35,4,FALSE)","v":6},{"$f":"VLOOKUP(4,$BX$32:$CC$35,5,FALSE)","v":8},{"$f":"VLOOKUP(4,$BX$32:$CC$35,6,FALSE)","v":-2},null,{"$f":"IF(BH37=\"\",0,IF(BK38=$B$98,IF(BH37>BJ37,3,IF(BH37=BJ37,1,0)),0))","v":0},{"$f":"IF(BH36=\"\",0,IF(BK36=$B$98,IF(BJ36<BH36,3,IF(BJ36=BH36,1,0)),0))","v":0},{"$f":"IF(BJ34=\"\",0,IF(BK34=$B$98,IF(BH34<BJ34,3,IF(BH34=BJ34,1,0)),0))","v":3},null,null,{"$f":"RANK(CD35,$CD$32:$CD$35)","v":4},"Jordanien",{"$f":"SUM(BS35:BV35)","v":3},{"$f":"SUM(BS39:BV39)","v":6},{"$f":"SUM(BV36:BV39)","v":8},{"$f":"CA35-CB35","v":-2},{"$f":"IF(BP$8=\"\",(((((((CE35*10+BZ35)*100+CC35)*100+CA35)*10+CK35)*10+CJ35)*100+CP35)*100+CU35)*10+CV35,(((((((CE35*10+BZ35)*10+CK35)*10+CJ35)*100+CP35)*100+CU35)*100+CC35)*100+CA35)*10+CV35)","v":296990098061},null,{"$f":"IF($BZ35=$BZ32,$BS35-$BV32,0)","v":0},{"$f":"IF($BZ35=$BZ33,$BT35-$BV33,0)","v":-3},{"$f":"IF($BZ35=$BZ34,$BU35-$BV34,0)","v":0},null,{"$f":"SUM(CF35:CI35)","v":-3},null,{"$f":"IF($BZ35=$BZ32,$BS39-$BV36,0)","v":0},{"$f":"IF($BZ35=$BZ33,$BT39-$BV37,0)","v":-1},{"$f":"IF($BZ35=$BZ34,$BU39-$BV38,0)","v":0},null,{"$f":"SUM(CL35:CO35)","v":-1},{"$f":"IF($BZ35=$BZ32,$BS39,0)","v":0},{"$f":"IF($BZ35=$BZ33,$BT39,0)","v":1},{"$f":"IF($BZ35=$BZ34,$BU39,0)","v":0},null,{"$f":"SUM(CQ35:CT35)","v":1},1]
[40,{"$f":"VLOOKUP(A36,Spiele!$A$1:$L$116,2,FALSE)","v":"2026-06-21T18:00:00"},{"$f":"VLOOKUP(A36,Spiele!$A$1:$L$116,9,FALSE)","v":"Vancouver"},{"$f":"Y35","v":"Neuseeland"},"-",{"$f":"Y33","v":"Ägypten"},null,1,":",0,"ok",null,null,null,null,null,null,null,null,{"$f":"IF(K33=$B$98,H33,0)","v":5},{"$f":"IF(K35=$B$98,H35,0)","v":2},{"$f":"IF(K38=$B$98,J37,0)","v":1},null,null,null,null,null,null,null,null,null,null,null,null,null,null,null,null,null,null,null,null,null,null,null,null,null,null,null,null,null,null,44,{"$f":"VLOOKUP(BA36,Spiele!$A$1:$L$116,2,FALSE)","v":"2026-06-22T20:00:00"},{"$f":"VLOOKUP(BA36,Spiele!$A$1:$L$116,9,FALSE)","v":"San Francisco"},{"$f":"BY35","v":"Jordanien"},"-",{"$f":"BY33","v":"Algerien"},null,1,":",2,"ok",null,null,null,null,null,null,null,null,{"$f":"IF(BK33=$B$98,BH33,0)","v":4},{"$f":"IF(BK35=$B$98,BH35,0)","v":3},{"$f":"IF(BK38=$B$98,BJ37,0)","v":5}]
[64,{"$f":"VLOOKUP(A37,Spiele!$A$1:$L$116,2,FALSE)","v":"2026-06-26T20:00:00"},{"$f":"VLOOKUP(A37,Spiele!$A$1:$L$116,9,FALSE)","v":"Vancouver"},{"$f":"Y35","v":"Neuseeland"},"-",{"$f":"Y32","v":"Belgien"},null,3,":",1,"ok",null,{"$f":"IF(N32>0,M32,\"\")","v":"Neuseeland"},"1G",null,null,null,null,{"$f":"IF(K33=$B$98,J33,0)","v":5},null,{"$f":"IF(K37=$B$98,H38,0)","v":3},{"$f":"IF(K36=$B$98,J36,0)","v":0},null,null,null,null,null,null,null,"L0=AE hebelt Berechnung aus (top level Losen)",null,null,null,null,null,null,null,null,null,null,null,null,null,null,null,null,null,null,null,null,null,null,70,{"$f":"VLOOKUP(BA37,Spiele!$A$1:$L$116,2,FALSE)","v":"2026-06-27T21:00:00"},{"$f":"VLOOKUP(BA37,Spiele!$A$1:$L$116,9,FALSE)","v":"Dallas"},{"$f":"BY35","v":"Jordanien"},"-",{"$f":"BY32","v":"Argentinien"},null,1,":",5,"ok",null,{"$f":"IF(BN32>0,BM32,\"\")","v":"Österreich"},"1J",null,null,null,null,{"$f":"IF(BK33=$B$98,BJ33,0)","v":3},null,{"$f":"IF(BK37=$B$98,BH38,0)","v":1},{"$f":"IF(BK36=$B$98,BJ36,0)","v":2},null,null,null,null,null,null,null,"L0=AE hebelt Berechnung aus (top level Losen)"]
[63,{"$f":"VLOOKUP(A38,Spiele!$A$1:$L$116,2,FALSE)","v":"2026-06-26T20:00:00"},{"$f":"VLOOKUP(A38,Spiele!$A$1:$L$116,9,FALSE)","v":"Seattle"},{"$f":"Y33","v":"Ägypten"},"-",{"$f":"Y34","v":"IR Iran"},null,3,":",4,"ok",null,{"$f":"IF(N33>0,M33,\"\")","v":"IR Iran"},"2G",null,"DV",null,null,{"$f":"IF(K35=$B$98,J35,0)","v":4},{"$f":"IF(K37=$B$98,J38,0)","v":4},null,{"$f":"IF(K34=$B$98,H34,0)","v":0},null,null,null,null,null,null,null,"L1=AK hebelt Direktvergleich (S1) aus",null,null,null,null,null,null,null,null,null,null,null,null,null,null,null,null,null,null,null,null,null,null,69,{"$f":"VLOOKUP(BA38,Spiele!$A$1:$L$116,2,FALSE)","v":"2026-06-27T21:00:00"},{"$f":"VLOOKUP(BA38,Spiele!$A$1:$L$116,9,FALSE)","v":"Kansas City"},{"$f":"BY33","v":"Algerien"},"-",{"$f":"BY34","v":"Österreich"},null,1,":",4,"ok",null,{"$f":"IF(BN33>0,BM33,\"\")","v":"Argentinien"},"2J",null,"DV",null,null,{"$f":"IF(BK35=$B$98,BJ35,0)","v":4},{"$f":"IF(BK37=$B$98,BJ38,0)","v":4},null,{"$f":"IF(BK34=$B$98,BH34,0)","v":1},null,null,null,null,null,null,null,"L1=AK hebelt Direktvergleich (S1) aus"]
[null,null,null,null,null,null,null,null,null,null,null,null,{"$f":"IF(N34>0,M34,\"\")","v":"Ägypten"},"3G",null,null,null,null,{"$f":"IF(K38=$B$98,H37,0)","v":3},{"$f":"IF(K36=$B$98,H36,0)","v":1},{"$f":"IF(K34=$B$98,J34,0)","v":2},null,null,null,null,null,null,null,null,"L4=AV Losen UEFA-Koeffizient, Fairplay oder Münzwurf",null,null,null,null,null,null,null,null,null,null,null,null,null,null,null,null,null,null,null,null,null,null,null,null,null,null,null,null,null,null,null,null,null,null,{"$f":"IF(BN34>0,BM34,\"\")","v":"Algerien"},"3J",null,null,null,null,{"$f":"IF(BK38=$B$98,BH37,0)","v":1},{"$f":"IF(BK36=$B$98,BH36,0)","v":1},{"$f":"IF(BK34=$B$98,BJ34,0)","v":4},null,null,null,null,null,null,null,null,"L4=AV Losen UEFA-Koeffizient, Fairplay oder Münzwurf"]
[]
[null,"Vorrunde","Gruppe H"," ",null,null,null,null,null,null,null,null,"Tabelle","P","T+","T-","T+/-",null,null,null,null,null,null,"G","Berechnungen","P","T+","T-","T+/-",null,"L0","DV",null,null,null,"S1","L1","DV-TD",null,null,null,"S2","DV-Tore",null,null,null,"S3","L4",null,null,null,null,null,"Vorrunde","Gruppe K"," ",null,null,null,null,null,null,null,null,"Tabelle","P","T+","T-","T+/-",null,null,null,null,null,null,"G","Berechnungen","P","T+","T-","T+/-",null,"L0","DV",null,null,null,"S1","L1","DV-TD",null,null,null,"S2","DV-Tore",null,null,null,"S3","L4"]
[null,"Datum/Zeit","Spielort",null,null,null,null,null,null,null,null,null,{"$f":"VLOOKUP(1,$X$42:$AC$45,2,FALSE)","v":"Kap Verde"},{"$f":"VLOOKUP(1,$X$42:$AC$45,3,FALSE)","v":7},{"$f":"VLOOKUP(1,$X$42:$AC$45,4,FALSE)","v":15},{"$f":"VLOOKUP(1,$X$42:$AC$45,5,FALSE)","v":7},{"$f":"VLOOKUP(1,$X$42:$AC$45,6,FALSE)","v":8},null,null,{"$f":"IF(H43=\"\",0,IF(K43=$B$98,IF(H43>J43,3,IF(H43=J43,1,0)),0))","v":0},{"$f":"IF(H45=\"\",0,IF(K45=$B$98,IF(H45>J45,3,IF(H45=J45,1,0)),0))","v":3},{"$f":"IF(J47=\"\",0,IF(K48=$B$98,IF(H47<J47,3,IF(H47=J47,1,0)),0))","v":0},null,{"$f":"RANK(AD42,$AD$42:$AD$45)","v":4},"Spanien",{"$f":"SUM(S42:V42)","v":3},{"$f":"SUM(S46:V46)","v":9},{"$f":"SUM(S46:S49)","v":13},{"$f":"AA42-AB42","v":-4},{"$f":"IF(P$18=\"\",(((((((AE42*10+Z42)*100+AC42)*100+AA42)*10+AK42)*10+AJ42)*100+AP42)*100+AU42)*10+AV42,(((((((AE42*10+Z42)*10+AK42)*10+AJ42)*100+AP42)*100+AU42)*100+AC42)*100+AA42)*10+AV42)","v":296970296094},null,null,{"$f":"IF($Z42=$Z43,$T42-$S43,0)","v":0},{"$f":"IF($Z42=$Z44,$U42-$S44,0)","v":0},{"$f":"IF($Z42=$Z45,$V42-$S45,0)","v":-3},{"$f":"SUM(AF42:AI42)","v":-3},null,null,{"$f":"IF($Z42=$Z43,$T46-$S47,0)","v":0},{"$f":"IF($Z42=$Z44,$U46-$S48,0)","v":0},{"$f":"IF($Z42=$Z45,$V46-$S49,0)","v":-3},{"$f":"SUM(AL42:AO42)","v":-3},null,{"$f":"IF($Z42=$Z43,$T46,0)","v":0},{"$f":"IF($Z42=$Z44,$U46,0)","v":0},{"$f":"IF($Z42=$Z45,$V46,0)","v":3},{"$f":"SUM(AQ42:AT42)","v":3},4,null,null,null,null,null,"Datum/Zeit","Spielort",null,null,null,null,null,null,null,null,null,{"$f":"VLOOKUP(1,$BX$42:$CC$45,2,FALSE)","v":"Usbekistan"},{"$f":"VLOOKUP(1,$BX$42:$CC$45,3,FALSE)","v":9},{"$f":"VLOOKUP(1,$BX$42:$CC$45,4,FALSE)","v":10},{"$f":"VLOOKUP(1,$BX$42:$CC$45,5,FALSE)","v":4},{"$f":"VLOOKUP(1,$BX$42:$CC$45,6,FALSE)","v":6},null,null,{"$f":"IF(BH43=\"\",0,IF(BK43=$B$98,IF(BH43>BJ43,3,IF(BH43=BJ43,1,0)),0))","v":3},{"$f":"IF(BH45=\"\",0,IF(BK45=$B$98,IF(BH45>BJ45,3,IF(BH45=BJ45,1,0)),0))","v":0},{"$f":"IF(BJ47=\"\",0,IF(BK48=$B$98,IF(BH47<BJ47,3,IF(BH47=BJ47,1,0)),0))","v":0},null,{"$f":"RANK(CD42,$CD$42:$CD$45)","v":2},"Portugal",{"$f":"SUM(BS42:BV42)","v":3},{"$f":"SUM(BS46:BV46)","v":5},{"$f":"SUM(BS46:BS49)","v":5},{"$f":"CA42-CB42","v":0},{"$f":"IF(BP$8=\"\",(((((((CE42*10+BZ42)*100+CC42)*100+CA42)*10+CK42)*10+CJ42)*100+CP42)*100+CU42)*10+CV42,(((((((CE42*10+BZ42)*10+CK42)*10+CJ42)*100+CP42)*100+CU42)*100+CC42)*100+CA42)*10+CV42)","v":300010400054},null,null,{"$f":"IF($BZ42=$BZ43,$BT42-$BS43,0)","v":3},{"$f":"IF($BZ42=$BZ44,$BU42-$BS44,0)","v":0},{"$f":"IF($BZ42=$BZ45,$BV42-$BS45,0)","v":-3},{"$f":"SUM(CF42:CI42)","v":0},null,null,{"$f":"IF($BZ42=$BZ43,$BT46-$BS47,0)","v":2},{"$f":"IF($BZ42=$BZ44,$BU46-$BS48,0)","v":0},{"$f":"IF($BZ42=$BZ45,$BV46-$BS49,0)","v":-1},{"$f":"SUM(CL42:CO42)","v":1},null,{"$f":"IF($BZ42=$BZ43,$BT46,0)","v":2},{"$f":"IF($BZ42=$BZ44,$BU46,0)","v":0},{"$f":"IF($BZ42=$BZ45,$BV46,0)","v":2},{"$f":"SUM(CQ42:CT42)","v":4},4]
[14,{"$f":"VLOOKUP(A43,Spiele!$A$1:$L$116,2,FALSE)","v":"2026-06-15T12:00:00"},{"$f":"VLOOKUP(A43,Spiele!$A$1:$L$116,9,FALSE)","v":"Atlanta"},{"$f":"Y42","v":"Spanien"},"-",{"$f":"Y43","v":"Kap Verde"},null,{"$f":"IF($B$99=\"\",1,INT(RAND()*5)+INT(RAND()*3)*INT(RAND()*2))","v":2},":",{"$f":"IF($B$99=\"\",0,INT(RAND()*5)+INT(RAND()*3)*INT(RAND()*2))","v":6},"ok",null,{"$f":"VLOOKUP(2,$X$42:$AC$45,2,FALSE)","v":"Saudiarabien"},{"$f":"VLOOKUP(2,$X$42:$AC$45,3,FALSE)","v":4},{"$f":"VLOOKUP(2,$X$42:$AC$45,4,FALSE)","v":9},{"$f":"VLOOKUP(2,$X$42:$AC$45,5,FALSE)","v":8},{"$f":"VLOOKUP(2,$X$42:$AC$45,6,FALSE)","v":1},null,{"$f":"IF(J43=\"\",0,IF(K43=$B$98,IF(H43<J43,3,IF(H43=J43,1,0)),0))","v":3},null,{"$f":"IF(H48=\"\",0,IF(K47=$B$98,IF(H48>J48,3,IF(H48=J48,1,0)),0))","v":1},{"$f":"IF(J46=\"\",0,IF(K46=$B$98,IF(J46>H46,3,IF(J46=H46,1,0)),0))","v":3},null,{"$f":"RANK(AD43,$AD$42:$AD$45)","v":1},"Kap Verde",{"$f":"SUM(S43:V43)","v":7},{"$f":"SUM(S47:V47)","v":15},{"$f":"SUM(T46:T49)","v":7},{"$f":"AA43-AB43","v":8},{"$f":"IF(P$18=\"\",(((((((AE43*10+Z43)*100+AC43)*100+AA43)*10+AK43)*10+AJ43)*100+AP43)*100+AU43)*10+AV43,(((((((AE43*10+Z43)*10+AK43)*10+AJ43)*100+AP43)*100+AU43)*100+AC43)*100+AA43)*10+AV43)","v":700000008153},null,{"$f":"IF($Z43=$Z42,$S43-$T42,0)","v":0},null,{"$f":"IF($Z43=$Z44,$U43-$T44,0)","v":0},{"$f":"IF($Z43=$Z45,$V43-$T45,0)","v":0},{"$f":"SUM(AF43:AI43)","v":0},null,{"$f":"IF($Z43=$Z42,$S47-$T46,0)","v":0},null,{"$f":"IF($Z43=$Z44,$U47-$T48,0)","v":0},{"$f":"IF($Z43=$Z45,$V47-$T49,0)","v":0},{"$f":"SUM(AL43:AO43)","v":0},{"$f":"IF($Z43=$Z42,$S47,0)","v":0},null,{"$f":"IF($Z43=$Z44,$U47,0)","v":0},{"$f":"IF($Z43=$Z45,$V47,0)","v":0},{"$f":"SUM(AQ43:AT43)","v":0},3,null,null,null,null,23,{"$f":"VLOOKUP(BA43,Spiele!$A$1:$L$116,2,FALSE)","v":"2026-06-17T12:00:00"},{"$f":"VLOOKUP(BA43,Spiele!$A$1:$L$116,9,FALSE)","v":"Houston"},{"$f":"BY42","v":"Portugal"},"-",{"$f":"BY43","v":"DR Kongo"},null,{"$f":"IF($B$99=\"\",1,INT(RAND()*5)+INT(RAND()*3)*INT(RAND()*2))","v":2},":",{"$f":"IF($B$99=\"\",0,INT(RAND()*5)+INT(RAND()*3)*INT(RAND()*2))","v":0},"ok",null,{"$f":"VLOOKUP(2,$BX$42:$CC$45,2,FALSE)","v":"Portugal"},{"$f":"VLOOKUP(2,$BX$42:$CC$45,3,FALSE)","v":3},{"$f":"VLOOKUP(2,$BX$42:$CC$45,4,FALSE)","v":5},{"$f":"VLOOKUP(2,$BX$42:$CC$45,5,FALSE)","v":5},{"$f":"VLOOKUP(2,$BX$42:$CC$45,6,FALSE)","v":0},null,{"$f":"IF(BJ43=\"\",0,IF(BK43=$B$98,IF(BH43<BJ43,3,IF(BH43=BJ43,1,0)),0))","v":0},null,{"$f":"IF(BH48=\"\",0,IF(BK47=$B$98,IF(BH48>BJ48,3,IF(BH48=BJ48,1,0)),0))","v":0},{"$f":"IF(BJ46=\"\",0,IF(BK46=$B$98,IF(BJ46>BH46,3,IF(BJ46=BH46,1,0)),0))","v":3},null,{"$f":"RANK(CD43,$CD$42:$CD$45)","v":4},"DR Kongo",{"$f":"SUM(BS43:BV43)","v":3},{"$f":"SUM(BS47:BV47)","v":7},{"$f":"SUM(BT46:BT49)","v":10},{"$f":"CA43-CB43","v":-3},{"$f":"IF(BP$8=\"\",(((((((CE43*10+BZ43)*100+CC43)*100+CA43)*10+CK43)*10+CJ43)*100+CP43)*100+CU43)*10+CV43,(((((((CE43*10+BZ43)*10+CK43)*10+CJ43)*100+CP43)*100+CU43)*100+CC43)*100+CA43)*10+CV43)","v":299990497073},null,{"$f":"IF($BZ43=$BZ42,$BS43-$BT42,0)","v":-3},null,{"$f":"IF($BZ43=$BZ44,$BU43-$BT44,0)","v":0},{"$f":"IF($BZ43=$BZ45,$BV43-$BT45,0)","v":3},{"$f":"SUM(CF43:CI43)","v":0},null,{"$f":"IF($BZ43=$BZ42,$BS47-$BT46,0)","v":-2},null,{"$f":"IF($BZ43=$BZ44,$BU47-$BT48,0)","v":0},{"$f":"IF($BZ43=$BZ45,$BV47-$BT49,0)","v":1},{"$f":"SUM(CL43:CO43)","v":-1},{"$f":"IF($BZ43=$BZ42,$BS47,0)","v":0},null,{"$f":"IF($BZ43=$BZ44,$BU47,0)","v":0},{"$f":"IF($BZ43=$BZ45,$BV47,0)","v":5},{"$f":"SUM(CQ43:CT43)","v":5},3]
[13,{"$f":"VLOOKUP(A44,Spiele!$A$1:$L$116,2,FALSE)","v":"2026-06-15T18:00:00"},{"$f":"VLOOKUP(A44,Spiele!$A$1:$L$116,9,FALSE)","v":"Miami"},{"$f":"Y44","v":"Saudiarabien"},"-",{"$f":"Y45","v":"Uruguay"},null,4,":",0,"ok",null,{"$f":"VLOOKUP(3,$X$42:$AC$45,2,FALSE)","v":"Uruguay"},{"$f":"VLOOKUP(3,$X$42:$AC$45,3,FALSE)","v":3},{"$f":"VLOOKUP(3,$X$42:$AC$45,4,FALSE)","v":7},{"$f":"VLOOKUP(3,$X$42:$AC$45,5,FALSE)","v":12},{"$f":"VLOOKUP(3,$X$42:$AC$45,6,FALSE)","v":-5},null,{"$f":"IF(J45=\"\",0,IF(K45=$B$98,IF(H45<J45,3,IF(H45=J45,1,0)),0))","v":0},{"$f":"IF(J48=\"\",0,IF(K47=$B$98,IF(H48<J48,3,IF(H48=J48,1,0)),0))","v":1},null,{"$f":"IF(H44=\"\",0,IF(K44=$B$98,IF(H44>J44,3,IF(H44=J44,1,0)),0))","v":3},null,{"$f":"RANK(AD44,$AD$42:$AD$45)","v":2},"Saudiarabien",{"$f":"SUM(S44:V44)","v":4},{"$f":"SUM(S48:V48)","v":9},{"$f":"SUM(U46:U49)","v":8},{"$f":"AA44-AB44","v":1},{"$f":"IF(P$18=\"\",(((((((AE44*10+Z44)*100+AC44)*100+AA44)*10+AK44)*10+AJ44)*100+AP44)*100+AU44)*10+AV44,(((((((AE44*10+Z44)*10+AK44)*10+AJ44)*100+AP44)*100+AU44)*100+AC44)*100+AA44)*10+AV44)","v":400000001092},null,{"$f":"IF($Z44=$Z42,$S44-$U42,0)","v":0},{"$f":"IF($Z44=$Z43,$T44-$U43,0)","v":0},null,{"$f":"IF($Z44=$Z45,$V44-$U45,0)","v":0},{"$f":"SUM(AF44:AI44)","v":0},null,{"$f":"IF($Z44=$Z42,$S48-$U46,0)","v":0},{"$f":"IF($Z44=$Z43,$T48-$U47,0)","v":0},null,{"$f":"IF($Z44=$Z45,$V48-$U49,0)","v":0},{"$f":"SUM(AL44:AO44)","v":0},{"$f":"IF($Z44=$Z42,$S48,0)","v":0},{"$f":"IF($Z44=$Z43,$T48,0)","v":0},null,{"$f":"IF($Z44=$Z45,$V48,0)","v":0},{"$f":"SUM(AQ44:AT44)","v":0},2,null,null,null,null,24,{"$f":"VLOOKUP(BA44,Spiele!$A$1:$L$116,2,FALSE)","v":"2026-06-17T21:00:00"},{"$f":"VLOOKUP(BA44,Spiele!$A$1:$L$116,9,FALSE)","v":"Mexico City"},{"$f":"BY44","v":"Usbekistan"},"-",{"$f":"BY45","v":"Kolumbien"},null,4,":",1,"ok",null,{"$f":"VLOOKUP(3,$BX$42:$CC$45,2,FALSE)","v":"Kolumbien"},{"$f":"VLOOKUP(3,$BX$42:$CC$45,3,FALSE)","v":3},{"$f":"VLOOKUP(3,$BX$42:$CC$45,4,FALSE)","v":8},{"$f":"VLOOKUP(3,$BX$42:$CC$45,5,FALSE)","v":11},{"$f":"VLOOKUP(3,$BX$42:$CC$45,6,FALSE)","v":-3},null,{"$f":"IF(BJ45=\"\",0,IF(BK45=$B$98,IF(BH45<BJ45,3,IF(BH45=BJ45,1,0)),0))","v":3},{"$f":"IF(BJ48=\"\",0,IF(BK47=$B$98,IF(BH48<BJ48,3,IF(BH48=BJ48,1,0)),0))","v":3},null,{"$f":"IF(BH44=\"\",0,IF(BK44=$B$98,IF(BH44>BJ44,3,IF(BH44=BJ44,1,0)),0))","v":3},null,{"$f":"RANK(CD44,$CD$42:$CD$45)","v":1},"Usbekistan",{"$f":"SUM(BS44:BV44)","v":9},{"$f":"SUM(BS48:BV48)","v":10},{"$f":"SUM(BU46:BU49)","v":4},{"$f":"CA44-CB44","v":6},{"$f":"IF(BP$8=\"\",(((((((CE44*10+BZ44)*100+CC44)*100+CA44)*10+CK44)*10+CJ44)*100+CP44)*100+CU44)*10+CV44,(((((((CE44*10+BZ44)*10+CK44)*10+CJ44)*100+CP44)*100+CU44)*100+CC44)*100+CA44)*10+CV44)","v":900000006102},null,{"$f":"IF($BZ44=$BZ42,$BS44-$BU42,0)","v":0},{"$f":"IF($BZ44=$BZ43,$BT44-$BU43,0)","v":0},null,{"$f":"IF($BZ44=$BZ45,$BV44-$BU45,0)","v":0},{"$f":"SUM(CF44:CI44)","v":0},null,{"$f":"IF($BZ44=$BZ42,$BS48-$BU46,0)","v":0},{"$f":"IF($BZ44=$BZ43,$BT48-$BU47,0)","v":0},null,{"$f":"IF($BZ44=$BZ45,$BV48-$BU49,0)","v":0},{"$f":"SUM(CL44:CO44)","v":0},{"$f":"IF($BZ44=$BZ42,$BS48,0)","v":0},{"$f":"IF($BZ44=$BZ43,$BT48,0)","v":0},null,{"$f":"IF($BZ44=$BZ45,$BV48,0)","v":0},{"$f":"SUM(CQ44:CT44)","v":0},2]
[38,{"$f":"VLOOKUP(A45,Spiele!$A$1:$L$116,2,FALSE)","v":"2026-06-21T12:00:00"},{"$f":"VLOOKUP(A45,Spiele!$A$1:$L$116,9,FALSE)","v":"Atlanta"},{"$f":"Y42","v":"Spanien"},"-",{"$f":"Y44","v":"Saudiarabien"},null,4,":",1,"ok",null,{"$f":"VLOOKUP(4,$X$42:$AC$45,2,FALSE)","v":"Spanien"},{"$f":"VLOOKUP(4,$X$42:$AC$45,3,FALSE)","v":3},{"$f":"VLOOKUP(4,$X$42:$AC$45,4,FALSE)","v":9},{"$f":"VLOOKUP(4,$X$42:$AC$45,5,FALSE)","v":13},{"$f":"VLOOKUP(4,$X$42:$AC$45,6,FALSE)","v":-4},null,{"$f":"IF(H47=\"\",0,IF(K48=$B$98,IF(H47>J47,3,IF(H47=J47,1,0)),0))","v":3},{"$f":"IF(H46=\"\",0,IF(K46=$B$98,IF(J46<H46,3,IF(J46=H46,1,0)),0))","v":0},{"$f":"IF(J44=\"\",0,IF(K44=$B$98,IF(H44<J44,3,IF(H44=J44,1,0)),0))","v":0},null,null,{"$f":"RANK(AD45,$AD$42:$AD$45)","v":3},"Uruguay",{"$f":"SUM(S45:V45)","v":3},{"$f":"SUM(S49:V49)","v":7},{"$f":"SUM(V46:V49)","v":12},{"$f":"AA45-AB45","v":-5},{"$f":"IF(P$18=\"\",(((((((AE45*10+Z45)*100+AC45)*100+AA45)*10+AK45)*10+AJ45)*100+AP45)*100+AU45)*10+AV45,(((((((AE45*10+Z45)*10+AK45)*10+AJ45)*100+AP45)*100+AU45)*100+AC45)*100+AA45)*10+AV45)","v":303030595071},null,{"$f":"IF($Z45=$Z42,$S45-$V42,0)","v":3},{"$f":"IF($Z45=$Z43,$T45-$V43,0)","v":0},{"$f":"IF($Z45=$Z44,$U45-$V44,0)","v":0},null,{"$f":"SUM(AF45:AI45)","v":3},null,{"$f":"IF($Z45=$Z42,$S49-$V46,0)","v":3},{"$f":"IF($Z45=$Z43,$T49-$V47,0)","v":0},{"$f":"IF($Z45=$Z44,$U49-$V48,0)","v":0},null,{"$f":"SUM(AL45:AO45)","v":3},{"$f":"IF($Z45=$Z42,$S49,0)","v":6},{"$f":"IF($Z45=$Z43,$T49,0)","v":0},{"$f":"IF($Z45=$Z44,$U49,0)","v":0},null,{"$f":"SUM(AQ45:AT45)","v":6},1,null,null,null,null,47,{"$f":"VLOOKUP(BA45,Spiele!$A$1:$L$116,2,FALSE)","v":"2026-06-23T12:00:00"},{"$f":"VLOOKUP(BA45,Spiele!$A$1:$L$116,9,FALSE)","v":"Houston"},{"$f":"BY42","v":"Portugal"},"-",{"$f":"BY44","v":"Usbekistan"},null,1,":",2,"ok",null,{"$f":"VLOOKUP(4,$BX$42:CC$45,2,FALSE)","v":"DR Kongo"},{"$f":"VLOOKUP(4,$BX$42:$CC$45,3,FALSE)","v":3},{"$f":"VLOOKUP(4,$BX$42:$CC$45,4,FALSE)","v":7},{"$f":"VLOOKUP(4,$BX$42:$CC$45,5,FALSE)","v":10},{"$f":"VLOOKUP(4,$BX$42:$CC$45,6,FALSE)","v":-3},null,{"$f":"IF(BH47=\"\",0,IF(BK48=$B$98,IF(BH47>BJ47,3,IF(BH47=BJ47,1,0)),0))","v":3},{"$f":"IF(BH46=\"\",0,IF(BK46=$B$98,IF(BJ46<BH46,3,IF(BJ46=BH46,1,0)),0))","v":0},{"$f":"IF(BJ44=\"\",0,IF(BK44=$B$98,IF(BH44<BJ44,3,IF(BH44=BJ44,1,0)),0))","v":0},null,null,{"$f":"RANK(CD45,$CD$42:$CD$45)","v":3},"Kolumbien",{"$f":"SUM(BS45:BV45)","v":3},{"$f":"SUM(BS49:BV49)","v":8},{"$f":"SUM(BV46:BV49)","v":11},{"$f":"CA45-CB45","v":-3},{"$f":"IF(BP$8=\"\",(((((((CE45*10+BZ45)*100+CC45)*100+CA45)*10+CK45)*10+CJ45)*100+CP45)*100+CU45)*10+CV45,(((((((CE45*10+BZ45)*10+CK45)*10+CJ45)*100+CP45)*100+CU45)*100+CC45)*100+CA45)*10+CV45)","v":300000697081},null,{"$f":"IF($BZ45=$BZ42,$BS45-$BV42,0)","v":3},{"$f":"IF($BZ45=$BZ43,$BT45-$BV43,0)","v":-3},{"$f":"IF($BZ45=$BZ44,$BU45-$BV44,0)","v":0},null,{"$f":"SUM(CF45:CI45)","v":0},null,{"$f":"IF($BZ45=$BZ42,$BS49-$BV46,0)","v":1},{"$f":"IF($BZ45=$BZ43,$BT49-$BV47,0)","v":-1},{"$f":"IF($BZ45=$BZ44,$BU49-$BV48,0)","v":0},null,{"$f":"SUM(CL45:CO45)","v":0},{"$f":"IF($BZ45=$BZ42,$BS49,0)","v":3},{"$f":"IF($BZ45=$BZ43,$BT49,0)","v":4},{"$f":"IF($BZ45=$BZ44,$BU49,0)","v":0},null,{"$f":"SUM(CQ45:CT45)","v":7},1]
[37,{"$f":"VLOOKUP(A46,Spiele!$A$1:$L$116,2,FALSE)","v":"2026-06-21T18:00:00"},{"$f":"VLOOKUP(A46,Spiele!$A$1:$L$116,9,FALSE)","v":"Miami"},{"$f":"Y45","v":"Uruguay"},"-",{"$f":"Y43","v":"Kap Verde"},null,1,":",5,"ok",null,null,null,null,null,null,null,null,{"$f":"IF(K43=$B$98,H43,0)","v":2},{"$f":"IF(K45=$B$98,H45,0)","v":4},{"$f":"IF(K48=$B$98,J47,0)","v":3},null,null,null,null,null,null,null,null,null,null,null,null,null,null,null,null,null,null,null,null,null,null,null,null,null,null,null,null,null,null,48,{"$f":"VLOOKUP(BA46,Spiele!$A$1:$L$116,2,FALSE)","v":"2026-06-23T21:00:00"},{"$f":"VLOOKUP(BA46,Spiele!$A$1:$L$116,9,FALSE)","v":"Guadalajara"},{"$f":"BY45","v":"Kolumbien"},"-",{"$f":"BY43","v":"DR Kongo"},null,4,":",5,"ok",null,null,null,null,null,null,null,null,{"$f":"IF(BK43=$B$98,BH43,0)","v":2},{"$f":"IF(BK45=$B$98,BH45,0)","v":1},{"$f":"IF(BK48=$B$98,BJ47,0)","v":2}]
[66,{"$f":"VLOOKUP(A47,Spiele!$A$1:$L$116,2,FALSE)","v":"2026-06-26T19:00:00"},{"$f":"VLOOKUP(A47,Spiele!$A$1:$L$116,9,FALSE)","v":"Guadalajara"},{"$f":"Y45","v":"Uruguay"},"-",{"$f":"Y42","v":"Spanien"},null,6,":",3,"ok",null,{"$f":"IF(N42>0,M42,\"\")","v":"Kap Verde"},"1H",null,null,null,null,{"$f":"IF(K43=$B$98,J43,0)","v":6},null,{"$f":"IF(K47=$B$98,H48,0)","v":4},{"$f":"IF(K46=$B$98,J46,0)","v":5},null,null,null,null,null,null,null,"L0=AE hebelt Berechnung aus (top level Losen)",null,null,null,null,null,null,null,null,null,null,null,null,null,null,null,null,null,null,null,null,null,null,72,{"$f":"VLOOKUP(BA47,Spiele!$A$1:$L$116,2,FALSE)","v":"2026-06-27T19:30:00"},{"$f":"VLOOKUP(BA47,Spiele!$A$1:$L$116,9,FALSE)","v":"Atlanta"},{"$f":"BY45","v":"Kolumbien"},"-",{"$f":"BY42","v":"Portugal"},null,3,":",2,"ok",null,{"$f":"IF(BN42>0,BM42,\"\")","v":"Usbekistan"},"1K",null,null,null,null,{"$f":"IF(BK43=$B$98,BJ43,0)","v":0},null,{"$f":"IF(BK47=$B$98,BH48,0)","v":2},{"$f":"IF(BK46=$B$98,BJ46,0)","v":5},null,null,null,null,null,null,null,"L0=AE hebelt Berechnung aus (top level Losen)"]
[65,{"$f":"VLOOKUP(A48,Spiele!$A$1:$L$116,2,FALSE)","v":"2026-06-26T19:00:00"},{"$f":"VLOOKUP(A48,Spiele!$A$1:$L$116,9,FALSE)","v":"Houston"},{"$f":"Y43","v":"Kap Verde"},"-",{"$f":"Y44","v":"Saudiarabien"},null,4,":",4,"ok",null,{"$f":"IF(N43>0,M43,\"\")","v":"Saudiarabien"},"2H",null,"DV",null,null,{"$f":"IF(K45=$B$98,J45,0)","v":1},{"$f":"IF(K47=$B$98,J48,0)","v":4},null,{"$f":"IF(K44=$B$98,H44,0)","v":4},null,null,null,null,null,null,null,"L1=AK hebelt Direktvergleich (S1) aus",null,null,null,null,null,null,null,null,null,null,null,null,null,null,null,null,null,null,null,null,null,null,71,{"$f":"VLOOKUP(BA48,Spiele!$A$1:$L$116,2,FALSE)","v":"2026-06-27T19:30:00"},{"$f":"VLOOKUP(BA48,Spiele!$A$1:$L$116,9,FALSE)","v":"Miami"},{"$f":"BY43","v":"DR Kongo"},"-",{"$f":"BY44","v":"Usbekistan"},null,2,":",4,"ok",null,{"$f":"IF(BN43>0,BM43,\"\")","v":"Portugal"},"2K",null,"DV",null,null,{"$f":"IF(BK45=$B$98,BJ45,0)","v":2},{"$f":"IF(BK47=$B$98,BJ48,0)","v":4},null,{"$f":"IF(BK44=$B$98,BH44,0)","v":4},null,null,null,null,null,null,null,"L1=AK hebelt Direktvergleich (S1) aus"]
[null,null,null,null,null,null,null,null,null,null,null,null,{"$f":"IF(N44>0,M44,\"\")","v":"Uruguay"},"3H",null,null,null,null,{"$f":"IF(K48=$B$98,H47,0)","v":6},{"$f":"IF(K46=$B$98,H46,0)","v":1},{"$f":"IF(K44=$B$98,J44,0)","v":0},null,null,null,null,null,null,null,null,"L4=AV Losen UEFA-Koeffizient, Fairplay oder Münzwurf",null,null,null,null,null,null,null,null,null,null,null,null,null,null,null,null,null,null,null,null,null,null,null," ",null,null,null,null,null,null,null,null,null,null,{"$f":"IF(BN44>0,BM44,\"\")","v":"Kolumbien"},"3K",null,null,null,null,{"$f":"IF(BK48=$B$98,BH47,0)","v":3},{"$f":"IF(BK46=$B$98,BH46,0)","v":4},{"$f":"IF(BK44=$B$98,BJ44,0)","v":1},null,null,null,null,null,null,null,null,"L4=AV Losen UEFA-Koeffizient, Fairplay oder Münzwurf"]
[]
[null,"Vorrunde","Gruppe I"," ",null,null,null,null,null,null,null,null,"Tabelle","P","T+","T-","T+/-",null,null,null,null,null,null,"G","Berechnungen","P","T+","T-","T+/-",null,"L0","DV",null,null,null,"S1","L1","DV-TD",null,null,null,"S2","DV-Tore",null,null,null,"S3","L4",null,null,null,null,null,"Vorrunde","Gruppe L"," ",null,null,null,null,null,null,null,null,"Tabelle","P","T+","T-","T+/-",null,null,null,null,null,null,"G","Berechnungen","P","T+","T-","T+/-",null,"L0","DV",null,null,null,"S1","L1","DV-TD",null,null,null,"S2","DV-Tore",null,null,null,"S3","L4"]
[null,"Datum/Zeit","Spielort",null,null,null,null,null,null,null,null,null,{"$f":"VLOOKUP(1,$X$52:$AC$55,2,FALSE)","v":"Norwegen"},{"$f":"VLOOKUP(1,$X$52:$AC$55,3,FALSE)","v":6},{"$f":"VLOOKUP(1,$X$52:$AC$55,4,FALSE)","v":8},{"$f":"VLOOKUP(1,$X$52:$AC$55,5,FALSE)","v":6},{"$f":"VLOOKUP(1,$X$52:$AC$55,6,FALSE)","v":2},null,null,{"$f":"IF(H53=\"\",0,IF(K53=$B$98,IF(H53>J53,3,IF(H53=J53,1,0)),0))","v":1},{"$f":"IF(H55=\"\",0,IF(K55=$B$98,IF(H55>J55,3,IF(H55=J55,1,0)),0))","v":3},{"$f":"IF(J57=\"\",0,IF(K58=$B$98,IF(H57<J57,3,IF(H57=J57,1,0)),0))","v":0},null,{"$f":"RANK(AD52,$AD$52:$AD$55)","v":2},"Frankreich",{"$f":"SUM(S52:V52)","v":4},{"$f":"SUM(S56:V56)","v":10},{"$f":"SUM(S56:S59)","v":7},{"$f":"AA52-AB52","v":3},{"$f":"IF(P$28=\"\",(((((((AE52*10+Z52)*100+AC52)*100+AA52)*10+AK52)*10+AJ52)*100+AP52)*100+AU52)*10+AV52,(((((((AE52*10+Z52)*10+AK52)*10+AJ52)*100+AP52)*100+AU52)*100+AC52)*100+AA52)*10+AV52)","v":403040403104},null,null,{"$f":"IF($Z52=$Z53,$T52-$S53,0)","v":0},{"$f":"IF($Z52=$Z54,$U52-$S54,0)","v":3},{"$f":"IF($Z52=$Z55,$V52-$S55,0)","v":0},{"$f":"SUM(AF52:AI52)","v":3},null,null,{"$f":"IF($Z52=$Z53,$T56-$S57,0)","v":0},{"$f":"IF($Z52=$Z54,$U56-$S58,0)","v":4},{"$f":"IF($Z52=$Z55,$V56-$S59,0)","v":0},{"$f":"SUM(AL52:AO52)","v":4},null,{"$f":"IF($Z52=$Z53,$T56,0)","v":0},{"$f":"IF($Z52=$Z54,$U56,0)","v":4},{"$f":"IF($Z52=$Z55,$V56,0)","v":0},{"$f":"SUM(AQ52:AT52)","v":4},4,null,null,null,null,null,"Datum/Zeit","Spielort",null,null,null,null,null,null,null,null,null,{"$f":"VLOOKUP(1,$BX$52:$CC$55,2,FALSE)","v":"England"},{"$f":"VLOOKUP(1,$BX$52:$CC$55,3,FALSE)","v":9},{"$f":"VLOOKUP(1,$BX$52:$CC$55,4,FALSE)","v":13},{"$f":"VLOOKUP(1,$BX$52:$CC$55,5,FALSE)","v":4},{"$f":"VLOOKUP(1,$BX$52:$CC$55,6,FALSE)","v":9},null,null,{"$f":"IF(BH53=\"\",0,IF(BK53=$B$98,IF(BH53>BJ53,3,IF(BH53=BJ53,1,0)),0))","v":3},{"$f":"IF(BH55=\"\",0,IF(BK55=$B$98,IF(BH55>BJ55,3,IF(BH55=BJ55,1,0)),0))","v":3},{"$f":"IF(BJ57=\"\",0,IF(BK58=$B$98,IF(BH57<BJ57,3,IF(BH57=BJ57,1,0)),0))","v":3},null,{"$f":"RANK(CD52,$CD$52:$CD$55)","v":1},"England",{"$f":"SUM(BS52:BV52)","v":9},{"$f":"SUM(BS56:BV56)","v":13},{"$f":"SUM(BS56:BS59)","v":4},{"$f":"CA52-CB52","v":9},{"$f":"IF(BP$28=\"\",(((((((CE52*10+BZ52)*100+CC52)*100+CA52)*10+CK52)*10+CJ52)*100+CP52)*100+CU52)*10+CV52,(((((((CE52*10+BZ52)*10+CK52)*10+CJ52)*100+CP52)*100+CU52)*100+CC52)*100+CA52)*10+CV52)","v":900000009134},null,null,{"$f":"IF($BZ52=$BZ53,$BT52-$BS53,0)","v":0},{"$f":"IF($BZ52=$BZ54,$BU52-$BS54,0)","v":0},{"$f":"IF($BZ52=$BZ55,$BV52-$BS55,0)","v":0},{"$f":"SUM(CF52:CI52)","v":0},null,null,{"$f":"IF($BZ52=$BZ53,$BT56-$BS57,0)","v":0},{"$f":"IF($BZ52=$BZ54,$BU56-$BS58,0)","v":0},{"$f":"IF($BZ52=$BZ55,$BV56-$BS59,0)","v":0},{"$f":"SUM(CL52:CO52)","v":0},null,{"$f":"IF($BZ52=$BZ53,$BT56,0)","v":0},{"$f":"IF($BZ52=$BZ54,$BU56,0)","v":0},{"$f":"IF($BZ52=$BZ55,$BV56,0)","v":0},{"$f":"SUM(CQ52:CT52)","v":0},4]
[17,{"$f":"VLOOKUP(A53,Spiele!$A$1:$L$116,2,FALSE)","v":"2026-06-16T15:00:00"},{"$f":"VLOOKUP(A53,Spiele!$A$1:$L$116,9,FALSE)","v":"New York"},{"$f":"Y52","v":"Frankreich"},"-",{"$f":"Y53","v":"Senegal"},null,{"$f":"IF($B$99=\"\",1,INT(RAND()*5)+INT(RAND()*3)*INT(RAND()*2))","v":3},":",{"$f":"IF($B$99=\"\",0,INT(RAND()*5)+INT(RAND()*3)*INT(RAND()*2))","v":3},"ok",null,{"$f":"VLOOKUP(2,$X$52:$AC$55,2,FALSE)","v":"Frankreich"},{"$f":"VLOOKUP(2,$X$52:$AC$55,3,FALSE)","v":4},{"$f":"VLOOKUP(2,$X$52:$AC$55,4,FALSE)","v":10},{"$f":"VLOOKUP(2,$X$52:$AC$55,5,FALSE)","v":7},{"$f":"VLOOKUP(2,$X$52:$AC$55,6,FALSE)","v":3},null,{"$f":"IF(J53=\"\",0,IF(K53=$B$98,IF(H53<J53,3,IF(H53=J53,1,0)),0))","v":1},null,{"$f":"IF(H58=\"\",0,IF(K57=$B$98,IF(H58>J58,3,IF(H58=J58,1,0)),0))","v":1},{"$f":"IF(J56=\"\",0,IF(K56=$B$98,IF(J56>H56,3,IF(J56=H56,1,0)),0))","v":0},null,{"$f":"RANK(AD53,$AD$52:$AD$55)","v":4},"Senegal",{"$f":"SUM(S53:V53)","v":2},{"$f":"SUM(S57:V57)","v":5},{"$f":"SUM(T56:T59)","v":8},{"$f":"AA53-AB53","v":-3},{"$f":"IF(P$28=\"\",(((((((AE53*10+Z53)*100+AC53)*100+AA53)*10+AK53)*10+AJ53)*100+AP53)*100+AU53)*10+AV53,(((((((AE53*10+Z53)*10+AK53)*10+AJ53)*100+AP53)*100+AU53)*100+AC53)*100+AA53)*10+AV53)","v":199999997053},null,{"$f":"IF($Z53=$Z52,$S53-$T52,0)","v":0},null,{"$f":"IF($Z53=$Z54,$U53-$T54,0)","v":0},{"$f":"IF($Z53=$Z55,$V53-$T55,0)","v":0},{"$f":"SUM(AF53:AI53)","v":0},null,{"$f":"IF($Z53=$Z52,$S57-$T56,0)","v":0},null,{"$f":"IF($Z53=$Z54,$U57-$T58,0)","v":0},{"$f":"IF($Z53=$Z55,$V57-$T59,0)","v":0},{"$f":"SUM(AL53:AO53)","v":0},{"$f":"IF($Z53=$Z52,$S57,0)","v":0},null,{"$f":"IF($Z53=$Z54,$U57,0)","v":0},{"$f":"IF($Z53=$Z55,$V57,0)","v":0},{"$f":"SUM(AQ53:AT53)","v":0},3,null,null,null,null,22,{"$f":"VLOOKUP(BA53,Spiele!$A$1:$L$116,2,FALSE)","v":"2026-06-17T15:00:00"},{"$f":"VLOOKUP(BA53,Spiele!$A$1:$L$116,9,FALSE)","v":"Dallas"},{"$f":"BY52","v":"England"},"-",{"$f":"BY53","v":"Kroatien"},null,{"$f":"IF($B$99=\"\",1,INT(RAND()*5)+INT(RAND()*3)*INT(RAND()*2))","v":6},":",{"$f":"IF($B$99=\"\",0,INT(RAND()*5)+INT(RAND()*3)*INT(RAND()*2))","v":0},"ok",null,{"$f":"VLOOKUP(2,$BX$52:$CC$55,2,FALSE)","v":"Kroatien"},{"$f":"VLOOKUP(2,$BX$52:$CC$55,3,FALSE)","v":4},{"$f":"VLOOKUP(2,$BX$52:$CC$55,4,FALSE)","v":7},{"$f":"VLOOKUP(2,$BX$52:$CC$55,5,FALSE)","v":11},{"$f":"VLOOKUP(2,$BX$52:$CC$55,6,FALSE)","v":-4},null,{"$f":"IF(BJ53=\"\",0,IF(BK53=$B$98,IF(BH53<BJ53,3,IF(BH53=BJ53,1,0)),0))","v":0},null,{"$f":"IF(BH58=\"\",0,IF(BK57=$B$98,IF(BH58>BJ58,3,IF(BH58=BJ58,1,0)),0))","v":1},{"$f":"IF(BJ56=\"\",0,IF(BK56=$B$98,IF(BJ56>BH56,3,IF(BJ56=BH56,1,0)),0))","v":3},null,{"$f":"RANK(CD53,$CD$52:$CD$55)","v":2},"Kroatien",{"$f":"SUM(BS53:BV53)","v":4},{"$f":"SUM(BS57:BV57)","v":7},{"$f":"SUM(BT56:BT59)","v":11},{"$f":"CA53-CB53","v":-4},{"$f":"IF(BP$28=\"\",(((((((CE53*10+BZ53)*100+CC53)*100+CA53)*10+CK53)*10+CJ53)*100+CP53)*100+CU53)*10+CV53,(((((((CE53*10+BZ53)*10+CK53)*10+CJ53)*100+CP53)*100+CU53)*100+CC53)*100+CA53)*10+CV53)","v":399999996073},null,{"$f":"IF($BZ53=$BZ52,$BS53-$BT52,0)","v":0},null,{"$f":"IF($BZ53=$BZ54,$BU53-$BT54,0)","v":0},{"$f":"IF($BZ53=$BZ55,$BV53-$BT55,0)","v":0},{"$f":"SUM(CF53:CI53)","v":0},null,{"$f":"IF($BZ53=$BZ52,$BS57-$BT56,0)","v":0},null,{"$f":"IF($BZ53=$BZ54,$BU57-$BT58,0)","v":0},{"$f":"IF($BZ53=$BZ55,$BV57-$BT59,0)","v":0},{"$f":"SUM(CL53:CO53)","v":0},{"$f":"IF($BZ53=$BZ52,$BS57,0)","v":0},null,{"$f":"IF($BZ53=$BZ54,$BU57,0)","v":0},{"$f":"IF($BZ53=$BZ55,$BV57,0)","v":0},{"$f":"SUM(CQ53:CT53)","v":0},3]
[18,{"$f":"VLOOKUP(A54,Spiele!$A$1:$L$116,2,FALSE)","v":"2026-06-16T18:00:00"},{"$f":"VLOOKUP(A54,Spiele!$A$1:$L$116,9,FALSE)","v":"Boston"},{"$f":"Y54","v":"Irak"},"-",{"$f":"Y55","v":"Norwegen"},null,3,":",1,"ok",null,{"$f":"VLOOKUP(3,$X$52:$AC$55,2,FALSE)","v":"Irak"},{"$f":"VLOOKUP(3,$X$52:$AC$55,3,FALSE)","v":4},{"$f":"VLOOKUP(3,$X$52:$AC$55,4,FALSE)","v":5},{"$f":"VLOOKUP(3,$X$52:$AC$55,5,FALSE)","v":7},{"$f":"VLOOKUP(3,$X$52:$AC$55,6,FALSE)","v":-2},null,{"$f":"IF(J55=\"\",0,IF(K55=$B$98,IF(H55<J55,3,IF(H55=J55,1,0)),0))","v":0},{"$f":"IF(J58=\"\",0,IF(K57=$B$98,IF(H58<J58,3,IF(H58=J58,1,0)),0))","v":1},null,{"$f":"IF(H54=\"\",0,IF(K54=$B$98,IF(H54>J54,3,IF(H54=J54,1,0)),0))","v":3},null,{"$f":"RANK(AD54,$AD$52:$AD$55)","v":3},"Irak",{"$f":"SUM(S54:V54)","v":4},{"$f":"SUM(S58:V58)","v":5},{"$f":"SUM(U56:U59)","v":7},{"$f":"AA54-AB54","v":-2},{"$f":"IF(P$28=\"\",(((((((AE54*10+Z54)*100+AC54)*100+AA54)*10+AK54)*10+AJ54)*100+AP54)*100+AU54)*10+AV54,(((((((AE54*10+Z54)*10+AK54)*10+AJ54)*100+AP54)*100+AU54)*100+AC54)*100+AA54)*10+AV54)","v":396959998052},null,{"$f":"IF($Z54=$Z52,$S54-$U52,0)","v":-3},{"$f":"IF($Z54=$Z53,$T54-$U53,0)","v":0},null,{"$f":"IF($Z54=$Z55,$V54-$U55,0)","v":0},{"$f":"SUM(AF54:AI54)","v":-3},null,{"$f":"IF($Z54=$Z52,$S58-$U56,0)","v":-4},{"$f":"IF($Z54=$Z53,$T58-$U57,0)","v":0},null,{"$f":"IF($Z54=$Z55,$V58-$U59,0)","v":0},{"$f":"SUM(AL54:AO54)","v":-4},{"$f":"IF($Z54=$Z52,$S58,0)","v":0},{"$f":"IF($Z54=$Z53,$T58,0)","v":0},null,{"$f":"IF($Z54=$Z55,$V58,0)","v":0},{"$f":"SUM(AQ54:AT54)","v":0},2,null,null,null,null,21,{"$f":"VLOOKUP(BA54,Spiele!$A$1:$L$116,2,FALSE)","v":"2026-06-17T19:00:00"},{"$f":"VLOOKUP(BA54,Spiele!$A$1:$L$116,9,FALSE)","v":"Toronto"},{"$f":"BY54","v":"Ghana"},"-",{"$f":"BY55","v":"Panama"},null,0,":",1,"ok",null,{"$f":"VLOOKUP(3,$BX$52:$CC$55,2,FALSE)","v":"Panama"},{"$f":"VLOOKUP(3,$BX$52:$CC$55,3,FALSE)","v":3},{"$f":"VLOOKUP(3,$BX$52:$CC$55,4,FALSE)","v":5},{"$f":"VLOOKUP(3,$BX$52:$CC$55,5,FALSE)","v":8},{"$f":"VLOOKUP(3,$BX$52:$CC$55,6,FALSE)","v":-3},null,{"$f":"IF(BJ55=\"\",0,IF(BK55=$B$98,IF(BH55<BJ55,3,IF(BH55=BJ55,1,0)),0))","v":0},{"$f":"IF(BJ58=\"\",0,IF(BK57=$B$98,IF(BH58<BJ58,3,IF(BH58=BJ58,1,0)),0))","v":1},null,{"$f":"IF(BH54=\"\",0,IF(BK54=$B$98,IF(BH54>BJ54,3,IF(BH54=BJ54,1,0)),0))","v":0},null,{"$f":"RANK(CD54,$CD$52:$CD$55)","v":4},"Ghana",{"$f":"SUM(BS54:BV54)","v":1},{"$f":"SUM(BS58:BV58)","v":5},{"$f":"SUM(BU56:BU59)","v":7},{"$f":"CA54-CB54","v":-2},{"$f":"IF(BP$28=\"\",(((((((CE54*10+BZ54)*100+CC54)*100+CA54)*10+CK54)*10+CJ54)*100+CP54)*100+CU54)*10+CV54,(((((((CE54*10+BZ54)*10+CK54)*10+CJ54)*100+CP54)*100+CU54)*100+CC54)*100+CA54)*10+CV54)","v":99999998052},null,{"$f":"IF($BZ54=$BZ52,$BS54-$BU52,0)","v":0},{"$f":"IF($BZ54=$BZ53,$BT54-$BU53,0)","v":0},null,{"$f":"IF($BZ54=$BZ55,$BV54-$BU55,0)","v":0},{"$f":"SUM(CF54:CI54)","v":0},null,{"$f":"IF($BZ54=$BZ52,$BS58-$BU56,0)","v":0},{"$f":"IF($BZ54=$BZ53,$BT58-$BU57,0)","v":0},null,{"$f":"IF($BZ54=$BZ55,$BV58-$BU59,0)","v":0},{"$f":"SUM(CL54:CO54)","v":0},{"$f":"IF($BZ54=$BZ52,$BS58,0)","v":0},{"$f":"IF($BZ54=$BZ53,$BT58,0)","v":0},null,{"$f":"IF($BZ54=$BZ55,$BV58,0)","v":0},{"$f":"SUM(CQ54:CT54)","v":0},2]
[42,{"$f":"VLOOKUP(A55,Spiele!$A$1:$L$116,2,FALSE)","v":"2026-06-22T17:00:00"},{"$f":"VLOOKUP(A55,Spiele!$A$1:$L$116,9,FALSE)","v":"Philadelphia"},{"$f":"Y52","v":"Frankreich"},"-",{"$f":"Y54","v":"Irak"},null,4,":",0,"ok",null,{"$f":"VLOOKUP(4,$X$52:$AC$55,2,FALSE)","v":"Senegal"},{"$f":"VLOOKUP(4,$X$52:$AC$55,3,FALSE)","v":2},{"$f":"VLOOKUP(4,$X$52:$AC$55,4,FALSE)","v":5},{"$f":"VLOOKUP(4,$X$52:$AC$55,5,FALSE)","v":8},{"$f":"VLOOKUP(4,$X$52:$AC$55,6,FALSE)","v":-3},null,{"$f":"IF(H57=\"\",0,IF(K58=$B$98,IF(H57>J57,3,IF(H57=J57,1,0)),0))","v":3},{"$f":"IF(H56=\"\",0,IF(K56=$B$98,IF(J56<H56,3,IF(J56=H56,1,0)),0))","v":3},{"$f":"IF(J54=\"\",0,IF(K54=$B$98,IF(H54<J54,3,IF(H54=J54,1,0)),0))","v":0},null,null,{"$f":"RANK(AD55,$AD$52:$AD$55)","v":1},"Norwegen",{"$f":"SUM(S55:V55)","v":6},{"$f":"SUM(S59:V59)","v":8},{"$f":"SUM(V56:V59)","v":6},{"$f":"AA55-AB55","v":2},{"$f":"IF(P$28=\"\",(((((((AE55*10+Z55)*100+AC55)*100+AA55)*10+AK55)*10+AJ55)*100+AP55)*100+AU55)*10+AV55,(((((((AE55*10+Z55)*10+AK55)*10+AJ55)*100+AP55)*100+AU55)*100+AC55)*100+AA55)*10+AV55)","v":600000002081},null,{"$f":"IF($Z55=$Z52,$S55-$V52,0)","v":0},{"$f":"IF($Z55=$Z53,$T55-$V53,0)","v":0},{"$f":"IF($Z55=$Z54,$U55-$V54,0)","v":0},null,{"$f":"SUM(AF55:AI55)","v":0},null,{"$f":"IF($Z55=$Z52,$S59-$V56,0)","v":0},{"$f":"IF($Z55=$Z53,$T59-$V57,0)","v":0},{"$f":"IF($Z55=$Z54,$U59-$V58,0)","v":0},null,{"$f":"SUM(AL55:AO55)","v":0},{"$f":"IF($Z55=$Z52,$S59,0)","v":0},{"$f":"IF($Z55=$Z53,$T59,0)","v":0},{"$f":"IF($Z55=$Z54,$U59,0)","v":0},null,{"$f":"SUM(AQ55:AT55)","v":0},1,null,null,null,null,45,{"$f":"VLOOKUP(BA55,Spiele!$A$1:$L$116,2,FALSE)","v":"2026-06-23T16:00:00"},{"$f":"VLOOKUP(BA55,Spiele!$A$1:$L$116,9,FALSE)","v":"Boston"},{"$f":"BY52","v":"England"},"-",{"$f":"BY54","v":"Ghana"},null,3,":",2,"ok",null,{"$f":"VLOOKUP(4,$BX$52:$CC$55,2,FALSE)","v":"Ghana"},{"$f":"VLOOKUP(4,$BX$52:$CC$55,3,FALSE)","v":1},{"$f":"VLOOKUP(4,$BX$52:$CC$55,4,FALSE)","v":5},{"$f":"VLOOKUP(4,$BX$52:$CC$55,5,FALSE)","v":7},{"$f":"VLOOKUP(4,$BX$52:$CC$55,6,FALSE)","v":-2},null,{"$f":"IF(BH57=\"\",0,IF(BK58=$B$98,IF(BH57>BJ57,3,IF(BH57=BJ57,1,0)),0))","v":0},{"$f":"IF(BH56=\"\",0,IF(BK56=$B$98,IF(BJ56<BH56,3,IF(BJ56=BH56,1,0)),0))","v":0},{"$f":"IF(BJ54=\"\",0,IF(BK54=$B$98,IF(BH54<BJ54,3,IF(BH54=BJ54,1,0)),0))","v":3},null,null,{"$f":"RANK(CD55,$CD$52:$CD$55)","v":3},"Panama",{"$f":"SUM(BS55:BV55)","v":3},{"$f":"SUM(BS59:BV59)","v":5},{"$f":"SUM(BV56:BV59)","v":8},{"$f":"CA55-CB55","v":-3},{"$f":"IF(BP$28=\"\",(((((((CE55*10+BZ55)*100+CC55)*100+CA55)*10+CK55)*10+CJ55)*100+CP55)*100+CU55)*10+CV55,(((((((CE55*10+BZ55)*10+CK55)*10+CJ55)*100+CP55)*100+CU55)*100+CC55)*100+CA55)*10+CV55)","v":299999997051},null,{"$f":"IF($BZ55=$BZ52,$BS55-$BV52,0)","v":0},{"$f":"IF($BZ55=$BZ53,$BT55-$BV53,0)","v":0},{"$f":"IF($BZ55=$BZ54,$BU55-$BV54,0)","v":0},null,{"$f":"SUM(CF55:CI55)","v":0},null,{"$f":"IF($BZ55=$BZ52,$BS59-$BV56,0)","v":0},{"$f":"IF($BZ55=$BZ53,$BT59-$BV57,0)","v":0},{"$f":"IF($BZ55=$BZ54,$BU59-$BV58,0)","v":0},null,{"$f":"SUM(CL55:CO55)","v":0},{"$f":"IF($BZ55=$BZ52,$BS59,0)","v":0},{"$f":"IF($BZ55=$BZ53,$BT59,0)","v":0},{"$f":"IF($BZ55=$BZ54,$BU59,0)","v":0},null,{"$f":"SUM(CQ55:CT55)","v":0},1]
[41,{"$f":"VLOOKUP(A56,Spiele!$A$1:$L$116,2,FALSE)","v":"2026-06-22T20:00:00"},{"$f":"VLOOKUP(A56,Spiele!$A$1:$L$116,9,FALSE)","v":"New York"},{"$f":"Y55","v":"Norwegen"},"-",{"$f":"Y53","v":"Senegal"},null,3,":",0,"ok",null,null,null,null,null,null,null,null,{"$f":"IF(K53=$B$98,H53,0)","v":3},{"$f":"IF(K55=$B$98,H55,0)","v":4},{"$f":"IF(K58=$B$98,J57,0)","v":3},null,null,null,null,null,null,null,null,null,null,null,null,null,null,null,null,null,null,null,null,null,null,null,null,null,null,null,null,null,null,46,{"$f":"VLOOKUP(BA56,Spiele!$A$1:$L$116,2,FALSE)","v":"2026-06-23T19:00:00"},{"$f":"VLOOKUP(BA56,Spiele!$A$1:$L$116,9,FALSE)","v":"Toronto"},{"$f":"BY55","v":"Panama"},"-",{"$f":"BY53","v":"Kroatien"},null,2,":",4,"ok",null,null,null,null,null,null,null,null,{"$f":"IF(BK53=$B$98,BH53,0)","v":6},{"$f":"IF(BK55=$B$98,BH55,0)","v":3},{"$f":"IF(BK58=$B$98,BJ57,0)","v":4}]
[61,{"$f":"VLOOKUP(A57,Spiele!$A$1:$L$116,2,FALSE)","v":"2026-06-26T15:00:00"},{"$f":"VLOOKUP(A57,Spiele!$A$1:$L$116,9,FALSE)","v":"Boston"},{"$f":"Y55","v":"Norwegen"},"-",{"$f":"Y52","v":"Frankreich"},null,4,":",3,"ok",null,{"$f":"IF(N52>0,M52,\"\")","v":"Norwegen"},"1I",null,null,null,null,{"$f":"IF(K53=$B$98,J53,0)","v":3},null,{"$f":"IF(K57=$B$98,H58,0)","v":2},{"$f":"IF(K56=$B$98,J56,0)","v":0},null,null,null,null,null,null,null,"L0=AE hebelt Berechnung aus (top level Losen)",null,null,null,null,null,null,null,null,null,null,null,null,null,null,null,null,null,null,null,null,null,null,68,{"$f":"VLOOKUP(BA57,Spiele!$A$1:$L$116,2,FALSE)","v":"2026-06-27T17:00:00"},{"$f":"VLOOKUP(BA57,Spiele!$A$1:$L$116,9,FALSE)","v":"Philadelphia"},{"$f":"BY55","v":"Panama"},"-",{"$f":"BY52","v":"England"},null,2,":",4,"ok",null,{"$f":"IF(BN52>0,BM52,\"\")","v":"England"},"1L",null,null,null,null,{"$f":"IF(BK53=$B$98,BJ53,0)","v":0},null,{"$f":"IF(BK57=$B$98,BH58,0)","v":3},{"$f":"IF(BK56=$B$98,BJ56,0)","v":4},null,null,null,null,null,null,null,"L0=AE hebelt Berechnung aus (top level Losen)"]
[62,{"$f":"VLOOKUP(A58,Spiele!$A$1:$L$116,2,FALSE)","v":"2026-06-26T15:00:00"},{"$f":"VLOOKUP(A58,Spiele!$A$1:$L$116,9,FALSE)","v":"Toronto"},{"$f":"Y53","v":"Senegal"},"-",{"$f":"Y54","v":"Irak"},null,2,":",2,"ok",null,{"$f":"IF(N53>0,M53,\"\")","v":"Frankreich"},"2I",null,"DV",null,null,{"$f":"IF(K55=$B$98,J55,0)","v":0},{"$f":"IF(K57=$B$98,J58,0)","v":2},null,{"$f":"IF(K54=$B$98,H54,0)","v":3},null,null,null,null,null,null,null,"L1=AK hebelt Direktvergleich (S1) aus",null,null,null,null,null,null,null,null,null,null,null,null,null,null,null,null,null,null,null,null,null,null,67,{"$f":"VLOOKUP(BA58,Spiele!$A$1:$L$116,2,FALSE)","v":"2026-06-27T17:00:00"},{"$f":"VLOOKUP(BA58,Spiele!$A$1:$L$116,9,FALSE)","v":"New York"},{"$f":"BY53","v":"Kroatien"},"-",{"$f":"BY54","v":"Ghana"},null,3,":",3,"ok",null,{"$f":"IF(BN53>0,BM53,\"\")","v":"Kroatien"},"2L",null,"DV",null,null,{"$f":"IF(BK55=$B$98,BJ55,0)","v":2},{"$f":"IF(BK57=$B$98,BJ58,0)","v":3},null,{"$f":"IF(BK54=$B$98,BH54,0)","v":0},null,null,null,null,null,null,null,"L1=AK hebelt Direktvergleich (S1) aus"]
[null,null,null,null,null,null,null,null,null,null,null,null,{"$f":"IF(N54>0,M54,\"\")","v":"Irak"},"3I",null,null,null,null,{"$f":"IF(K58=$B$98,H57,0)","v":4},{"$f":"IF(K56=$B$98,H56,0)","v":3},{"$f":"IF(K54=$B$98,J54,0)","v":1},null,null,null,null,null,null,null,null,"L4=AV Losen UEFA-Koeffizient, Fairplay oder Münzwurf",null,null,null,null,null,null,null,null,null,null,null,null,null,null,null,null,null,null,null,null,null,null,null,null,null,null,null,null,null,null,null,null,null,null,{"$f":"IF(BN54>0,BM54,\"\")","v":"Panama"},"3L",null,null,null,null,{"$f":"IF(BK58=$B$98,BH57,0)","v":2},{"$f":"IF(BK56=$B$98,BH56,0)","v":2},{"$f":"IF(BK54=$B$98,BJ54,0)","v":1},null,null,null,null,null,null,null,null,"L4=AV Losen UEFA-Koeffizient, Fairplay oder Münzwurf"]
[]
[null,"Sechzehntelfinale"]
[null,"Datum/Zeit","Spielort",null,null,null,null,null,null,null,null,null,null,null,null,null,null,null,null,null,null,null,null,null,null,null,null,null,null,null,null,null,null,null,null,null,null,null,null,null,null,null,null,null,null,null,null,null,null,null,null,null,null,"Gruppendritte",{"$f":"CONCATENATE(BH66,BH67,BH68,BH69,BH70,BH71,BH72,BH73)","v":"ABCEFIJK"}]
[73,{"$f":"VLOOKUP(A63,Spiele!$A$1:$L$116,2,FALSE)","v":"2026-06-28T12:00:00"},{"$f":"VLOOKUP(A63,Spiele!$A$1:$L$116,9,FALSE)","v":"Los Angeles"},{"$f":"M8","v":"Mexiko"},"-",{"$f":"M18","v":"Kanada"},null,{"$f":"IF($B$99=\"\",2,INT(RAND()*5)+INT(RAND()*3)*INT(RAND()*2))","v":2},":",{"$f":"IF($B$99=\"\",1, H63 + IF(H63=0, 1, IF(H63=9, -1, CHOOSE(INT(RAND()*2)+1, 1, -1))))","v":3},"ok",null,{"$f":"IF(J63=\"\",\"\",IF(J63=H63,\"falsch!!! K.Remis\",IF(H63>J63,D63,F63)))","v":"Kanada"},{"$f":"N8","v":"2A"},{"$f":"N18","v":"2B"},"S01"]
[76,{"$f":"VLOOKUP(A64,Spiele!$A$1:$L$116,2,FALSE)","v":"2026-06-29T12:00:00"},{"$f":"VLOOKUP(A64,Spiele!$A$1:$L$116,9,FALSE)","v":"Houston"},{"$f":"M27","v":"Schottland"},"-",{"$f":"BM28","v":"Niederlande"},null,4,":",{"$f":"IF($B$99=\"\",1, H64 + IF(H64=0, 1, IF(H64=9, -1, CHOOSE(INT(RAND()*2)+1, 1, -1))))","v":5},"ok",null,"Niederlande",{"$f":"N27","v":"1C"},{"$f":"BN28","v":"2F"},"S02",null,null,null,null,null,null,null,null,null,null,null,null,null,null,null,null,null,null,null,null,null,null,null,null,null,null,null,null,null,null,null,null,null,null,null,null,null,null,null,null,null,null,null,null,null,null,null,null,"Bestimmen Buchstabencode"]
[74,{"$f":"VLOOKUP(A65,Spiele!$A$1:$L$116,2,FALSE)","v":"2026-06-29T16:30:00"},{"$f":"VLOOKUP(A65,Spiele!$A$1:$L$116,9,FALSE)","v":"Boston"},{"$f":"BM17","v":"Deutschland"},"-",{"$f":"VLOOKUP(R65,$BC$66:$BF$73,4,FALSE)","v":"Haiti"},null,0,":",1,"ok",null,"Haiti",{"$f":"BN17","v":"1E"},{"$f":"R65","v":"3C"},"S03",null,{"$f":"VLOOKUP(N65,BB$66:BC$73,2,FALSE)","v":"3C"},null,null,null,null,null,null,null,null,null,null,null,null,null,null,null,null,null,null,null,null,null,null,null,null,null,null,null,null,null,null,null,null,null,null,null,"Team 1","Dritter","Automatisch",null,"Team 2",null,null,null,null,null,null,"Tabelle","P","T+","T-","T+/-","C","G",null,null,null,null,"R","Gruppendritte",null,null,null,null,null,"L0","G",null,"L8",null,"L16"]
[75,{"$f":"VLOOKUP(A66,Spiele!$A$1:$L$116,2,FALSE)","v":"2026-06-29T20:00:00"},{"$f":"VLOOKUP(A66,Spiele!$A$1:$L$116,9,FALSE)","v":"Monterrey"},{"$f":"BM27","v":"Japan"},"-",{"$f":"M28","v":"Marokko"},null,3,":",4,"ok",null,"Marokko",{"$f":"BN27","v":"1F"},{"$f":"N28","v":"2C"},"S04",null,null,null,null,null,null,null,null,null,null,null,null,null,null,null,null,null,null,null,null,null,null,null,null,null,null,null,null,null,null,null,null,null,null,null,null,null,{"$f":"'AnnixC-WM2026'!C1","v":"1A"},{"$f":"IF(CJ66=\"\",INDEX('AnnixC-WM2026'!C:C, MATCH($BC$62, 'AnnixC-WM2026'!B:B, 0)),CJ66)","v":"3E"},"3CEFHI",null,{"$f":"IF(BN66>0,VLOOKUP(CODE(MID(BC66,2,1))-64,$BL$66:$BM$77,2,FALSE),\"\")","v":"Curaçao"},null,{"$f":"CHAR(BJ66+64)","v":"A"},null,{"$f":"SMALL(BR$66:BR$73,1)","v":1},{"$f":"BS66","v":"B"},{"$f":"CODE(BK66)-64","v":2},{"$f":"VLOOKUP(1,$BX$66:$CC$77,2,FALSE)","v":"Katar"},{"$f":"VLOOKUP(1,$BX$66:$CC$77,3,FALSE)","v":4},{"$f":"VLOOKUP(1,$BX$66:$CC$77,4,FALSE)","v":10},{"$f":"VLOOKUP(1,$BX$66:$CC$77,5,FALSE)","v":7},{"$f":"VLOOKUP(1,$BX$66:$CC$77,6,FALSE)","v":3},{"$f":"CODE(BS66)-64","v":2},{"$f":"MID(VLOOKUP(1,$BX$66:$CF$77,9,FALSE),2,1)","v":"B"},null,null,null,null,{"$f":"RANK(CD66,$CD$66:$CD$77)","v":2},{"$f":"M4","v":"Tschechien"},{"$f":"N4","v":4},{"$f":"O4","v":6},{"$f":"P4","v":4},{"$f":"Q4","v":2},{"$f":"CE66*10000000000000000+BZ66*100000000000000+CC66*1000000000000+CA66*10000000000+CH66","v":402060000000012},null,{"$f":"N9","v":"3A"},null,12]
[78,{"$f":"VLOOKUP(A67,Spiele!$A$1:$L$116,2,FALSE)","v":"2026-06-30T12:00:00"},{"$f":"VLOOKUP(A67,Spiele!$A$1:$L$116,9,FALSE)","v":"Dallas"},{"$f":"BM18","v":"Ecuador"},"-",{"$f":"M58","v":"Frankreich"},null,0,":",1,"ok",null,"Frankreich",{"$f":"BN18","v":"2E"},{"$f":"N58","v":"2I"},"S05",null,null,null,null,null,null,null,null,null,null,null,null,null,null,null,null,null,null,null,null,null,null,null,null,null,null,null,null,null,null,null,null,null,null,null,null,null,{"$f":"'AnnixC-WM2026'!D1","v":"1B"},{"$f":"IF(CJ67=\"\",INDEX('AnnixC-WM2026'!D:D, MATCH($BC$62, 'AnnixC-WM2026'!B:B, 0)),CJ67)","v":"3J"},"3EFGIJ",null,{"$f":"IF(BN67>0,VLOOKUP(CODE(MID(BC67,2,1))-64,$BL$66:$BM$77,2,FALSE),\"\")","v":"Algerien"},null,"B",null,{"$f":"SMALL(BR$66:BR$73,2)","v":2},"A",1,{"$f":"VLOOKUP(2,$BX$66:$CC$77,2,FALSE)","v":"Tschechien"},{"$f":"VLOOKUP(2,$BX$66:$CC$77,3,FALSE)","v":4},{"$f":"VLOOKUP(2,$BX$66:$CC$77,4,FALSE)","v":6},{"$f":"VLOOKUP(2,$BX$66:$CC$77,5,FALSE)","v":4},{"$f":"VLOOKUP(2,$BX$66:$CC$77,6,FALSE)","v":2},1,{"$f":"MID(VLOOKUP(2,$BX$66:$CF$77,9,FALSE),2,1)","v":"A"},null,null,null,null,1,{"$f":"M14","v":"Katar"},{"$f":"N14","v":4},{"$f":"O14","v":10},{"$f":"P14","v":7},{"$f":"Q14","v":3},403100000000011,null,{"$f":"N19","v":"3B"},null,{"$f":"CH66-1","v":11}]
[77,{"$f":"VLOOKUP(A68,Spiele!$A$1:$L$116,2,FALSE)","v":"2026-06-30T17:00:00"},{"$f":"VLOOKUP(A68,Spiele!$A$1:$L$116,9,FALSE)","v":"New York"},{"$f":"M57","v":"Norwegen"},"-",{"$f":"VLOOKUP(R68,$BC$66:$BF$73,4,FALSE)","v":"Tunesien"},null,1,":",2,"ok",null,"Tunesien",{"$f":"N57","v":"1I"},{"$f":"R68","v":"3F"},"S06",null,{"$f":"VLOOKUP(N68,BB$66:BC$73,2,FALSE)","v":"3F"},null,null,null,null,null,null,null,null,null,null,null,null,null,null,null,null,null,null,null,null,null,null,null,null,null,null,null,null,null,null,null,null,null,null,null,{"$f":"'AnnixC-WM2026'!E1","v":"1D"},{"$f":"IF(CJ68=\"\",INDEX('AnnixC-WM2026'!E:E, MATCH($BC$62, 'AnnixC-WM2026'!B:B, 0)),CJ68)","v":"3B"},"3BEFIJ",null,"Katar",null,"C",null,{"$f":"SMALL(BR$66:BR$73,3)","v":3},"C",3,{"$f":"VLOOKUP(3,$BX$66:$CC$77,2,FALSE)","v":"Haiti"},{"$f":"VLOOKUP(3,$BX$66:$CC$77,3,FALSE)","v":4},{"$f":"VLOOKUP(3,$BX$66:$CC$77,4,FALSE)","v":9},{"$f":"VLOOKUP(3,$BX$66:$CC$77,5,FALSE)","v":8},{"$f":"VLOOKUP(3,$BX$66:$CC$77,6,FALSE)","v":1},3,{"$f":"MID(VLOOKUP(3,$BX$66:$CF$77,9,FALSE),2,1)","v":"C"},null,null,null,null,3,{"$f":"M24","v":"Haiti"},{"$f":"N24","v":4},{"$f":"O24","v":9},{"$f":"P24","v":8},{"$f":"Q24","v":1},401090000000010,null,{"$f":"N29","v":"3C"},null,{"$f":"CH67-1","v":10}]
[79,{"$f":"VLOOKUP(A69,Spiele!$A$1:$L$116,2,FALSE)","v":"2026-06-30T20:00:00"},{"$f":"VLOOKUP(A69,Spiele!$A$1:$L$116,9,FALSE)","v":"Mexico City"},{"$f":"M7","v":"Südafrika"},"-",{"$f":"VLOOKUP(R69,$BC$66:$BF$73,4,FALSE)","v":"Curaçao"},null,4,":",3,"ok",null,"Südafrika",{"$f":"N7","v":"1A"},{"$f":"R69","v":"3E"},"S07",null,{"$f":"VLOOKUP(N69,BB$66:BC$73,2,FALSE)","v":"3E"},null,null,null,null,null,null,null,null,null,null,null,null,null,null,null,null,null,null,null,null,null,null,null,null,null,null,null,null,null,null,null,null,null,null,null,{"$f":"'AnnixC-WM2026'!F1","v":"1E"},{"$f":"IF(CJ69=\"\",INDEX('AnnixC-WM2026'!F:F,MATCH($BC$62,'AnnixC-WM2026'!B:B,0)),CJ69)","v":"3C"},"3ABCDF",null,"Haiti",null,"E",null,{"$f":"SMALL(BR$66:BR$73,4)","v":5},"E",5,{"$f":"VLOOKUP(4,$BX$66:$CC$77,2,FALSE)","v":"Curaçao"},{"$f":"VLOOKUP(4,$BX$66:$CC$77,3,FALSE)","v":4},{"$f":"VLOOKUP(4,$BX$66:$CC$77,4,FALSE)","v":9},{"$f":"VLOOKUP(4,$BX$66:$CC$77,5,FALSE)","v":9},{"$f":"VLOOKUP(4,$BX$66:$CC$77,6,FALSE)","v":0},5,{"$f":"MID(VLOOKUP(4,$BX$66:$CF$77,9,FALSE),2,1)","v":"E"},null,null,null,null,11,{"$f":"BM4","v":"Paraguay"},{"$f":"BN4","v":3},{"$f":"BO4","v":3},{"$f":"BP4","v":8},{"$f":"BQ4","v":-5},295030000000009,null,{"$f":"BN9","v":"3D"},null,9]
[80,{"$f":"VLOOKUP(A70,Spiele!$A$1:$L$116,2,FALSE)","v":"2026-07-01T12:00:00"},{"$f":"VLOOKUP(A70,Spiele!$A$1:$L$116,9,FALSE)","v":"Atlanta"},{"$f":"BM57","v":"England"},"-",{"$f":"VLOOKUP(R70,$BC$66:$BF$73,4,FALSE)","v":"Kolumbien"},null,3,":",4,"ok",null,"Kolumbien",{"$f":"BN57","v":"1L"},{"$f":"R70","v":"3K"},"S08",null,{"$f":"VLOOKUP(N70,BB$66:BC$73,2,FALSE)","v":"3K"},null,null,null,null,null,null,null,null,null,null,null,null,null,null,null,null,null,null,null,null,null,null,null,null,null,null,null,null,null,null,null,null,null,null,null,{"$f":"'AnnixC-WM2026'!G1","v":"1G"},{"$f":"IF(CJ70=\"\",INDEX('AnnixC-WM2026'!G:G, MATCH($BC$62, 'AnnixC-WM2026'!B:B, 0)),CJ70)","v":"3A"},"3AEHIJ",null,"Tschechien",null,"F",null,{"$f":"SMALL(BR$66:BR$73,5)","v":6},"I",9,{"$f":"VLOOKUP(5,$BX$66:$CC$77,2,FALSE)","v":"Irak"},{"$f":"VLOOKUP(5,$BX$66:$CC$77,3,FALSE)","v":4},{"$f":"VLOOKUP(5,$BX$66:$CC$77,4,FALSE)","v":5},{"$f":"VLOOKUP(5,$BX$66:$CC$77,5,FALSE)","v":7},{"$f":"VLOOKUP(5,$BX$66:$CC$77,6,FALSE)","v":-2},9,{"$f":"MID(VLOOKUP(5,$BX$66:$CF$77,9,FALSE),2,1)","v":"I"},null,null,null,null,4,{"$f":"BM14","v":"Curaçao"},{"$f":"BN14","v":4},{"$f":"BO14","v":9},{"$f":"BP14","v":9},{"$f":"BQ14","v":0},400090000000008,null,{"$f":"BN19","v":"3E"},null,8]
[82,{"$f":"VLOOKUP(A71,Spiele!$A$1:$L$116,2,FALSE)","v":"2026-07-01T13:00:00"},{"$f":"VLOOKUP(A71,Spiele!$A$1:$L$116,9,FALSE)","v":"Seattle"},{"$f":"M37","v":"Neuseeland"},"-",{"$f":"VLOOKUP(R71,$BC$66:$BF$73,4,FALSE)","v":"Tschechien"},null,4,":",3,"ok",null,"Neuseeland",{"$f":"N37","v":"1G"},{"$f":"R71","v":"3A"},"S09",null,{"$f":"VLOOKUP(N71,BB$66:BC$73,2,FALSE)","v":"3A"},null,null,null,null,null,null,null,null,null,null,null,null,null,null,null,null,null,null,null,null,null,null,null,null,null,null,null,null,null,null,null,null,null,null,null,{"$f":"'AnnixC-WM2026'!H1","v":"1I"},{"$f":"IF(CJ71=\"\",INDEX('AnnixC-WM2026'!H:H, MATCH($BC$62, 'AnnixC-WM2026'!B:B, 0)),CJ71)","v":"3F"},"3CDFGH",null,"Tunesien",null,"I",null,{"$f":"SMALL(BR$66:BR$73,6)","v":9},"F",6,{"$f":"VLOOKUP(6,$BX$66:$CC$77,2,FALSE)","v":"Tunesien"},{"$f":"VLOOKUP(6,$BX$66:$CC$77,3,FALSE)","v":3},{"$f":"VLOOKUP(6,$BX$66:$CC$77,4,FALSE)","v":8},{"$f":"VLOOKUP(6,$BX$66:$CC$77,5,FALSE)","v":7},{"$f":"VLOOKUP(6,$BX$66:$CC$77,6,FALSE)","v":1},6,{"$f":"MID(VLOOKUP(6,$BX$66:$CF$77,9,FALSE),2,1)","v":"F"},null,null,null,null,6,{"$f":"BM24","v":"Tunesien"},{"$f":"BN24","v":3},{"$f":"BO24","v":8},{"$f":"BP24","v":7},{"$f":"BQ24","v":1},301080000000007,null,{"$f":"BN29","v":"3F"},null,7]
[81,{"$f":"VLOOKUP(A72,Spiele!$A$1:$L$116,2,FALSE)","v":"2026-07-01T17:00:00"},{"$f":"VLOOKUP(A72,Spiele!$A$1:$L$116,9,FALSE)","v":"San Francisco"},{"$f":"BM7","v":"USA"},"-",{"$f":"VLOOKUP(R72,$BC$66:$BF$73,4,FALSE)","v":"Katar"},null,2,":",1,"ok",null,"USA",{"$f":"BN7","v":"1D"},{"$f":"R72","v":"3B"},"S10",null,{"$f":"VLOOKUP(N72,BB$66:BC$73,2,FALSE)","v":"3B"},null,null,null,null,null,null,null,null,null,null,null,null,null,null,null,null,null,null,null,null,null,null,null,null,null,null,null,null,null,null,null,null,null,null,null,{"$f":"'AnnixC-WM2026'!I1","v":"1K"},{"$f":"IF(CJ72=\"\",INDEX('AnnixC-WM2026'!I:I, MATCH($BC$62, 'AnnixC-WM2026'!B:B, 0)),CJ72)","v":"3I"},"3DEIJL",null,"Irak",null,"J",null,{"$f":"SMALL(BR$66:BR$73,7)","v":10},"K",11,{"$f":"VLOOKUP(7,$BX$66:$CC$77,2,FALSE)","v":"Kolumbien"},3,8,7,1,11,{"$f":"MID(VLOOKUP(7,$BX$66:$CF$77,9,FALSE),2,1)","v":"K"},null,null,null,null,12,{"$f":"M34","v":"Ägypten"},{"$f":"N34","v":1},{"$f":"O34","v":8},{"$f":"P34","v":10},{"$f":"Q34","v":-2},98080000000006,null,"3G",null,6]
[84,{"$f":"VLOOKUP(A73,Spiele!$A$1:$L$116,2,FALSE)","v":"2026-07-02T12:00:00"},{"$f":"VLOOKUP(A73,Spiele!$A$1:$L$116,9,FALSE)","v":"Los Angeles"},{"$f":"M47","v":"Kap Verde"},"-",{"$f":"BM38","v":"Argentinien"},null,4,":",5,"ok",null,"Argentinien",{"$f":"N47","v":"1H"},{"$f":"BN38","v":"2J"},"S11",null,null,null,null,null,null,null,null,null,null,null,null,null,null,null,null,null,null,null,null,null,null,null,null,null,null,null,null,null,null,null,null,null,null,null,null,null,{"$f":"'AnnixC-WM2026'!J1","v":"1L"},{"$f":"IF(CJ73=\"\",INDEX('AnnixC-WM2026'!J:J, MATCH($BC$62, 'AnnixC-WM2026'!B:B, 0)),CJ73)","v":"3K"},"3EHIJK",null,"Kolumbien",null,"K",null,{"$f":"SMALL(BR$66:BR$73,8)","v":11},"J",10,{"$f":"VLOOKUP(8,$BX$66:$CC$77,2,FALSE)","v":"Algerien"},3,8,7,1,10,{"$f":"MID(VLOOKUP(8,$BX$66:$CF$77,9,FALSE),2,1)","v":"J"},null,null,null,null,10,{"$f":"M44","v":"Uruguay"},{"$f":"N44","v":3},{"$f":"O44","v":7},{"$f":"P44","v":12},{"$f":"Q44","v":-5},295070000000005,null,"3H",null,5]
[83,{"$f":"VLOOKUP(A74,Spiele!$A$1:$L$116,2,FALSE)","v":"2026-07-02T19:00:00"},{"$f":"VLOOKUP(A74,Spiele!$A$1:$L$116,9,FALSE)","v":"Toronto"},{"$f":"BM48","v":"Portugal"},"-",{"$f":"BM58","v":"Kroatien"},null,1,":",2,"ok",null,"Kroatien",{"$f":"BN48","v":"2K"},{"$f":"BN58","v":"2L"},"S12",null,null,null,null,null,null,null,null,null,null,null,null,null,null,null,null,null,null,null,null,null,null,null,null,null,null,null,null,null,null,null,null,null,null,null,null,null,null,null,null,null,null,null,null,null,null,"L",12,{"$f":"VLOOKUP(9,$BX$66:$CC$77,2,FALSE)","v":"Panama"},3,8,7,1,12,{"$f":"MID(VLOOKUP(9,$BX$66:$CF$77,9,FALSE),2,1)","v":"L"},null,null,null,null,5,{"$f":"M54","v":"Irak"},{"$f":"N54","v":4},{"$f":"O54","v":5},{"$f":"P54","v":7},{"$f":"Q54","v":-2},398050000000004,null,"3I",null,4]
[85,{"$f":"VLOOKUP(A75,Spiele!$A$1:$L$116,2,FALSE)","v":"2026-07-02T20:00:00"},{"$f":"VLOOKUP(A75,Spiele!$A$1:$L$116,9,FALSE)","v":"Vancouver"},{"$f":"M17","v":"Schweiz"},"-",{"$f":"VLOOKUP(R75,$BC$66:$BF$73,4,FALSE)","v":"Algerien"},null,0,":",1,"ok",null,"Algerien",{"$f":"N17","v":"1B"},{"$f":"R75","v":"3J"},"S13",null,{"$f":"VLOOKUP(N75,BB$66:BC$73,2,FALSE)","v":"3J"},null,null,null,null,null,null,null,null,null,null,null,null,null,null,null,null,null,null,null,null,null,null,null,null,null,null,null,null,null,null,null,null,null,null,null,null,null,null,null,null,null,null,null,null,"H",8,{"$f":"VLOOKUP(10,$BX$66:$CC$77,2,FALSE)","v":"Uruguay"},3,8,7,1,8,{"$f":"MID(VLOOKUP(10,$BX$66:$CF$77,9,FALSE),2,1)","v":"H"},null,null,null,null,8,{"$f":"BM34","v":"Algerien"},{"$f":"BN34","v":3},{"$f":"BO34","v":6},{"$f":"BP34","v":9},{"$f":"BQ34","v":-3},297060000000003,null,"3J",null,3]
[88,{"$f":"VLOOKUP(A76,Spiele!$A$1:$L$116,2,FALSE)","v":"2026-07-03T13:00:00"},{"$f":"VLOOKUP(A76,Spiele!$A$1:$L$116,9,FALSE)","v":"Dallas"},{"$f":"BM8","v":"Türkei"},"-",{"$f":"M38","v":"IR Iran"},null,1,":",2,"ok",null,"IR Iran",{"$f":"BN8","v":"2D"},{"$f":"N38","v":"2G"},"S14",null,null,null,null,null,null,null,null,null,null,null,null,null,null,null,null,null,null,null,null,null,null,null,null,null,null,null,null,null,null,null,null,null,null,null,null,null,null,null,null,null,null,null,null,null,null,"D",4,{"$f":"VLOOKUP(11,$BX$66:$CC$77,2,FALSE)","v":"Paraguay"},3,8,7,1,4,{"$f":"MID(VLOOKUP(11,$BX$66:$CF$77,9,FALSE),2,1)","v":"D"},null,null,null,null,7,{"$f":"BM44","v":"Kolumbien"},{"$f":"BN44","v":3},{"$f":"BO44","v":8},{"$f":"BP44","v":11},{"$f":"BQ44","v":-3},297080000000002,null,"3K",null,2]
[86,{"$f":"VLOOKUP(A77,Spiele!$A$1:$L$116,2,FALSE)","v":"2026-07-03T18:00:00"},{"$f":"VLOOKUP(A77,Spiele!$A$1:$L$116,9,FALSE)","v":"Miami"},{"$f":"BM37","v":"Österreich"},"-",{"$f":"M48","v":"Saudiarabien"},null,0,":",1,"ok",null,"Saudiarabien",{"$f":"BN37","v":"1J"},{"$f":"N48","v":"2H"},"S15",null,null,null,null,null,null,null,null,null,null,null,null,null,null,null,null,null,null,null,null,null,null,null,null,null,null,null,null,null,null,null,null,null,null,null,null,null,null,null,null,null,null,null,null,null,null,"G",7,{"$f":"VLOOKUP(12,$BX$66:$CC$77,2,FALSE)","v":"Ägypten"},3,8,7,1,7,{"$f":"MID(VLOOKUP(12,$BX$66:$CF$77,9,FALSE),2,1)","v":"G"},null,null,null,null,9,{"$f":"BM54","v":"Panama"},{"$f":"BN54","v":3},{"$f":"BO54","v":5},{"$f":"BP54","v":8},{"$f":"BQ54","v":-3},297050000000001,null,"3L",null,1]
[87,{"$f":"VLOOKUP(A78,Spiele!$A$1:$L$116,2,FALSE)","v":"2026-07-03T20:30:00"},{"$f":"VLOOKUP(A78,Spiele!$A$1:$L$116,9,FALSE)","v":"Kansas City"},{"$f":"BM47","v":"Usbekistan"},"-",{"$f":"VLOOKUP(R78,$BC$66:$BF$73,4,FALSE)","v":"Irak"},null,4,":",5,"ok",null,"Irak",{"$f":"BN47","v":"1K"},{"$f":"R78","v":"3I"},"S16",null,{"$f":"VLOOKUP(N78,BB$66:BC$73,2,FALSE)","v":"3I"}]
[null,null,null,null,null,null,null,null,null,null,null,null,null,null,null,null,null,null,null,null,null,null,null,null,null,null,null,null,null,null,null,null,null,null,null,null,null,null,null,null,null,null,null,null,null,null,null,null,null,null,null,null,null,null,null,null,null,null,null,null,null,null,null,null,null,null,null,null,null,null,null,null,null,null,null,null,null,null,null,null,null,"L0=AE hebelt Berechnung aus (top level Losen)"]
[null,"Achtelfinale",null,null,null,null,null,null,null,null,null,null,null,null,null,null,null,null,null,null,null,null,null,null,null,null,null,null,null,null,null,null,null,null,null,null,null,null,null,null,null,null,null,null,null,null,null,null,null,null,null,null,null,"Viertelfinale",null,null,null,null,null,null,null,null,null,null,null,null,null,null,null,null,null,null,null,null,null,null,null,null,null,null,null,"L8=AV Losen UEFA-Koeffizient, Fairplay oder Münzwurf"]
[null,"Datum/Zeit","Spielort",null,null,null,null,null,null,null,null,null,null,null,null,null,null,null,null,null,null,null,null,null,null,null,null,null,null,null,null,null,null,null,null,null,null,null,null,null,null,null,null,null,null,null,null,null,null,null,null,null,null,"Datum/Zeit","Spielort",null,null,null,null,null,null,null,null,null,null,null,null,null,null,null,null,null,null,null,null,null,null,null,null,null,null,"L16=manuelle Zuordnung der Dritten (falls Algorithmus nicht hilft)"]
[89,{"$f":"VLOOKUP(A82,Spiele!$A$1:$L$116,2,FALSE)","v":"2026-07-04T17:00:00"},{"$f":"VLOOKUP(A82,Spiele!$A$1:$L$116,9,FALSE)","v":"Philadelphia"},{"$f":"INDEX($M$63:$M$78, MATCH(N82, $P$63:$P$78, 0))","v":"Haiti"},"-",{"$f":"INDEX($M$63:$M$78, MATCH(O82, $P$63:$P$78, 0))","v":"Tunesien"},null,{"$f":"IF($B$99=\"\",2,INT(RAND()*5)+INT(RAND()*3)*INT(RAND()*2))","v":2},":",{"$f":"IF($B$99=\"\",1, H82 + IF(H82=0, 1, IF(H82=9, -1, CHOOSE(INT(RAND()*2)+1, 1, -1))))","v":3},"ok",null,{"$f":"IF(J82=\"\",\"\",IF(J82=H82,\"falsch!!! K.Remis\",IF(H82>J82,D82,F82)))","v":"Tunesien"},{"$f":"P65","v":"S03"},{"$f":"P68","v":"S06"},"AF1",null,null,null,null,null,null,null,null,null,null,null,null,null,null,null,null,null,null,null,null,null,null,null,null,null,null,null,null,null,null,null,null,null,null,null,null,{"$f":"A89+1","v":97},{"$f":"VLOOKUP(BA82,Spiele!$A$1:$L$116,2,FALSE)","v":"2026-07-09T16:00:00"},{"$f":"VLOOKUP(BA82,Spiele!$A$1:$L$116,9,FALSE)","v":"Boston"},{"$f":"INDEX($M$82:$M$89, MATCH(BN82, $P$82:$P$89, 0))","v":"Tunesien"},"-",{"$f":"INDEX($M$82:$M$89, MATCH(BO82, $P$82:$P$89, 0))","v":"Marokko"},null,{"$f":"IF($B$99=\"\",2,INT(RAND()*5)+INT(RAND()*3)*INT(RAND()*2))","v":3},":",{"$f":"IF($B$99=\"\",1, BH82 + IF(BH82=0, 1, IF(BH82=9, -1, CHOOSE(INT(RAND()*2)+1, 1, -1))))","v":4},"ok",null,{"$f":"IF(BJ82=\"\",\"\",IF(BJ82=BH82,\"falsch!!! K.Remis\",IF(BH82>BJ82,BD82,BF82)))","v":"Marokko"},{"$f":"P82","v":"AF1"},{"$f":"P83","v":"AF2"},"VF1"]
[{"$f":"A82+1","v":90},{"$f":"VLOOKUP(A83,Spiele!$A$1:$L$116,2,FALSE)","v":"2026-07-04T12:00:00"},{"$f":"VLOOKUP(A83,Spiele!$A$1:$L$116,9,FALSE)","v":"Houston"},{"$f":"INDEX($M$63:$M$78, MATCH(N83, $P$63:$P$78, 0))","v":"Kanada"},"-",{"$f":"INDEX($M$63:$M$78, MATCH(O83, $P$63:$P$78, 0))","v":"Marokko"},null,0,":",1,"ok",null,"Marokko",{"$f":"P63","v":"S01"},{"$f":"P66","v":"S04"},"AF2",null,null,null,null,null,null,null,null,null,null,null,null,null,null,null,null,null,null,null,null,null,null,null,null,null,null,null,null,null,null,null,null,null,null,null,null,{"$f":"BA82+1","v":98},{"$f":"VLOOKUP(BA83,Spiele!$A$1:$L$116,2,FALSE)","v":"2026-07-10T12:00:00"},{"$f":"VLOOKUP(BA83,Spiele!$A$1:$L$116,9,FALSE)","v":"Los Angeles"},{"$f":"INDEX($M$82:$M$89, MATCH(BN83, $P$82:$P$89, 0))","v":"Kroatien"},"-",{"$f":"INDEX($M$82:$M$89, MATCH(BO83, $P$82:$P$89, 0))","v":"USA"},null,{"$f":"IF($B$99=\"\",2,INT(RAND()*5)+INT(RAND()*3)*INT(RAND()*2))","v":4},":",{"$f":"IF($B$99=\"\",1, BH83 + IF(BH83=0, 1, IF(BH83=9, -1, CHOOSE(INT(RAND()*2)+1, 1, -1))))","v":5},"ok",null,{"$f":"IF(BJ83=\"\",\"\",IF(BJ83=BH83,\"falsch!!! K.Remis\",IF(BH83>BJ83,BD83,BF83)))","v":"USA"},{"$f":"P86","v":"AF5"},{"$f":"P87","v":"AF6"},"VF2"]
[91,{"$f":"VLOOKUP(A84,Spiele!$A$1:$L$116,2,FALSE)","v":"2026-07-05T16:00:00"},{"$f":"VLOOKUP(A84,Spiele!$A$1:$L$116,9,FALSE)","v":"New York"},{"$f":"INDEX($M$63:$M$78, MATCH(N84, $P$63:$P$78, 0))","v":"Niederlande"},"-",{"$f":"INDEX($M$63:$M$78, MATCH(O84, $P$63:$P$78, 0))","v":"Frankreich"},null,2,":",1,"ok",null,"Niederlande",{"$f":"P64","v":"S02"},{"$f":"P67","v":"S05"},"AF3",null,null,null,null,null,null,null,null,null,null,null,null,null,null,null,null,null,null,null,null,null,null,null,null,null,null,null,null,null,null,null,null,null,null,null,null,{"$f":"BA83+1","v":99},{"$f":"VLOOKUP(BA84,Spiele!$A$1:$L$116,2,FALSE)","v":"2026-07-11T17:00:00"},{"$f":"VLOOKUP(BA84,Spiele!$A$1:$L$116,9,FALSE)","v":"Miami"},{"$f":"INDEX($M$82:$M$89, MATCH(BN84, $P$82:$P$89, 0))","v":"Niederlande"},"-",{"$f":"INDEX($M$82:$M$89, MATCH(BO84, $P$82:$P$89, 0))","v":"Südafrika"},null,{"$f":"IF($B$99=\"\",2,INT(RAND()*5)+INT(RAND()*3)*INT(RAND()*2))","v":3},":",{"$f":"IF($B$99=\"\",1, BH84 + IF(BH84=0, 1, IF(BH84=9, -1, CHOOSE(INT(RAND()*2)+1, 1, -1))))","v":2},"ok",null,{"$f":"IF(BJ84=\"\",\"\",IF(BJ84=BH84,\"falsch!!! K.Remis\",IF(BH84>BJ84,BD84,BF84)))","v":"Niederlande"},{"$f":"P84","v":"AF3"},{"$f":"P85","v":"AF4"},"VF3"]
[92,{"$f":"VLOOKUP(A85,Spiele!$A$1:$L$116,2,FALSE)","v":"2026-07-05T19:00:00"},{"$f":"VLOOKUP(A85,Spiele!$A$1:$L$116,9,FALSE)","v":"Mexico City"},"Südafrika","-","Kolumbien",null,2,":",1,"ok",null,"Südafrika",{"$f":"P69","v":"S07"},{"$f":"P70","v":"S08"},"AF4",null,null,null,null,null,null,null,null,null,null,null,null,null,null,null,null,null,null,null,null,null,null,null,null,null,null,null,null,null,null,null,null,null,null,null,null,{"$f":"BA84+1","v":100},{"$f":"VLOOKUP(BA85,Spiele!$A$1:$L$116,2,FALSE)","v":"2026-07-11T20:00:00"},{"$f":"VLOOKUP(BA85,Spiele!$A$1:$L$116,9,FALSE)","v":"Kansas City"},{"$f":"INDEX($M$82:$M$89, MATCH(BN85, $P$82:$P$89, 0))","v":"IR Iran"},"-",{"$f":"INDEX($M$82:$M$89, MATCH(BO85, $P$82:$P$89, 0))","v":"Irak"},null,{"$f":"IF($B$99=\"\",2,INT(RAND()*5)+INT(RAND()*3)*INT(RAND()*2))","v":1},":",{"$f":"IF($B$99=\"\",1, BH85 + IF(BH85=0, 1, IF(BH85=9, -1, CHOOSE(INT(RAND()*2)+1, 1, -1))))","v":0},"ok",null,{"$f":"IF(BJ85=\"\",\"\",IF(BJ85=BH85,\"falsch!!! K.Remis\",IF(BH85>BJ85,BD85,BF85)))","v":"IR Iran"},{"$f":"P88","v":"AF7"},{"$f":"P89","v":"AF8"},"VF4"]
[93,{"$f":"VLOOKUP(A86,Spiele!$A$1:$L$116,2,FALSE)","v":"2026-07-06T14:00:00"},{"$f":"VLOOKUP(A86,Spiele!$A$1:$L$116,9,FALSE)","v":"Dallas"},"Kroatien","-","Argentinien",null,4,":",3,"ok",null,"Kroatien",{"$f":"P74","v":"S12"},{"$f":"P73","v":"S11"},"AF5"]
[94,{"$f":"VLOOKUP(A87,Spiele!$A$1:$L$116,2,FALSE)","v":"2026-07-06T17:00:00"},{"$f":"VLOOKUP(A87,Spiele!$A$1:$L$116,9,FALSE)","v":"Seattle"},"USA","-","Neuseeland",null,3,":",2,"ok",null,"USA",{"$f":"P72","v":"S10"},{"$f":"P71","v":"S09"},"AF6",null,null,null,null,null,null,null,null,null,null,null,null,null,null,null,null,null,null,null,null,null,null,null,null,null,null,null,null,null,null,null,null,null,null,null,null,null,"Halbfinale"]
[95,{"$f":"VLOOKUP(A88,Spiele!$A$1:$L$116,2,FALSE)","v":"2026-07-07T12:00:00"},{"$f":"VLOOKUP(A88,Spiele!$A$1:$L$116,9,FALSE)","v":"Atlanta"},"Saudiarabien","-","IR Iran",null,5,":",6,"ok",null,"IR Iran",{"$f":"P77","v":"S15"},{"$f":"P76","v":"S14"},"AF7",null,null,null,null,null,null,null,null,null,null,null,null,null,null,null,null,null,null,null,null,null,null,null,null,null,null,null,null,null,null,null,null,null,null,null,null,null,"Datum/Zeit","Spielort"]
[{"$f":"A88+1","v":96},{"$f":"VLOOKUP(A89,Spiele!$A$1:$L$116,2,FALSE)","v":"2026-07-07T13:00:00"},{"$f":"VLOOKUP(A89,Spiele!$A$1:$L$116,9,FALSE)","v":"Vancouver"},"Algerien","-","Irak",null,4,":",5,"ok",null,"Irak",{"$f":"P75","v":"S13"},{"$f":"P78","v":"S16"},"AF8",null,null,null,null,null,null,null,null,null,null,null,null,null,null,null,null,null,null,null,null,null,null,null,null,null,null,null,null,null,null,null,null,null,null,null,null,{"$f":"BA85+1","v":101},{"$f":"VLOOKUP(BA89,Spiele!$A$1:$L$116,2,FALSE)","v":"2026-07-14T14:00:00"},{"$f":"VLOOKUP(BA89,Spiele!$A$1:$L$116,9,FALSE)","v":"Dallas"},{"$f":"INDEX($BM$82:$BM$85, MATCH(BN89, $BP$82:$BP$85, 0))","v":"Marokko"},"-",{"$f":"INDEX($BM$82:$BM$85, MATCH(BO89, $BP$82:$BP$85, 0))","v":"USA"},null,{"$f":"IF($B$99=\"\",2,INT(RAND()*5)+INT(RAND()*3)*INT(RAND()*2))","v":0},":",{"$f":"IF($B$99=\"\",1, BH89 + IF(BH89=0, 1, IF(BH89=9, -1, CHOOSE(INT(RAND()*2)+1, 1, -1))))","v":1},"ok",null,{"$f":"IF(BJ89=\"\",\"\",IF(BJ89=BH89,\"falsch!!! K.Remis\",IF(BH89>BJ89,BD89,BF89)))","v":"USA"},{"$f":"BP82","v":"VF1"},{"$f":"BP83","v":"VF2"},"F1"]
[null,null,null,null,null,null,null,null,null,null,null,null,null,null,null,null,null,null,null,null,null,null,null,null,null,null,null,null,null,null,null,null,null,null,null,null,null,null,null,null,null,null,null,null,null,null,null,null,null,null,null,null,{"$f":"BA89+1","v":102},{"$f":"VLOOKUP(BA90,Spiele!$A$1:$L$116,2,FALSE)","v":"2026-07-15T15:00:00"},{"$f":"VLOOKUP(BA90,Spiele!$A$1:$L$116,9,FALSE)","v":"Atlanta"},{"$f":"INDEX($BM$82:$BM$85, MATCH(BN90, $BP$82:$BP$85, 0))","v":"Niederlande"},"-",{"$f":"INDEX($BM$82:$BM$85, MATCH(BO90, $BP$82:$BP$85, 0))","v":"IR Iran"},null,{"$f":"IF($B$99=\"\",2,INT(RAND()*5)+INT(RAND()*3)*INT(RAND()*2))","v":3},":",{"$f":"IF($B$99=\"\",1, BH90 + IF(BH90=0, 1, IF(BH90=9, -1, CHOOSE(INT(RAND()*2)+1, 1, -1))))","v":4},"ok",null,{"$f":"IF(BJ90=\"\",\"\",IF(BJ90=BH90,\"falsch!!! K.Remis\",IF(BH90>BJ90,BD90,BF90)))","v":"IR Iran"},{"$f":"BP84","v":"VF3"},{"$f":"BP85","v":"VF4"},"F2"]
[null,null,null,null,null,null,null,null,null,null,null,null,null,null,null,null,null,null,null,null,null,null,null,null,null,null,null,null,null,null,null,null,null,null,null,null,null,null,null,null,null,null,null,null,null,null,null,null,null,null,null,null,null,null,null,null,null,null,null,null,null,null,null,null,{"$f":"IF(BD89=BM89,BF89,BD89)","v":"Marokko"},null,null,"HF1"]
[null,"Finale",null,null,null,null,null,null,null,null,null,null,null,null,null,null,null,null,null,null,null,null,null,null,null,null,null,null,null,null,null,null,null,null,null,null,null,null,null,null,null,null,null,null,null,null,null,null,null,null,null,null,null,"Um Platz 3",null,null,null,null,null,null,null,null,null,null,{"$f":"IF(BD90=BM90,BF90,BD90)","v":"Niederlande"},null,null,"HF2"]
[null,"Datum/Zeit","Spielort",null,null,null,null,null,null,null,null,null,"Weltmeister",null,null,null,null,null,null,null,null,null,null,null,null,null,null,null,null,null,null,null,null,null,null,null,null,null,null,null,null,null,null,null,null,null,null,null,null,null,null,null,null,"Datum/Zeit","Spielort"]
[{"$f":"BA94+1","v":104},{"$f":"VLOOKUP(A94,Spiele!$A$1:$L$116,2,FALSE)","v":"2026-07-19T15:00:00"},{"$f":"VLOOKUP(A94,Spiele!$A$1:$L$116,9,FALSE)","v":"New York"},{"$f":"BM89","v":"USA"},"-",{"$f":"BM90","v":"IR Iran"},null,{"$f":"IF($B$99=\"\",2,INT(RAND()*5)+INT(RAND()*3)*INT(RAND()*2))","v":4},":",{"$f":"IF($B$99=\"\",1, H94 + IF(H94=0, 1, IF(H94=9, -1, CHOOSE(INT(RAND()*2)+1, 1, -1))))","v":3},"ok",null,{"$f":"IF(J94=\"\",\"\",IF(J94=H94,\"falsch!!! K.Remis\",IF(H94>J94,D94,F94)))","v":"USA"},{"$f":"BP89","v":"F1"},{"$f":"BP90","v":"F2"},null,null,null,null,null,null,null,null,null,null,null,null,null,null,null,null,null,null,null,null,null,null,null,null,null,null,null,null,null,null,null,null,null,null,null,null,null,{"$f":"BA90+1","v":103},{"$f":"VLOOKUP(BA94,Spiele!$A$1:$L$116,2,FALSE)","v":"2026-07-18T17:00:00"},{"$f":"VLOOKUP(BA94,Spiele!$A$1:$L$116,9,FALSE)","v":"Miami"},{"$f":"BM91","v":"Marokko"},"-",{"$f":"BM92","v":"Niederlande"},null,{"$f":"IF($B$99=\"\",2,INT(RAND()*5)+INT(RAND()*3)*INT(RAND()*2))","v":1},":",{"$f":"IF($B$99=\"\",1, BH94 + IF(BH94=0, 1, IF(BH94=9, -1, CHOOSE(INT(RAND()*2)+1, 1, -1))))","v":2},"ok",null,{"$f":"IF(BJ94=\"\",\"\",IF(BJ94=BH94,\"falsch!!! K.Remis\",IF(BH94>BJ94,BD94,BF94)))","v":"Niederlande"},{"$f":"BP91","v":"HF1"},{"$f":"BP92","v":"HF2"}]
[]
[]
[]
[null,"ok","OK"]
[null,"ja","Ergebnis Zufall"]
[null,{"$f":"IF($B$99=\"\",1,INT(RAND()*5)+INT(RAND()*3)*INT(RAND()*2))","v":1},"Zufallsformel"]

{"sheet":"WM2026","index":9,"n_rows":101,"n_cols":100,"rows_kept":101,"cut":false,"hidden":false,"merged":[]}
["SP","Vorrunde","Gruppe A"," ",null,null,null,null,null,null,null,null,"Tabelle","P","T+","T-","T+/-",null,null,null,null,null,null,"G","Berechnungen","P","T+","T-","T+/-",null,"L0","DV",null,null,null,"S1","L1","DV-TD",null,null,null,"S2","DV-Tore",null,null,null,"S3","L4",null,null,null,null,"SP","Vorrunde","Gruppe D"," ",null,null,null,null,null,null,null,null,"Tabelle","P","T+","T-","T+/-",null,null,null,null,null,null,"G","Berechnungen","P","T+","T-","T+/-",null,"L0","DV",null,null,null,"S1","L1","DV-TD",null,null,null,"S2","DV-Tore",null,null,null,"S3","L4"]
[null,"Datum/Zeit","Spielort",null,null,null,null,null,null,null,null,null,{"$f":"VLOOKUP(1,$X$2:$AC$5,2,FALSE)","v":"Mexiko"},{"$f":"VLOOKUP(1,$X$2:$AC$5,3,FALSE)","v":3},{"$f":"VLOOKUP(1,$X$2:$AC$5,4,FALSE)","v":6},{"$f":"VLOOKUP(1,$X$2:$AC$5,5,FALSE)","v":6},{"$f":"VLOOKUP(1,$X$2:$AC$5,6,FALSE)","v":0},null,null,{"$f":"IF(H3=\"\",0,IF(K3=$B$98,IF(H3>J3,3,IF(H3=J3,1,0)),0))","v":1},{"$f":"IF(H5=\"\",0,IF(K5=$B$98,IF(H5>J5,3,IF(H5=J5,1,0)),0))","v":1},{"$f":"IF(J7=\"\",0,IF(K8=$B$98,IF(H7<J7,3,IF(H7=J7,1,0)),0))","v":1},null,{"$f":"RANK(AD2,$AD$2:$AD$5)","v":1},"Mexiko",{"$f":"SUM(S2:V2)","v":3},{"$f":"SUM(S6:V6)","v":6},{"$f":"SUM(S6:S9)","v":6},{"$f":"AA2-AB2","v":0},{"$f":"IF(P$8=\"\",(((((((AE2*10+Z2)*100+AC2)*100+AA2)*10+AK2)*10+AJ2)*100+AP2)*100+AU2)*10+AV2,(((((((AE2*10+Z2)*10+AK2)*10+AJ2)*100+AP2)*100+AU2)*100+AC2)*100+AA2)*10+AV2)","v":300000600064},null,null,{"$f":"IF($Z2=$Z3,$T2-$S3,0)","v":0},{"$f":"IF($Z2=$Z4,$U2-$S4,0)","v":0},{"$f":"IF($Z2=$Z5,$V2-$S5,0)","v":0},{"$f":"SUM(AF2:AI2)","v":0},null,null,{"$f":"IF($Z2=$Z3,$T6-$S7,0)","v":0},{"$f":"IF($Z2=$Z4,$U6-$S8,0)","v":0},{"$f":"IF($Z2=$Z5,$V6-$S9,0)","v":0},{"$f":"SUM(AL2:AO2)","v":0},null,{"$f":"IF($Z2=$Z3,$T6,0)","v":2},{"$f":"IF($Z2=$Z4,$U6,0)","v":2},{"$f":"IF($Z2=$Z5,$V6,0)","v":2},{"$f":"SUM(AQ2:AT2)","v":6},4,null,null,null,null,null,"Datum/Zeit","Spielort",null,null,null,null,null,null,null,null,null,{"$f":"VLOOKUP(1,$BX$2:$CC$5,2,FALSE)","v":"USA"},{"$f":"VLOOKUP(1,$BX$2:$CC$5,3,FALSE)","v":3},{"$f":"VLOOKUP(1,$BX$2:$CC$5,4,FALSE)","v":6},{"$f":"VLOOKUP(1,$BX$2:$CC$5,5,FALSE)","v":6},{"$f":"VLOOKUP(1,$BX$2:$CC$5,6,FALSE)","v":0},null,null,{"$f":"IF(BH3=\"\",0,IF(BK3=$B$98,IF(BH3>BJ3,3,IF(BH3=BJ3,1,0)),0))","v":1},{"$f":"IF(BH5=\"\",0,IF(BK5=$B$98,IF(BH5>BJ5,3,IF(BH5=BJ5,1,0)),0))","v":1},{"$f":"IF(BJ7=\"\",0,IF(BK8=$B$98,IF(BH7<BJ7,3,IF(BH7=BJ7,1,0)),0))","v":1},null,{"$f":"RANK(CD2,$CD$2:$CD$5)","v":1},"USA",{"$f":"SUM(BS2:BV2)","v":3},{"$f":"SUM(BS6:BV6)","v":6},{"$f":"SUM(BS6:BS9)","v":6},{"$f":"CA2-CB2","v":0},{"$f":"IF(BP$8=\"\",(((((((CE2*10+BZ2)*100+CC2)*100+CA2)*10+CK2)*10+CJ2)*100+CP2)*100+CU2)*10+CV2,(((((((CE2*10+BZ2)*10+CK2)*10+CJ2)*100+CP2)*100+CU2)*100+CC2)*100+CA2)*10+CV2)","v":300000600064},null,null,{"$f":"IF($BZ2=$BZ3,$BT2-$BS3,0)","v":0},{"$f":"IF($BZ2=$BZ4,$BU2-$BS4,0)","v":0},{"$f":"IF($BZ2=$BZ5,$BV2-$BS5,0)","v":0},{"$f":"SUM(CF2:CI2)","v":0},null,null,{"$f":"IF($BZ2=$BZ3,$BT6-$BS7,0)","v":0},{"$f":"IF($BZ2=$BZ4,$BU6-$BS8,0)","v":0},{"$f":"IF($BZ2=$BZ5,$BV6-$BS9,0)","v":0},{"$f":"SUM(CL2:CO2)","v":0},null,{"$f":"IF($BZ2=$BZ3,$BT6,0)","v":2},{"$f":"IF($BZ2=$BZ4,$BU6,0)","v":2},{"$f":"IF($BZ2=$BZ5,$BV6,0)","v":2},{"$f":"SUM(CQ2:CT2)","v":6},4]
[1,{"$f":"VLOOKUP(A3,Spiele!$A$1:$L$116,2,FALSE)","v":"2026-06-11T14:00:00"},{"$f":"VLOOKUP(A3,Spiele!$A$1:$L$116,9,FALSE)","v":"Mexico City"},{"$f":"Y2","v":"Mexiko"},"-",{"$f":"Y3","v":"Südafrika"},null,{"$f":"IF($B$101<>\"\",'WM2026-ELO'!V3,IF($B$99=\"\",2,INT(RAND()*5)+INT(RAND()*3)*INT(RAND()*2)))","v":2},":",{"$f":"IF($B$101<>\"\",'WM2026-ELO'!W3,IF($B$99=\"\",2,INT(RAND()*5)+INT(RAND()*3)*INT(RAND()*2)))","v":2},"ok",null,{"$f":"VLOOKUP(2,$X$2:$AC$5,2,FALSE)","v":"Südafrika"},{"$f":"VLOOKUP(2,$X$2:$AC$5,3,FALSE)","v":3},{"$f":"VLOOKUP(2,$X$2:$AC$5,4,FALSE)","v":6},{"$f":"VLOOKUP(2,$X$2:$AC$5,5,FALSE)","v":6},{"$f":"VLOOKUP(2,$X$2:$AC$5,6,FALSE)","v":0},null,{"$f":"IF(J3=\"\",0,IF(K3=$B$98,IF(H3<J3,3,IF(H3=J3,1,0)),0))","v":1},null,{"$f":"IF(H8=\"\",0,IF(K7=$B$98,IF(H8>J8,3,IF(H8=J8,1,0)),0))","v":1},{"$f":"IF(J6=\"\",0,IF(K6=$B$98,IF(J6>H6,3,IF(J6=H6,1,0)),0))","v":1},null,{"$f":"RANK(AD3,$AD$2:$AD$5)","v":2},"Südafrika",{"$f":"SUM(S3:V3)","v":3},{"$f":"SUM(S7:V7)","v":6},{"$f":"SUM(T6:T9)","v":6},{"$f":"AA3-AB3","v":0},{"$f":"IF(P$8=\"\",(((((((AE3*10+Z3)*100+AC3)*100+AA3)*10+AK3)*10+AJ3)*100+AP3)*100+AU3)*10+AV3,(((((((AE3*10+Z3)*10+AK3)*10+AJ3)*100+AP3)*100+AU3)*100+AC3)*100+AA3)*10+AV3)","v":300000600063},null,{"$f":"IF($Z3=$Z2,$S3-$T2,0)","v":0},null,{"$f":"IF($Z3=$Z4,$U3-$T4,0)","v":0},{"$f":"IF($Z3=$Z5,$V3-$T5,0)","v":0},{"$f":"SUM(AF3:AI3)","v":0},null,{"$f":"IF($Z3=$Z2,$S7-$T6,0)","v":0},null,{"$f":"IF($Z3=$Z4,$U7-$T8,0)","v":0},{"$f":"IF($Z3=$Z5,$V7-$T9,0)","v":0},{"$f":"SUM(AL3:AO3)","v":0},{"$f":"IF($Z3=$Z2,$S7,0)","v":2},null,{"$f":"IF($Z3=$Z4,$U7,0)","v":2},{"$f":"IF($Z3=$Z5,$V7,0)","v":2},{"$f":"SUM(AQ3:AT3)","v":6},3,null,null,null,null,4,{"$f":"VLOOKUP(BA3,Spiele!$A$1:$L$116,2,FALSE)","v":"2026-06-12T18:00:00"},{"$f":"VLOOKUP(BA3,Spiele!$A$1:$L$116,9,FALSE)","v":"Los Angeles"},{"$f":"BY2","v":"USA"},"-",{"$f":"BY3","v":"Paraguay"},null,{"$f":"IF($B$101<>\"\",'WM2026-ELO'!BV3,IF($B$99=\"\",2,INT(RAND()*5)+INT(RAND()*3)*INT(RAND()*2)))","v":2},":",{"$f":"IF($B$101<>\"\",'WM2026-ELO'!BW3,IF($B$99=\"\",2,INT(RAND()*5)+INT(RAND()*3)*INT(RAND()*2)))","v":2},"ok",null,{"$f":"VLOOKUP(2,$BX$2:$CC$5,2,FALSE)","v":"Paraguay"},{"$f":"VLOOKUP(2,$BX$2:$CC$5,3,FALSE)","v":3},{"$f":"VLOOKUP(2,$BX$2:$CC$5,4,FALSE)","v":6},{"$f":"VLOOKUP(2,$BX$2:$CC$5,5,FALSE)","v":6},{"$f":"VLOOKUP(2,$BX$2:$CC$5,6,FALSE)","v":0},null,{"$f":"IF(BJ3=\"\",0,IF(BK3=$B$98,IF(BH3<BJ3,3,IF(BH3=BJ3,1,0)),0))","v":1},null,{"$f":"IF(BH8=\"\",0,IF(BK7=$B$98,IF(BH8>BJ8,3,IF(BH8=BJ8,1,0)),0))","v":1},{"$f":"IF(BJ6=\"\",0,IF(BK6=$B$98,IF(BJ6>BH6,3,IF(BJ6=BH6,1,0)),0))","v":1},null,{"$f":"RANK(CD3,$CD$2:$CD$5)","v":2},"Paraguay",{"$f":"SUM(BS3:BV3)","v":3},{"$f":"SUM(BS7:BV7)","v":6},{"$f":"SUM(BT6:BT9)","v":6},{"$f":"CA3-CB3","v":0},{"$f":"IF(BP$8=\"\",(((((((CE3*10+BZ3)*100+CC3)*100+CA3)*10+CK3)*10+CJ3)*100+CP3)*100+CU3)*10+CV3,(((((((CE3*10+BZ3)*10+CK3)*10+CJ3)*100+CP3)*100+CU3)*100+CC3)*100+CA3)*10+CV3)","v":300000600063},null,{"$f":"IF($BZ3=$BZ2,$BS3-$BT2,0)","v":0},null,{"$f":"IF($BZ3=$BZ4,$BU3-$BT4,0)","v":0},{"$f":"IF($BZ3=$BZ5,$BV3-$BT5,0)","v":0},{"$f":"SUM(CF3:CI3)","v":0},null,{"$f":"IF($BZ3=$BZ2,$BS7-$BT6,0)","v":0},null,{"$f":"IF($BZ3=$BZ4,$BU7-$BT8,0)","v":0},{"$f":"IF($BZ3=$BZ5,$BV7-$BT9,0)","v":0},{"$f":"SUM(CL3:CO3)","v":0},{"$f":"IF($BZ3=$BZ2,$BS7,0)","v":2},null,{"$f":"IF($BZ3=$BZ4,$BU7,0)","v":2},{"$f":"IF($BZ3=$BZ5,$BV7,0)","v":2},{"$f":"SUM(CQ3:CT3)","v":6},3]
[2,{"$f":"VLOOKUP(A4,Spiele!$A$1:$L$116,2,FALSE)","v":"2026-06-11T21:00:00"},{"$f":"VLOOKUP(A4,Spiele!$A$1:$L$116,9,FALSE)","v":"Guadalajara"},{"$f":"Y4","v":"Südkorea"},"-",{"$f":"Y5","v":"Tschechien"},null,{"$f":"IF($B$101<>\"\",'WM2026-ELO'!V4,IF($B$99=\"\",2,INT(RAND()*5)+INT(RAND()*3)*INT(RAND()*2)))","v":2},":",{"$f":"IF($B$101<>\"\",'WM2026-ELO'!W4,IF($B$99=\"\",2,INT(RAND()*5)+INT(RAND()*3)*INT(RAND()*2)))","v":2},"ok",null,{"$f":"VLOOKUP(3,$X$2:$AC$5,2,FALSE)","v":"Südkorea"},{"$f":"VLOOKUP(3,$X$2:$AC$5,3,FALSE)","v":3},{"$f":"VLOOKUP(3,$X$2:$AC$5,4,FALSE)","v":6},{"$f":"VLOOKUP(3,$X$2:$AC$5,5,FALSE)","v":6},{"$f":"VLOOKUP(3,$X$2:$AC$5,6,FALSE)","v":0},null,{"$f":"IF(J5=\"\",0,IF(K5=$B$98,IF(H5<J5,3,IF(H5=J5,1,0)),0))","v":1},{"$f":"IF(J8=\"\",0,IF(K7=$B$98,IF(H8<J8,3,IF(H8=J8,1,0)),0))","v":1},null,{"$f":"IF(H4=\"\",0,IF(K4=$B$98,IF(H4>J4,3,IF(H4=J4,1,0)),0))","v":1},null,{"$f":"RANK(AD4,$AD$2:$AD$5)","v":3},"Südkorea",{"$f":"SUM(S4:V4)","v":3},{"$f":"SUM(S8:V8)","v":6},{"$f":"SUM(U6:U9)","v":6},{"$f":"AA4-AB4","v":0},{"$f":"IF(P$8=\"\",(((((((AE4*10+Z4)*100+AC4)*100+AA4)*10+AK4)*10+AJ4)*100+AP4)*100+AU4)*10+AV4,(((((((AE4*10+Z4)*10+AK4)*10+AJ4)*100+AP4)*100+AU4)*100+AC4)*100+AA4)*10+AV4)","v":300000600062},null,{"$f":"IF($Z4=$Z2,$S4-$U2,0)","v":0},{"$f":"IF($Z4=$Z3,$T4-$U3,0)","v":0},null,{"$f":"IF($Z4=$Z5,$V4-$U5,0)","v":0},{"$f":"SUM(AF4:AI4)","v":0},null,{"$f":"IF($Z4=$Z2,$S8-$U6,0)","v":0},{"$f":"IF($Z4=$Z3,$T8-$U7,0)","v":0},null,{"$f":"IF($Z4=$Z5,$V8-$U9,0)","v":0},{"$f":"SUM(AL4:AO4)","v":0},{"$f":"IF($Z4=$Z2,$S8,0)","v":2},{"$f":"IF($Z4=$Z3,$T8,0)","v":2},null,{"$f":"IF($Z4=$Z5,$V8,0)","v":2},{"$f":"SUM(AQ4:AT4)","v":6},2,null,null,null,null,6,{"$f":"VLOOKUP(BA4,Spiele!$A$1:$L$116,2,FALSE)","v":"2026-06-13T21:00:00"},{"$f":"VLOOKUP(BA4,Spiele!$A$1:$L$116,9,FALSE)","v":"Vancouver"},{"$f":"BY4","v":"Australien"},"-",{"$f":"BY5","v":"Türkei"},null,{"$f":"IF($B$101<>\"\",'WM2026-ELO'!BV4,IF($B$99=\"\",2,INT(RAND()*5)+INT(RAND()*3)*INT(RAND()*2)))","v":2},":",{"$f":"IF($B$101<>\"\",'WM2026-ELO'!BW4,IF($B$99=\"\",2,INT(RAND()*5)+INT(RAND()*3)*INT(RAND()*2)))","v":2},"ok",null,{"$f":"VLOOKUP(3,$BX$2:$CC$5,2,FALSE)","v":"Australien"},{"$f":"VLOOKUP(3,$BX$2:$CC$5,3,FALSE)","v":3},{"$f":"VLOOKUP(3,$BX$2:$CC$5,4,FALSE)","v":6},{"$f":"VLOOKUP(3,$BX$2:$CC$5,5,FALSE)","v":6},{"$f":"VLOOKUP(3,$BX$2:$CC$5,6,FALSE)","v":0},null,{"$f":"IF(BJ5=\"\",0,IF(BK5=$B$98,IF(BH5<BJ5,3,IF(BH5=BJ5,1,0)),0))","v":1},{"$f":"IF(BJ8=\"\",0,IF(BK7=$B$98,IF(BH8<BJ8,3,IF(BH8=BJ8,1,0)),0))","v":1},null,{"$f":"IF(BH4=\"\",0,IF(BK4=$B$98,IF(BH4>BJ4,3,IF(BH4=BJ4,1,0)),0))","v":1},null,{"$f":"RANK(CD4,$CD$2:$CD$5)","v":3},"Australien",{"$f":"SUM(BS4:BV4)","v":3},{"$f":"SUM(BS8:BV8)","v":6},{"$f":"SUM(BU6:BU9)","v":6},{"$f":"CA4-CB4","v":0},{"$f":"IF(BP$8=\"\",(((((((CE4*10+BZ4)*100+CC4)*100+CA4)*10+CK4)*10+CJ4)*100+CP4)*100+CU4)*10+CV4,(((((((CE4*10+BZ4)*10+CK4)*10+CJ4)*100+CP4)*100+CU4)*100+CC4)*100+CA4)*10+CV4)","v":300000600062},null,{"$f":"IF($BZ4=$BZ2,$BS4-$BU2,0)","v":0},{"$f":"IF($BZ4=$BZ3,$BT4-$BU3,0)","v":0},null,{"$f":"IF($BZ4=$BZ5,$BV4-$BU5,0)","v":0},{"$f":"SUM(CF4:CI4)","v":0},null,{"$f":"IF($BZ4=$BZ2,$BS8-$BU6,0)","v":0},{"$f":"IF($BZ4=$BZ3,$BT8-$BU7,0)","v":0},null,{"$f":"IF($BZ4=$BZ5,$BV8-$BU9,0)","v":0},{"$f":"SUM(CL4:CO4)","v":0},{"$f":"IF($BZ4=$BZ2,$BS8,0)","v":2},{"$f":"IF($BZ4=$BZ3,$BT8,0)","v":2},null,{"$f":"IF($BZ4=$BZ5,$BV8,0)","v":2},{"$f":"SUM(CQ4:CT4)","v":6},2]
[28,{"$f":"VLOOKUP(A5,Spiele!$A$1:$L$116,2,FALSE)","v":"2026-06-18T20:00:00"},{"$f":"VLOOKUP(A5,Spiele!$A$1:$L$116,9,FALSE)","v":"Guadalajara"},{"$f":"Y2","v":"Mexiko"},"-",{"$f":"Y4","v":"Südkorea"},null,{"$f":"IF($B$101<>\"\",'WM2026-ELO'!V5,IF($B$99=\"\",2,INT(RAND()*5)+INT(RAND()*3)*INT(RAND()*2)))","v":2},":",{"$f":"IF($B$101<>\"\",'WM2026-ELO'!W5,IF($B$99=\"\",2,INT(RAND()*5)+INT(RAND()*3)*INT(RAND()*2)))","v":2},"ok",null,{"$f":"VLOOKUP(4,$X$2:$AC$5,2,FALSE)","v":"Tschechien"},{"$f":"VLOOKUP(4,$X$2:$AC$5,3,FALSE)","v":3},{"$f":"VLOOKUP(4,$X$2:$AC$5,4,FALSE)","v":6},{"$f":"VLOOKUP(4,$X$2:$AC$5,5,FALSE)","v":6},{"$f":"VLOOKUP(4,$X$2:$AC$5,6,FALSE)","v":0},null,{"$f":"IF(H7=\"\",0,IF(K8=$B$98,IF(H7>J7,3,IF(H7=J7,1,0)),0))","v":1},{"$f":"IF(H6=\"\",0,IF(K6=$B$98,IF(J6<H6,3,IF(J6=H6,1,0)),0))","v":1},{"$f":"IF(J4=\"\",0,IF(K4=$B$98,IF(H4<J4,3,IF(H4=J4,1,0)),0))","v":1},null,null,{"$f":"RANK(AD5,$AD$2:$AD$5)","v":4},"Tschechien",{"$f":"SUM(S5:V5)","v":3},{"$f":"SUM(S9:V9)","v":6},{"$f":"SUM(V6:V9)","v":6},{"$f":"AA5-AB5","v":0},{"$f":"IF(P$8=\"\",(((((((AE5*10+Z5)*100+AC5)*100+AA5)*10+AK5)*10+AJ5)*100+AP5)*100+AU5)*10+AV5,(((((((AE5*10+Z5)*10+AK5)*10+AJ5)*100+AP5)*100+AU5)*100+AC5)*100+AA5)*10+AV5)","v":300000600061},null,{"$f":"IF($Z5=$Z2,$S5-$V2,0)","v":0},{"$f":"IF($Z5=$Z3,$T5-$V3,0)","v":0},{"$f":"IF($Z5=$Z4,$U5-$V4,0)","v":0},null,{"$f":"SUM(AF5:AI5)","v":0},null,{"$f":"IF($Z5=$Z2,$S9-$V6,0)","v":0},{"$f":"IF($Z5=$Z3,$T9-$V7,0)","v":0},{"$f":"IF($Z5=$Z4,$U9-$V8,0)","v":0},null,{"$f":"SUM(AL5:AO5)","v":0},{"$f":"IF($Z5=$Z2,$S9,0)","v":2},{"$f":"IF($Z5=$Z3,$T9,0)","v":2},{"$f":"IF($Z5=$Z4,$U9,0)","v":2},null,{"$f":"SUM(AQ5:AT5)","v":6},1,null,null,null,null,32,{"$f":"VLOOKUP(BA5,Spiele!$A$1:$L$116,2,FALSE)","v":"2026-06-19T12:00:00"},{"$f":"VLOOKUP(BA5,Spiele!$A$1:$L$116,9,FALSE)","v":"Seattle"},{"$f":"BY2","v":"USA"},"-",{"$f":"BY4","v":"Australien"},null,{"$f":"IF($B$101<>\"\",'WM2026-ELO'!BV5,IF($B$99=\"\",2,INT(RAND()*5)+INT(RAND()*3)*INT(RAND()*2)))","v":2},":",{"$f":"IF($B$101<>\"\",'WM2026-ELO'!BW5,IF($B$99=\"\",2,INT(RAND()*5)+INT(RAND()*3)*INT(RAND()*2)))","v":2},"ok",null,{"$f":"VLOOKUP(4,$BX$2:$CC$5,2,FALSE)","v":"Türkei"},{"$f":"VLOOKUP(4,$BX$2:$CC$5,3,FALSE)","v":3},{"$f":"VLOOKUP(4,$BX$2:$CC$5,4,FALSE)","v":6},{"$f":"VLOOKUP(4,$BX$2:$CC$5,5,FALSE)","v":6},{"$f":"VLOOKUP(4,$BX$2:$CC$5,6,FALSE)","v":0},null,{"$f":"IF(BH7=\"\",0,IF(BK8=$B$98,IF(BH7>BJ7,3,IF(BH7=BJ7,1,0)),0))","v":1},{"$f":"IF(BH6=\"\",0,IF(BK6=$B$98,IF(BJ6<BH6,3,IF(BJ6=BH6,1,0)),0))","v":1},{"$f":"IF(BJ4=\"\",0,IF(BK4=$B$98,IF(BH4<BJ4,3,IF(BH4=BJ4,1,0)),0))","v":1},null,null,{"$f":"RANK(CD5,$CD$2:$CD$5)","v":4},"Türkei",{"$f":"SUM(BS5:BV5)","v":3},{"$f":"SUM(BS9:BV9)","v":6},{"$f":"SUM(BV6:BV9)","v":6},{"$f":"CA5-CB5","v":0},{"$f":"IF(BP$8=\"\",(((((((CE5*10+BZ5)*100+CC5)*100+CA5)*10+CK5)*10+CJ5)*100+CP5)*100+CU5)*10+CV5,(((((((CE5*10+BZ5)*10+CK5)*10+CJ5)*100+CP5)*100+CU5)*100+CC5)*100+CA5)*10+CV5)","v":300000600061},null,{"$f":"IF($BZ5=$BZ2,$BS5-$BV2,0)","v":0},{"$f":"IF($BZ5=$BZ3,$BT5-$BV3,0)","v":0},{"$f":"IF($BZ5=$BZ4,$BU5-$BV4,0)","v":0},null,{"$f":"SUM(CF5:CI5)","v":0},null,{"$f":"IF($BZ5=$BZ2,$BS9-$BV6,0)","v":0},{"$f":"IF($BZ5=$BZ3,$BT9-$BV7,0)","v":0},{"$f":"IF($BZ5=$BZ4,$BU9-$BV8,0)","v":0},null,{"$f":"SUM(CL5:CO5)","v":0},{"$f":"IF($BZ5=$BZ2,$BS9,0)","v":2},{"$f":"IF($BZ5=$BZ3,$BT9,0)","v":2},{"$f":"IF($BZ5=$BZ4,$BU9,0)","v":2},null,{"$f":"SUM(CQ5:CT5)","v":6},1]
[25,{"$f":"VLOOKUP(A6,Spiele!$A$1:$L$116,2,FALSE)","v":"2026-06-18T12:00:00"},{"$f":"VLOOKUP(A6,Spiele!$A$1:$L$116,9,FALSE)","v":"Atlanta"},{"$f":"Y5","v":"Tschechien"},"-",{"$f":"Y3","v":"Südafrika"},null,{"$f":"IF($B$101<>\"\",'WM2026-ELO'!V6,IF($B$99=\"\",2,INT(RAND()*5)+INT(RAND()*3)*INT(RAND()*2)))","v":2},":",{"$f":"IF($B$101<>\"\",'WM2026-ELO'!W6,IF($B$99=\"\",2,INT(RAND()*5)+INT(RAND()*3)*INT(RAND()*2)))","v":2},"ok",null,null,null,null,null,null,null,null,{"$f":"IF(K3=$B$98,H3,0)","v":2},{"$f":"IF(K5=$B$98,H5,0)","v":2},{"$f":"IF(K8=$B$98,J7,0)","v":2},null,null,null,null,null,null,null,null,null,null,null,null,null,null,null,null,null,null,null,null,null,null,null,null,null,null,null,null,null,null,31,{"$f":"VLOOKUP(BA6,Spiele!$A$1:$L$116,2,FALSE)","v":"2026-06-19T21:00:00"},{"$f":"VLOOKUP(BA6,Spiele!$A$1:$L$116,9,FALSE)","v":"San Francisco"},{"$f":"BY5","v":"Türkei"},"-",{"$f":"BY3","v":"Paraguay"},null,{"$f":"IF($B$101<>\"\",'WM2026-ELO'!BV6,IF($B$99=\"\",2,INT(RAND()*5)+INT(RAND()*3)*INT(RAND()*2)))","v":2},":",{"$f":"IF($B$101<>\"\",'WM2026-ELO'!BW6,IF($B$99=\"\",2,INT(RAND()*5)+INT(RAND()*3)*INT(RAND()*2)))","v":2},"ok",null,null,null,null,null,null,null,null,{"$f":"IF(BK3=$B$98,BH3,0)","v":2},{"$f":"IF(BK5=$B$98,BH5,0)","v":2},{"$f":"IF(BK8=$B$98,BJ7,0)","v":2}]
[53,{"$f":"VLOOKUP(A7,Spiele!$A$1:$L$116,2,FALSE)","v":"2026-06-24T20:00:00"},{"$f":"VLOOKUP(A7,Spiele!$A$1:$L$116,9,FALSE)","v":"Mexico City"},{"$f":"Y5","v":"Tschechien"},"-",{"$f":"Y2","v":"Mexiko"},null,{"$f":"IF($B$101<>\"\",'WM2026-ELO'!V7,IF($B$99=\"\",2,INT(RAND()*5)+INT(RAND()*3)*INT(RAND()*2)))","v":2},":",{"$f":"IF($B$101<>\"\",'WM2026-ELO'!W7,IF($B$99=\"\",2,INT(RAND()*5)+INT(RAND()*3)*INT(RAND()*2)))","v":2},"ok",null,{"$f":"IF(N2>0,M2,\"\")","v":"Mexiko"},"1A",null,null,null,null,{"$f":"IF(K3=$B$98,J3,0)","v":2},null,{"$f":"IF(K7=$B$98,H8,0)","v":2},{"$f":"IF(K6=$B$98,J6,0)","v":2},null,null,null,null,null,null,null,"L0=AE hebelt Berechnung aus (top level Losen)",null,null,null,null,null,null,null,null,null,null,null,null,null,null,null,null,null,null,null,null,null,null,59,{"$f":"VLOOKUP(BA7,Spiele!$A$1:$L$116,2,FALSE)","v":"2026-06-25T19:00:00"},{"$f":"VLOOKUP(BA7,Spiele!$A$1:$L$116,9,FALSE)","v":"Los Angeles"},{"$f":"BY5","v":"Türkei"},"-",{"$f":"BY2","v":"USA"},null,{"$f":"IF($B$101<>\"\",'WM2026-ELO'!BV7,IF($B$99=\"\",2,INT(RAND()*5)+INT(RAND()*3)*INT(RAND()*2)))","v":2},":",{"$f":"IF($B$101<>\"\",'WM2026-ELO'!BW7,IF($B$99=\"\",2,INT(RAND()*5)+INT(RAND()*3)*INT(RAND()*2)))","v":2},"ok",null,{"$f":"IF(BN2>0,BM2,\"\")","v":"USA"},"1D",null,null,null,null,{"$f":"IF(BK3=$B$98,BJ3,0)","v":2},null,{"$f":"IF(BK7=$B$98,BH8,0)","v":2},{"$f":"IF(BK6=$B$98,BJ6,0)","v":2},null,null,null,null,null,null,null,"L0=AE hebelt Berechnung aus (top level Losen)"]
[54,{"$f":"VLOOKUP(A8,Spiele!$A$1:$L$116,2,FALSE)","v":"2026-06-24T20:00:00"},{"$f":"VLOOKUP(A8,Spiele!$A$1:$L$116,9,FALSE)","v":"Monterrey"},{"$f":"Y3","v":"Südafrika"},"-",{"$f":"Y4","v":"Südkorea"},null,{"$f":"IF($B$101<>\"\",'WM2026-ELO'!V8,IF($B$99=\"\",2,INT(RAND()*5)+INT(RAND()*3)*INT(RAND()*2)))","v":2},":",{"$f":"IF($B$101<>\"\",'WM2026-ELO'!W8,IF($B$99=\"\",2,INT(RAND()*5)+INT(RAND()*3)*INT(RAND()*2)))","v":2},"ok",null,{"$f":"IF(N3>0,M3,\"\")","v":"Südafrika"},"2A",null,"DV",null,null,{"$f":"IF(K5=$B$98,J5,0)","v":2},{"$f":"IF(K7=$B$98,J8,0)","v":2},null,{"$f":"IF(K4=$B$98,H4,0)","v":2},null,null,null,null,null,null,null,"L1=AK hebelt Direktvergleich (S1) aus",null,null,null,null,null,null,null,null,null,null,null,null,null,null,null,null,null,null,null,null,null,null,60,{"$f":"VLOOKUP(BA8,Spiele!$A$1:$L$116,2,FALSE)","v":"2026-06-25T19:00:00"},{"$f":"VLOOKUP(BA8,Spiele!$A$1:$L$116,9,FALSE)","v":"San Francisco"},{"$f":"BY3","v":"Paraguay"},"-",{"$f":"BY4","v":"Australien"},null,{"$f":"IF($B$101<>\"\",'WM2026-ELO'!BV8,IF($B$99=\"\",2,INT(RAND()*5)+INT(RAND()*3)*INT(RAND()*2)))","v":2},":",{"$f":"IF($B$101<>\"\",'WM2026-ELO'!BW8,IF($B$99=\"\",2,INT(RAND()*5)+INT(RAND()*3)*INT(RAND()*2)))","v":2},"ok",null,{"$f":"IF(BN3>0,BM3,\"\")","v":"Paraguay"},"2D",null,"DV",null,null,{"$f":"IF(BK5=$B$98,BJ5,0)","v":2},{"$f":"IF(BK7=$B$98,BJ8,0)","v":2},null,{"$f":"IF(BK4=$B$98,BH4,0)","v":2},null,null,null,null,null,null,null,"L1=AK hebelt Direktvergleich (S1) aus"]
[null,null,null,null,null,null,null,null,null,null,null,null,{"$f":"IF(N4>0,M4,\"\")","v":"Südkorea"},"3A",null,null,null,null,{"$f":"IF(K8=$B$98,H7,0)","v":2},{"$f":"IF(K6=$B$98,H6,0)","v":2},{"$f":"IF(K4=$B$98,J4,0)","v":2},null,null,null,null,null,null,null,null,"L4=AV Losen UEFA-Koeffizient, Fairplay oder Münzwurf",null,null,null,null,null,null,null,null,null,null,null,null,null,null,null,null,null,null,null,null,null,null,null,null,null,null,null,null,null,null,null,null,null,null,{"$f":"IF(BN4>0,BM4,\"\")","v":"Australien"},"3D",null,null,null,null,{"$f":"IF(BK8=$B$98,BH7,0)","v":2},{"$f":"IF(BK6=$B$98,BH6,0)","v":2},{"$f":"IF(BK4=$B$98,BJ4,0)","v":2},null,null,null,null,null,null,null,null,"L4=AV Losen UEFA-Koeffizient, Fairplay oder Münzwurf"]
[]
[null,"Vorrunde","Gruppe B"," ",null,null,null,null,null,null,null,null,"Tabelle","P","T+","T-","T+/-",null,null,null,null,null,null,"G","Berechnungen","P","T+","T-","T+/-",null,"L0","DV",null,null,null,"S1","L1","DV-TD",null,null,null,"S2","DV-Tore",null,null,null,"S3","L4",null,null,null,null,null,"Vorrunde","Gruppe E"," ",null,null,null,null,null,null,null,null,"Tabelle","P","T+","T-","T+/-",null,null,null,null,null,null,"G","Berechnungen","P","T+","T-","T+/-",null,"L0","DV",null,null,null,"S1","L1","DV-TD",null,null,null,"S2","DV-Tore",null,null,null,"S3","L4"]
[null,"Datum/Zeit","Spielort",null,null,null,null,null,null,null,null,null,{"$f":"VLOOKUP(1,$X$12:$AC$15,2,FALSE)","v":"Kanada"},{"$f":"VLOOKUP(1,$X$12:$AC$15,3,FALSE)","v":3},{"$f":"VLOOKUP(1,$X$12:$AC$15,4,FALSE)","v":6},{"$f":"VLOOKUP(1,$X$12:$AC$15,5,FALSE)","v":6},{"$f":"VLOOKUP(1,$X$12:$AC$15,6,FALSE)","v":0},null,null,{"$f":"IF(H13=\"\",0,IF(K13=$B$98,IF(H13>J13,3,IF(H13=J13,1,0)),0))","v":1},{"$f":"IF(H15=\"\",0,IF(K15=$B$98,IF(H15>J15,3,IF(H15=J15,1,0)),0))","v":1},{"$f":"IF(J17=\"\",0,IF(K18=$B$98,IF(H17<J17,3,IF(H17=J17,1,0)),0))","v":1},null,{"$f":"RANK(AD12,$AD$12:$AD$15)","v":1},"Kanada",{"$f":"SUM(S12:V12)","v":3},{"$f":"SUM(S16:V16)","v":6},{"$f":"SUM(S16:S19)","v":6},{"$f":"AA12-AB12","v":0},{"$f":"IF(P$18=\"\",(((((((AE12*10+Z12)*100+AC12)*100+AA12)*10+AK12)*10+AJ12)*100+AP12)*100+AU12)*10+AV12,(((((((AE12*10+Z12)*10+AK12)*10+AJ12)*100+AP12)*100+AU12)*100+AC12)*100+AA12)*10+AV12)","v":300000600064},null,null,{"$f":"IF($Z12=$Z13,$T12-$S13,0)","v":0},{"$f":"IF($Z12=$Z14,$U12-$S14,0)","v":0},{"$f":"IF($Z12=$Z15,$V12-$S15,0)","v":0},{"$f":"SUM(AF12:AI12)","v":0},null,null,{"$f":"IF($Z12=$Z13,$T16-$S17,0)","v":0},{"$f":"IF($Z12=$Z14,$U16-$S18,0)","v":0},{"$f":"IF($Z12=$Z15,$V16-$S19,0)","v":0},{"$f":"SUM(AL12:AO12)","v":0},null,{"$f":"IF($Z12=$Z13,$T16,0)","v":2},{"$f":"IF($Z12=$Z14,$U16,0)","v":2},{"$f":"IF($Z12=$Z15,$V16,0)","v":2},{"$f":"SUM(AQ12:AT12)","v":6},4,null,null,null,null,null,"Datum/Zeit","Spielort",null,null,null,null,null,null,null,null,null,{"$f":"VLOOKUP(1,$BX$12:$CC$15,2,FALSE)","v":"Deutschland"},{"$f":"VLOOKUP(1,$BX$12:$CC$15,3,FALSE)","v":3},{"$f":"VLOOKUP(1,$BX$12:$CC$15,4,FALSE)","v":6},{"$f":"VLOOKUP(1,$BX$12:$CC$15,5,FALSE)","v":6},{"$f":"VLOOKUP(1,$BX$12:$CC$15,6,FALSE)","v":0},null,null,{"$f":"IF(BH13=\"\",0,IF(BK13=$B$98,IF(BH13>BJ13,3,IF(BH13=BJ13,1,0)),0))","v":1},{"$f":"IF(BH15=\"\",0,IF(BK15=$B$98,IF(BH15>BJ15,3,IF(BH15=BJ15,1,0)),0))","v":1},{"$f":"IF(BJ17=\"\",0,IF(BK18=$B$98,IF(BH17<BJ17,3,IF(BH17=BJ17,1,0)),0))","v":1},null,{"$f":"RANK(CD12,$CD$12:$CD$15)","v":1},"Deutschland",{"$f":"SUM(BS12:BV12)","v":3},{"$f":"SUM(BS16:BV16)","v":6},{"$f":"SUM(BS16:BS19)","v":6},{"$f":"CA12-CB12","v":0},{"$f":"IF(BP$18=\"\",(((((((CE12*10+BZ12)*100+CC12)*100+CA12)*10+CK12)*10+CJ12)*100+CP12)*100+CU12)*10+CV12,(((((((CE12*10+BZ12)*10+CK12)*10+CJ12)*100+CP12)*100+CU12)*100+CC12)*100+CA12)*10+CV12)","v":300000600064},null,null,{"$f":"IF($BZ12=$BZ13,$BT12-$BS13,0)","v":0},{"$f":"IF($BZ12=$BZ14,$BU12-$BS14,0)","v":0},{"$f":"IF($BZ12=$BZ15,$BV12-$BS15,0)","v":0},{"$f":"SUM(CF12:CI12)","v":0},null,null,{"$f":"IF($BZ12=$BZ13,$BT16-$BS17,0)","v":0},{"$f":"IF($BZ12=$BZ14,$BU16-$BS18,0)","v":0},{"$f":"IF($BZ12=$BZ15,$BV16-$BS19,0)","v":0},{"$f":"SUM(CL12:CO12)","v":0},null,{"$f":"IF($BZ12=$BZ13,$BT16,0)","v":2},{"$f":"IF($BZ12=$BZ14,$BU16,0)","v":2},{"$f":"IF($BZ12=$BZ15,$BV16,0)","v":2},{"$f":"SUM(CQ12:CT12)","v":6},4]
[3,{"$f":"VLOOKUP(A13,Spiele!$A$1:$L$116,2,FALSE)","v":"2026-06-12T15:00:00"},{"$f":"VLOOKUP(A13,Spiele!$A$1:$L$116,9,FALSE)","v":"Toronto"},{"$f":"Y12","v":"Kanada"},"-",{"$f":"Y13","v":"Bosnien/Herzg."},null,{"$f":"IF($B$101<>\"\",'WM2026-ELO'!V13,IF($B$99=\"\",2,INT(RAND()*5)+INT(RAND()*3)*INT(RAND()*2)))","v":2},":",{"$f":"IF($B$101<>\"\",'WM2026-ELO'!W13,IF($B$99=\"\",2,INT(RAND()*5)+INT(RAND()*3)*INT(RAND()*2)))","v":2},"ok",null,{"$f":"VLOOKUP(2,$X$12:$AC$15,2,FALSE)","v":"Bosnien/Herzg."},{"$f":"VLOOKUP(2,$X$12:$AC$15,3,FALSE)","v":3},{"$f":"VLOOKUP(2,$X$12:$AC$15,4,FALSE)","v":6},{"$f":"VLOOKUP(2,$X$12:$AC$15,5,FALSE)","v":6},{"$f":"VLOOKUP(2,$X$12:$AC$15,6,FALSE)","v":0},null,{"$f":"IF(J13=\"\",0,IF(K13=$B$98,IF(H13<J13,3,IF(H13=J13,1,0)),0))","v":1},null,{"$f":"IF(H18=\"\",0,IF(K17=$B$98,IF(H18>J18,3,IF(H18=J18,1,0)),0))","v":1},{"$f":"IF(J16=\"\",0,IF(K16=$B$98,IF(J16>H16,3,IF(J16=H16,1,0)),0))","v":1},null,{"$f":"RANK(AD13,$AD$12:$AD$15)","v":2},"Bosnien/Herzg.",{"$f":"SUM(S13:V13)","v":3},{"$f":"SUM(S17:V17)","v":6},{"$f":"SUM(T16:T19)","v":6},{"$f":"AA13-AB13","v":0},{"$f":"IF(P$18=\"\",(((((((AE13*10+Z13)*100+AC13)*100+AA13)*10+AK13)*10+AJ13)*100+AP13)*100+AU13)*10+AV13,(((((((AE13*10+Z13)*10+AK13)*10+AJ13)*100+AP13)*100+AU13)*100+AC13)*100+AA13)*10+AV13)","v":300000600063},null,{"$f":"IF($Z13=$Z12,$S13-$T12,0)","v":0},null,{"$f":"IF($Z13=$Z14,$U13-$T14,0)","v":0},{"$f":"IF($Z13=$Z15,$V13-$T15,0)","v":0},{"$f":"SUM(AF13:AI13)","v":0},null,{"$f":"IF($Z13=$Z12,$S17-$T16,0)","v":0},null,{"$f":"IF($Z13=$Z14,$U17-$T18,0)","v":0},{"$f":"IF($Z13=$Z15,$V17-$T19,0)","v":0},{"$f":"SUM(AL13:AO13)","v":0},{"$f":"IF($Z13=$Z12,$S17,0)","v":2},null,{"$f":"IF($Z13=$Z14,$U17,0)","v":2},{"$f":"IF($Z13=$Z15,$V17,0)","v":2},{"$f":"SUM(AQ13:AT13)","v":6},3,null,null,null,null,10,{"$f":"VLOOKUP(BA13,Spiele!$A$1:$L$116,2,FALSE)","v":"2026-06-14T12:00:00"},{"$f":"VLOOKUP(BA13,Spiele!$A$1:$L$116,9,FALSE)","v":"Houston"},{"$f":"BY12","v":"Deutschland"},"-",{"$f":"BY13","v":"Curaçao"},null,{"$f":"IF($B$101<>\"\",'WM2026-ELO'!BV13,IF($B$99=\"\",2,INT(RAND()*5)+INT(RAND()*3)*INT(RAND()*2)))","v":2},":",{"$f":"IF($B$101<>\"\",'WM2026-ELO'!BW13,IF($B$99=\"\",2,INT(RAND()*5)+INT(RAND()*3)*INT(RAND()*2)))","v":2},"ok",null,{"$f":"VLOOKUP(2,$BX$12:$CC$15,2,FALSE)","v":"Curaçao"},{"$f":"VLOOKUP(2,$BX$12:$CC$15,3,FALSE)","v":3},{"$f":"VLOOKUP(2,$BX$12:$CC$15,4,FALSE)","v":6},{"$f":"VLOOKUP(2,$BX$12:$CC$15,5,FALSE)","v":6},{"$f":"VLOOKUP(2,$BX$12:$CC$15,6,FALSE)","v":0},null,{"$f":"IF(BJ13=\"\",0,IF(BK13=$B$98,IF(BH13<BJ13,3,IF(BH13=BJ13,1,0)),0))","v":1},null,{"$f":"IF(BH18=\"\",0,IF(BK17=$B$98,IF(BH18>BJ18,3,IF(BH18=BJ18,1,0)),0))","v":1},{"$f":"IF(BJ16=\"\",0,IF(BK16=$B$98,IF(BJ16>BH16,3,IF(BJ16=BH16,1,0)),0))","v":1},null,{"$f":"RANK(CD13,$CD$12:$CD$15)","v":2},"Curaçao",{"$f":"SUM(BS13:BV13)","v":3},{"$f":"SUM(BS17:BV17)","v":6},{"$f":"SUM(BT16:BT19)","v":6},{"$f":"CA13-CB13","v":0},{"$f":"IF(BP$18=\"\",(((((((CE13*10+BZ13)*100+CC13)*100+CA13)*10+CK13)*10+CJ13)*100+CP13)*100+CU13)*10+CV13,(((((((CE13*10+BZ13)*10+CK13)*10+CJ13)*100+CP13)*100+CU13)*100+CC13)*100+CA13)*10+CV13)","v":300000600063},null,{"$f":"IF($BZ13=$BZ12,$BS13-$BT12,0)","v":0},null,{"$f":"IF($BZ13=$BZ14,$BU13-$BT14,0)","v":0},{"$f":"IF($BZ13=$BZ15,$BV13-$BT15,0)","v":0},{"$f":"SUM(CF13:CI13)","v":0},null,{"$f":"IF($BZ13=$BZ12,$BS17-$BT16,0)","v":0},null,{"$f":"IF($BZ13=$BZ14,$BU17-$BT18,0)","v":0},{"$f":"IF($BZ13=$BZ15,$BV17-$BT19,0)","v":0},{"$f":"SUM(CL13:CO13)","v":0},{"$f":"IF($BZ13=$BZ12,$BS17,0)","v":2},null,{"$f":"IF($BZ13=$BZ14,$BU17,0)","v":2},{"$f":"IF($BZ13=$BZ15,$BV17,0)","v":2},{"$f":"SUM(CQ13:CT13)","v":6},3]
[8,{"$f":"VLOOKUP(A14,Spiele!$A$1:$L$116,2,FALSE)","v":"2026-06-13T12:00:00"},{"$f":"VLOOKUP(A14,Spiele!$A$1:$L$116,9,FALSE)","v":"San Francisco"},{"$f":"Y14","v":"Katar"},"-",{"$f":"Y15","v":"Schweiz"},null,{"$f":"IF($B$101<>\"\",'WM2026-ELO'!V14,IF($B$99=\"\",2,INT(RAND()*5)+INT(RAND()*3)*INT(RAND()*2)))","v":2},":",{"$f":"IF($B$101<>\"\",'WM2026-ELO'!W14,IF($B$99=\"\",2,INT(RAND()*5)+INT(RAND()*3)*INT(RAND()*2)))","v":2},"ok",null,{"$f":"VLOOKUP(3,$X$12:$AC$15,2,FALSE)","v":"Katar"},{"$f":"VLOOKUP(3,$X$12:$AC$15,3,FALSE)","v":3},{"$f":"VLOOKUP(3,$X$12:$AC$15,4,FALSE)","v":6},{"$f":"VLOOKUP(3,$X$12:$AC$15,5,FALSE)","v":6},{"$f":"VLOOKUP(3,$X$12:$AC$15,6,FALSE)","v":0},null,{"$f":"IF(J15=\"\",0,IF(K15=$B$98,IF(H15<J15,3,IF(H15=J15,1,0)),0))","v":1},{"$f":"IF(J18=\"\",0,IF(K17=$B$98,IF(H18<J18,3,IF(H18=J18,1,0)),0))","v":1},null,{"$f":"IF(H14=\"\",0,IF(K14=$B$98,IF(H14>J14,3,IF(H14=J14,1,0)),0))","v":1},null,{"$f":"RANK(AD14,$AD$12:$AD$15)","v":3},"Katar",{"$f":"SUM(S14:V14)","v":3},{"$f":"SUM(S18:V18)","v":6},{"$f":"SUM(U16:U19)","v":6},{"$f":"AA14-AB14","v":0},{"$f":"IF(P$18=\"\",(((((((AE14*10+Z14)*100+AC14)*100+AA14)*10+AK14)*10+AJ14)*100+AP14)*100+AU14)*10+AV14,(((((((AE14*10+Z14)*10+AK14)*10+AJ14)*100+AP14)*100+AU14)*100+AC14)*100+AA14)*10+AV14)","v":300000600062},null,{"$f":"IF($Z14=$Z12,$S14-$U12,0)","v":0},{"$f":"IF($Z14=$Z13,$T14-$U13,0)","v":0},null,{"$f":"IF($Z14=$Z15,$V14-$U15,0)","v":0},{"$f":"SUM(AF14:AI14)","v":0},null,{"$f":"IF($Z14=$Z12,$S18-$U16,0)","v":0},{"$f":"IF($Z14=$Z13,$T18-$U17,0)","v":0},null,{"$f":"IF($Z14=$Z15,$V18-$U19,0)","v":0},{"$f":"SUM(AL14:AO14)","v":0},{"$f":"IF($Z14=$Z12,$S18,0)","v":2},{"$f":"IF($Z14=$Z13,$T18,0)","v":2},null,{"$f":"IF($Z14=$Z15,$V18,0)","v":2},{"$f":"SUM(AQ14:AT14)","v":6},2,null,null,null,null,9,{"$f":"VLOOKUP(BA14,Spiele!$A$1:$L$116,2,FALSE)","v":"2026-06-14T19:00:00"},{"$f":"VLOOKUP(BA14,Spiele!$A$1:$L$116,9,FALSE)","v":"Philadelphia"},{"$f":"BY14","v":"Elfenbeinküste"},"-",{"$f":"BY15","v":"Ecuador"},null,{"$f":"IF($B$101<>\"\",'WM2026-ELO'!BV14,IF($B$99=\"\",2,INT(RAND()*5)+INT(RAND()*3)*INT(RAND()*2)))","v":2},":",{"$f":"IF($B$101<>\"\",'WM2026-ELO'!BW14,IF($B$99=\"\",2,INT(RAND()*5)+INT(RAND()*3)*INT(RAND()*2)))","v":2},"ok",null,{"$f":"VLOOKUP(3,$BX$12:$CC$15,2,FALSE)","v":"Elfenbeinküste"},{"$f":"VLOOKUP(3,$BX$12:$CC$15,3,FALSE)","v":3},{"$f":"VLOOKUP(3,$BX$12:$CC$15,4,FALSE)","v":6},{"$f":"VLOOKUP(3,$BX$12:$CC$15,5,FALSE)","v":6},{"$f":"VLOOKUP(3,$BX$12:$CC$15,6,FALSE)","v":0},null,{"$f":"IF(BJ15=\"\",0,IF(BK15=$B$98,IF(BH15<BJ15,3,IF(BH15=BJ15,1,0)),0))","v":1},{"$f":"IF(BJ18=\"\",0,IF(BK17=$B$98,IF(BH18<BJ18,3,IF(BH18=BJ18,1,0)),0))","v":1},null,{"$f":"IF(BH14=\"\",0,IF(BK14=$B$98,IF(BH14>BJ14,3,IF(BH14=BJ14,1,0)),0))","v":1},null,{"$f":"RANK(CD14,$CD$12:$CD$15)","v":3},"Elfenbeinküste",{"$f":"SUM(BS14:BV14)","v":3},{"$f":"SUM(BS18:BV18)","v":6},{"$f":"SUM(BU16:BU19)","v":6},{"$f":"CA14-CB14","v":0},{"$f":"IF(BP$18=\"\",(((((((CE14*10+BZ14)*100+CC14)*100+CA14)*10+CK14)*10+CJ14)*100+CP14)*100+CU14)*10+CV14,(((((((CE14*10+BZ14)*10+CK14)*10+CJ14)*100+CP14)*100+CU14)*100+CC14)*100+CA14)*10+CV14)","v":300000600062},null,{"$f":"IF($BZ14=$BZ12,$BS14-$BU12,0)","v":0},{"$f":"IF($BZ14=$BZ13,$BT14-$BU13,0)","v":0},null,{"$f":"IF($BZ14=$BZ15,$BV14-$BU15,0)","v":0},{"$f":"SUM(CF14:CI14)","v":0},null,{"$f":"IF($BZ14=$BZ12,$BS18-$BU16,0)","v":0},{"$f":"IF($BZ14=$BZ13,$BT18-$BU17,0)","v":0},null,{"$f":"IF($BZ14=$BZ15,$BV18-$BU19,0)","v":0},{"$f":"SUM(CL14:CO14)","v":0},{"$f":"IF($BZ14=$BZ12,$BS18,0)","v":2},{"$f":"IF($BZ14=$BZ13,$BT18,0)","v":2},null,{"$f":"IF($BZ14=$BZ15,$BV18,0)","v":2},{"$f":"SUM(CQ14:CT14)","v":6},2]
[27,{"$f":"VLOOKUP(A15,Spiele!$A$1:$L$116,2,FALSE)","v":"2026-06-18T15:00:00"},{"$f":"VLOOKUP(A15,Spiele!$A$1:$L$116,9,FALSE)","v":"Vancouver"},{"$f":"Y12","v":"Kanada"},"-",{"$f":"Y14","v":"Katar"},null,{"$f":"IF($B$101<>\"\",'WM2026-ELO'!V15,IF($B$99=\"\",2,INT(RAND()*5)+INT(RAND()*3)*INT(RAND()*2)))","v":2},":",{"$f":"IF($B$101<>\"\",'WM2026-ELO'!W15,IF($B$99=\"\",2,INT(RAND()*5)+INT(RAND()*3)*INT(RAND()*2)))","v":2},"ok",null,{"$f":"VLOOKUP(4,$X$12:$AC$15,2,FALSE)","v":"Schweiz"},{"$f":"VLOOKUP(4,$X$12:$AC$15,3,FALSE)","v":3},{"$f":"VLOOKUP(4,$X$12:$AC$15,4,FALSE)","v":6},{"$f":"VLOOKUP(4,$X$12:$AC$15,5,FALSE)","v":6},{"$f":"VLOOKUP(4,$X$12:$AC$15,6,FALSE)","v":0},null,{"$f":"IF(H17=\"\",0,IF(K18=$B$98,IF(H17>J17,3,IF(H17=J17,1,0)),0))","v":1},{"$f":"IF(H16=\"\",0,IF(K16=$B$98,IF(J16<H16,3,IF(J16=H16,1,0)),0))","v":1},{"$f":"IF(J14=\"\",0,IF(K14=$B$98,IF(H14<J14,3,IF(H14=J14,1,0)),0))","v":1},null,null,{"$f":"RANK(AD15,$AD$12:$AD$15)","v":4},"Schweiz",{"$f":"SUM(S15:V15)","v":3},{"$f":"SUM(S19:V19)","v":6},{"$f":"SUM(V16:V19)","v":6},{"$f":"AA15-AB15","v":0},{"$f":"IF(P$18=\"\",(((((((AE15*10+Z15)*100+AC15)*100+AA15)*10+AK15)*10+AJ15)*100+AP15)*100+AU15)*10+AV15,(((((((AE15*10+Z15)*10+AK15)*10+AJ15)*100+AP15)*100+AU15)*100+AC15)*100+AA15)*10+AV15)","v":300000600061},null,{"$f":"IF($Z15=$Z12,$S15-$V12,0)","v":0},{"$f":"IF($Z15=$Z13,$T15-$V13,0)","v":0},{"$f":"IF($Z15=$Z14,$U15-$V14,0)","v":0},null,{"$f":"SUM(AF15:AI15)","v":0},null,{"$f":"IF($Z15=$Z12,$S19-$V16,0)","v":0},{"$f":"IF($Z15=$Z13,$T19-$V17,0)","v":0},{"$f":"IF($Z15=$Z14,$U19-$V18,0)","v":0},null,{"$f":"SUM(AL15:AO15)","v":0},{"$f":"IF($Z15=$Z12,$S19,0)","v":2},{"$f":"IF($Z15=$Z13,$T19,0)","v":2},{"$f":"IF($Z15=$Z14,$U19,0)","v":2},null,{"$f":"SUM(AQ15:AT15)","v":6},1,null,null,null,null,33,{"$f":"VLOOKUP(BA15,Spiele!$A$1:$L$116,2,FALSE)","v":"2026-06-20T16:00:00"},{"$f":"VLOOKUP(BA15,Spiele!$A$1:$L$116,9,FALSE)","v":"Toronto"},{"$f":"BY12","v":"Deutschland"},"-",{"$f":"BY14","v":"Elfenbeinküste"},null,{"$f":"IF($B$101<>\"\",'WM2026-ELO'!BV15,IF($B$99=\"\",2,INT(RAND()*5)+INT(RAND()*3)*INT(RAND()*2)))","v":2},":",{"$f":"IF($B$101<>\"\",'WM2026-ELO'!BW15,IF($B$99=\"\",2,INT(RAND()*5)+INT(RAND()*3)*INT(RAND()*2)))","v":2},"ok",null,{"$f":"VLOOKUP(4,$BX$12:CC$15,2,FALSE)","v":"Ecuador"},{"$f":"VLOOKUP(4,$BX$12:$CC$15,3,FALSE)","v":3},{"$f":"VLOOKUP(4,$BX$12:$CC$15,4,FALSE)","v":6},{"$f":"VLOOKUP(4,$BX$12:$CC$15,5,FALSE)","v":6},{"$f":"VLOOKUP(4,$BX$12:$CC$15,6,FALSE)","v":0},null,{"$f":"IF(BH17=\"\",0,IF(BK18=$B$98,IF(BH17>BJ17,3,IF(BH17=BJ17,1,0)),0))","v":1},{"$f":"IF(BH16=\"\",0,IF(BK16=$B$98,IF(BJ16<BH16,3,IF(BJ16=BH16,1,0)),0))","v":1},{"$f":"IF(BJ14=\"\",0,IF(BK14=$B$98,IF(BH14<BJ14,3,IF(BH14=BJ14,1,0)),0))","v":1},null,null,{"$f":"RANK(CD15,$CD$12:$CD$15)","v":4},"Ecuador",{"$f":"SUM(BS15:BV15)","v":3},{"$f":"SUM(BS19:BV19)","v":6},{"$f":"SUM(BV16:BV19)","v":6},{"$f":"CA15-CB15","v":0},{"$f":"IF(BP$18=\"\",(((((((CE15*10+BZ15)*100+CC15)*100+CA15)*10+CK15)*10+CJ15)*100+CP15)*100+CU15)*10+CV15,(((((((CE15*10+BZ15)*10+CK15)*10+CJ15)*100+CP15)*100+CU15)*100+CC15)*100+CA15)*10+CV15)","v":300000600061},null,{"$f":"IF($BZ15=$BZ12,$BS15-$BV12,0)","v":0},{"$f":"IF($BZ15=$BZ13,$BT15-$BV13,0)","v":0},{"$f":"IF($BZ15=$BZ14,$BU15-$BV14,0)","v":0},null,{"$f":"SUM(CF15:CI15)","v":0},null,{"$f":"IF($BZ15=$BZ12,$BS19-$BV16,0)","v":0},{"$f":"IF($BZ15=$BZ13,$BT19-$BV17,0)","v":0},{"$f":"IF($BZ15=$BZ14,$BU19-$BV18,0)","v":0},null,{"$f":"SUM(CL15:CO15)","v":0},{"$f":"IF($BZ15=$BZ12,$BS19,0)","v":2},{"$f":"IF($BZ15=$BZ13,$BT19,0)","v":2},{"$f":"IF($BZ15=$BZ14,$BU19,0)","v":2},null,{"$f":"SUM(CQ15:CT15)","v":6},1]
[26,{"$f":"VLOOKUP(A16,Spiele!$A$1:$L$116,2,FALSE)","v":"2026-06-18T12:00:00"},{"$f":"VLOOKUP(A16,Spiele!$A$1:$L$116,9,FALSE)","v":"Los Angeles"},{"$f":"Y15","v":"Schweiz"},"-",{"$f":"Y13","v":"Bosnien/Herzg."},null,{"$f":"IF($B$101<>\"\",'WM2026-ELO'!V16,IF($B$99=\"\",2,INT(RAND()*5)+INT(RAND()*3)*INT(RAND()*2)))","v":2},":",{"$f":"IF($B$101<>\"\",'WM2026-ELO'!W16,IF($B$99=\"\",2,INT(RAND()*5)+INT(RAND()*3)*INT(RAND()*2)))","v":2},"ok",null,null,null,null,null,null,null,null,{"$f":"IF(K13=$B$98,H13,0)","v":2},{"$f":"IF(K15=$B$98,H15,0)","v":2},{"$f":"IF(K18=$B$98,J17,0)","v":2},null,null,null,null,null,null,null,null,null,null,null,null,null,null,null,null,null,null,null,null,null,null,null,null,null,null,null,null,null,null,34,{"$f":"VLOOKUP(BA16,Spiele!$A$1:$L$116,2,FALSE)","v":"2026-06-20T19:00:00"},{"$f":"VLOOKUP(BA16,Spiele!$A$1:$L$116,9,FALSE)","v":"Kansas City"},{"$f":"BY15","v":"Ecuador"},"-",{"$f":"BY13","v":"Curaçao"},null,{"$f":"IF($B$101<>\"\",'WM2026-ELO'!BV16,IF($B$99=\"\",2,INT(RAND()*5)+INT(RAND()*3)*INT(RAND()*2)))","v":2},":",{"$f":"IF($B$101<>\"\",'WM2026-ELO'!BW16,IF($B$99=\"\",2,INT(RAND()*5)+INT(RAND()*3)*INT(RAND()*2)))","v":2},"ok",null,null,null,null,null,null,null,null,{"$f":"IF(BK13=$B$98,BH13,0)","v":2},{"$f":"IF(BK15=$B$98,BH15,0)","v":2},{"$f":"IF(BK18=$B$98,BJ17,0)","v":2}]
[51,{"$f":"VLOOKUP(A17,Spiele!$A$1:$L$116,2,FALSE)","v":"2026-06-24T12:00:00"},{"$f":"VLOOKUP(A17,Spiele!$A$1:$L$116,9,FALSE)","v":"Vancouver"},{"$f":"Y15","v":"Schweiz"},"-",{"$f":"Y12","v":"Kanada"},null,{"$f":"IF($B$101<>\"\",'WM2026-ELO'!V17,IF($B$99=\"\",2,INT(RAND()*5)+INT(RAND()*3)*INT(RAND()*2)))","v":2},":",{"$f":"IF($B$101<>\"\",'WM2026-ELO'!W17,IF($B$99=\"\",2,INT(RAND()*5)+INT(RAND()*3)*INT(RAND()*2)))","v":2},"ok",null,{"$f":"IF(N12>0,M12,\"\")","v":"Kanada"},"1B",null,null,null,null,{"$f":"IF(K13=$B$98,J13,0)","v":2},null,{"$f":"IF(K17=$B$98,H18,0)","v":2},{"$f":"IF(K16=$B$98,J16,0)","v":2},null,null,null,null,null,null,null,"L0=AE hebelt Berechnung aus (top level Losen)",null,null,null,null,null,null,null,null,null,null,null,null,null,null,null,null,null,null,null,null,null,null,57,{"$f":"VLOOKUP(BA17,Spiele!$A$1:$L$116,2,FALSE)","v":"2026-06-25T18:00:00"},{"$f":"VLOOKUP(BA17,Spiele!$A$1:$L$116,9,FALSE)","v":"Dallas"},{"$f":"BY15","v":"Ecuador"},"-",{"$f":"BY12","v":"Deutschland"},null,{"$f":"IF($B$101<>\"\",'WM2026-ELO'!BV17,IF($B$99=\"\",2,INT(RAND()*5)+INT(RAND()*3)*INT(RAND()*2)))","v":2},":",{"$f":"IF($B$101<>\"\",'WM2026-ELO'!BW17,IF($B$99=\"\",2,INT(RAND()*5)+INT(RAND()*3)*INT(RAND()*2)))","v":2},"ok",null,{"$f":"IF(BN12>0,BM12,\"\")","v":"Deutschland"},"1E",null,null,null,null,{"$f":"IF(BK13=$B$98,BJ13,0)","v":2},null,{"$f":"IF(BK17=$B$98,BH18,0)","v":2},{"$f":"IF(BK16=$B$98,BJ16,0)","v":2},null,null,null,null,null,null,null,"L0=AE hebelt Berechnung aus (top level Losen)"]
[52,{"$f":"VLOOKUP(A18,Spiele!$A$1:$L$116,2,FALSE)","v":"2026-06-24T12:00:00"},{"$f":"VLOOKUP(A18,Spiele!$A$1:$L$116,9,FALSE)","v":"Seattle"},{"$f":"Y13","v":"Bosnien/Herzg."},"-",{"$f":"Y14","v":"Katar"},null,{"$f":"IF($B$101<>\"\",'WM2026-ELO'!V18,IF($B$99=\"\",2,INT(RAND()*5)+INT(RAND()*3)*INT(RAND()*2)))","v":2},":",{"$f":"IF($B$101<>\"\",'WM2026-ELO'!W18,IF($B$99=\"\",2,INT(RAND()*5)+INT(RAND()*3)*INT(RAND()*2)))","v":2},"ok",null,{"$f":"IF(N13>0,M13,\"\")","v":"Bosnien/Herzg."},"2B",null,"DV",null,null,{"$f":"IF(K15=$B$98,J15,0)","v":2},{"$f":"IF(K17=$B$98,J18,0)","v":2},null,{"$f":"IF(K14=$B$98,H14,0)","v":2},null,null,null,null,null,null,null,"L1=AK hebelt Direktvergleich (S1) aus",null,null,null,null,null,null,null,null,null,null,null,null,null,null,null,null,null,null,null,null,null,null,58,{"$f":"VLOOKUP(BA18,Spiele!$A$1:$L$116,2,FALSE)","v":"2026-06-25T18:00:00"},{"$f":"VLOOKUP(BA18,Spiele!$A$1:$L$116,9,FALSE)","v":"Kansas City"},{"$f":"BY13","v":"Curaçao"},"-",{"$f":"BY14","v":"Elfenbeinküste"},null,{"$f":"IF($B$101<>\"\",'WM2026-ELO'!BV18,IF($B$99=\"\",2,INT(RAND()*5)+INT(RAND()*3)*INT(RAND()*2)))","v":2},":",{"$f":"IF($B$101<>\"\",'WM2026-ELO'!BW18,IF($B$99=\"\",2,INT(RAND()*5)+INT(RAND()*3)*INT(RAND()*2)))","v":2},"ok",null,{"$f":"IF(BN13>0,BM13,\"\")","v":"Curaçao"},"2E",null,"DV",null,null,{"$f":"IF(BK15=$B$98,BJ15,0)","v":2},{"$f":"IF(BK17=$B$98,BJ18,0)","v":2},null,{"$f":"IF(BK14=$B$98,BH14,0)","v":2},null,null,null,null,null,null,null,"L1=AK hebelt Direktvergleich (S1) aus"]
[null,null,null,null,null,null,null,null,null,null,null,null,{"$f":"IF(N14>0,M14,\"\")","v":"Katar"},"3B",null,null,null,null,{"$f":"IF(K18=$B$98,H17,0)","v":2},{"$f":"IF(K16=$B$98,H16,0)","v":2},{"$f":"IF(K14=$B$98,J14,0)","v":2},null,null,null,null,null,null,null,null,"L4=AV Losen UEFA-Koeffizient, Fairplay oder Münzwurf",null,null,null,null,null,null,null,null,null,null,null,null,null,null,null,null,null,null,null,null,null,null,null," ",null,null,null,null,null,null,null,null,null,null,{"$f":"IF(BN14>0,BM14,\"\")","v":"Elfenbeinküste"},"3E",null,null,null,null,{"$f":"IF(BK18=$B$98,BH17,0)","v":2},{"$f":"IF(BK16=$B$98,BH16,0)","v":2},{"$f":"IF(BK14=$B$98,BJ14,0)","v":2},null,null,null,null,null,null,null,null,"L4=AV Losen UEFA-Koeffizient, Fairplay oder Münzwurf"]
[]
[null,"Vorrunde","Gruppe C"," ",null,null,null,null,null,null,null,null,"Tabelle","P","T+","T-","T+/-",null,null,null,null,null,null,"G","Berechnungen","P","T+","T-","T+/-",null,"L0","DV",null,null,null,"S1","L1","DV-TD",null,null,null,"S2","DV-Tore",null,null,null,"S3","L4",null,null,null,null,null,"Vorrunde","Gruppe F"," ",null,null,null,null,null,null,null,null,"Tabelle","P","T+","T-","T+/-",null,null,null,null,null,null,"G","Berechnungen","P","T+","T-","T+/-",null,"L0","DV",null,null,null,"S1","L1","DV-TD",null,null,null,"S2","DV-Tore",null,null,null,"S3","L4"]
[null,"Datum/Zeit","Spielort",null,null,null,null,null,null,null,null,null,{"$f":"VLOOKUP(1,$X$22:$AC$25,2,FALSE)","v":"Brasilien"},{"$f":"VLOOKUP(1,$X$22:$AC$25,3,FALSE)","v":3},{"$f":"VLOOKUP(1,$X$22:$AC$25,4,FALSE)","v":6},{"$f":"VLOOKUP(1,$X$22:$AC$25,5,FALSE)","v":6},{"$f":"VLOOKUP(1,$X$22:$AC$25,6,FALSE)","v":0},null,null,{"$f":"IF(H23=\"\",0,IF(K23=$B$98,IF(H23>J23,3,IF(H23=J23,1,0)),0))","v":1},{"$f":"IF(H25=\"\",0,IF(K25=$B$98,IF(H25>J25,3,IF(H25=J25,1,0)),0))","v":1},{"$f":"IF(J27=\"\",0,IF(K28=$B$98,IF(H27<J27,3,IF(H27=J27,1,0)),0))","v":1},null,{"$f":"RANK(AD22,$AD$22:$AD$25)","v":1},"Brasilien",{"$f":"SUM(S22:V22)","v":3},{"$f":"SUM(S26:V26)","v":6},{"$f":"SUM(S26:S29)","v":6},{"$f":"AA22-AB22","v":0},{"$f":"IF(P$28=\"\",(((((((AE22*10+Z22)*100+AC22)*100+AA22)*10+AK22)*10+AJ22)*100+AP22)*100+AU22)*10+AV22,(((((((AE22*10+Z22)*10+AK22)*10+AJ22)*100+AP22)*100+AU22)*100+AC22)*100+AA22)*10+AV22)","v":300000600064},null,null,{"$f":"IF($Z22=$Z23,$T22-$S23,0)","v":0},{"$f":"IF($Z22=$Z24,$U22-$S24,0)","v":0},{"$f":"IF($Z22=$Z25,$V22-$S25,0)","v":0},{"$f":"SUM(AF22:AI22)","v":0},null,null,{"$f":"IF($Z22=$Z23,$T26-$S27,0)","v":0},{"$f":"IF($Z22=$Z24,$U26-$S28,0)","v":0},{"$f":"IF($Z22=$Z25,$V26-$S29,0)","v":0},{"$f":"SUM(AL22:AO22)","v":0},null,{"$f":"IF($Z22=$Z23,$T26,0)","v":2},{"$f":"IF($Z22=$Z24,$U26,0)","v":2},{"$f":"IF($Z22=$Z25,$V26,0)","v":2},{"$f":"SUM(AQ22:AT22)","v":6},4,null,null,null,null,null,"Datum/Zeit","Spielort",null,null,null,null,null,null,null,null,null,{"$f":"VLOOKUP(1,$BX$22:$CC$25,2,FALSE)","v":"Niederlande"},{"$f":"VLOOKUP(1,$BX$22:$CC$25,3,FALSE)","v":3},{"$f":"VLOOKUP(1,$BX$22:$CC$25,4,FALSE)","v":6},{"$f":"VLOOKUP(1,$BX$22:$CC$25,5,FALSE)","v":6},{"$f":"VLOOKUP(1,$BX$22:$CC$25,6,FALSE)","v":0},null,null,{"$f":"IF(BH23=\"\",0,IF(BK23=$B$98,IF(BH23>BJ23,3,IF(BH23=BJ23,1,0)),0))","v":1},{"$f":"IF(BH25=\"\",0,IF(BK25=$B$98,IF(BH25>BJ25,3,IF(BH25=BJ25,1,0)),0))","v":1},{"$f":"IF(BJ27=\"\",0,IF(BK28=$B$98,IF(BH27<BJ27,3,IF(BH27=BJ27,1,0)),0))","v":1},null,{"$f":"RANK(CD22,$CD$22:$CD$25)","v":1},"Niederlande",{"$f":"SUM(BS22:BV22)","v":3},{"$f":"SUM(BS26:BV26)","v":6},{"$f":"SUM(BS26:BS29)","v":6},{"$f":"CA22-CB22","v":0},{"$f":"IF(BP$28=\"\",(((((((CE22*10+BZ22)*100+CC22)*100+CA22)*10+CK22)*10+CJ22)*100+CP22)*100+CU22)*10+CV22,(((((((CE22*10+BZ22)*10+CK22)*10+CJ22)*100+CP22)*100+CU22)*100+CC22)*100+CA22)*10+CV22)","v":300000600064},null,null,{"$f":"IF($BZ22=$BZ23,$BT22-$BS23,0)","v":0},{"$f":"IF($BZ22=$BZ24,$BU22-$BS24,0)","v":0},{"$f":"IF($BZ22=$BZ25,$BV22-$BS25,0)","v":0},{"$f":"SUM(CF22:CI22)","v":0},null,null,{"$f":"IF($BZ22=$BZ23,$BT26-$BS27,0)","v":0},{"$f":"IF($BZ22=$BZ24,$BU26-$BS28,0)","v":0},{"$f":"IF($BZ22=$BZ25,$BV26-$BS29,0)","v":0},{"$f":"SUM(CL22:CO22)","v":0},null,{"$f":"IF($BZ22=$BZ23,$BT26,0)","v":2},{"$f":"IF($BZ22=$BZ24,$BU26,0)","v":2},{"$f":"IF($BZ22=$BZ25,$BV26,0)","v":2},{"$f":"SUM(CQ22:CT22)","v":6},4]
[7,{"$f":"VLOOKUP(A23,Spiele!$A$1:$L$116,2,FALSE)","v":"2026-06-13T18:00:00"},{"$f":"VLOOKUP(A23,Spiele!$A$1:$L$116,9,FALSE)","v":"New York"},{"$f":"Y22","v":"Brasilien"},"-",{"$f":"Y23","v":"Marokko"},null,{"$f":"IF($B$101<>\"\",'WM2026-ELO'!V23,IF($B$99=\"\",2,INT(RAND()*5)+INT(RAND()*3)*INT(RAND()*2)))","v":2},":",{"$f":"IF($B$101<>\"\",'WM2026-ELO'!W23,IF($B$99=\"\",2,INT(RAND()*5)+INT(RAND()*3)*INT(RAND()*2)))","v":2},"ok",null,{"$f":"VLOOKUP(2,$X$22:$AC$25,2,FALSE)","v":"Marokko"},{"$f":"VLOOKUP(2,$X$22:$AC$25,3,FALSE)","v":3},{"$f":"VLOOKUP(2,$X$22:$AC$25,4,FALSE)","v":6},{"$f":"VLOOKUP(2,$X$22:$AC$25,5,FALSE)","v":6},{"$f":"VLOOKUP(2,$X$22:$AC$25,6,FALSE)","v":0},null,{"$f":"IF(J23=\"\",0,IF(K23=$B$98,IF(H23<J23,3,IF(H23=J23,1,0)),0))","v":1},null,{"$f":"IF(H28=\"\",0,IF(K27=$B$98,IF(H28>J28,3,IF(H28=J28,1,0)),0))","v":1},{"$f":"IF(J26=\"\",0,IF(K26=$B$98,IF(J26>H26,3,IF(J26=H26,1,0)),0))","v":1},null,{"$f":"RANK(AD23,$AD$22:$AD$25)","v":2},"Marokko",{"$f":"SUM(S23:V23)","v":3},{"$f":"SUM(S27:V27)","v":6},{"$f":"SUM(T26:T29)","v":6},{"$f":"AA23-AB23","v":0},{"$f":"IF(P$28=\"\",(((((((AE23*10+Z23)*100+AC23)*100+AA23)*10+AK23)*10+AJ23)*100+AP23)*100+AU23)*10+AV23,(((((((AE23*10+Z23)*10+AK23)*10+AJ23)*100+AP23)*100+AU23)*100+AC23)*100+AA23)*10+AV23)","v":300000600063},null,{"$f":"IF($Z23=$Z22,$S23-$T22,0)","v":0},null,{"$f":"IF($Z23=$Z24,$U23-$T24,0)","v":0},{"$f":"IF($Z23=$Z25,$V23-$T25,0)","v":0},{"$f":"SUM(AF23:AI23)","v":0},null,{"$f":"IF($Z23=$Z22,$S27-$T26,0)","v":0},null,{"$f":"IF($Z23=$Z24,$U27-$T28,0)","v":0},{"$f":"IF($Z23=$Z25,$V27-$T29,0)","v":0},{"$f":"SUM(AL23:AO23)","v":0},{"$f":"IF($Z23=$Z22,$S27,0)","v":2},null,{"$f":"IF($Z23=$Z24,$U27,0)","v":2},{"$f":"IF($Z23=$Z25,$V27,0)","v":2},{"$f":"SUM(AQ23:AT23)","v":6},3,null,null,null,null,11,{"$f":"VLOOKUP(BA23,Spiele!$A$1:$L$116,2,FALSE)","v":"2026-06-14T15:00:00"},{"$f":"VLOOKUP(BA23,Spiele!$A$1:$L$116,9,FALSE)","v":"Dallas"},{"$f":"BY22","v":"Niederlande"},"-",{"$f":"BY23","v":"Japan"},null,{"$f":"IF($B$101<>\"\",'WM2026-ELO'!BV23,IF($B$99=\"\",2,INT(RAND()*5)+INT(RAND()*3)*INT(RAND()*2)))","v":2},":",{"$f":"IF($B$101<>\"\",'WM2026-ELO'!BW23,IF($B$99=\"\",2,INT(RAND()*5)+INT(RAND()*3)*INT(RAND()*2)))","v":2},"ok",null,{"$f":"VLOOKUP(2,$BX$22:$CC$25,2,FALSE)","v":"Japan"},{"$f":"VLOOKUP(2,$BX$22:$CC$25,3,FALSE)","v":3},{"$f":"VLOOKUP(2,$BX$22:$CC$25,4,FALSE)","v":6},{"$f":"VLOOKUP(2,$BX$22:$CC$25,5,FALSE)","v":6},{"$f":"VLOOKUP(2,$BX$22:$CC$25,6,FALSE)","v":0},null,{"$f":"IF(BJ23=\"\",0,IF(BK23=$B$98,IF(BH23<BJ23,3,IF(BH23=BJ23,1,0)),0))","v":1},null,{"$f":"IF(BH28=\"\",0,IF(BK27=$B$98,IF(BH28>BJ28,3,IF(BH28=BJ28,1,0)),0))","v":1},{"$f":"IF(BJ26=\"\",0,IF(BK26=$B$98,IF(BJ26>BH26,3,IF(BJ26=BH26,1,0)),0))","v":1},null,{"$f":"RANK(CD23,$CD$22:$CD$25)","v":2},"Japan",{"$f":"SUM(BS23:BV23)","v":3},{"$f":"SUM(BS27:BV27)","v":6},{"$f":"SUM(BT26:BT29)","v":6},{"$f":"CA23-CB23","v":0},{"$f":"IF(BP$28=\"\",(((((((CE23*10+BZ23)*100+CC23)*100+CA23)*10+CK23)*10+CJ23)*100+CP23)*100+CU23)*10+CV23,(((((((CE23*10+BZ23)*10+CK23)*10+CJ23)*100+CP23)*100+CU23)*100+CC23)*100+CA23)*10+CV23)","v":300000600063},null,{"$f":"IF($BZ23=$BZ22,$BS23-$BT22,0)","v":0},null,{"$f":"IF($BZ23=$BZ24,$BU23-$BT24,0)","v":0},{"$f":"IF($BZ23=$BZ25,$BV23-$BT25,0)","v":0},{"$f":"SUM(CF23:CI23)","v":0},null,{"$f":"IF($BZ23=$BZ22,$BS27-$BT26,0)","v":0},null,{"$f":"IF($BZ23=$BZ24,$BU27-$BT28,0)","v":0},{"$f":"IF($BZ23=$BZ25,$BV27-$BT29,0)","v":0},{"$f":"SUM(CL23:CO23)","v":0},{"$f":"IF($BZ23=$BZ22,$BS27,0)","v":2},null,{"$f":"IF($BZ23=$BZ24,$BU27,0)","v":2},{"$f":"IF($BZ23=$BZ25,$BV27,0)","v":2},{"$f":"SUM(CQ23:CT23)","v":6},3]
[5,{"$f":"VLOOKUP(A24,Spiele!$A$1:$L$116,2,FALSE)","v":"2026-06-13T21:00:00"},{"$f":"VLOOKUP(A24,Spiele!$A$1:$L$116,9,FALSE)","v":"Boston"},{"$f":"Y24","v":"Haiti"},"-",{"$f":"Y25","v":"Schottland"},null,{"$f":"IF($B$101<>\"\",'WM2026-ELO'!V24,IF($B$99=\"\",2,INT(RAND()*5)+INT(RAND()*3)*INT(RAND()*2)))","v":2},":",{"$f":"IF($B$101<>\"\",'WM2026-ELO'!W24,IF($B$99=\"\",2,INT(RAND()*5)+INT(RAND()*3)*INT(RAND()*2)))","v":2},"ok",null,{"$f":"VLOOKUP(3,$X$22:$AC$25,2,FALSE)","v":"Haiti"},{"$f":"VLOOKUP(3,$X$22:$AC$25,3,FALSE)","v":3},{"$f":"VLOOKUP(3,$X$22:$AC$25,4,FALSE)","v":6},{"$f":"VLOOKUP(3,$X$22:$AC$25,5,FALSE)","v":6},{"$f":"VLOOKUP(3,$X$22:$AC$25,6,FALSE)","v":0},null,{"$f":"IF(J25=\"\",0,IF(K25=$B$98,IF(H25<J25,3,IF(H25=J25,1,0)),0))","v":1},{"$f":"IF(J28=\"\",0,IF(K27=$B$98,IF(H28<J28,3,IF(H28=J28,1,0)),0))","v":1},null,{"$f":"IF(H24=\"\",0,IF(K24=$B$98,IF(H24>J24,3,IF(H24=J24,1,0)),0))","v":1},null,{"$f":"RANK(AD24,$AD$22:$AD$25)","v":3},"Haiti",{"$f":"SUM(S24:V24)","v":3},{"$f":"SUM(S28:V28)","v":6},{"$f":"SUM(U26:U29)","v":6},{"$f":"AA24-AB24","v":0},{"$f":"IF(P$28=\"\",(((((((AE24*10+Z24)*100+AC24)*100+AA24)*10+AK24)*10+AJ24)*100+AP24)*100+AU24)*10+AV24,(((((((AE24*10+Z24)*10+AK24)*10+AJ24)*100+AP24)*100+AU24)*100+AC24)*100+AA24)*10+AV24)","v":300000600062},null,{"$f":"IF($Z24=$Z22,$S24-$U22,0)","v":0},{"$f":"IF($Z24=$Z23,$T24-$U23,0)","v":0},null,{"$f":"IF($Z24=$Z25,$V24-$U25,0)","v":0},{"$f":"SUM(AF24:AI24)","v":0},null,{"$f":"IF($Z24=$Z22,$S28-$U26,0)","v":0},{"$f":"IF($Z24=$Z23,$T28-$U27,0)","v":0},null,{"$f":"IF($Z24=$Z25,$V28-$U29,0)","v":0},{"$f":"SUM(AL24:AO24)","v":0},{"$f":"IF($Z24=$Z22,$S28,0)","v":2},{"$f":"IF($Z24=$Z23,$T28,0)","v":2},null,{"$f":"IF($Z24=$Z25,$V28,0)","v":2},{"$f":"SUM(AQ24:AT24)","v":6},2,null,null,null,null,12,{"$f":"VLOOKUP(BA24,Spiele!$A$1:$L$116,2,FALSE)","v":"2026-06-14T21:00:00"},{"$f":"VLOOKUP(BA24,Spiele!$A$1:$L$116,9,FALSE)","v":"Monterrey"},{"$f":"BY24","v":"Schweden"},"-",{"$f":"BY25","v":"Tunesien"},null,{"$f":"IF($B$101<>\"\",'WM2026-ELO'!BV24,IF($B$99=\"\",2,INT(RAND()*5)+INT(RAND()*3)*INT(RAND()*2)))","v":2},":",{"$f":"IF($B$101<>\"\",'WM2026-ELO'!BW24,IF($B$99=\"\",2,INT(RAND()*5)+INT(RAND()*3)*INT(RAND()*2)))","v":2},"ok",null,{"$f":"VLOOKUP(3,$BX$22:$CC$25,2,FALSE)","v":"Schweden"},{"$f":"VLOOKUP(3,$BX$22:$CC$25,3,FALSE)","v":3},{"$f":"VLOOKUP(3,$BX$22:$CC$25,4,FALSE)","v":6},{"$f":"VLOOKUP(3,$BX$22:$CC$25,5,FALSE)","v":6},{"$f":"VLOOKUP(3,$BX$22:$CC$25,6,FALSE)","v":0},null,{"$f":"IF(BJ25=\"\",0,IF(BK25=$B$98,IF(BH25<BJ25,3,IF(BH25=BJ25,1,0)),0))","v":1},{"$f":"IF(BJ28=\"\",0,IF(BK27=$B$98,IF(BH28<BJ28,3,IF(BH28=BJ28,1,0)),0))","v":1},null,{"$f":"IF(BH24=\"\",0,IF(BK24=$B$98,IF(BH24>BJ24,3,IF(BH24=BJ24,1,0)),0))","v":1},null,{"$f":"RANK(CD24,$CD$22:$CD$25)","v":3},"Schweden",{"$f":"SUM(BS24:BV24)","v":3},{"$f":"SUM(BS28:BV28)","v":6},{"$f":"SUM(BU26:BU29)","v":6},{"$f":"CA24-CB24","v":0},{"$f":"IF(BP$28=\"\",(((((((CE24*10+BZ24)*100+CC24)*100+CA24)*10+CK24)*10+CJ24)*100+CP24)*100+CU24)*10+CV24,(((((((CE24*10+BZ24)*10+CK24)*10+CJ24)*100+CP24)*100+CU24)*100+CC24)*100+CA24)*10+CV24)","v":300000600062},null,{"$f":"IF($BZ24=$BZ22,$BS24-$BU22,0)","v":0},{"$f":"IF($BZ24=$BZ23,$BT24-$BU23,0)","v":0},null,{"$f":"IF($BZ24=$BZ25,$BV24-$BU25,0)","v":0},{"$f":"SUM(CF24:CI24)","v":0},null,{"$f":"IF($BZ24=$BZ22,$BS28-$BU26,0)","v":0},{"$f":"IF($BZ24=$BZ23,$BT28-$BU27,0)","v":0},null,{"$f":"IF($BZ24=$BZ25,$BV28-$BU29,0)","v":0},{"$f":"SUM(CL24:CO24)","v":0},{"$f":"IF($BZ24=$BZ22,$BS28,0)","v":2},{"$f":"IF($BZ24=$BZ23,$BT28,0)","v":2},null,{"$f":"IF($BZ24=$BZ25,$BV28,0)","v":2},{"$f":"SUM(CQ24:CT24)","v":6},2]
[29,{"$f":"VLOOKUP(A25,Spiele!$A$1:$L$116,2,FALSE)","v":"2026-06-19T21:00:00"},{"$f":"VLOOKUP(A25,Spiele!$A$1:$L$116,9,FALSE)","v":"Philadelphia"},{"$f":"Y22","v":"Brasilien"},"-",{"$f":"Y24","v":"Haiti"},null,{"$f":"IF($B$101<>\"\",'WM2026-ELO'!V25,IF($B$99=\"\",2,INT(RAND()*5)+INT(RAND()*3)*INT(RAND()*2)))","v":2},":",{"$f":"IF($B$101<>\"\",'WM2026-ELO'!W25,IF($B$99=\"\",2,INT(RAND()*5)+INT(RAND()*3)*INT(RAND()*2)))","v":2},"ok",null,{"$f":"VLOOKUP(4,$X$22:$AC$25,2,FALSE)","v":"Schottland"},{"$f":"VLOOKUP(4,$X$22:$AC$25,3,FALSE)","v":3},{"$f":"VLOOKUP(4,$X$22:$AC$25,4,FALSE)","v":6},{"$f":"VLOOKUP(4,$X$22:$AC$25,5,FALSE)","v":6},{"$f":"VLOOKUP(4,$X$22:$AC$25,6,FALSE)","v":0},null,{"$f":"IF(H27=\"\",0,IF(K28=$B$98,IF(H27>J27,3,IF(H27=J27,1,0)),0))","v":1},{"$f":"IF(H26=\"\",0,IF(K26=$B$98,IF(J26<H26,3,IF(J26=H26,1,0)),0))","v":1},{"$f":"IF(J24=\"\",0,IF(K24=$B$98,IF(H24<J24,3,IF(H24=J24,1,0)),0))","v":1},null,null,{"$f":"RANK(AD25,$AD$22:$AD$25)","v":4},"Schottland",{"$f":"SUM(S25:V25)","v":3},{"$f":"SUM(S29:V29)","v":6},{"$f":"SUM(V26:V29)","v":6},{"$f":"AA25-AB25","v":0},{"$f":"IF(P$28=\"\",(((((((AE25*10+Z25)*100+AC25)*100+AA25)*10+AK25)*10+AJ25)*100+AP25)*100+AU25)*10+AV25,(((((((AE25*10+Z25)*10+AK25)*10+AJ25)*100+AP25)*100+AU25)*100+AC25)*100+AA25)*10+AV25)","v":300000600061},null,{"$f":"IF($Z25=$Z22,$S25-$V22,0)","v":0},{"$f":"IF($Z25=$Z23,$T25-$V23,0)","v":0},{"$f":"IF($Z25=$Z24,$U25-$V24,0)","v":0},null,{"$f":"SUM(AF25:AI25)","v":0},null,{"$f":"IF($Z25=$Z22,$S29-$V26,0)","v":0},{"$f":"IF($Z25=$Z23,$T29-$V27,0)","v":0},{"$f":"IF($Z25=$Z24,$U29-$V28,0)","v":0},null,{"$f":"SUM(AL25:AO25)","v":0},{"$f":"IF($Z25=$Z22,$S29,0)","v":2},{"$f":"IF($Z25=$Z23,$T29,0)","v":2},{"$f":"IF($Z25=$Z24,$U29,0)","v":2},null,{"$f":"SUM(AQ25:AT25)","v":6},1,null,null,null,null,35,{"$f":"VLOOKUP(BA25,Spiele!$A$1:$L$116,2,FALSE)","v":"2026-06-20T12:00:00"},{"$f":"VLOOKUP(BA25,Spiele!$A$1:$L$116,9,FALSE)","v":"Houston"},{"$f":"BY22","v":"Niederlande"},"-",{"$f":"BY24","v":"Schweden"},null,{"$f":"IF($B$101<>\"\",'WM2026-ELO'!BV25,IF($B$99=\"\",2,INT(RAND()*5)+INT(RAND()*3)*INT(RAND()*2)))","v":2},":",{"$f":"IF($B$101<>\"\",'WM2026-ELO'!BW25,IF($B$99=\"\",2,INT(RAND()*5)+INT(RAND()*3)*INT(RAND()*2)))","v":2},"ok",null,{"$f":"VLOOKUP(4,$BX$22:$CC$25,2,FALSE)","v":"Tunesien"},{"$f":"VLOOKUP(4,$BX$22:$CC$25,3,FALSE)","v":3},{"$f":"VLOOKUP(4,$BX$22:$CC$25,4,FALSE)","v":6},{"$f":"VLOOKUP(4,$BX$22:$CC$25,5,FALSE)","v":6},{"$f":"VLOOKUP(4,$BX$22:$CC$25,6,FALSE)","v":0},null,{"$f":"IF(BH27=\"\",0,IF(BK28=$B$98,IF(BH27>BJ27,3,IF(BH27=BJ27,1,0)),0))","v":1},{"$f":"IF(BH26=\"\",0,IF(BK26=$B$98,IF(BJ26<BH26,3,IF(BJ26=BH26,1,0)),0))","v":1},{"$f":"IF(BJ24=\"\",0,IF(BK24=$B$98,IF(BH24<BJ24,3,IF(BH24=BJ24,1,0)),0))","v":1},null,null,{"$f":"RANK(CD25,$CD$22:$CD$25)","v":4},"Tunesien",{"$f":"SUM(BS25:BV25)","v":3},{"$f":"SUM(BS29:BV29)","v":6},{"$f":"SUM(BV26:BV29)","v":6},{"$f":"CA25-CB25","v":0},{"$f":"IF(BP$28=\"\",(((((((CE25*10+BZ25)*100+CC25)*100+CA25)*10+CK25)*10+CJ25)*100+CP25)*100+CU25)*10+CV25,(((((((CE25*10+BZ25)*10+CK25)*10+CJ25)*100+CP25)*100+CU25)*100+CC25)*100+CA25)*10+CV25)","v":300000600061},null,{"$f":"IF($BZ25=$BZ22,$BS25-$BV22,0)","v":0},{"$f":"IF($BZ25=$BZ23,$BT25-$BV23,0)","v":0},{"$f":"IF($BZ25=$BZ24,$BU25-$BV24,0)","v":0},null,{"$f":"SUM(CF25:CI25)","v":0},null,{"$f":"IF($BZ25=$BZ22,$BS29-$BV26,0)","v":0},{"$f":"IF($BZ25=$BZ23,$BT29-$BV27,0)","v":0},{"$f":"IF($BZ25=$BZ24,$BU29-$BV28,0)","v":0},null,{"$f":"SUM(CL25:CO25)","v":0},{"$f":"IF($BZ25=$BZ22,$BS29,0)","v":2},{"$f":"IF($BZ25=$BZ23,$BT29,0)","v":2},{"$f":"IF($BZ25=$BZ24,$BU29,0)","v":2},null,{"$f":"SUM(CQ25:CT25)","v":6},1]
[30,{"$f":"VLOOKUP(A26,Spiele!$A$1:$L$116,2,FALSE)","v":"2026-06-19T18:00:00"},{"$f":"VLOOKUP(A26,Spiele!$A$1:$L$116,9,FALSE)","v":"Boston"},{"$f":"Y25","v":"Schottland"},"-",{"$f":"Y23","v":"Marokko"},null,{"$f":"IF($B$101<>\"\",'WM2026-ELO'!V26,IF($B$99=\"\",2,INT(RAND()*5)+INT(RAND()*3)*INT(RAND()*2)))","v":2},":",{"$f":"IF($B$101<>\"\",'WM2026-ELO'!W26,IF($B$99=\"\",2,INT(RAND()*5)+INT(RAND()*3)*INT(RAND()*2)))","v":2},"ok",null,null,null,null,null,null,null,null,{"$f":"IF(K23=$B$98,H23,0)","v":2},{"$f":"IF(K25=$B$98,H25,0)","v":2},{"$f":"IF(K28=$B$98,J27,0)","v":2},null,null,null,null,null,null,null,null,null,null,null,null,null,null,null,null,null,null,null,null,null,null,null,null,null,null,null,null,null,null,36,{"$f":"VLOOKUP(BA26,Spiele!$A$1:$L$116,2,FALSE)","v":"2026-06-20T23:00:00"},{"$f":"VLOOKUP(BA26,Spiele!$A$1:$L$116,9,FALSE)","v":"Monterrey"},{"$f":"BY25","v":"Tunesien"},"-",{"$f":"BY23","v":"Japan"},null,{"$f":"IF($B$101<>\"\",'WM2026-ELO'!BV26,IF($B$99=\"\",2,INT(RAND()*5)+INT(RAND()*3)*INT(RAND()*2)))","v":2},":",{"$f":"IF($B$101<>\"\",'WM2026-ELO'!BW26,IF($B$99=\"\",2,INT(RAND()*5)+INT(RAND()*3)*INT(RAND()*2)))","v":2},"ok",null,null,null,null,null,null,null,null,{"$f":"IF(BK23=$B$98,BH23,0)","v":2},{"$f":"IF(BK25=$B$98,BH25,0)","v":2},{"$f":"IF(BK28=$B$98,BJ27,0)","v":2}]
[49,{"$f":"VLOOKUP(A27,Spiele!$A$1:$L$116,2,FALSE)","v":"2026-06-24T18:00:00"},{"$f":"VLOOKUP(A27,Spiele!$A$1:$L$116,9,FALSE)","v":"Miami"},{"$f":"Y25","v":"Schottland"},"-",{"$f":"Y22","v":"Brasilien"},null,{"$f":"IF($B$101<>\"\",'WM2026-ELO'!V27,IF($B$99=\"\",2,INT(RAND()*5)+INT(RAND()*3)*INT(RAND()*2)))","v":2},":",{"$f":"IF($B$101<>\"\",'WM2026-ELO'!W27,IF($B$99=\"\",2,INT(RAND()*5)+INT(RAND()*3)*INT(RAND()*2)))","v":2},"ok",null,{"$f":"IF(N22>0,M22,\"\")","v":"Brasilien"},"1C",null,null,null,null,{"$f":"IF(K23=$B$98,J23,0)","v":2},null,{"$f":"IF(K27=$B$98,H28,0)","v":2},{"$f":"IF(K26=$B$98,J26,0)","v":2},null,null,null,null,null,null,null,"L0=AE hebelt Berechnung aus (top level Losen)",null,null,null,null,null,null,null,null,null,null,null,null,null,null,null,null,null,null,null,null,null,null,55,{"$f":"VLOOKUP(BA27,Spiele!$A$1:$L$116,2,FALSE)","v":"2026-06-25T16:00:00"},{"$f":"VLOOKUP(BA27,Spiele!$A$1:$L$116,9,FALSE)","v":"Philadelphia"},{"$f":"BY25","v":"Tunesien"},"-",{"$f":"BY22","v":"Niederlande"},null,{"$f":"IF($B$101<>\"\",'WM2026-ELO'!BV27,IF($B$99=\"\",2,INT(RAND()*5)+INT(RAND()*3)*INT(RAND()*2)))","v":2},":",{"$f":"IF($B$101<>\"\",'WM2026-ELO'!BW27,IF($B$99=\"\",2,INT(RAND()*5)+INT(RAND()*3)*INT(RAND()*2)))","v":2},"ok",null,{"$f":"IF(BN22>0,BM22,\"\")","v":"Niederlande"},"1F",null,null,null,null,{"$f":"IF(BK23=$B$98,BJ23,0)","v":2},null,{"$f":"IF(BK27=$B$98,BH28,0)","v":2},{"$f":"IF(BK26=$B$98,BJ26,0)","v":2},null,null,null,null,null,null,null,"L0=AE hebelt Berechnung aus (top level Losen)"]
[50,{"$f":"VLOOKUP(A28,Spiele!$A$1:$L$116,2,FALSE)","v":"2026-06-24T18:00:00"},{"$f":"VLOOKUP(A28,Spiele!$A$1:$L$116,9,FALSE)","v":"Atlanta"},{"$f":"Y23","v":"Marokko"},"-",{"$f":"Y24","v":"Haiti"},null,{"$f":"IF($B$101<>\"\",'WM2026-ELO'!V28,IF($B$99=\"\",2,INT(RAND()*5)+INT(RAND()*3)*INT(RAND()*2)))","v":2},":",{"$f":"IF($B$101<>\"\",'WM2026-ELO'!W28,IF($B$99=\"\",2,INT(RAND()*5)+INT(RAND()*3)*INT(RAND()*2)))","v":2},"ok",null,{"$f":"IF(N23>0,M23,\"\")","v":"Marokko"},"2C",null,"DV",null,null,{"$f":"IF(K25=$B$98,J25,0)","v":2},{"$f":"IF(K27=$B$98,J28,0)","v":2},null,{"$f":"IF(K24=$B$98,H24,0)","v":2},null,null,null,null,null,null,null,"L1=AK hebelt Direktvergleich (S1) aus",null,null,null,null,null,null,null,null,null,null,null,null,null,null,null,null,null,null,null,null,null,null,56,{"$f":"VLOOKUP(BA28,Spiele!$A$1:$L$116,2,FALSE)","v":"2026-06-25T16:00:00"},{"$f":"VLOOKUP(BA28,Spiele!$A$1:$L$116,9,FALSE)","v":"New York"},{"$f":"BY23","v":"Japan"},"-",{"$f":"BY24","v":"Schweden"},null,{"$f":"IF($B$101<>\"\",'WM2026-ELO'!BV28,IF($B$99=\"\",2,INT(RAND()*5)+INT(RAND()*3)*INT(RAND()*2)))","v":2},":",{"$f":"IF($B$101<>\"\",'WM2026-ELO'!BW28,IF($B$99=\"\",2,INT(RAND()*5)+INT(RAND()*3)*INT(RAND()*2)))","v":2},"ok",null,{"$f":"IF(BN23>0,BM23,\"\")","v":"Japan"},"2F",null,"DV",null,null,{"$f":"IF(BK25=$B$98,BJ25,0)","v":2},{"$f":"IF(BK27=$B$98,BJ28,0)","v":2},null,{"$f":"IF(BK24=$B$98,BH24,0)","v":2},null,null,null,null,null,null,null,"L1=AK hebelt Direktvergleich (S1) aus"]
[null,null,null,null,null,null,null,null,null,null,null,null,{"$f":"IF(N24>0,M24,\"\")","v":"Haiti"},"3C",null,null,null,null,{"$f":"IF(K28=$B$98,H27,0)","v":2},{"$f":"IF(K26=$B$98,H26,0)","v":2},{"$f":"IF(K24=$B$98,J24,0)","v":2},null,null,null,null,null,null,null,null,"L4=AV Losen UEFA-Koeffizient, Fairplay oder Münzwurf",null,null,null,null,null,null,null,null,null,null,null,null,null,null,null,null,null,null,null,null,null,null,null,null,null,null,null,null,null,null,null,null,null,null,{"$f":"IF(BN24>0,BM24,\"\")","v":"Schweden"},"3F",null,null,null,null,{"$f":"IF(BK28=$B$98,BH27,0)","v":2},{"$f":"IF(BK26=$B$98,BH26,0)","v":2},{"$f":"IF(BK24=$B$98,BJ24,0)","v":2},null,null,null,null,null,null,null,null,"L4=AV Losen UEFA-Koeffizient, Fairplay oder Münzwurf"]
[]
[null,"Vorrunde","Gruppe G"," ",null,null,null,null,null,null,null,null,"Tabelle","P","T+","T-","T+/-",null,null,null,null,null,null,"G","Berechnungen","P","T+","T-","T+/-",null,"L0","DV",null,null,null,"S1","L1","DV-TD",null,null,null,"S2","DV-Tore",null,null,null,"S3","L4",null,null,null,null,null,"Vorrunde","Gruppe J"," ",null,null,null,null,null,null,null,null,"Tabelle","P","T+","T-","T+/-",null,null,null,null,null,null,"G","Berechnungen","P","T+","T-","T+/-",null,"L0","DV",null,null,null,"S1","L1","DV-TD",null,null,null,"S2","DV-Tore",null,null,null,"S3","L4"]
[null,"Datum/Zeit","Spielort",null,null,null,null,null,null,null,null,null,{"$f":"VLOOKUP(1,$X$32:$AC$35,2,FALSE)","v":"Belgien"},{"$f":"VLOOKUP(1,$X$32:$AC$35,3,FALSE)","v":3},{"$f":"VLOOKUP(1,$X$32:$AC$35,4,FALSE)","v":6},{"$f":"VLOOKUP(1,$X$32:$AC$35,5,FALSE)","v":6},{"$f":"VLOOKUP(1,$X$32:$AC$35,6,FALSE)","v":0},null,null,{"$f":"IF(H33=\"\",0,IF(K33=$B$98,IF(H33>J33,3,IF(H33=J33,1,0)),0))","v":1},{"$f":"IF(H35=\"\",0,IF(K35=$B$98,IF(H35>J35,3,IF(H35=J35,1,0)),0))","v":1},{"$f":"IF(J37=\"\",0,IF(K38=$B$98,IF(H37<J37,3,IF(H37=J37,1,0)),0))","v":1},null,{"$f":"RANK(AD32,$AD$32:$AD$35)","v":1},"Belgien",{"$f":"SUM(S32:V32)","v":3},{"$f":"SUM(S36:V36)","v":6},{"$f":"SUM(S36:S39)","v":6},{"$f":"AA32-AB32","v":0},{"$f":"IF(P$8=\"\",(((((((AE32*10+Z32)*100+AC32)*100+AA32)*10+AK32)*10+AJ32)*100+AP32)*100+AU32)*10+AV32,(((((((AE32*10+Z32)*10+AK32)*10+AJ32)*100+AP32)*100+AU32)*100+AC32)*100+AA32)*10+AV32)","v":300000600064},null,null,{"$f":"IF($Z32=$Z33,$T32-$S33,0)","v":0},{"$f":"IF($Z32=$Z34,$U32-$S34,0)","v":0},{"$f":"IF($Z32=$Z35,$V32-$S35,0)","v":0},{"$f":"SUM(AF32:AI32)","v":0},null,null,{"$f":"IF($Z32=$Z33,$T36-$S37,0)","v":0},{"$f":"IF($Z32=$Z34,$U36-$S38,0)","v":0},{"$f":"IF($Z32=$Z35,$V36-$S39,0)","v":0},{"$f":"SUM(AL32:AO32)","v":0},null,{"$f":"IF($Z32=$Z33,$T36,0)","v":2},{"$f":"IF($Z32=$Z34,$U36,0)","v":2},{"$f":"IF($Z32=$Z35,$V36,0)","v":2},{"$f":"SUM(AQ32:AT32)","v":6},4,null,null,null,null,null,"Datum/Zeit","Spielort",null,null,null,null,null,null,null,null,null,{"$f":"VLOOKUP(1,$BX$32:$CC$35,2,FALSE)","v":"Argentinien"},{"$f":"VLOOKUP(1,$BX$32:$CC$35,3,FALSE)","v":3},{"$f":"VLOOKUP(1,$BX$32:$CC$35,4,FALSE)","v":6},{"$f":"VLOOKUP(1,$BX$32:$CC$35,5,FALSE)","v":6},{"$f":"VLOOKUP(1,$BX$32:$CC$35,6,FALSE)","v":0},null,null,{"$f":"IF(BH33=\"\",0,IF(BK33=$B$98,IF(BH33>BJ33,3,IF(BH33=BJ33,1,0)),0))","v":1},{"$f":"IF(BH35=\"\",0,IF(BK35=$B$98,IF(BH35>BJ35,3,IF(BH35=BJ35,1,0)),0))","v":1},{"$f":"IF(BJ37=\"\",0,IF(BK38=$B$98,IF(BH37<BJ37,3,IF(BH37=BJ37,1,0)),0))","v":1},null,{"$f":"RANK(CD32,$CD$32:$CD$35)","v":1},"Argentinien",{"$f":"SUM(BS32:BV32)","v":3},{"$f":"SUM(BS36:BV36)","v":6},{"$f":"SUM(BS36:BS39)","v":6},{"$f":"CA32-CB32","v":0},{"$f":"IF(BP$8=\"\",(((((((CE32*10+BZ32)*100+CC32)*100+CA32)*10+CK32)*10+CJ32)*100+CP32)*100+CU32)*10+CV32,(((((((CE32*10+BZ32)*10+CK32)*10+CJ32)*100+CP32)*100+CU32)*100+CC32)*100+CA32)*10+CV32)","v":300000600064},null,null,{"$f":"IF($BZ32=$BZ33,$BT32-$BS33,0)","v":0},{"$f":"IF($BZ32=$BZ34,$BU32-$BS34,0)","v":0},{"$f":"IF($BZ32=$BZ35,$BV32-$BS35,0)","v":0},{"$f":"SUM(CF32:CI32)","v":0},null,null,{"$f":"IF($BZ32=$BZ33,$BT36-$BS37,0)","v":0},{"$f":"IF($BZ32=$BZ34,$BU36-$BS38,0)","v":0},{"$f":"IF($BZ32=$BZ35,$BV36-$BS39,0)","v":0},{"$f":"SUM(CL32:CO32)","v":0},null,{"$f":"IF($BZ32=$BZ33,$BT36,0)","v":2},{"$f":"IF($BZ32=$BZ34,$BU36,0)","v":2},{"$f":"IF($BZ32=$BZ35,$BV36,0)","v":2},{"$f":"SUM(CQ32:CT32)","v":6},4]
[16,{"$f":"VLOOKUP(A33,Spiele!$A$1:$L$116,2,FALSE)","v":"2026-06-15T12:00:00"},{"$f":"VLOOKUP(A33,Spiele!$A$1:$L$116,9,FALSE)","v":"Seattle"},{"$f":"Y32","v":"Belgien"},"-",{"$f":"Y33","v":"Ägypten"},null,{"$f":"IF($B$101<>\"\",'WM2026-ELO'!V33,IF($B$99=\"\",2,INT(RAND()*5)+INT(RAND()*3)*INT(RAND()*2)))","v":2},":",{"$f":"IF($B$101<>\"\",'WM2026-ELO'!W33,IF($B$99=\"\",2,INT(RAND()*5)+INT(RAND()*3)*INT(RAND()*2)))","v":2},"ok",null,{"$f":"VLOOKUP(2,$X$32:$AC$35,2,FALSE)","v":"Ägypten"},{"$f":"VLOOKUP(2,$X$32:$AC$35,3,FALSE)","v":3},{"$f":"VLOOKUP(2,$X$32:$AC$35,4,FALSE)","v":6},{"$f":"VLOOKUP(2,$X$32:$AC$35,5,FALSE)","v":6},{"$f":"VLOOKUP(2,$X$32:$AC$35,6,FALSE)","v":0},null,{"$f":"IF(J33=\"\",0,IF(K33=$B$98,IF(H33<J33,3,IF(H33=J33,1,0)),0))","v":1},null,{"$f":"IF(H38=\"\",0,IF(K37=$B$98,IF(H38>J38,3,IF(H38=J38,1,0)),0))","v":1},{"$f":"IF(J36=\"\",0,IF(K36=$B$98,IF(J36>H36,3,IF(J36=H36,1,0)),0))","v":1},null,{"$f":"RANK(AD33,$AD$32:$AD$35)","v":2},"Ägypten",{"$f":"SUM(S33:V33)","v":3},{"$f":"SUM(S37:V37)","v":6},{"$f":"SUM(T36:T39)","v":6},{"$f":"AA33-AB33","v":0},{"$f":"IF(P$8=\"\",(((((((AE33*10+Z33)*100+AC33)*100+AA33)*10+AK33)*10+AJ33)*100+AP33)*100+AU33)*10+AV33,(((((((AE33*10+Z33)*10+AK33)*10+AJ33)*100+AP33)*100+AU33)*100+AC33)*100+AA33)*10+AV33)","v":300000600063},null,{"$f":"IF($Z33=$Z32,$S33-$T32,0)","v":0},null,{"$f":"IF($Z33=$Z34,$U33-$T34,0)","v":0},{"$f":"IF($Z33=$Z35,$V33-$T35,0)","v":0},{"$f":"SUM(AF33:AI33)","v":0},null,{"$f":"IF($Z33=$Z32,$S37-$T36,0)","v":0},null,{"$f":"IF($Z33=$Z34,$U37-$T38,0)","v":0},{"$f":"IF($Z33=$Z35,$V37-$T39,0)","v":0},{"$f":"SUM(AL33:AO33)","v":0},{"$f":"IF($Z33=$Z32,$S37,0)","v":2},null,{"$f":"IF($Z33=$Z34,$U37,0)","v":2},{"$f":"IF($Z33=$Z35,$V37,0)","v":2},{"$f":"SUM(AQ33:AT33)","v":6},3,null,null,null,null,17,{"$f":"VLOOKUP(BA33,Spiele!$A$1:$L$116,2,FALSE)","v":"2026-06-16T15:00:00"},{"$f":"VLOOKUP(BA33,Spiele!$A$1:$L$116,9,FALSE)","v":"New York"},{"$f":"BY32","v":"Argentinien"},"-",{"$f":"BY33","v":"Algerien"},null,{"$f":"IF($B$101<>\"\",'WM2026-ELO'!BV33,IF($B$99=\"\",2,INT(RAND()*5)+INT(RAND()*3)*INT(RAND()*2)))","v":2},":",{"$f":"IF($B$101<>\"\",'WM2026-ELO'!BW33,IF($B$99=\"\",2,INT(RAND()*5)+INT(RAND()*3)*INT(RAND()*2)))","v":2},"ok",null,{"$f":"VLOOKUP(2,$BX$32:$CC$35,2,FALSE)","v":"Algerien"},{"$f":"VLOOKUP(2,$BX$32:$CC$35,3,FALSE)","v":3},{"$f":"VLOOKUP(2,$BX$32:$CC$35,4,FALSE)","v":6},{"$f":"VLOOKUP(2,$BX$32:$CC$35,5,FALSE)","v":6},{"$f":"VLOOKUP(2,$BX$32:$CC$35,6,FALSE)","v":0},null,{"$f":"IF(BJ33=\"\",0,IF(BK33=$B$98,IF(BH33<BJ33,3,IF(BH33=BJ33,1,0)),0))","v":1},null,{"$f":"IF(BH38=\"\",0,IF(BK37=$B$98,IF(BH38>BJ38,3,IF(BH38=BJ38,1,0)),0))","v":1},{"$f":"IF(BJ36=\"\",0,IF(BK36=$B$98,IF(BJ36>BH36,3,IF(BJ36=BH36,1,0)),0))","v":1},null,{"$f":"RANK(CD33,$CD$32:$CD$35)","v":2},"Algerien",{"$f":"SUM(BS33:BV33)","v":3},{"$f":"SUM(BS37:BV37)","v":6},{"$f":"SUM(BT36:BT39)","v":6},{"$f":"CA33-CB33","v":0},{"$f":"IF(BP$8=\"\",(((((((CE33*10+BZ33)*100+CC33)*100+CA33)*10+CK33)*10+CJ33)*100+CP33)*100+CU33)*10+CV33,(((((((CE33*10+BZ33)*10+CK33)*10+CJ33)*100+CP33)*100+CU33)*100+CC33)*100+CA33)*10+CV33)","v":300000600063},null,{"$f":"IF($BZ33=$BZ32,$BS33-$BT32,0)","v":0},null,{"$f":"IF($BZ33=$BZ34,$BU33-$BT34,0)","v":0},{"$f":"IF($BZ33=$BZ35,$BV33-$BT35,0)","v":0},{"$f":"SUM(CF33:CI33)","v":0},null,{"$f":"IF($BZ33=$BZ32,$BS37-$BT36,0)","v":0},null,{"$f":"IF($BZ33=$BZ34,$BU37-$BT38,0)","v":0},{"$f":"IF($BZ33=$BZ35,$BV37-$BT39,0)","v":0},{"$f":"SUM(CL33:CO33)","v":0},{"$f":"IF($BZ33=$BZ32,$BS37,0)","v":2},null,{"$f":"IF($BZ33=$BZ34,$BU37,0)","v":2},{"$f":"IF($BZ33=$BZ35,$BV37,0)","v":2},{"$f":"SUM(CQ33:CT33)","v":6},3]
[15,{"$f":"VLOOKUP(A34,Spiele!$A$1:$L$116,2,FALSE)","v":"2026-06-15T18:00:00"},{"$f":"VLOOKUP(A34,Spiele!$A$1:$L$116,9,FALSE)","v":"Los Angeles"},{"$f":"Y34","v":"IR Iran"},"-",{"$f":"Y35","v":"Neuseeland"},null,{"$f":"IF($B$101<>\"\",'WM2026-ELO'!V34,IF($B$99=\"\",2,INT(RAND()*5)+INT(RAND()*3)*INT(RAND()*2)))","v":2},":",{"$f":"IF($B$101<>\"\",'WM2026-ELO'!W34,IF($B$99=\"\",2,INT(RAND()*5)+INT(RAND()*3)*INT(RAND()*2)))","v":2},"ok",null,{"$f":"VLOOKUP(3,$X$32:$AC$35,2,FALSE)","v":"IR Iran"},{"$f":"VLOOKUP(3,$X$32:$AC$35,3,FALSE)","v":3},{"$f":"VLOOKUP(3,$X$32:$AC$35,4,FALSE)","v":6},{"$f":"VLOOKUP(3,$X$32:$AC$35,5,FALSE)","v":6},{"$f":"VLOOKUP(3,$X$32:$AC$35,6,FALSE)","v":0},null,{"$f":"IF(J35=\"\",0,IF(K35=$B$98,IF(H35<J35,3,IF(H35=J35,1,0)),0))","v":1},{"$f":"IF(J38=\"\",0,IF(K37=$B$98,IF(H38<J38,3,IF(H38=J38,1,0)),0))","v":1},null,{"$f":"IF(H34=\"\",0,IF(K34=$B$98,IF(H34>J34,3,IF(H34=J34,1,0)),0))","v":1},null,{"$f":"RANK(AD34,$AD$32:$AD$35)","v":3},"IR Iran",{"$f":"SUM(S34:V34)","v":3},{"$f":"SUM(S38:V38)","v":6},{"$f":"SUM(U36:U39)","v":6},{"$f":"AA34-AB34","v":0},{"$f":"IF(P$8=\"\",(((((((AE34*10+Z34)*100+AC34)*100+AA34)*10+AK34)*10+AJ34)*100+AP34)*100+AU34)*10+AV34,(((((((AE34*10+Z34)*10+AK34)*10+AJ34)*100+AP34)*100+AU34)*100+AC34)*100+AA34)*10+AV34)","v":300000600062},null,{"$f":"IF($Z34=$Z32,$S34-$U32,0)","v":0},{"$f":"IF($Z34=$Z33,$T34-$U33,0)","v":0},null,{"$f":"IF($Z34=$Z35,$V34-$U35,0)","v":0},{"$f":"SUM(AF34:AI34)","v":0},null,{"$f":"IF($Z34=$Z32,$S38-$U36,0)","v":0},{"$f":"IF($Z34=$Z33,$T38-$U37,0)","v":0},null,{"$f":"IF($Z34=$Z35,$V38-$U39,0)","v":0},{"$f":"SUM(AL34:AO34)","v":0},{"$f":"IF($Z34=$Z32,$S38,0)","v":2},{"$f":"IF($Z34=$Z33,$T38,0)","v":2},null,{"$f":"IF($Z34=$Z35,$V38,0)","v":2},{"$f":"SUM(AQ34:AT34)","v":6},2,null,null,null,null,18,{"$f":"VLOOKUP(BA34,Spiele!$A$1:$L$116,2,FALSE)","v":"2026-06-16T18:00:00"},{"$f":"VLOOKUP(BA34,Spiele!$A$1:$L$116,9,FALSE)","v":"Boston"},{"$f":"BY34","v":"Österreich"},"-",{"$f":"BY35","v":"Jordanien"},null,{"$f":"IF($B$101<>\"\",'WM2026-ELO'!BV34,IF($B$99=\"\",2,INT(RAND()*5)+INT(RAND()*3)*INT(RAND()*2)))","v":2},":",{"$f":"IF($B$101<>\"\",'WM2026-ELO'!BW34,IF($B$99=\"\",2,INT(RAND()*5)+INT(RAND()*3)*INT(RAND()*2)))","v":2},"ok",null,{"$f":"VLOOKUP(3,$BX$32:$CC$35,2,FALSE)","v":"Österreich"},{"$f":"VLOOKUP(3,$BX$32:$CC$35,3,FALSE)","v":3},{"$f":"VLOOKUP(3,$BX$32:$CC$35,4,FALSE)","v":6},{"$f":"VLOOKUP(3,$BX$32:$CC$35,5,FALSE)","v":6},{"$f":"VLOOKUP(3,$BX$32:$CC$35,6,FALSE)","v":0},null,{"$f":"IF(BJ35=\"\",0,IF(BK35=$B$98,IF(BH35<BJ35,3,IF(BH35=BJ35,1,0)),0))","v":1},{"$f":"IF(BJ38=\"\",0,IF(BK37=$B$98,IF(BH38<BJ38,3,IF(BH38=BJ38,1,0)),0))","v":1},null,{"$f":"IF(BH34=\"\",0,IF(BK34=$B$98,IF(BH34>BJ34,3,IF(BH34=BJ34,1,0)),0))","v":1},null,{"$f":"RANK(CD34,$CD$32:$CD$35)","v":3},"Österreich",{"$f":"SUM(BS34:BV34)","v":3},{"$f":"SUM(BS38:BV38)","v":6},{"$f":"SUM(BU36:BU39)","v":6},{"$f":"CA34-CB34","v":0},{"$f":"IF(BP$8=\"\",(((((((CE34*10+BZ34)*100+CC34)*100+CA34)*10+CK34)*10+CJ34)*100+CP34)*100+CU34)*10+CV34,(((((((CE34*10+BZ34)*10+CK34)*10+CJ34)*100+CP34)*100+CU34)*100+CC34)*100+CA34)*10+CV34)","v":300000600062},null,{"$f":"IF($BZ34=$BZ32,$BS34-$BU32,0)","v":0},{"$f":"IF($BZ34=$BZ33,$BT34-$BU33,0)","v":0},null,{"$f":"IF($BZ34=$BZ35,$BV34-$BU35,0)","v":0},{"$f":"SUM(CF34:CI34)","v":0},null,{"$f":"IF($BZ34=$BZ32,$BS38-$BU36,0)","v":0},{"$f":"IF($BZ34=$BZ33,$BT38-$BU37,0)","v":0},null,{"$f":"IF($BZ34=$BZ35,$BV38-$BU39,0)","v":0},{"$f":"SUM(CL34:CO34)","v":0},{"$f":"IF($BZ34=$BZ32,$BS38,0)","v":2},{"$f":"IF($BZ34=$BZ33,$BT38,0)","v":2},null,{"$f":"IF($BZ34=$BZ35,$BV38,0)","v":2},{"$f":"SUM(CQ34:CT34)","v":6},2]
[39,{"$f":"VLOOKUP(A35,Spiele!$A$1:$L$116,2,FALSE)","v":"2026-06-21T12:00:00"},{"$f":"VLOOKUP(A35,Spiele!$A$1:$L$116,9,FALSE)","v":"Los Angeles"},{"$f":"Y32","v":"Belgien"},"-",{"$f":"Y34","v":"IR Iran"},null,{"$f":"IF($B$101<>\"\",'WM2026-ELO'!V35,IF($B$99=\"\",2,INT(RAND()*5)+INT(RAND()*3)*INT(RAND()*2)))","v":2},":",{"$f":"IF($B$101<>\"\",'WM2026-ELO'!W35,IF($B$99=\"\",2,INT(RAND()*5)+INT(RAND()*3)*INT(RAND()*2)))","v":2},"ok",null,{"$f":"VLOOKUP(4,$X$32:$AC$35,2,FALSE)","v":"Neuseeland"},{"$f":"VLOOKUP(4,$X$32:$AC$35,3,FALSE)","v":3},{"$f":"VLOOKUP(4,$X$32:$AC$35,4,FALSE)","v":6},{"$f":"VLOOKUP(4,$X$32:$AC$35,5,FALSE)","v":6},{"$f":"VLOOKUP(4,$X$32:$AC$35,6,FALSE)","v":0},null,{"$f":"IF(H37=\"\",0,IF(K38=$B$98,IF(H37>J37,3,IF(H37=J37,1,0)),0))","v":1},{"$f":"IF(H36=\"\",0,IF(K36=$B$98,IF(J36<H36,3,IF(J36=H36,1,0)),0))","v":1},{"$f":"IF(J34=\"\",0,IF(K34=$B$98,IF(H34<J34,3,IF(H34=J34,1,0)),0))","v":1},null,null,{"$f":"RANK(AD35,$AD$32:$AD$35)","v":4},"Neuseeland",{"$f":"SUM(S35:V35)","v":3},{"$f":"SUM(S39:V39)","v":6},{"$f":"SUM(V36:V39)","v":6},{"$f":"AA35-AB35","v":0},{"$f":"IF(P$8=\"\",(((((((AE35*10+Z35)*100+AC35)*100+AA35)*10+AK35)*10+AJ35)*100+AP35)*100+AU35)*10+AV35,(((((((AE35*10+Z35)*10+AK35)*10+AJ35)*100+AP35)*100+AU35)*100+AC35)*100+AA35)*10+AV35)","v":300000600061},null,{"$f":"IF($Z35=$Z32,$S35-$V32,0)","v":0},{"$f":"IF($Z35=$Z33,$T35-$V33,0)","v":0},{"$f":"IF($Z35=$Z34,$U35-$V34,0)","v":0},null,{"$f":"SUM(AF35:AI35)","v":0},null,{"$f":"IF($Z35=$Z32,$S39-$V36,0)","v":0},{"$f":"IF($Z35=$Z33,$T39-$V37,0)","v":0},{"$f":"IF($Z35=$Z34,$U39-$V38,0)","v":0},null,{"$f":"SUM(AL35:AO35)","v":0},{"$f":"IF($Z35=$Z32,$S39,0)","v":2},{"$f":"IF($Z35=$Z33,$T39,0)","v":2},{"$f":"IF($Z35=$Z34,$U39,0)","v":2},null,{"$f":"SUM(AQ35:AT35)","v":6},1,null,null,null,null,43,{"$f":"VLOOKUP(BA35,Spiele!$A$1:$L$116,2,FALSE)","v":"2026-06-22T12:00:00"},{"$f":"VLOOKUP(BA35,Spiele!$A$1:$L$116,9,FALSE)","v":"Dallas"},{"$f":"BY32","v":"Argentinien"},"-",{"$f":"BY34","v":"Österreich"},null,{"$f":"IF($B$101<>\"\",'WM2026-ELO'!BV35,IF($B$99=\"\",2,INT(RAND()*5)+INT(RAND()*3)*INT(RAND()*2)))","v":2},":",{"$f":"IF($B$101<>\"\",'WM2026-ELO'!BW35,IF($B$99=\"\",2,INT(RAND()*5)+INT(RAND()*3)*INT(RAND()*2)))","v":2},"ok",null,{"$f":"VLOOKUP(4,$BX$32:$CC$35,2,FALSE)","v":"Jordanien"},{"$f":"VLOOKUP(4,$BX$32:$CC$35,3,FALSE)","v":3},{"$f":"VLOOKUP(4,$BX$32:$CC$35,4,FALSE)","v":6},{"$f":"VLOOKUP(4,$BX$32:$CC$35,5,FALSE)","v":6},{"$f":"VLOOKUP(4,$BX$32:$CC$35,6,FALSE)","v":0},null,{"$f":"IF(BH37=\"\",0,IF(BK38=$B$98,IF(BH37>BJ37,3,IF(BH37=BJ37,1,0)),0))","v":1},{"$f":"IF(BH36=\"\",0,IF(BK36=$B$98,IF(BJ36<BH36,3,IF(BJ36=BH36,1,0)),0))","v":1},{"$f":"IF(BJ34=\"\",0,IF(BK34=$B$98,IF(BH34<BJ34,3,IF(BH34=BJ34,1,0)),0))","v":1},null,null,{"$f":"RANK(CD35,$CD$32:$CD$35)","v":4},"Jordanien",{"$f":"SUM(BS35:BV35)","v":3},{"$f":"SUM(BS39:BV39)","v":6},{"$f":"SUM(BV36:BV39)","v":6},{"$f":"CA35-CB35","v":0},{"$f":"IF(BP$8=\"\",(((((((CE35*10+BZ35)*100+CC35)*100+CA35)*10+CK35)*10+CJ35)*100+CP35)*100+CU35)*10+CV35,(((((((CE35*10+BZ35)*10+CK35)*10+CJ35)*100+CP35)*100+CU35)*100+CC35)*100+CA35)*10+CV35)","v":300000600061},null,{"$f":"IF($BZ35=$BZ32,$BS35-$BV32,0)","v":0},{"$f":"IF($BZ35=$BZ33,$BT35-$BV33,0)","v":0},{"$f":"IF($BZ35=$BZ34,$BU35-$BV34,0)","v":0},null,{"$f":"SUM(CF35:CI35)","v":0},null,{"$f":"IF($BZ35=$BZ32,$BS39-$BV36,0)","v":0},{"$f":"IF($BZ35=$BZ33,$BT39-$BV37,0)","v":0},{"$f":"IF($BZ35=$BZ34,$BU39-$BV38,0)","v":0},null,{"$f":"SUM(CL35:CO35)","v":0},{"$f":"IF($BZ35=$BZ32,$BS39,0)","v":2},{"$f":"IF($BZ35=$BZ33,$BT39,0)","v":2},{"$f":"IF($BZ35=$BZ34,$BU39,0)","v":2},null,{"$f":"SUM(CQ35:CT35)","v":6},1]
[40,{"$f":"VLOOKUP(A36,Spiele!$A$1:$L$116,2,FALSE)","v":"2026-06-21T18:00:00"},{"$f":"VLOOKUP(A36,Spiele!$A$1:$L$116,9,FALSE)","v":"Vancouver"},{"$f":"Y35","v":"Neuseeland"},"-",{"$f":"Y33","v":"Ägypten"},null,{"$f":"IF($B$101<>\"\",'WM2026-ELO'!V36,IF($B$99=\"\",2,INT(RAND()*5)+INT(RAND()*3)*INT(RAND()*2)))","v":2},":",{"$f":"IF($B$101<>\"\",'WM2026-ELO'!W36,IF($B$99=\"\",2,INT(RAND()*5)+INT(RAND()*3)*INT(RAND()*2)))","v":2},"ok",null,null,null,null,null,null,null,null,{"$f":"IF(K33=$B$98,H33,0)","v":2},{"$f":"IF(K35=$B$98,H35,0)","v":2},{"$f":"IF(K38=$B$98,J37,0)","v":2},null,null,null,null,null,null,null,null,null,null,null,null,null,null,null,null,null,null,null,null,null,null,null,null,null,null,null,null,null,null,44,{"$f":"VLOOKUP(BA36,Spiele!$A$1:$L$116,2,FALSE)","v":"2026-06-22T20:00:00"},{"$f":"VLOOKUP(BA36,Spiele!$A$1:$L$116,9,FALSE)","v":"San Francisco"},{"$f":"BY35","v":"Jordanien"},"-",{"$f":"BY33","v":"Algerien"},null,{"$f":"IF($B$101<>\"\",'WM2026-ELO'!BV36,IF($B$99=\"\",2,INT(RAND()*5)+INT(RAND()*3)*INT(RAND()*2)))","v":2},":",{"$f":"IF($B$101<>\"\",'WM2026-ELO'!BW36,IF($B$99=\"\",2,INT(RAND()*5)+INT(RAND()*3)*INT(RAND()*2)))","v":2},"ok",null,null,null,null,null,null,null,null,{"$f":"IF(BK33=$B$98,BH33,0)","v":2},{"$f":"IF(BK35=$B$98,BH35,0)","v":2},{"$f":"IF(BK38=$B$98,BJ37,0)","v":2}]
[64,{"$f":"VLOOKUP(A37,Spiele!$A$1:$L$116,2,FALSE)","v":"2026-06-26T20:00:00"},{"$f":"VLOOKUP(A37,Spiele!$A$1:$L$116,9,FALSE)","v":"Vancouver"},{"$f":"Y35","v":"Neuseeland"},"-",{"$f":"Y32","v":"Belgien"},null,{"$f":"IF($B$101<>\"\",'WM2026-ELO'!V37,IF($B$99=\"\",2,INT(RAND()*5)+INT(RAND()*3)*INT(RAND()*2)))","v":2},":",{"$f":"IF($B$101<>\"\",'WM2026-ELO'!W37,IF($B$99=\"\",2,INT(RAND()*5)+INT(RAND()*3)*INT(RAND()*2)))","v":2},"ok",null,{"$f":"IF(N32>0,M32,\"\")","v":"Belgien"},"1G",null,null,null,null,{"$f":"IF(K33=$B$98,J33,0)","v":2},null,{"$f":"IF(K37=$B$98,H38,0)","v":2},{"$f":"IF(K36=$B$98,J36,0)","v":2},null,null,null,null,null,null,null,"L0=AE hebelt Berechnung aus (top level Losen)",null,null,null,null,null,null,null,null,null,null,null,null,null,null,null,null,null,null,null,null,null,null,70,{"$f":"VLOOKUP(BA37,Spiele!$A$1:$L$116,2,FALSE)","v":"2026-06-27T21:00:00"},{"$f":"VLOOKUP(BA37,Spiele!$A$1:$L$116,9,FALSE)","v":"Dallas"},{"$f":"BY35","v":"Jordanien"},"-",{"$f":"BY32","v":"Argentinien"},null,{"$f":"IF($B$101<>\"\",'WM2026-ELO'!BV37,IF($B$99=\"\",2,INT(RAND()*5)+INT(RAND()*3)*INT(RAND()*2)))","v":2},":",{"$f":"IF($B$101<>\"\",'WM2026-ELO'!BW37,IF($B$99=\"\",2,INT(RAND()*5)+INT(RAND()*3)*INT(RAND()*2)))","v":2},"ok",null,{"$f":"IF(BN32>0,BM32,\"\")","v":"Argentinien"},"1J",null,null,null,null,{"$f":"IF(BK33=$B$98,BJ33,0)","v":2},null,{"$f":"IF(BK37=$B$98,BH38,0)","v":2},{"$f":"IF(BK36=$B$98,BJ36,0)","v":2},null,null,null,null,null,null,null,"L0=AE hebelt Berechnung aus (top level Losen)"]
[63,{"$f":"VLOOKUP(A38,Spiele!$A$1:$L$116,2,FALSE)","v":"2026-06-26T20:00:00"},{"$f":"VLOOKUP(A38,Spiele!$A$1:$L$116,9,FALSE)","v":"Seattle"},{"$f":"Y33","v":"Ägypten"},"-",{"$f":"Y34","v":"IR Iran"},null,{"$f":"IF($B$101<>\"\",'WM2026-ELO'!V38,IF($B$99=\"\",2,INT(RAND()*5)+INT(RAND()*3)*INT(RAND()*2)))","v":2},":",{"$f":"IF($B$101<>\"\",'WM2026-ELO'!W38,IF($B$99=\"\",2,INT(RAND()*5)+INT(RAND()*3)*INT(RAND()*2)))","v":2},"ok",null,{"$f":"IF(N33>0,M33,\"\")","v":"Ägypten"},"2G",null,"DV",null,null,{"$f":"IF(K35=$B$98,J35,0)","v":2},{"$f":"IF(K37=$B$98,J38,0)","v":2},null,{"$f":"IF(K34=$B$98,H34,0)","v":2},null,null,null,null,null,null,null,"L1=AK hebelt Direktvergleich (S1) aus",null,null,null,null,null,null,null,null,null,null,null,null,null,null,null,null,null,null,null,null,null,null,69,{"$f":"VLOOKUP(BA38,Spiele!$A$1:$L$116,2,FALSE)","v":"2026-06-27T21:00:00"},{"$f":"VLOOKUP(BA38,Spiele!$A$1:$L$116,9,FALSE)","v":"Kansas City"},{"$f":"BY33","v":"Algerien"},"-",{"$f":"BY34","v":"Österreich"},null,{"$f":"IF($B$101<>\"\",'WM2026-ELO'!BV38,IF($B$99=\"\",2,INT(RAND()*5)+INT(RAND()*3)*INT(RAND()*2)))","v":2},":",{"$f":"IF($B$101<>\"\",'WM2026-ELO'!BW38,IF($B$99=\"\",2,INT(RAND()*5)+INT(RAND()*3)*INT(RAND()*2)))","v":2},"ok",null,{"$f":"IF(BN33>0,BM33,\"\")","v":"Algerien"},"2J",null,"DV",null,null,{"$f":"IF(BK35=$B$98,BJ35,0)","v":2},{"$f":"IF(BK37=$B$98,BJ38,0)","v":2},null,{"$f":"IF(BK34=$B$98,BH34,0)","v":2},null,null,null,null,null,null,null,"L1=AK hebelt Direktvergleich (S1) aus"]
[null,null,null,null,null,null,null,null,null,null,null,null,{"$f":"IF(N34>0,M34,\"\")","v":"IR Iran"},"3G",null,null,null,null,{"$f":"IF(K38=$B$98,H37,0)","v":2},{"$f":"IF(K36=$B$98,H36,0)","v":2},{"$f":"IF(K34=$B$98,J34,0)","v":2},null,null,null,null,null,null,null,null,"L4=AV Losen UEFA-Koeffizient, Fairplay oder Münzwurf",null,null,null,null,null,null,null,null,null,null,null,null,null,null,null,null,null,null,null,null,null,null,null,null,null,null,null,null,null,null,null,null,null,null,{"$f":"IF(BN34>0,BM34,\"\")","v":"Österreich"},"3J",null,null,null,null,{"$f":"IF(BK38=$B$98,BH37,0)","v":2},{"$f":"IF(BK36=$B$98,BH36,0)","v":2},{"$f":"IF(BK34=$B$98,BJ34,0)","v":2},null,null,null,null,null,null,null,null,"L4=AV Losen UEFA-Koeffizient, Fairplay oder Münzwurf"]
[]
[null,"Vorrunde","Gruppe H"," ",null,null,null,null,null,null,null,null,"Tabelle","P","T+","T-","T+/-",null,null,null,null,null,null,"G","Berechnungen","P","T+","T-","T+/-",null,"L0","DV",null,null,null,"S1","L1","DV-TD",null,null,null,"S2","DV-Tore",null,null,null,"S3","L4",null,null,null,null,null,"Vorrunde","Gruppe K"," ",null,null,null,null,null,null,null,null,"Tabelle","P","T+","T-","T+/-",null,null,null,null,null,null,"G","Berechnungen","P","T+","T-","T+/-",null,"L0","DV",null,null,null,"S1","L1","DV-TD",null,null,null,"S2","DV-Tore",null,null,null,"S3","L4"]
[null,"Datum/Zeit","Spielort",null,null,null,null,null,null,null,null,null,{"$f":"VLOOKUP(1,$X$42:$AC$45,2,FALSE)","v":"Spanien"},{"$f":"VLOOKUP(1,$X$42:$AC$45,3,FALSE)","v":3},{"$f":"VLOOKUP(1,$X$42:$AC$45,4,FALSE)","v":6},{"$f":"VLOOKUP(1,$X$42:$AC$45,5,FALSE)","v":6},{"$f":"VLOOKUP(1,$X$42:$AC$45,6,FALSE)","v":0},null,null,{"$f":"IF(H43=\"\",0,IF(K43=$B$98,IF(H43>J43,3,IF(H43=J43,1,0)),0))","v":1},{"$f":"IF(H45=\"\",0,IF(K45=$B$98,IF(H45>J45,3,IF(H45=J45,1,0)),0))","v":1},{"$f":"IF(J47=\"\",0,IF(K48=$B$98,IF(H47<J47,3,IF(H47=J47,1,0)),0))","v":1},null,{"$f":"RANK(AD42,$AD$42:$AD$45)","v":1},"Spanien",{"$f":"SUM(S42:V42)","v":3},{"$f":"SUM(S46:V46)","v":6},{"$f":"SUM(S46:S49)","v":6},{"$f":"AA42-AB42","v":0},{"$f":"IF(P$18=\"\",(((((((AE42*10+Z42)*100+AC42)*100+AA42)*10+AK42)*10+AJ42)*100+AP42)*100+AU42)*10+AV42,(((((((AE42*10+Z42)*10+AK42)*10+AJ42)*100+AP42)*100+AU42)*100+AC42)*100+AA42)*10+AV42)","v":300000600064},null,null,{"$f":"IF($Z42=$Z43,$T42-$S43,0)","v":0},{"$f":"IF($Z42=$Z44,$U42-$S44,0)","v":0},{"$f":"IF($Z42=$Z45,$V42-$S45,0)","v":0},{"$f":"SUM(AF42:AI42)","v":0},null,null,{"$f":"IF($Z42=$Z43,$T46-$S47,0)","v":0},{"$f":"IF($Z42=$Z44,$U46-$S48,0)","v":0},{"$f":"IF($Z42=$Z45,$V46-$S49,0)","v":0},{"$f":"SUM(AL42:AO42)","v":0},null,{"$f":"IF($Z42=$Z43,$T46,0)","v":2},{"$f":"IF($Z42=$Z44,$U46,0)","v":2},{"$f":"IF($Z42=$Z45,$V46,0)","v":2},{"$f":"SUM(AQ42:AT42)","v":6},4,null,null,null,null,null,"Datum/Zeit","Spielort",null,null,null,null,null,null,null,null,null,{"$f":"VLOOKUP(1,$BX$42:$CC$45,2,FALSE)","v":"Portugal"},{"$f":"VLOOKUP(1,$BX$42:$CC$45,3,FALSE)","v":3},{"$f":"VLOOKUP(1,$BX$42:$CC$45,4,FALSE)","v":6},{"$f":"VLOOKUP(1,$BX$42:$CC$45,5,FALSE)","v":6},{"$f":"VLOOKUP(1,$BX$42:$CC$45,6,FALSE)","v":0},null,null,{"$f":"IF(BH43=\"\",0,IF(BK43=$B$98,IF(BH43>BJ43,3,IF(BH43=BJ43,1,0)),0))","v":1},{"$f":"IF(BH45=\"\",0,IF(BK45=$B$98,IF(BH45>BJ45,3,IF(BH45=BJ45,1,0)),0))","v":1},{"$f":"IF(BJ47=\"\",0,IF(BK48=$B$98,IF(BH47<BJ47,3,IF(BH47=BJ47,1,0)),0))","v":1},null,{"$f":"RANK(CD42,$CD$42:$CD$45)","v":1},"Portugal",{"$f":"SUM(BS42:BV42)","v":3},{"$f":"SUM(BS46:BV46)","v":6},{"$f":"SUM(BS46:BS49)","v":6},{"$f":"CA42-CB42","v":0},{"$f":"IF(BP$8=\"\",(((((((CE42*10+BZ42)*100+CC42)*100+CA42)*10+CK42)*10+CJ42)*100+CP42)*100+CU42)*10+CV42,(((((((CE42*10+BZ42)*10+CK42)*10+CJ42)*100+CP42)*100+CU42)*100+CC42)*100+CA42)*10+CV42)","v":300000600064},null,null,{"$f":"IF($BZ42=$BZ43,$BT42-$BS43,0)","v":0},{"$f":"IF($BZ42=$BZ44,$BU42-$BS44,0)","v":0},{"$f":"IF($BZ42=$BZ45,$BV42-$BS45,0)","v":0},{"$f":"SUM(CF42:CI42)","v":0},null,null,{"$f":"IF($BZ42=$BZ43,$BT46-$BS47,0)","v":0},{"$f":"IF($BZ42=$BZ44,$BU46-$BS48,0)","v":0},{"$f":"IF($BZ42=$BZ45,$BV46-$BS49,0)","v":0},{"$f":"SUM(CL42:CO42)","v":0},null,{"$f":"IF($BZ42=$BZ43,$BT46,0)","v":2},{"$f":"IF($BZ42=$BZ44,$BU46,0)","v":2},{"$f":"IF($BZ42=$BZ45,$BV46,0)","v":2},{"$f":"SUM(CQ42:CT42)","v":6},4]
[14,{"$f":"VLOOKUP(A43,Spiele!$A$1:$L$116,2,FALSE)","v":"2026-06-15T12:00:00"},{"$f":"VLOOKUP(A43,Spiele!$A$1:$L$116,9,FALSE)","v":"Atlanta"},{"$f":"Y42","v":"Spanien"},"-",{"$f":"Y43","v":"Kap Verde"},null,{"$f":"IF($B$101<>\"\",'WM2026-ELO'!V43,IF($B$99=\"\",2,INT(RAND()*5)+INT(RAND()*3)*INT(RAND()*2)))","v":2},":",{"$f":"IF($B$101<>\"\",'WM2026-ELO'!W43,IF($B$99=\"\",2,INT(RAND()*5)+INT(RAND()*3)*INT(RAND()*2)))","v":2},"ok",null,{"$f":"VLOOKUP(2,$X$42:$AC$45,2,FALSE)","v":"Kap Verde"},{"$f":"VLOOKUP(2,$X$42:$AC$45,3,FALSE)","v":3},{"$f":"VLOOKUP(2,$X$42:$AC$45,4,FALSE)","v":6},{"$f":"VLOOKUP(2,$X$42:$AC$45,5,FALSE)","v":6},{"$f":"VLOOKUP(2,$X$42:$AC$45,6,FALSE)","v":0},null,{"$f":"IF(J43=\"\",0,IF(K43=$B$98,IF(H43<J43,3,IF(H43=J43,1,0)),0))","v":1},null,{"$f":"IF(H48=\"\",0,IF(K47=$B$98,IF(H48>J48,3,IF(H48=J48,1,0)),0))","v":1},{"$f":"IF(J46=\"\",0,IF(K46=$B$98,IF(J46>H46,3,IF(J46=H46,1,0)),0))","v":1},null,{"$f":"RANK(AD43,$AD$42:$AD$45)","v":2},"Kap Verde",{"$f":"SUM(S43:V43)","v":3},{"$f":"SUM(S47:V47)","v":6},{"$f":"SUM(T46:T49)","v":6},{"$f":"AA43-AB43","v":0},{"$f":"IF(P$18=\"\",(((((((AE43*10+Z43)*100+AC43)*100+AA43)*10+AK43)*10+AJ43)*100+AP43)*100+AU43)*10+AV43,(((((((AE43*10+Z43)*10+AK43)*10+AJ43)*100+AP43)*100+AU43)*100+AC43)*100+AA43)*10+AV43)","v":300000600063},null,{"$f":"IF($Z43=$Z42,$S43-$T42,0)","v":0},null,{"$f":"IF($Z43=$Z44,$U43-$T44,0)","v":0},{"$f":"IF($Z43=$Z45,$V43-$T45,0)","v":0},{"$f":"SUM(AF43:AI43)","v":0},null,{"$f":"IF($Z43=$Z42,$S47-$T46,0)","v":0},null,{"$f":"IF($Z43=$Z44,$U47-$T48,0)","v":0},{"$f":"IF($Z43=$Z45,$V47-$T49,0)","v":0},{"$f":"SUM(AL43:AO43)","v":0},{"$f":"IF($Z43=$Z42,$S47,0)","v":2},null,{"$f":"IF($Z43=$Z44,$U47,0)","v":2},{"$f":"IF($Z43=$Z45,$V47,0)","v":2},{"$f":"SUM(AQ43:AT43)","v":6},3,null,null,null,null,23,{"$f":"VLOOKUP(BA43,Spiele!$A$1:$L$116,2,FALSE)","v":"2026-06-17T12:00:00"},{"$f":"VLOOKUP(BA43,Spiele!$A$1:$L$116,9,FALSE)","v":"Houston"},{"$f":"BY42","v":"Portugal"},"-",{"$f":"BY43","v":"DR Kongo"},null,{"$f":"IF($B$101<>\"\",'WM2026-ELO'!BV43,IF($B$99=\"\",2,INT(RAND()*5)+INT(RAND()*3)*INT(RAND()*2)))","v":2},":",{"$f":"IF($B$101<>\"\",'WM2026-ELO'!BW43,IF($B$99=\"\",2,INT(RAND()*5)+INT(RAND()*3)*INT(RAND()*2)))","v":2},"ok",null,{"$f":"VLOOKUP(2,$BX$42:$CC$45,2,FALSE)","v":"DR Kongo"},{"$f":"VLOOKUP(2,$BX$42:$CC$45,3,FALSE)","v":3},{"$f":"VLOOKUP(2,$BX$42:$CC$45,4,FALSE)","v":6},{"$f":"VLOOKUP(2,$BX$42:$CC$45,5,FALSE)","v":6},{"$f":"VLOOKUP(2,$BX$42:$CC$45,6,FALSE)","v":0},null,{"$f":"IF(BJ43=\"\",0,IF(BK43=$B$98,IF(BH43<BJ43,3,IF(BH43=BJ43,1,0)),0))","v":1},null,{"$f":"IF(BH48=\"\",0,IF(BK47=$B$98,IF(BH48>BJ48,3,IF(BH48=BJ48,1,0)),0))","v":1},{"$f":"IF(BJ46=\"\",0,IF(BK46=$B$98,IF(BJ46>BH46,3,IF(BJ46=BH46,1,0)),0))","v":1},null,{"$f":"RANK(CD43,$CD$42:$CD$45)","v":2},"DR Kongo",{"$f":"SUM(BS43:BV43)","v":3},{"$f":"SUM(BS47:BV47)","v":6},{"$f":"SUM(BT46:BT49)","v":6},{"$f":"CA43-CB43","v":0},{"$f":"IF(BP$8=\"\",(((((((CE43*10+BZ43)*100+CC43)*100+CA43)*10+CK43)*10+CJ43)*100+CP43)*100+CU43)*10+CV43,(((((((CE43*10+BZ43)*10+CK43)*10+CJ43)*100+CP43)*100+CU43)*100+CC43)*100+CA43)*10+CV43)","v":300000600063},null,{"$f":"IF($BZ43=$BZ42,$BS43-$BT42,0)","v":0},null,{"$f":"IF($BZ43=$BZ44,$BU43-$BT44,0)","v":0},{"$f":"IF($BZ43=$BZ45,$BV43-$BT45,0)","v":0},{"$f":"SUM(CF43:CI43)","v":0},null,{"$f":"IF($BZ43=$BZ42,$BS47-$BT46,0)","v":0},null,{"$f":"IF($BZ43=$BZ44,$BU47-$BT48,0)","v":0},{"$f":"IF($BZ43=$BZ45,$BV47-$BT49,0)","v":0},{"$f":"SUM(CL43:CO43)","v":0},{"$f":"IF($BZ43=$BZ42,$BS47,0)","v":2},null,{"$f":"IF($BZ43=$BZ44,$BU47,0)","v":2},{"$f":"IF($BZ43=$BZ45,$BV47,0)","v":2},{"$f":"SUM(CQ43:CT43)","v":6},3]
[13,{"$f":"VLOOKUP(A44,Spiele!$A$1:$L$116,2,FALSE)","v":"2026-06-15T18:00:00"},{"$f":"VLOOKUP(A44,Spiele!$A$1:$L$116,9,FALSE)","v":"Miami"},{"$f":"Y44","v":"Saudiarabien"},"-",{"$f":"Y45","v":"Uruguay"},null,{"$f":"IF($B$101<>\"\",'WM2026-ELO'!V44,IF($B$99=\"\",2,INT(RAND()*5)+INT(RAND()*3)*INT(RAND()*2)))","v":2},":",{"$f":"IF($B$101<>\"\",'WM2026-ELO'!W44,IF($B$99=\"\",2,INT(RAND()*5)+INT(RAND()*3)*INT(RAND()*2)))","v":2},"ok",null,{"$f":"VLOOKUP(3,$X$42:$AC$45,2,FALSE)","v":"Saudiarabien"},{"$f":"VLOOKUP(3,$X$42:$AC$45,3,FALSE)","v":3},{"$f":"VLOOKUP(3,$X$42:$AC$45,4,FALSE)","v":6},{"$f":"VLOOKUP(3,$X$42:$AC$45,5,FALSE)","v":6},{"$f":"VLOOKUP(3,$X$42:$AC$45,6,FALSE)","v":0},null,{"$f":"IF(J45=\"\",0,IF(K45=$B$98,IF(H45<J45,3,IF(H45=J45,1,0)),0))","v":1},{"$f":"IF(J48=\"\",0,IF(K47=$B$98,IF(H48<J48,3,IF(H48=J48,1,0)),0))","v":1},null,{"$f":"IF(H44=\"\",0,IF(K44=$B$98,IF(H44>J44,3,IF(H44=J44,1,0)),0))","v":1},null,{"$f":"RANK(AD44,$AD$42:$AD$45)","v":3},"Saudiarabien",{"$f":"SUM(S44:V44)","v":3},{"$f":"SUM(S48:V48)","v":6},{"$f":"SUM(U46:U49)","v":6},{"$f":"AA44-AB44","v":0},{"$f":"IF(P$18=\"\",(((((((AE44*10+Z44)*100+AC44)*100+AA44)*10+AK44)*10+AJ44)*100+AP44)*100+AU44)*10+AV44,(((((((AE44*10+Z44)*10+AK44)*10+AJ44)*100+AP44)*100+AU44)*100+AC44)*100+AA44)*10+AV44)","v":300000600062},null,{"$f":"IF($Z44=$Z42,$S44-$U42,0)","v":0},{"$f":"IF($Z44=$Z43,$T44-$U43,0)","v":0},null,{"$f":"IF($Z44=$Z45,$V44-$U45,0)","v":0},{"$f":"SUM(AF44:AI44)","v":0},null,{"$f":"IF($Z44=$Z42,$S48-$U46,0)","v":0},{"$f":"IF($Z44=$Z43,$T48-$U47,0)","v":0},null,{"$f":"IF($Z44=$Z45,$V48-$U49,0)","v":0},{"$f":"SUM(AL44:AO44)","v":0},{"$f":"IF($Z44=$Z42,$S48,0)","v":2},{"$f":"IF($Z44=$Z43,$T48,0)","v":2},null,{"$f":"IF($Z44=$Z45,$V48,0)","v":2},{"$f":"SUM(AQ44:AT44)","v":6},2,null,null,null,null,24,{"$f":"VLOOKUP(BA44,Spiele!$A$1:$L$116,2,FALSE)","v":"2026-06-17T21:00:00"},{"$f":"VLOOKUP(BA44,Spiele!$A$1:$L$116,9,FALSE)","v":"Mexico City"},{"$f":"BY44","v":"Usbekistan"},"-",{"$f":"BY45","v":"Kolumbien"},null,{"$f":"IF($B$101<>\"\",'WM2026-ELO'!BV44,IF($B$99=\"\",2,INT(RAND()*5)+INT(RAND()*3)*INT(RAND()*2)))","v":2},":",{"$f":"IF($B$101<>\"\",'WM2026-ELO'!BW44,IF($B$99=\"\",2,INT(RAND()*5)+INT(RAND()*3)*INT(RAND()*2)))","v":2},"ok",null,{"$f":"VLOOKUP(3,$BX$42:$CC$45,2,FALSE)","v":"Usbekistan"},{"$f":"VLOOKUP(3,$BX$42:$CC$45,3,FALSE)","v":3},{"$f":"VLOOKUP(3,$BX$42:$CC$45,4,FALSE)","v":6},{"$f":"VLOOKUP(3,$BX$42:$CC$45,5,FALSE)","v":6},{"$f":"VLOOKUP(3,$BX$42:$CC$45,6,FALSE)","v":0},null,{"$f":"IF(BJ45=\"\",0,IF(BK45=$B$98,IF(BH45<BJ45,3,IF(BH45=BJ45,1,0)),0))","v":1},{"$f":"IF(BJ48=\"\",0,IF(BK47=$B$98,IF(BH48<BJ48,3,IF(BH48=BJ48,1,0)),0))","v":1},null,{"$f":"IF(BH44=\"\",0,IF(BK44=$B$98,IF(BH44>BJ44,3,IF(BH44=BJ44,1,0)),0))","v":1},null,{"$f":"RANK(CD44,$CD$42:$CD$45)","v":3},"Usbekistan",{"$f":"SUM(BS44:BV44)","v":3},{"$f":"SUM(BS48:BV48)","v":6},{"$f":"SUM(BU46:BU49)","v":6},{"$f":"CA44-CB44","v":0},{"$f":"IF(BP$8=\"\",(((((((CE44*10+BZ44)*100+CC44)*100+CA44)*10+CK44)*10+CJ44)*100+CP44)*100+CU44)*10+CV44,(((((((CE44*10+BZ44)*10+CK44)*10+CJ44)*100+CP44)*100+CU44)*100+CC44)*100+CA44)*10+CV44)","v":300000600062},null,{"$f":"IF($BZ44=$BZ42,$BS44-$BU42,0)","v":0},{"$f":"IF($BZ44=$BZ43,$BT44-$BU43,0)","v":0},null,{"$f":"IF($BZ44=$BZ45,$BV44-$BU45,0)","v":0},{"$f":"SUM(CF44:CI44)","v":0},null,{"$f":"IF($BZ44=$BZ42,$BS48-$BU46,0)","v":0},{"$f":"IF($BZ44=$BZ43,$BT48-$BU47,0)","v":0},null,{"$f":"IF($BZ44=$BZ45,$BV48-$BU49,0)","v":0},{"$f":"SUM(CL44:CO44)","v":0},{"$f":"IF($BZ44=$BZ42,$BS48,0)","v":2},{"$f":"IF($BZ44=$BZ43,$BT48,0)","v":2},null,{"$f":"IF($BZ44=$BZ45,$BV48,0)","v":2},{"$f":"SUM(CQ44:CT44)","v":6},2]
[38,{"$f":"VLOOKUP(A45,Spiele!$A$1:$L$116,2,FALSE)","v":"2026-06-21T12:00:00"},{"$f":"VLOOKUP(A45,Spiele!$A$1:$L$116,9,FALSE)","v":"Atlanta"},{"$f":"Y42","v":"Spanien"},"-",{"$f":"Y44","v":"Saudiarabien"},null,{"$f":"IF($B$101<>\"\",'WM2026-ELO'!V45,IF($B$99=\"\",2,INT(RAND()*5)+INT(RAND()*3)*INT(RAND()*2)))","v":2},":",{"$f":"IF($B$101<>\"\",'WM2026-ELO'!W45,IF($B$99=\"\",2,INT(RAND()*5)+INT(RAND()*3)*INT(RAND()*2)))","v":2},"ok",null,{"$f":"VLOOKUP(4,$X$42:$AC$45,2,FALSE)","v":"Uruguay"},{"$f":"VLOOKUP(4,$X$42:$AC$45,3,FALSE)","v":3},{"$f":"VLOOKUP(4,$X$42:$AC$45,4,FALSE)","v":6},{"$f":"VLOOKUP(4,$X$42:$AC$45,5,FALSE)","v":6},{"$f":"VLOOKUP(4,$X$42:$AC$45,6,FALSE)","v":0},null,{"$f":"IF(H47=\"\",0,IF(K48=$B$98,IF(H47>J47,3,IF(H47=J47,1,0)),0))","v":1},{"$f":"IF(H46=\"\",0,IF(K46=$B$98,IF(J46<H46,3,IF(J46=H46,1,0)),0))","v":1},{"$f":"IF(J44=\"\",0,IF(K44=$B$98,IF(H44<J44,3,IF(H44=J44,1,0)),0))","v":1},null,null,{"$f":"RANK(AD45,$AD$42:$AD$45)","v":4},"Uruguay",{"$f":"SUM(S45:V45)","v":3},{"$f":"SUM(S49:V49)","v":6},{"$f":"SUM(V46:V49)","v":6},{"$f":"AA45-AB45","v":0},{"$f":"IF(P$18=\"\",(((((((AE45*10+Z45)*100+AC45)*100+AA45)*10+AK45)*10+AJ45)*100+AP45)*100+AU45)*10+AV45,(((((((AE45*10+Z45)*10+AK45)*10+AJ45)*100+AP45)*100+AU45)*100+AC45)*100+AA45)*10+AV45)","v":300000600061},null,{"$f":"IF($Z45=$Z42,$S45-$V42,0)","v":0},{"$f":"IF($Z45=$Z43,$T45-$V43,0)","v":0},{"$f":"IF($Z45=$Z44,$U45-$V44,0)","v":0},null,{"$f":"SUM(AF45:AI45)","v":0},null,{"$f":"IF($Z45=$Z42,$S49-$V46,0)","v":0},{"$f":"IF($Z45=$Z43,$T49-$V47,0)","v":0},{"$f":"IF($Z45=$Z44,$U49-$V48,0)","v":0},null,{"$f":"SUM(AL45:AO45)","v":0},{"$f":"IF($Z45=$Z42,$S49,0)","v":2},{"$f":"IF($Z45=$Z43,$T49,0)","v":2},{"$f":"IF($Z45=$Z44,$U49,0)","v":2},null,{"$f":"SUM(AQ45:AT45)","v":6},1,null,null,null,null,47,{"$f":"VLOOKUP(BA45,Spiele!$A$1:$L$116,2,FALSE)","v":"2026-06-23T12:00:00"},{"$f":"VLOOKUP(BA45,Spiele!$A$1:$L$116,9,FALSE)","v":"Houston"},{"$f":"BY42","v":"Portugal"},"-",{"$f":"BY44","v":"Usbekistan"},null,{"$f":"IF($B$101<>\"\",'WM2026-ELO'!BV45,IF($B$99=\"\",2,INT(RAND()*5)+INT(RAND()*3)*INT(RAND()*2)))","v":2},":",{"$f":"IF($B$101<>\"\",'WM2026-ELO'!BW45,IF($B$99=\"\",2,INT(RAND()*5)+INT(RAND()*3)*INT(RAND()*2)))","v":2},"ok",null,{"$f":"VLOOKUP(4,$BX$42:CC$45,2,FALSE)","v":"Kolumbien"},{"$f":"VLOOKUP(4,$BX$42:$CC$45,3,FALSE)","v":3},{"$f":"VLOOKUP(4,$BX$42:$CC$45,4,FALSE)","v":6},{"$f":"VLOOKUP(4,$BX$42:$CC$45,5,FALSE)","v":6},{"$f":"VLOOKUP(4,$BX$42:$CC$45,6,FALSE)","v":0},null,{"$f":"IF(BH47=\"\",0,IF(BK48=$B$98,IF(BH47>BJ47,3,IF(BH47=BJ47,1,0)),0))","v":1},{"$f":"IF(BH46=\"\",0,IF(BK46=$B$98,IF(BJ46<BH46,3,IF(BJ46=BH46,1,0)),0))","v":1},{"$f":"IF(BJ44=\"\",0,IF(BK44=$B$98,IF(BH44<BJ44,3,IF(BH44=BJ44,1,0)),0))","v":1},null,null,{"$f":"RANK(CD45,$CD$42:$CD$45)","v":4},"Kolumbien",{"$f":"SUM(BS45:BV45)","v":3},{"$f":"SUM(BS49:BV49)","v":6},{"$f":"SUM(BV46:BV49)","v":6},{"$f":"CA45-CB45","v":0},{"$f":"IF(BP$8=\"\",(((((((CE45*10+BZ45)*100+CC45)*100+CA45)*10+CK45)*10+CJ45)*100+CP45)*100+CU45)*10+CV45,(((((((CE45*10+BZ45)*10+CK45)*10+CJ45)*100+CP45)*100+CU45)*100+CC45)*100+CA45)*10+CV45)","v":300000600061},null,{"$f":"IF($BZ45=$BZ42,$BS45-$BV42,0)","v":0},{"$f":"IF($BZ45=$BZ43,$BT45-$BV43,0)","v":0},{"$f":"IF($BZ45=$BZ44,$BU45-$BV44,0)","v":0},null,{"$f":"SUM(CF45:CI45)","v":0},null,{"$f":"IF($BZ45=$BZ42,$BS49-$BV46,0)","v":0},{"$f":"IF($BZ45=$BZ43,$BT49-$BV47,0)","v":0},{"$f":"IF($BZ45=$BZ44,$BU49-$BV48,0)","v":0},null,{"$f":"SUM(CL45:CO45)","v":0},{"$f":"IF($BZ45=$BZ42,$BS49,0)","v":2},{"$f":"IF($BZ45=$BZ43,$BT49,0)","v":2},{"$f":"IF($BZ45=$BZ44,$BU49,0)","v":2},null,{"$f":"SUM(CQ45:CT45)","v":6},1]
[37,{"$f":"VLOOKUP(A46,Spiele!$A$1:$L$116,2,FALSE)","v":"2026-06-21T18:00:00"},{"$f":"VLOOKUP(A46,Spiele!$A$1:$L$116,9,FALSE)","v":"Miami"},{"$f":"Y45","v":"Uruguay"},"-",{"$f":"Y43","v":"Kap Verde"},null,{"$f":"IF($B$101<>\"\",'WM2026-ELO'!V46,IF($B$99=\"\",2,INT(RAND()*5)+INT(RAND()*3)*INT(RAND()*2)))","v":2},":",{"$f":"IF($B$101<>\"\",'WM2026-ELO'!W46,IF($B$99=\"\",2,INT(RAND()*5)+INT(RAND()*3)*INT(RAND()*2)))","v":2},"ok",null,null,null,null,null,null,null,null,{"$f":"IF(K43=$B$98,H43,0)","v":2},{"$f":"IF(K45=$B$98,H45,0)","v":2},{"$f":"IF(K48=$B$98,J47,0)","v":2},null,null,null,null,null,null,null,null,null,null,null,null,null,null,null,null,null,null,null,null,null,null,null,null,null,null,null,null,null,null,48,{"$f":"VLOOKUP(BA46,Spiele!$A$1:$L$116,2,FALSE)","v":"2026-06-23T21:00:00"},{"$f":"VLOOKUP(BA46,Spiele!$A$1:$L$116,9,FALSE)","v":"Guadalajara"},{"$f":"BY45","v":"Kolumbien"},"-",{"$f":"BY43","v":"DR Kongo"},null,{"$f":"IF($B$101<>\"\",'WM2026-ELO'!BV46,IF($B$99=\"\",2,INT(RAND()*5)+INT(RAND()*3)*INT(RAND()*2)))","v":2},":",{"$f":"IF($B$101<>\"\",'WM2026-ELO'!BW46,IF($B$99=\"\",2,INT(RAND()*5)+INT(RAND()*3)*INT(RAND()*2)))","v":2},"ok",null,null,null,null,null,null,null,null,{"$f":"IF(BK43=$B$98,BH43,0)","v":2},{"$f":"IF(BK45=$B$98,BH45,0)","v":2},{"$f":"IF(BK48=$B$98,BJ47,0)","v":2}]
[66,{"$f":"VLOOKUP(A47,Spiele!$A$1:$L$116,2,FALSE)","v":"2026-06-26T19:00:00"},{"$f":"VLOOKUP(A47,Spiele!$A$1:$L$116,9,FALSE)","v":"Guadalajara"},{"$f":"Y45","v":"Uruguay"},"-",{"$f":"Y42","v":"Spanien"},null,{"$f":"IF($B$101<>\"\",'WM2026-ELO'!V47,IF($B$99=\"\",2,INT(RAND()*5)+INT(RAND()*3)*INT(RAND()*2)))","v":2},":",{"$f":"IF($B$101<>\"\",'WM2026-ELO'!W47,IF($B$99=\"\",2,INT(RAND()*5)+INT(RAND()*3)*INT(RAND()*2)))","v":2},"ok",null,{"$f":"IF(N42>0,M42,\"\")","v":"Spanien"},"1H",null,null,null,null,{"$f":"IF(K43=$B$98,J43,0)","v":2},null,{"$f":"IF(K47=$B$98,H48,0)","v":2},{"$f":"IF(K46=$B$98,J46,0)","v":2},null,null,null,null,null,null,null,"L0=AE hebelt Berechnung aus (top level Losen)",null,null,null,null,null,null,null,null,null,null,null,null,null,null,null,null,null,null,null,null,null,null,72,{"$f":"VLOOKUP(BA47,Spiele!$A$1:$L$116,2,FALSE)","v":"2026-06-27T19:30:00"},{"$f":"VLOOKUP(BA47,Spiele!$A$1:$L$116,9,FALSE)","v":"Atlanta"},{"$f":"BY45","v":"Kolumbien"},"-",{"$f":"BY42","v":"Portugal"},null,{"$f":"IF($B$101<>\"\",'WM2026-ELO'!BV47,IF($B$99=\"\",2,INT(RAND()*5)+INT(RAND()*3)*INT(RAND()*2)))","v":2},":",{"$f":"IF($B$101<>\"\",'WM2026-ELO'!BW47,IF($B$99=\"\",2,INT(RAND()*5)+INT(RAND()*3)*INT(RAND()*2)))","v":2},"ok",null,{"$f":"IF(BN42>0,BM42,\"\")","v":"Portugal"},"1K",null,null,null,null,{"$f":"IF(BK43=$B$98,BJ43,0)","v":2},null,{"$f":"IF(BK47=$B$98,BH48,0)","v":2},{"$f":"IF(BK46=$B$98,BJ46,0)","v":2},null,null,null,null,null,null,null,"L0=AE hebelt Berechnung aus (top level Losen)"]
[65,{"$f":"VLOOKUP(A48,Spiele!$A$1:$L$116,2,FALSE)","v":"2026-06-26T19:00:00"},{"$f":"VLOOKUP(A48,Spiele!$A$1:$L$116,9,FALSE)","v":"Houston"},{"$f":"Y43","v":"Kap Verde"},"-",{"$f":"Y44","v":"Saudiarabien"},null,{"$f":"IF($B$101<>\"\",'WM2026-ELO'!V48,IF($B$99=\"\",2,INT(RAND()*5)+INT(RAND()*3)*INT(RAND()*2)))","v":2},":",{"$f":"IF($B$101<>\"\",'WM2026-ELO'!W48,IF($B$99=\"\",2,INT(RAND()*5)+INT(RAND()*3)*INT(RAND()*2)))","v":2},"ok",null,{"$f":"IF(N43>0,M43,\"\")","v":"Kap Verde"},"2H",null,"DV",null,null,{"$f":"IF(K45=$B$98,J45,0)","v":2},{"$f":"IF(K47=$B$98,J48,0)","v":2},null,{"$f":"IF(K44=$B$98,H44,0)","v":2},null,null,null,null,null,null,null,"L1=AK hebelt Direktvergleich (S1) aus",null,null,null,null,null,null,null,null,null,null,null,null,null,null,null,null,null,null,null,null,null,null,71,{"$f":"VLOOKUP(BA48,Spiele!$A$1:$L$116,2,FALSE)","v":"2026-06-27T19:30:00"},{"$f":"VLOOKUP(BA48,Spiele!$A$1:$L$116,9,FALSE)","v":"Miami"},{"$f":"BY43","v":"DR Kongo"},"-",{"$f":"BY44","v":"Usbekistan"},null,{"$f":"IF($B$101<>\"\",'WM2026-ELO'!BV48,IF($B$99=\"\",2,INT(RAND()*5)+INT(RAND()*3)*INT(RAND()*2)))","v":2},":",{"$f":"IF($B$101<>\"\",'WM2026-ELO'!BW48,IF($B$99=\"\",2,INT(RAND()*5)+INT(RAND()*3)*INT(RAND()*2)))","v":2},"ok",null,{"$f":"IF(BN43>0,BM43,\"\")","v":"DR Kongo"},"2K",null,"DV",null,null,{"$f":"IF(BK45=$B$98,BJ45,0)","v":2},{"$f":"IF(BK47=$B$98,BJ48,0)","v":2},null,{"$f":"IF(BK44=$B$98,BH44,0)","v":2},null,null,null,null,null,null,null,"L1=AK hebelt Direktvergleich (S1) aus"]
[null,null,null,null,null,null,null,null,null,null,null,null,{"$f":"IF(N44>0,M44,\"\")","v":"Saudiarabien"},"3H",null,null,null,null,{"$f":"IF(K48=$B$98,H47,0)","v":2},{"$f":"IF(K46=$B$98,H46,0)","v":2},{"$f":"IF(K44=$B$98,J44,0)","v":2},null,null,null,null,null,null,null,null,"L4=AV Losen UEFA-Koeffizient, Fairplay oder Münzwurf",null,null,null,null,null,null,null,null,null,null,null,null,null,null,null,null,null,null,null,null,null,null,null," ",null,null,null,null,null,null,null,null,null,null,{"$f":"IF(BN44>0,BM44,\"\")","v":"Usbekistan"},"3K",null,null,null,null,{"$f":"IF(BK48=$B$98,BH47,0)","v":2},{"$f":"IF(BK46=$B$98,BH46,0)","v":2},{"$f":"IF(BK44=$B$98,BJ44,0)","v":2},null,null,null,null,null,null,null,null,"L4=AV Losen UEFA-Koeffizient, Fairplay oder Münzwurf"]
[]
[null,"Vorrunde","Gruppe I"," ",null,null,null,null,null,null,null,null,"Tabelle","P","T+","T-","T+/-",null,null,null,null,null,null,"G","Berechnungen","P","T+","T-","T+/-",null,"L0","DV",null,null,null,"S1","L1","DV-TD",null,null,null,"S2","DV-Tore",null,null,null,"S3","L4",null,null,null,null,null,"Vorrunde","Gruppe L"," ",null,null,null,null,null,null,null,null,"Tabelle","P","T+","T-","T+/-",null,null,null,null,null,null,"G","Berechnungen","P","T+","T-","T+/-",null,"L0","DV",null,null,null,"S1","L1","DV-TD",null,null,null,"S2","DV-Tore",null,null,null,"S3","L4"]
[null,"Datum/Zeit","Spielort",null,null,null,null,null,null,null,null,null,{"$f":"VLOOKUP(1,$X$52:$AC$55,2,FALSE)","v":"Frankreich"},{"$f":"VLOOKUP(1,$X$52:$AC$55,3,FALSE)","v":3},{"$f":"VLOOKUP(1,$X$52:$AC$55,4,FALSE)","v":6},{"$f":"VLOOKUP(1,$X$52:$AC$55,5,FALSE)","v":6},{"$f":"VLOOKUP(1,$X$52:$AC$55,6,FALSE)","v":0},null,null,{"$f":"IF(H53=\"\",0,IF(K53=$B$98,IF(H53>J53,3,IF(H53=J53,1,0)),0))","v":1},{"$f":"IF(H55=\"\",0,IF(K55=$B$98,IF(H55>J55,3,IF(H55=J55,1,0)),0))","v":1},{"$f":"IF(J57=\"\",0,IF(K58=$B$98,IF(H57<J57,3,IF(H57=J57,1,0)),0))","v":1},null,{"$f":"RANK(AD52,$AD$52:$AD$55)","v":1},"Frankreich",{"$f":"SUM(S52:V52)","v":3},{"$f":"SUM(S56:V56)","v":6},{"$f":"SUM(S56:S59)","v":6},{"$f":"AA52-AB52","v":0},{"$f":"IF(P$28=\"\",(((((((AE52*10+Z52)*100+AC52)*100+AA52)*10+AK52)*10+AJ52)*100+AP52)*100+AU52)*10+AV52,(((((((AE52*10+Z52)*10+AK52)*10+AJ52)*100+AP52)*100+AU52)*100+AC52)*100+AA52)*10+AV52)","v":300000600064},null,null,{"$f":"IF($Z52=$Z53,$T52-$S53,0)","v":0},{"$f":"IF($Z52=$Z54,$U52-$S54,0)","v":0},{"$f":"IF($Z52=$Z55,$V52-$S55,0)","v":0},{"$f":"SUM(AF52:AI52)","v":0},null,null,{"$f":"IF($Z52=$Z53,$T56-$S57,0)","v":0},{"$f":"IF($Z52=$Z54,$U56-$S58,0)","v":0},{"$f":"IF($Z52=$Z55,$V56-$S59,0)","v":0},{"$f":"SUM(AL52:AO52)","v":0},null,{"$f":"IF($Z52=$Z53,$T56,0)","v":2},{"$f":"IF($Z52=$Z54,$U56,0)","v":2},{"$f":"IF($Z52=$Z55,$V56,0)","v":2},{"$f":"SUM(AQ52:AT52)","v":6},4,null,null,null,null,null,"Datum/Zeit","Spielort",null,null,null,null,null,null,null,null,null,{"$f":"VLOOKUP(1,$BX$52:$CC$55,2,FALSE)","v":"England"},{"$f":"VLOOKUP(1,$BX$52:$CC$55,3,FALSE)","v":3},{"$f":"VLOOKUP(1,$BX$52:$CC$55,4,FALSE)","v":6},{"$f":"VLOOKUP(1,$BX$52:$CC$55,5,FALSE)","v":6},{"$f":"VLOOKUP(1,$BX$52:$CC$55,6,FALSE)","v":0},null,null,{"$f":"IF(BH53=\"\",0,IF(BK53=$B$98,IF(BH53>BJ53,3,IF(BH53=BJ53,1,0)),0))","v":1},{"$f":"IF(BH55=\"\",0,IF(BK55=$B$98,IF(BH55>BJ55,3,IF(BH55=BJ55,1,0)),0))","v":1},{"$f":"IF(BJ57=\"\",0,IF(BK58=$B$98,IF(BH57<BJ57,3,IF(BH57=BJ57,1,0)),0))","v":1},null,{"$f":"RANK(CD52,$CD$52:$CD$55)","v":1},"England",{"$f":"SUM(BS52:BV52)","v":3},{"$f":"SUM(BS56:BV56)","v":6},{"$f":"SUM(BS56:BS59)","v":6},{"$f":"CA52-CB52","v":0},{"$f":"IF(BP$28=\"\",(((((((CE52*10+BZ52)*100+CC52)*100+CA52)*10+CK52)*10+CJ52)*100+CP52)*100+CU52)*10+CV52,(((((((CE52*10+BZ52)*10+CK52)*10+CJ52)*100+CP52)*100+CU52)*100+CC52)*100+CA52)*10+CV52)","v":300000600064},null,null,{"$f":"IF($BZ52=$BZ53,$BT52-$BS53,0)","v":0},{"$f":"IF($BZ52=$BZ54,$BU52-$BS54,0)","v":0},{"$f":"IF($BZ52=$BZ55,$BV52-$BS55,0)","v":0},{"$f":"SUM(CF52:CI52)","v":0},null,null,{"$f":"IF($BZ52=$BZ53,$BT56-$BS57,0)","v":0},{"$f":"IF($BZ52=$BZ54,$BU56-$BS58,0)","v":0},{"$f":"IF($BZ52=$BZ55,$BV56-$BS59,0)","v":0},{"$f":"SUM(CL52:CO52)","v":0},null,{"$f":"IF($BZ52=$BZ53,$BT56,0)","v":2},{"$f":"IF($BZ52=$BZ54,$BU56,0)","v":2},{"$f":"IF($BZ52=$BZ55,$BV56,0)","v":2},{"$f":"SUM(CQ52:CT52)","v":6},4]
[17,{"$f":"VLOOKUP(A53,Spiele!$A$1:$L$116,2,FALSE)","v":"2026-06-16T15:00:00"},{"$f":"VLOOKUP(A53,Spiele!$A$1:$L$116,9,FALSE)","v":"New York"},{"$f":"Y52","v":"Frankreich"},"-",{"$f":"Y53","v":"Senegal"},null,{"$f":"IF($B$101<>\"\",'WM2026-ELO'!V53,IF($B$99=\"\",2,INT(RAND()*5)+INT(RAND()*3)*INT(RAND()*2)))","v":2},":",{"$f":"IF($B$101<>\"\",'WM2026-ELO'!W53,IF($B$99=\"\",2,INT(RAND()*5)+INT(RAND()*3)*INT(RAND()*2)))","v":2},"ok",null,{"$f":"VLOOKUP(2,$X$52:$AC$55,2,FALSE)","v":"Senegal"},{"$f":"VLOOKUP(2,$X$52:$AC$55,3,FALSE)","v":3},{"$f":"VLOOKUP(2,$X$52:$AC$55,4,FALSE)","v":6},{"$f":"VLOOKUP(2,$X$52:$AC$55,5,FALSE)","v":6},{"$f":"VLOOKUP(2,$X$52:$AC$55,6,FALSE)","v":0},null,{"$f":"IF(J53=\"\",0,IF(K53=$B$98,IF(H53<J53,3,IF(H53=J53,1,0)),0))","v":1},null,{"$f":"IF(H58=\"\",0,IF(K57=$B$98,IF(H58>J58,3,IF(H58=J58,1,0)),0))","v":1},{"$f":"IF(J56=\"\",0,IF(K56=$B$98,IF(J56>H56,3,IF(J56=H56,1,0)),0))","v":1},null,{"$f":"RANK(AD53,$AD$52:$AD$55)","v":2},"Senegal",{"$f":"SUM(S53:V53)","v":3},{"$f":"SUM(S57:V57)","v":6},{"$f":"SUM(T56:T59)","v":6},{"$f":"AA53-AB53","v":0},{"$f":"IF(P$28=\"\",(((((((AE53*10+Z53)*100+AC53)*100+AA53)*10+AK53)*10+AJ53)*100+AP53)*100+AU53)*10+AV53,(((((((AE53*10+Z53)*10+AK53)*10+AJ53)*100+AP53)*100+AU53)*100+AC53)*100+AA53)*10+AV53)","v":300000600063},null,{"$f":"IF($Z53=$Z52,$S53-$T52,0)","v":0},null,{"$f":"IF($Z53=$Z54,$U53-$T54,0)","v":0},{"$f":"IF($Z53=$Z55,$V53-$T55,0)","v":0},{"$f":"SUM(AF53:AI53)","v":0},null,{"$f":"IF($Z53=$Z52,$S57-$T56,0)","v":0},null,{"$f":"IF($Z53=$Z54,$U57-$T58,0)","v":0},{"$f":"IF($Z53=$Z55,$V57-$T59,0)","v":0},{"$f":"SUM(AL53:AO53)","v":0},{"$f":"IF($Z53=$Z52,$S57,0)","v":2},null,{"$f":"IF($Z53=$Z54,$U57,0)","v":2},{"$f":"IF($Z53=$Z55,$V57,0)","v":2},{"$f":"SUM(AQ53:AT53)","v":6},3,null,null,null,null,22,{"$f":"VLOOKUP(BA53,Spiele!$A$1:$L$116,2,FALSE)","v":"2026-06-17T15:00:00"},{"$f":"VLOOKUP(BA53,Spiele!$A$1:$L$116,9,FALSE)","v":"Dallas"},{"$f":"BY52","v":"England"},"-",{"$f":"BY53","v":"Kroatien"},null,{"$f":"IF($B$101<>\"\",'WM2026-ELO'!BV53,IF($B$99=\"\",2,INT(RAND()*5)+INT(RAND()*3)*INT(RAND()*2)))","v":2},":",{"$f":"IF($B$101<>\"\",'WM2026-ELO'!BW53,IF($B$99=\"\",2,INT(RAND()*5)+INT(RAND()*3)*INT(RAND()*2)))","v":2},"ok",null,{"$f":"VLOOKUP(2,$BX$52:$CC$55,2,FALSE)","v":"Kroatien"},{"$f":"VLOOKUP(2,$BX$52:$CC$55,3,FALSE)","v":3},{"$f":"VLOOKUP(2,$BX$52:$CC$55,4,FALSE)","v":6},{"$f":"VLOOKUP(2,$BX$52:$CC$55,5,FALSE)","v":6},{"$f":"VLOOKUP(2,$BX$52:$CC$55,6,FALSE)","v":0},null,{"$f":"IF(BJ53=\"\",0,IF(BK53=$B$98,IF(BH53<BJ53,3,IF(BH53=BJ53,1,0)),0))","v":1},null,{"$f":"IF(BH58=\"\",0,IF(BK57=$B$98,IF(BH58>BJ58,3,IF(BH58=BJ58,1,0)),0))","v":1},{"$f":"IF(BJ56=\"\",0,IF(BK56=$B$98,IF(BJ56>BH56,3,IF(BJ56=BH56,1,0)),0))","v":1},null,{"$f":"RANK(CD53,$CD$52:$CD$55)","v":2},"Kroatien",{"$f":"SUM(BS53:BV53)","v":3},{"$f":"SUM(BS57:BV57)","v":6},{"$f":"SUM(BT56:BT59)","v":6},{"$f":"CA53-CB53","v":0},{"$f":"IF(BP$28=\"\",(((((((CE53*10+BZ53)*100+CC53)*100+CA53)*10+CK53)*10+CJ53)*100+CP53)*100+CU53)*10+CV53,(((((((CE53*10+BZ53)*10+CK53)*10+CJ53)*100+CP53)*100+CU53)*100+CC53)*100+CA53)*10+CV53)","v":300000600063},null,{"$f":"IF($BZ53=$BZ52,$BS53-$BT52,0)","v":0},null,{"$f":"IF($BZ53=$BZ54,$BU53-$BT54,0)","v":0},{"$f":"IF($BZ53=$BZ55,$BV53-$BT55,0)","v":0},{"$f":"SUM(CF53:CI53)","v":0},null,{"$f":"IF($BZ53=$BZ52,$BS57-$BT56,0)","v":0},null,{"$f":"IF($BZ53=$BZ54,$BU57-$BT58,0)","v":0},{"$f":"IF($BZ53=$BZ55,$BV57-$BT59,0)","v":0},{"$f":"SUM(CL53:CO53)","v":0},{"$f":"IF($BZ53=$BZ52,$BS57,0)","v":2},null,{"$f":"IF($BZ53=$BZ54,$BU57,0)","v":2},{"$f":"IF($BZ53=$BZ55,$BV57,0)","v":2},{"$f":"SUM(CQ53:CT53)","v":6},3]
[18,{"$f":"VLOOKUP(A54,Spiele!$A$1:$L$116,2,FALSE)","v":"2026-06-16T18:00:00"},{"$f":"VLOOKUP(A54,Spiele!$A$1:$L$116,9,FALSE)","v":"Boston"},{"$f":"Y54","v":"Irak"},"-",{"$f":"Y55","v":"Norwegen"},null,{"$f":"IF($B$101<>\"\",'WM2026-ELO'!V54,IF($B$99=\"\",2,INT(RAND()*5)+INT(RAND()*3)*INT(RAND()*2)))","v":2},":",{"$f":"IF($B$101<>\"\",'WM2026-ELO'!W54,IF($B$99=\"\",2,INT(RAND()*5)+INT(RAND()*3)*INT(RAND()*2)))","v":2},"ok",null,{"$f":"VLOOKUP(3,$X$52:$AC$55,2,FALSE)","v":"Irak"},{"$f":"VLOOKUP(3,$X$52:$AC$55,3,FALSE)","v":3},{"$f":"VLOOKUP(3,$X$52:$AC$55,4,FALSE)","v":6},{"$f":"VLOOKUP(3,$X$52:$AC$55,5,FALSE)","v":6},{"$f":"VLOOKUP(3,$X$52:$AC$55,6,FALSE)","v":0},null,{"$f":"IF(J55=\"\",0,IF(K55=$B$98,IF(H55<J55,3,IF(H55=J55,1,0)),0))","v":1},{"$f":"IF(J58=\"\",0,IF(K57=$B$98,IF(H58<J58,3,IF(H58=J58,1,0)),0))","v":1},null,{"$f":"IF(H54=\"\",0,IF(K54=$B$98,IF(H54>J54,3,IF(H54=J54,1,0)),0))","v":1},null,{"$f":"RANK(AD54,$AD$52:$AD$55)","v":3},"Irak",{"$f":"SUM(S54:V54)","v":3},{"$f":"SUM(S58:V58)","v":6},{"$f":"SUM(U56:U59)","v":6},{"$f":"AA54-AB54","v":0},{"$f":"IF(P$28=\"\",(((((((AE54*10+Z54)*100+AC54)*100+AA54)*10+AK54)*10+AJ54)*100+AP54)*100+AU54)*10+AV54,(((((((AE54*10+Z54)*10+AK54)*10+AJ54)*100+AP54)*100+AU54)*100+AC54)*100+AA54)*10+AV54)","v":300000600062},null,{"$f":"IF($Z54=$Z52,$S54-$U52,0)","v":0},{"$f":"IF($Z54=$Z53,$T54-$U53,0)","v":0},null,{"$f":"IF($Z54=$Z55,$V54-$U55,0)","v":0},{"$f":"SUM(AF54:AI54)","v":0},null,{"$f":"IF($Z54=$Z52,$S58-$U56,0)","v":0},{"$f":"IF($Z54=$Z53,$T58-$U57,0)","v":0},null,{"$f":"IF($Z54=$Z55,$V58-$U59,0)","v":0},{"$f":"SUM(AL54:AO54)","v":0},{"$f":"IF($Z54=$Z52,$S58,0)","v":2},{"$f":"IF($Z54=$Z53,$T58,0)","v":2},null,{"$f":"IF($Z54=$Z55,$V58,0)","v":2},{"$f":"SUM(AQ54:AT54)","v":6},2,null,null,null,null,21,{"$f":"VLOOKUP(BA54,Spiele!$A$1:$L$116,2,FALSE)","v":"2026-06-17T19:00:00"},{"$f":"VLOOKUP(BA54,Spiele!$A$1:$L$116,9,FALSE)","v":"Toronto"},{"$f":"BY54","v":"Ghana"},"-",{"$f":"BY55","v":"Panama"},null,{"$f":"IF($B$101<>\"\",'WM2026-ELO'!BV54,IF($B$99=\"\",2,INT(RAND()*5)+INT(RAND()*3)*INT(RAND()*2)))","v":2},":",{"$f":"IF($B$101<>\"\",'WM2026-ELO'!BW54,IF($B$99=\"\",2,INT(RAND()*5)+INT(RAND()*3)*INT(RAND()*2)))","v":2},"ok",null,{"$f":"VLOOKUP(3,$BX$52:$CC$55,2,FALSE)","v":"Ghana"},{"$f":"VLOOKUP(3,$BX$52:$CC$55,3,FALSE)","v":3},{"$f":"VLOOKUP(3,$BX$52:$CC$55,4,FALSE)","v":6},{"$f":"VLOOKUP(3,$BX$52:$CC$55,5,FALSE)","v":6},{"$f":"VLOOKUP(3,$BX$52:$CC$55,6,FALSE)","v":0},null,{"$f":"IF(BJ55=\"\",0,IF(BK55=$B$98,IF(BH55<BJ55,3,IF(BH55=BJ55,1,0)),0))","v":1},{"$f":"IF(BJ58=\"\",0,IF(BK57=$B$98,IF(BH58<BJ58,3,IF(BH58=BJ58,1,0)),0))","v":1},null,{"$f":"IF(BH54=\"\",0,IF(BK54=$B$98,IF(BH54>BJ54,3,IF(BH54=BJ54,1,0)),0))","v":1},null,{"$f":"RANK(CD54,$CD$52:$CD$55)","v":3},"Ghana",{"$f":"SUM(BS54:BV54)","v":3},{"$f":"SUM(BS58:BV58)","v":6},{"$f":"SUM(BU56:BU59)","v":6},{"$f":"CA54-CB54","v":0},{"$f":"IF(BP$28=\"\",(((((((CE54*10+BZ54)*100+CC54)*100+CA54)*10+CK54)*10+CJ54)*100+CP54)*100+CU54)*10+CV54,(((((((CE54*10+BZ54)*10+CK54)*10+CJ54)*100+CP54)*100+CU54)*100+CC54)*100+CA54)*10+CV54)","v":300000600062},null,{"$f":"IF($BZ54=$BZ52,$BS54-$BU52,0)","v":0},{"$f":"IF($BZ54=$BZ53,$BT54-$BU53,0)","v":0},null,{"$f":"IF($BZ54=$BZ55,$BV54-$BU55,0)","v":0},{"$f":"SUM(CF54:CI54)","v":0},null,{"$f":"IF($BZ54=$BZ52,$BS58-$BU56,0)","v":0},{"$f":"IF($BZ54=$BZ53,$BT58-$BU57,0)","v":0},null,{"$f":"IF($BZ54=$BZ55,$BV58-$BU59,0)","v":0},{"$f":"SUM(CL54:CO54)","v":0},{"$f":"IF($BZ54=$BZ52,$BS58,0)","v":2},{"$f":"IF($BZ54=$BZ53,$BT58,0)","v":2},null,{"$f":"IF($BZ54=$BZ55,$BV58,0)","v":2},{"$f":"SUM(CQ54:CT54)","v":6},2]
[42,{"$f":"VLOOKUP(A55,Spiele!$A$1:$L$116,2,FALSE)","v":"2026-06-22T17:00:00"},{"$f":"VLOOKUP(A55,Spiele!$A$1:$L$116,9,FALSE)","v":"Philadelphia"},{"$f":"Y52","v":"Frankreich"},"-",{"$f":"Y54","v":"Irak"},null,{"$f":"IF($B$101<>\"\",'WM2026-ELO'!V55,IF($B$99=\"\",2,INT(RAND()*5)+INT(RAND()*3)*INT(RAND()*2)))","v":2},":",{"$f":"IF($B$101<>\"\",'WM2026-ELO'!W55,IF($B$99=\"\",2,INT(RAND()*5)+INT(RAND()*3)*INT(RAND()*2)))","v":2},"ok",null,{"$f":"VLOOKUP(4,$X$52:$AC$55,2,FALSE)","v":"Norwegen"},{"$f":"VLOOKUP(4,$X$52:$AC$55,3,FALSE)","v":3},{"$f":"VLOOKUP(4,$X$52:$AC$55,4,FALSE)","v":6},{"$f":"VLOOKUP(4,$X$52:$AC$55,5,FALSE)","v":6},{"$f":"VLOOKUP(4,$X$52:$AC$55,6,FALSE)","v":0},null,{"$f":"IF(H57=\"\",0,IF(K58=$B$98,IF(H57>J57,3,IF(H57=J57,1,0)),0))","v":1},{"$f":"IF(H56=\"\",0,IF(K56=$B$98,IF(J56<H56,3,IF(J56=H56,1,0)),0))","v":1},{"$f":"IF(J54=\"\",0,IF(K54=$B$98,IF(H54<J54,3,IF(H54=J54,1,0)),0))","v":1},null,null,{"$f":"RANK(AD55,$AD$52:$AD$55)","v":4},"Norwegen",{"$f":"SUM(S55:V55)","v":3},{"$f":"SUM(S59:V59)","v":6},{"$f":"SUM(V56:V59)","v":6},{"$f":"AA55-AB55","v":0},{"$f":"IF(P$28=\"\",(((((((AE55*10+Z55)*100+AC55)*100+AA55)*10+AK55)*10+AJ55)*100+AP55)*100+AU55)*10+AV55,(((((((AE55*10+Z55)*10+AK55)*10+AJ55)*100+AP55)*100+AU55)*100+AC55)*100+AA55)*10+AV55)","v":300000600061},null,{"$f":"IF($Z55=$Z52,$S55-$V52,0)","v":0},{"$f":"IF($Z55=$Z53,$T55-$V53,0)","v":0},{"$f":"IF($Z55=$Z54,$U55-$V54,0)","v":0},null,{"$f":"SUM(AF55:AI55)","v":0},null,{"$f":"IF($Z55=$Z52,$S59-$V56,0)","v":0},{"$f":"IF($Z55=$Z53,$T59-$V57,0)","v":0},{"$f":"IF($Z55=$Z54,$U59-$V58,0)","v":0},null,{"$f":"SUM(AL55:AO55)","v":0},{"$f":"IF($Z55=$Z52,$S59,0)","v":2},{"$f":"IF($Z55=$Z53,$T59,0)","v":2},{"$f":"IF($Z55=$Z54,$U59,0)","v":2},null,{"$f":"SUM(AQ55:AT55)","v":6},1,null,null,null,null,45,{"$f":"VLOOKUP(BA55,Spiele!$A$1:$L$116,2,FALSE)","v":"2026-06-23T16:00:00"},{"$f":"VLOOKUP(BA55,Spiele!$A$1:$L$116,9,FALSE)","v":"Boston"},{"$f":"BY52","v":"England"},"-",{"$f":"BY54","v":"Ghana"},null,{"$f":"IF($B$101<>\"\",'WM2026-ELO'!BV55,IF($B$99=\"\",2,INT(RAND()*5)+INT(RAND()*3)*INT(RAND()*2)))","v":2},":",{"$f":"IF($B$101<>\"\",'WM2026-ELO'!BW55,IF($B$99=\"\",2,INT(RAND()*5)+INT(RAND()*3)*INT(RAND()*2)))","v":2},"ok",null,{"$f":"VLOOKUP(4,$BX$52:$CC$55,2,FALSE)","v":"Panama"},{"$f":"VLOOKUP(4,$BX$52:$CC$55,3,FALSE)","v":3},{"$f":"VLOOKUP(4,$BX$52:$CC$55,4,FALSE)","v":6},{"$f":"VLOOKUP(4,$BX$52:$CC$55,5,FALSE)","v":6},{"$f":"VLOOKUP(4,$BX$52:$CC$55,6,FALSE)","v":0},null,{"$f":"IF(BH57=\"\",0,IF(BK58=$B$98,IF(BH57>BJ57,3,IF(BH57=BJ57,1,0)),0))","v":1},{"$f":"IF(BH56=\"\",0,IF(BK56=$B$98,IF(BJ56<BH56,3,IF(BJ56=BH56,1,0)),0))","v":1},{"$f":"IF(BJ54=\"\",0,IF(BK54=$B$98,IF(BH54<BJ54,3,IF(BH54=BJ54,1,0)),0))","v":1},null,null,{"$f":"RANK(CD55,$CD$52:$CD$55)","v":4},"Panama",{"$f":"SUM(BS55:BV55)","v":3},{"$f":"SUM(BS59:BV59)","v":6},{"$f":"SUM(BV56:BV59)","v":6},{"$f":"CA55-CB55","v":0},{"$f":"IF(BP$28=\"\",(((((((CE55*10+BZ55)*100+CC55)*100+CA55)*10+CK55)*10+CJ55)*100+CP55)*100+CU55)*10+CV55,(((((((CE55*10+BZ55)*10+CK55)*10+CJ55)*100+CP55)*100+CU55)*100+CC55)*100+CA55)*10+CV55)","v":300000600061},null,{"$f":"IF($BZ55=$BZ52,$BS55-$BV52,0)","v":0},{"$f":"IF($BZ55=$BZ53,$BT55-$BV53,0)","v":0},{"$f":"IF($BZ55=$BZ54,$BU55-$BV54,0)","v":0},null,{"$f":"SUM(CF55:CI55)","v":0},null,{"$f":"IF($BZ55=$BZ52,$BS59-$BV56,0)","v":0},{"$f":"IF($BZ55=$BZ53,$BT59-$BV57,0)","v":0},{"$f":"IF($BZ55=$BZ54,$BU59-$BV58,0)","v":0},null,{"$f":"SUM(CL55:CO55)","v":0},{"$f":"IF($BZ55=$BZ52,$BS59,0)","v":2},{"$f":"IF($BZ55=$BZ53,$BT59,0)","v":2},{"$f":"IF($BZ55=$BZ54,$BU59,0)","v":2},null,{"$f":"SUM(CQ55:CT55)","v":6},1]
[41,{"$f":"VLOOKUP(A56,Spiele!$A$1:$L$116,2,FALSE)","v":"2026-06-22T20:00:00"},{"$f":"VLOOKUP(A56,Spiele!$A$1:$L$116,9,FALSE)","v":"New York"},{"$f":"Y55","v":"Norwegen"},"-",{"$f":"Y53","v":"Senegal"},null,{"$f":"IF($B$101<>\"\",'WM2026-ELO'!V56,IF($B$99=\"\",2,INT(RAND()*5)+INT(RAND()*3)*INT(RAND()*2)))","v":2},":",{"$f":"IF($B$101<>\"\",'WM2026-ELO'!W56,IF($B$99=\"\",2,INT(RAND()*5)+INT(RAND()*3)*INT(RAND()*2)))","v":2},"ok",null,null,null,null,null,null,null,null,{"$f":"IF(K53=$B$98,H53,0)","v":2},{"$f":"IF(K55=$B$98,H55,0)","v":2},{"$f":"IF(K58=$B$98,J57,0)","v":2},null,null,null,null,null,null,null,null,null,null,null,null,null,null,null,null,null,null,null,null,null,null,null,null,null,null,null,null,null,null,46,{"$f":"VLOOKUP(BA56,Spiele!$A$1:$L$116,2,FALSE)","v":"2026-06-23T19:00:00"},{"$f":"VLOOKUP(BA56,Spiele!$A$1:$L$116,9,FALSE)","v":"Toronto"},{"$f":"BY55","v":"Panama"},"-",{"$f":"BY53","v":"Kroatien"},null,{"$f":"IF($B$101<>\"\",'WM2026-ELO'!BV56,IF($B$99=\"\",2,INT(RAND()*5)+INT(RAND()*3)*INT(RAND()*2)))","v":2},":",{"$f":"IF($B$101<>\"\",'WM2026-ELO'!BW56,IF($B$99=\"\",2,INT(RAND()*5)+INT(RAND()*3)*INT(RAND()*2)))","v":2},"ok",null,null,null,null,null,null,null,null,{"$f":"IF(BK53=$B$98,BH53,0)","v":2},{"$f":"IF(BK55=$B$98,BH55,0)","v":2},{"$f":"IF(BK58=$B$98,BJ57,0)","v":2}]
[61,{"$f":"VLOOKUP(A57,Spiele!$A$1:$L$116,2,FALSE)","v":"2026-06-26T15:00:00"},{"$f":"VLOOKUP(A57,Spiele!$A$1:$L$116,9,FALSE)","v":"Boston"},{"$f":"Y55","v":"Norwegen"},"-",{"$f":"Y52","v":"Frankreich"},null,{"$f":"IF($B$101<>\"\",'WM2026-ELO'!V57,IF($B$99=\"\",2,INT(RAND()*5)+INT(RAND()*3)*INT(RAND()*2)))","v":2},":",{"$f":"IF($B$101<>\"\",'WM2026-ELO'!W57,IF($B$99=\"\",2,INT(RAND()*5)+INT(RAND()*3)*INT(RAND()*2)))","v":2},"ok",null,{"$f":"IF(N52>0,M52,\"\")","v":"Frankreich"},"1I",null,null,null,null,{"$f":"IF(K53=$B$98,J53,0)","v":2},null,{"$f":"IF(K57=$B$98,H58,0)","v":2},{"$f":"IF(K56=$B$98,J56,0)","v":2},null,null,null,null,null,null,null,"L0=AE hebelt Berechnung aus (top level Losen)",null,null,null,null,null,null,null,null,null,null,null,null,null,null,null,null,null,null,null,null,null,null,68,{"$f":"VLOOKUP(BA57,Spiele!$A$1:$L$116,2,FALSE)","v":"2026-06-27T17:00:00"},{"$f":"VLOOKUP(BA57,Spiele!$A$1:$L$116,9,FALSE)","v":"Philadelphia"},{"$f":"BY55","v":"Panama"},"-",{"$f":"BY52","v":"England"},null,{"$f":"IF($B$101<>\"\",'WM2026-ELO'!BV57,IF($B$99=\"\",2,INT(RAND()*5)+INT(RAND()*3)*INT(RAND()*2)))","v":2},":",{"$f":"IF($B$101<>\"\",'WM2026-ELO'!BW57,IF($B$99=\"\",2,INT(RAND()*5)+INT(RAND()*3)*INT(RAND()*2)))","v":2},"ok",null,{"$f":"IF(BN52>0,BM52,\"\")","v":"England"},"1L",null,null,null,null,{"$f":"IF(BK53=$B$98,BJ53,0)","v":2},null,{"$f":"IF(BK57=$B$98,BH58,0)","v":2},{"$f":"IF(BK56=$B$98,BJ56,0)","v":2},null,null,null,null,null,null,null,"L0=AE hebelt Berechnung aus (top level Losen)"]
[62,{"$f":"VLOOKUP(A58,Spiele!$A$1:$L$116,2,FALSE)","v":"2026-06-26T15:00:00"},{"$f":"VLOOKUP(A58,Spiele!$A$1:$L$116,9,FALSE)","v":"Toronto"},{"$f":"Y53","v":"Senegal"},"-",{"$f":"Y54","v":"Irak"},null,{"$f":"IF($B$101<>\"\",'WM2026-ELO'!V58,IF($B$99=\"\",2,INT(RAND()*5)+INT(RAND()*3)*INT(RAND()*2)))","v":2},":",{"$f":"IF($B$101<>\"\",'WM2026-ELO'!W58,IF($B$99=\"\",2,INT(RAND()*5)+INT(RAND()*3)*INT(RAND()*2)))","v":2},"ok",null,{"$f":"IF(N53>0,M53,\"\")","v":"Senegal"},"2I",null,"DV",null,null,{"$f":"IF(K55=$B$98,J55,0)","v":2},{"$f":"IF(K57=$B$98,J58,0)","v":2},null,{"$f":"IF(K54=$B$98,H54,0)","v":2},null,null,null,null,null,null,null,"L1=AK hebelt Direktvergleich (S1) aus",null,null,null,null,null,null,null,null,null,null,null,null,null,null,null,null,null,null,null,null,null,null,67,{"$f":"VLOOKUP(BA58,Spiele!$A$1:$L$116,2,FALSE)","v":"2026-06-27T17:00:00"},{"$f":"VLOOKUP(BA58,Spiele!$A$1:$L$116,9,FALSE)","v":"New York"},{"$f":"BY53","v":"Kroatien"},"-",{"$f":"BY54","v":"Ghana"},null,{"$f":"IF($B$101<>\"\",'WM2026-ELO'!BV58,IF($B$99=\"\",2,INT(RAND()*5)+INT(RAND()*3)*INT(RAND()*2)))","v":2},":",{"$f":"IF($B$101<>\"\",'WM2026-ELO'!BW58,IF($B$99=\"\",2,INT(RAND()*5)+INT(RAND()*3)*INT(RAND()*2)))","v":2},"ok",null,{"$f":"IF(BN53>0,BM53,\"\")","v":"Kroatien"},"2L",null,"DV",null,null,{"$f":"IF(BK55=$B$98,BJ55,0)","v":2},{"$f":"IF(BK57=$B$98,BJ58,0)","v":2},null,{"$f":"IF(BK54=$B$98,BH54,0)","v":2},null,null,null,null,null,null,null,"L1=AK hebelt Direktvergleich (S1) aus"]
[null,null,null,null,null,null,null,null,null,null,null,null,{"$f":"IF(N54>0,M54,\"\")","v":"Irak"},"3I",null,null,null,null,{"$f":"IF(K58=$B$98,H57,0)","v":2},{"$f":"IF(K56=$B$98,H56,0)","v":2},{"$f":"IF(K54=$B$98,J54,0)","v":2},null,null,null,null,null,null,null,null,"L4=AV Losen UEFA-Koeffizient, Fairplay oder Münzwurf",null,null,null,null,null,null,null,null,null,null,null,null,null,null,null,null,null,null,null,null,null,null,null,null,null,null,null,null,null,null,null,null,null,null,{"$f":"IF(BN54>0,BM54,\"\")","v":"Ghana"},"3L",null,null,null,null,{"$f":"IF(BK58=$B$98,BH57,0)","v":2},{"$f":"IF(BK56=$B$98,BH56,0)","v":2},{"$f":"IF(BK54=$B$98,BJ54,0)","v":2},null,null,null,null,null,null,null,null,"L4=AV Losen UEFA-Koeffizient, Fairplay oder Münzwurf"]
[]
[null,"Sechzehntelfinale"]
[null,"Datum/Zeit","Spielort",null,null,null,null,null,null,null,null,null,null,null,null,null,null,null,null,null,null,null,null,null,null,null,null,null,null,null,null,null,null,null,null,null,null,null,null,null,null,null,null,null,null,null,null,null,null,null,null,null,null,"Gruppendritte",{"$f":"CONCATENATE(BH66,BH67,BH68,BH69,BH70,BH71,BH72,BH73)","v":"ABCDEFGH"}]
[73,{"$f":"VLOOKUP(A63,Spiele!$A$1:$L$116,2,FALSE)","v":"2026-06-28T12:00:00"},{"$f":"VLOOKUP(A63,Spiele!$A$1:$L$116,9,FALSE)","v":"Los Angeles"},{"$f":"M8","v":"Südafrika"},"-",{"$f":"M18","v":"Bosnien/Herzg."},null,{"$f":"IF($B$101<>\"\",'WM2026-ELO'!V63,IF($B$99=\"\",2,INT(RAND()*5)+INT(RAND()*3)*INT(RAND()*2)))","v":2},":",{"$f":"IF($B$101<>\"\",'WM2026-ELO'!W63,IF($B$99=\"\",1, H63 + IF(H63=0, 1, IF(H63=9, -1, CHOOSE(INT(RAND()*2)+1, 1, -1)))))","v":1},"ok",null,{"$f":"IF(J63=\"\",\"\",IF(J63=H63,\"falsch!!! K.Remis\",IF(H63>J63,D63,F63)))","v":"Südafrika"},{"$f":"N8","v":"2A"},{"$f":"N18","v":"2B"},"S01"]
[76,{"$f":"VLOOKUP(A64,Spiele!$A$1:$L$116,2,FALSE)","v":"2026-06-29T12:00:00"},{"$f":"VLOOKUP(A64,Spiele!$A$1:$L$116,9,FALSE)","v":"Houston"},{"$f":"M27","v":"Brasilien"},"-",{"$f":"BM28","v":"Japan"},null,{"$f":"IF($B$101<>\"\",'WM2026-ELO'!V64,IF($B$99=\"\",2,INT(RAND()*5)+INT(RAND()*3)*INT(RAND()*2)))","v":2},":",{"$f":"IF($B$101<>\"\",'WM2026-ELO'!W64,IF($B$99=\"\",1, H64 + IF(H64=0, 1, IF(H64=9, -1, CHOOSE(INT(RAND()*2)+1, 1, -1)))))","v":1},"ok",null,"Brasilien",{"$f":"N27","v":"1C"},{"$f":"BN28","v":"2F"},"S02",null,null,null,null,null,null,null,null,null,null,null,null,null,null,null,null,null,null,null,null,null,null,null,null,null,null,null,null,null,null,null,null,null,null,null,null,null,null,null,null,null,null,null,null,null,null,null,null,"Bestimmen Buchstabencode"]
[74,{"$f":"VLOOKUP(A65,Spiele!$A$1:$L$116,2,FALSE)","v":"2026-06-29T16:30:00"},{"$f":"VLOOKUP(A65,Spiele!$A$1:$L$116,9,FALSE)","v":"Boston"},{"$f":"BM17","v":"Deutschland"},"-",{"$f":"VLOOKUP(R65,$BC$66:$BF$73,4,FALSE)","v":"Haiti"},null,{"$f":"IF($B$101<>\"\",'WM2026-ELO'!V65,IF($B$99=\"\",2,INT(RAND()*5)+INT(RAND()*3)*INT(RAND()*2)))","v":2},":",{"$f":"IF($B$101<>\"\",'WM2026-ELO'!W65,IF($B$99=\"\",1, H65 + IF(H65=0, 1, IF(H65=9, -1, CHOOSE(INT(RAND()*2)+1, 1, -1)))))","v":1},"ok",null,"Deutschland",{"$f":"BN17","v":"1E"},{"$f":"R65","v":"3C"},"S03",null,{"$f":"VLOOKUP(N65,BB$66:BC$73,2,FALSE)","v":"3C"},null,null,null,null,null,null,null,null,null,null,null,null,null,null,null,null,null,null,null,null,null,null,null,null,null,null,null,null,null,null,null,null,null,null,null,"Team 1","Dritter","Automatisch",null,"Team 2",null,null,null,null,null,null,"Tabelle","P","T+","T-","T+/-","C","G",null,null,null,null,"R","Gruppendritte",null,null,null,null,null,"L0","G",null,"L8",null,"L16"]
[75,{"$f":"VLOOKUP(A66,Spiele!$A$1:$L$116,2,FALSE)","v":"2026-06-29T20:00:00"},{"$f":"VLOOKUP(A66,Spiele!$A$1:$L$116,9,FALSE)","v":"Monterrey"},{"$f":"BM27","v":"Niederlande"},"-",{"$f":"M28","v":"Marokko"},null,{"$f":"IF($B$101<>\"\",'WM2026-ELO'!V66,IF($B$99=\"\",2,INT(RAND()*5)+INT(RAND()*3)*INT(RAND()*2)))","v":2},":",{"$f":"IF($B$101<>\"\",'WM2026-ELO'!W66,IF($B$99=\"\",1, H66 + IF(H66=0, 1, IF(H66=9, -1, CHOOSE(INT(RAND()*2)+1, 1, -1)))))","v":1},"ok",null,"Niederlande",{"$f":"BN27","v":"1F"},{"$f":"N28","v":"2C"},"S04",null,null,null,null,null,null,null,null,null,null,null,null,null,null,null,null,null,null,null,null,null,null,null,null,null,null,null,null,null,null,null,null,null,null,null,null,null,{"$f":"FIFA!C1","v":"1A"},{"$f":"IF(CJ66=\"\",INDEX(FIFA!C:C, MATCH($BC$62, FIFA!B:B, 0)),CJ66)","v":"3H"},"3CEFHI",null,{"$f":"IF(BN66>0,VLOOKUP(CODE(MID(BC66,2,1))-64,$BL$66:$BM$77,2,FALSE),\"\")","v":"Saudiarabien"},null,{"$f":"CHAR(BJ66+64)","v":"A"},null,{"$f":"SMALL(BR$66:BR$73,1)","v":1},{"$f":"BS66","v":"A"},{"$f":"CODE(BK66)-64","v":1},{"$f":"VLOOKUP(1,$BX$66:$CC$77,2,FALSE)","v":"Südkorea"},{"$f":"VLOOKUP(1,$BX$66:$CC$77,3,FALSE)","v":3},{"$f":"VLOOKUP(1,$BX$66:$CC$77,4,FALSE)","v":6},{"$f":"VLOOKUP(1,$BX$66:$CC$77,5,FALSE)","v":6},{"$f":"VLOOKUP(1,$BX$66:$CC$77,6,FALSE)","v":0},{"$f":"CODE(BS66)-64","v":1},{"$f":"MID(VLOOKUP(1,$BX$66:$CF$77,9,FALSE),2,1)","v":"A"},null,null,null,null,{"$f":"RANK(CD66,$CD$66:$CD$77)","v":1},{"$f":"M4","v":"Südkorea"},{"$f":"N4","v":3},{"$f":"O4","v":6},{"$f":"P4","v":6},{"$f":"Q4","v":0},{"$f":"CE66*10000000000000000+BZ66*100000000000000+CC66*1000000000000+CA66*10000000000+CH66","v":300060000000012},null,{"$f":"N9","v":"3A"},null,12]
[78,{"$f":"VLOOKUP(A67,Spiele!$A$1:$L$116,2,FALSE)","v":"2026-06-30T12:00:00"},{"$f":"VLOOKUP(A67,Spiele!$A$1:$L$116,9,FALSE)","v":"Dallas"},{"$f":"BM18","v":"Curaçao"},"-",{"$f":"M58","v":"Senegal"},null,{"$f":"IF($B$101<>\"\",'WM2026-ELO'!V67,IF($B$99=\"\",2,INT(RAND()*5)+INT(RAND()*3)*INT(RAND()*2)))","v":2},":",{"$f":"IF($B$101<>\"\",'WM2026-ELO'!W67,IF($B$99=\"\",1, H67 + IF(H67=0, 1, IF(H67=9, -1, CHOOSE(INT(RAND()*2)+1, 1, -1)))))","v":1},"ok",null,"Curaçao",{"$f":"BN18","v":"2E"},{"$f":"N58","v":"2I"},"S05",null,null,null,null,null,null,null,null,null,null,null,null,null,null,null,null,null,null,null,null,null,null,null,null,null,null,null,null,null,null,null,null,null,null,null,null,null,{"$f":"FIFA!D1","v":"1B"},{"$f":"IF(CJ67=\"\",INDEX(FIFA!D:D, MATCH($BC$62, FIFA!B:B, 0)),CJ67)","v":"3G"},"3EFGIJ",null,{"$f":"IF(BN67>0,VLOOKUP(CODE(MID(BC67,2,1))-64,$BL$66:$BM$77,2,FALSE),\"\")","v":"IR Iran"},null,"B",null,{"$f":"SMALL(BR$66:BR$73,2)","v":2},"B",2,{"$f":"VLOOKUP(2,$BX$66:$CC$77,2,FALSE)","v":"Katar"},{"$f":"VLOOKUP(2,$BX$66:$CC$77,3,FALSE)","v":3},{"$f":"VLOOKUP(2,$BX$66:$CC$77,4,FALSE)","v":6},{"$f":"VLOOKUP(2,$BX$66:$CC$77,5,FALSE)","v":6},{"$f":"VLOOKUP(2,$BX$66:$CC$77,6,FALSE)","v":0},2,{"$f":"MID(VLOOKUP(2,$BX$66:$CF$77,9,FALSE),2,1)","v":"B"},null,null,null,null,2,{"$f":"M14","v":"Katar"},{"$f":"N14","v":3},{"$f":"O14","v":6},{"$f":"P14","v":6},{"$f":"Q14","v":0},300060000000011,null,{"$f":"N19","v":"3B"},null,{"$f":"CH66-1","v":11}]
[77,{"$f":"VLOOKUP(A68,Spiele!$A$1:$L$116,2,FALSE)","v":"2026-06-30T17:00:00"},{"$f":"VLOOKUP(A68,Spiele!$A$1:$L$116,9,FALSE)","v":"New York"},{"$f":"M57","v":"Frankreich"},"-",{"$f":"VLOOKUP(R68,$BC$66:$BF$73,4,FALSE)","v":"Schweden"},null,{"$f":"IF($B$101<>\"\",'WM2026-ELO'!V68,IF($B$99=\"\",2,INT(RAND()*5)+INT(RAND()*3)*INT(RAND()*2)))","v":2},":",{"$f":"IF($B$101<>\"\",'WM2026-ELO'!W68,IF($B$99=\"\",1, H68 + IF(H68=0, 1, IF(H68=9, -1, CHOOSE(INT(RAND()*2)+1, 1, -1)))))","v":1},"ok",null,"Frankreich",{"$f":"N57","v":"1I"},{"$f":"R68","v":"3F"},"S06",null,{"$f":"VLOOKUP(N68,BB$66:BC$73,2,FALSE)","v":"3F"},null,null,null,null,null,null,null,null,null,null,null,null,null,null,null,null,null,null,null,null,null,null,null,null,null,null,null,null,null,null,null,null,null,null,null,{"$f":"FIFA!E1","v":"1D"},{"$f":"IF(CJ68=\"\",INDEX(FIFA!E:E, MATCH($BC$62, FIFA!B:B, 0)),CJ68)","v":"3B"},"3BEFIJ",null,"Katar",null,"C",null,{"$f":"SMALL(BR$66:BR$73,3)","v":3},"C",3,{"$f":"VLOOKUP(3,$BX$66:$CC$77,2,FALSE)","v":"Haiti"},{"$f":"VLOOKUP(3,$BX$66:$CC$77,3,FALSE)","v":3},{"$f":"VLOOKUP(3,$BX$66:$CC$77,4,FALSE)","v":6},{"$f":"VLOOKUP(3,$BX$66:$CC$77,5,FALSE)","v":6},{"$f":"VLOOKUP(3,$BX$66:$CC$77,6,FALSE)","v":0},3,{"$f":"MID(VLOOKUP(3,$BX$66:$CF$77,9,FALSE),2,1)","v":"C"},null,null,null,null,3,{"$f":"M24","v":"Haiti"},{"$f":"N24","v":3},{"$f":"O24","v":6},{"$f":"P24","v":6},{"$f":"Q24","v":0},300060000000010,null,{"$f":"N29","v":"3C"},null,{"$f":"CH67-1","v":10}]
[79,{"$f":"VLOOKUP(A69,Spiele!$A$1:$L$116,2,FALSE)","v":"2026-06-30T20:00:00"},{"$f":"VLOOKUP(A69,Spiele!$A$1:$L$116,9,FALSE)","v":"Mexico City"},{"$f":"M7","v":"Mexiko"},"-",{"$f":"VLOOKUP(R69,$BC$66:$BF$73,4,FALSE)","v":"Saudiarabien"},null,{"$f":"IF($B$101<>\"\",'WM2026-ELO'!V69,IF($B$99=\"\",2,INT(RAND()*5)+INT(RAND()*3)*INT(RAND()*2)))","v":2},":",{"$f":"IF($B$101<>\"\",'WM2026-ELO'!W69,IF($B$99=\"\",1, H69 + IF(H69=0, 1, IF(H69=9, -1, CHOOSE(INT(RAND()*2)+1, 1, -1)))))","v":1},"ok",null,"Mexiko",{"$f":"N7","v":"1A"},{"$f":"R69","v":"3H"},"S07",null,{"$f":"VLOOKUP(N69,BB$66:BC$73,2,FALSE)","v":"3H"},null,null,null,null,null,null,null,null,null,null,null,null,null,null,null,null,null,null,null,null,null,null,null,null,null,null,null,null,null,null,null,null,null,null,null,{"$f":"FIFA!F1","v":"1E"},{"$f":"IF(CJ69=\"\",INDEX(FIFA!F:F,MATCH($BC$62,FIFA!B:B,0)),CJ69)","v":"3C"},"3ABCDF",null,"Haiti",null,"D",null,{"$f":"SMALL(BR$66:BR$73,4)","v":4},"D",4,{"$f":"VLOOKUP(4,$BX$66:$CC$77,2,FALSE)","v":"Australien"},{"$f":"VLOOKUP(4,$BX$66:$CC$77,3,FALSE)","v":3},{"$f":"VLOOKUP(4,$BX$66:$CC$77,4,FALSE)","v":6},{"$f":"VLOOKUP(4,$BX$66:$CC$77,5,FALSE)","v":6},{"$f":"VLOOKUP(4,$BX$66:$CC$77,6,FALSE)","v":0},4,{"$f":"MID(VLOOKUP(4,$BX$66:$CF$77,9,FALSE),2,1)","v":"D"},null,null,null,null,4,{"$f":"BM4","v":"Australien"},{"$f":"BN4","v":3},{"$f":"BO4","v":6},{"$f":"BP4","v":6},{"$f":"BQ4","v":0},300060000000009,null,{"$f":"BN9","v":"3D"},null,9]
[80,{"$f":"VLOOKUP(A70,Spiele!$A$1:$L$116,2,FALSE)","v":"2026-07-01T12:00:00"},{"$f":"VLOOKUP(A70,Spiele!$A$1:$L$116,9,FALSE)","v":"Atlanta"},{"$f":"BM57","v":"England"},"-",{"$f":"VLOOKUP(R70,$BC$66:$BF$73,4,FALSE)","v":"Elfenbeinküste"},null,{"$f":"IF($B$101<>\"\",'WM2026-ELO'!V70,IF($B$99=\"\",2,INT(RAND()*5)+INT(RAND()*3)*INT(RAND()*2)))","v":2},":",{"$f":"IF($B$101<>\"\",'WM2026-ELO'!W70,IF($B$99=\"\",1, H70 + IF(H70=0, 1, IF(H70=9, -1, CHOOSE(INT(RAND()*2)+1, 1, -1)))))","v":1},"ok",null,"England",{"$f":"BN57","v":"1L"},{"$f":"R70","v":"3E"},"S08",null,{"$f":"VLOOKUP(N70,BB$66:BC$73,2,FALSE)","v":"3E"},null,null,null,null,null,null,null,null,null,null,null,null,null,null,null,null,null,null,null,null,null,null,null,null,null,null,null,null,null,null,null,null,null,null,null,{"$f":"FIFA!G1","v":"1G"},{"$f":"IF(CJ70=\"\",INDEX(FIFA!G:G, MATCH($BC$62, FIFA!B:B, 0)),CJ70)","v":"3A"},"3AEHIJ",null,"Südkorea",null,"E",null,{"$f":"SMALL(BR$66:BR$73,5)","v":5},"E",5,{"$f":"VLOOKUP(5,$BX$66:$CC$77,2,FALSE)","v":"Elfenbeinküste"},{"$f":"VLOOKUP(5,$BX$66:$CC$77,3,FALSE)","v":3},{"$f":"VLOOKUP(5,$BX$66:$CC$77,4,FALSE)","v":6},{"$f":"VLOOKUP(5,$BX$66:$CC$77,5,FALSE)","v":6},{"$f":"VLOOKUP(5,$BX$66:$CC$77,6,FALSE)","v":0},5,{"$f":"MID(VLOOKUP(5,$BX$66:$CF$77,9,FALSE),2,1)","v":"E"},null,null,null,null,5,{"$f":"BM14","v":"Elfenbeinküste"},{"$f":"BN14","v":3},{"$f":"BO14","v":6},{"$f":"BP14","v":6},{"$f":"BQ14","v":0},300060000000008,null,{"$f":"BN19","v":"3E"},null,8]
[82,{"$f":"VLOOKUP(A71,Spiele!$A$1:$L$116,2,FALSE)","v":"2026-07-01T13:00:00"},{"$f":"VLOOKUP(A71,Spiele!$A$1:$L$116,9,FALSE)","v":"Seattle"},{"$f":"M37","v":"Belgien"},"-",{"$f":"VLOOKUP(R71,$BC$66:$BF$73,4,FALSE)","v":"Südkorea"},null,{"$f":"IF($B$101<>\"\",'WM2026-ELO'!V71,IF($B$99=\"\",2,INT(RAND()*5)+INT(RAND()*3)*INT(RAND()*2)))","v":2},":",{"$f":"IF($B$101<>\"\",'WM2026-ELO'!W71,IF($B$99=\"\",1, H71 + IF(H71=0, 1, IF(H71=9, -1, CHOOSE(INT(RAND()*2)+1, 1, -1)))))","v":1},"ok",null,"Belgien",{"$f":"N37","v":"1G"},{"$f":"R71","v":"3A"},"S09",null,{"$f":"VLOOKUP(N71,BB$66:BC$73,2,FALSE)","v":"3A"},null,null,null,null,null,null,null,null,null,null,null,null,null,null,null,null,null,null,null,null,null,null,null,null,null,null,null,null,null,null,null,null,null,null,null,{"$f":"FIFA!H1","v":"1I"},{"$f":"IF(CJ71=\"\",INDEX(FIFA!H:H, MATCH($BC$62, FIFA!B:B, 0)),CJ71)","v":"3F"},"3CDFGH",null,"Schweden",null,"F",null,{"$f":"SMALL(BR$66:BR$73,6)","v":6},"F",6,{"$f":"VLOOKUP(6,$BX$66:$CC$77,2,FALSE)","v":"Schweden"},{"$f":"VLOOKUP(6,$BX$66:$CC$77,3,FALSE)","v":3},{"$f":"VLOOKUP(6,$BX$66:$CC$77,4,FALSE)","v":6},{"$f":"VLOOKUP(6,$BX$66:$CC$77,5,FALSE)","v":6},{"$f":"VLOOKUP(6,$BX$66:$CC$77,6,FALSE)","v":0},6,{"$f":"MID(VLOOKUP(6,$BX$66:$CF$77,9,FALSE),2,1)","v":"F"},null,null,null,null,6,{"$f":"BM24","v":"Schweden"},{"$f":"BN24","v":3},{"$f":"BO24","v":6},{"$f":"BP24","v":6},{"$f":"BQ24","v":0},300060000000007,null,{"$f":"BN29","v":"3F"},null,7]
[81,{"$f":"VLOOKUP(A72,Spiele!$A$1:$L$116,2,FALSE)","v":"2026-07-01T17:00:00"},{"$f":"VLOOKUP(A72,Spiele!$A$1:$L$116,9,FALSE)","v":"San Francisco"},{"$f":"BM7","v":"USA"},"-",{"$f":"VLOOKUP(R72,$BC$66:$BF$73,4,FALSE)","v":"Katar"},null,{"$f":"IF($B$101<>\"\",'WM2026-ELO'!V72,IF($B$99=\"\",2,INT(RAND()*5)+INT(RAND()*3)*INT(RAND()*2)))","v":2},":",{"$f":"IF($B$101<>\"\",'WM2026-ELO'!W72,IF($B$99=\"\",1, H72 + IF(H72=0, 1, IF(H72=9, -1, CHOOSE(INT(RAND()*2)+1, 1, -1)))))","v":1},"ok",null,"USA",{"$f":"BN7","v":"1D"},{"$f":"R72","v":"3B"},"S10",null,{"$f":"VLOOKUP(N72,BB$66:BC$73,2,FALSE)","v":"3B"},null,null,null,null,null,null,null,null,null,null,null,null,null,null,null,null,null,null,null,null,null,null,null,null,null,null,null,null,null,null,null,null,null,null,null,{"$f":"FIFA!I1","v":"1K"},{"$f":"IF(CJ72=\"\",INDEX(FIFA!I:I, MATCH($BC$62, FIFA!B:B, 0)),CJ72)","v":"3D"},"3DEIJL",null,"Australien",null,"G",null,{"$f":"SMALL(BR$66:BR$73,7)","v":7},"G",7,{"$f":"VLOOKUP(7,$BX$66:$CC$77,2,FALSE)","v":"IR Iran"},3,6,6,0,7,{"$f":"MID(VLOOKUP(7,$BX$66:$CF$77,9,FALSE),2,1)","v":"G"},null,null,null,null,7,{"$f":"M34","v":"IR Iran"},{"$f":"N34","v":3},{"$f":"O34","v":6},{"$f":"P34","v":6},{"$f":"Q34","v":0},300060000000006,null,"3G",null,6]
[84,{"$f":"VLOOKUP(A73,Spiele!$A$1:$L$116,2,FALSE)","v":"2026-07-02T12:00:00"},{"$f":"VLOOKUP(A73,Spiele!$A$1:$L$116,9,FALSE)","v":"Los Angeles"},{"$f":"M47","v":"Spanien"},"-",{"$f":"BM38","v":"Algerien"},null,{"$f":"IF($B$101<>\"\",'WM2026-ELO'!V73,IF($B$99=\"\",2,INT(RAND()*5)+INT(RAND()*3)*INT(RAND()*2)))","v":2},":",{"$f":"IF($B$101<>\"\",'WM2026-ELO'!W73,IF($B$99=\"\",1, H73 + IF(H73=0, 1, IF(H73=9, -1, CHOOSE(INT(RAND()*2)+1, 1, -1)))))","v":1},"ok",null,"Spanien",{"$f":"N47","v":"1H"},{"$f":"BN38","v":"2J"},"S11",null,null,null,null,null,null,null,null,null,null,null,null,null,null,null,null,null,null,null,null,null,null,null,null,null,null,null,null,null,null,null,null,null,null,null,null,null,{"$f":"FIFA!J1","v":"1L"},{"$f":"IF(CJ73=\"\",INDEX(FIFA!J:J, MATCH($BC$62, FIFA!B:B, 0)),CJ73)","v":"3E"},"3EHIJK",null,"Elfenbeinküste",null,"H",null,{"$f":"SMALL(BR$66:BR$73,8)","v":8},"H",8,{"$f":"VLOOKUP(8,$BX$66:$CC$77,2,FALSE)","v":"Saudiarabien"},3,6,6,0,8,{"$f":"MID(VLOOKUP(8,$BX$66:$CF$77,9,FALSE),2,1)","v":"H"},null,null,null,null,8,{"$f":"M44","v":"Saudiarabien"},{"$f":"N44","v":3},{"$f":"O44","v":6},{"$f":"P44","v":6},{"$f":"Q44","v":0},300060000000005,null,"3H",null,5]
[83,{"$f":"VLOOKUP(A74,Spiele!$A$1:$L$116,2,FALSE)","v":"2026-07-02T19:00:00"},{"$f":"VLOOKUP(A74,Spiele!$A$1:$L$116,9,FALSE)","v":"Toronto"},{"$f":"BM48","v":"DR Kongo"},"-",{"$f":"BM58","v":"Kroatien"},null,{"$f":"IF($B$101<>\"\",'WM2026-ELO'!V74,IF($B$99=\"\",2,INT(RAND()*5)+INT(RAND()*3)*INT(RAND()*2)))","v":2},":",{"$f":"IF($B$101<>\"\",'WM2026-ELO'!W74,IF($B$99=\"\",1, H74 + IF(H74=0, 1, IF(H74=9, -1, CHOOSE(INT(RAND()*2)+1, 1, -1)))))","v":1},"ok",null,"DR Kongo",{"$f":"BN48","v":"2K"},{"$f":"BN58","v":"2L"},"S12",null,null,null,null,null,null,null,null,null,null,null,null,null,null,null,null,null,null,null,null,null,null,null,null,null,null,null,null,null,null,null,null,null,null,null,null,null,null,null,null,null,null,null,null,null,null,"I",9,{"$f":"VLOOKUP(9,$BX$66:$CC$77,2,FALSE)","v":"Irak"},3,6,6,0,9,{"$f":"MID(VLOOKUP(9,$BX$66:$CF$77,9,FALSE),2,1)","v":"I"},null,null,null,null,9,{"$f":"M54","v":"Irak"},{"$f":"N54","v":3},{"$f":"O54","v":6},{"$f":"P54","v":6},{"$f":"Q54","v":0},300060000000004,null,"3I",null,4]
[85,{"$f":"VLOOKUP(A75,Spiele!$A$1:$L$116,2,FALSE)","v":"2026-07-02T20:00:00"},{"$f":"VLOOKUP(A75,Spiele!$A$1:$L$116,9,FALSE)","v":"Vancouver"},{"$f":"M17","v":"Kanada"},"-",{"$f":"VLOOKUP(R75,$BC$66:$BF$73,4,FALSE)","v":"IR Iran"},null,{"$f":"IF($B$101<>\"\",'WM2026-ELO'!V75,IF($B$99=\"\",2,INT(RAND()*5)+INT(RAND()*3)*INT(RAND()*2)))","v":2},":",{"$f":"IF($B$101<>\"\",'WM2026-ELO'!W75,IF($B$99=\"\",1, H75 + IF(H75=0, 1, IF(H75=9, -1, CHOOSE(INT(RAND()*2)+1, 1, -1)))))","v":1},"ok",null,"Kanada",{"$f":"N17","v":"1B"},{"$f":"R75","v":"3G"},"S13",null,{"$f":"VLOOKUP(N75,BB$66:BC$73,2,FALSE)","v":"3G"},null,null,null,null,null,null,null,null,null,null,null,null,null,null,null,null,null,null,null,null,null,null,null,null,null,null,null,null,null,null,null,null,null,null,null,null,null,null,null,null,null,null,null,null,"J",10,{"$f":"VLOOKUP(10,$BX$66:$CC$77,2,FALSE)","v":"Österreich"},3,6,6,0,10,{"$f":"MID(VLOOKUP(10,$BX$66:$CF$77,9,FALSE),2,1)","v":"J"},null,null,null,null,10,{"$f":"BM34","v":"Österreich"},{"$f":"BN34","v":3},{"$f":"BO34","v":6},{"$f":"BP34","v":6},{"$f":"BQ34","v":0},300060000000003,null,"3J",null,3]
[88,{"$f":"VLOOKUP(A76,Spiele!$A$1:$L$116,2,FALSE)","v":"2026-07-03T13:00:00"},{"$f":"VLOOKUP(A76,Spiele!$A$1:$L$116,9,FALSE)","v":"Dallas"},{"$f":"BM8","v":"Paraguay"},"-",{"$f":"M38","v":"Ägypten"},null,{"$f":"IF($B$101<>\"\",'WM2026-ELO'!V76,IF($B$99=\"\",2,INT(RAND()*5)+INT(RAND()*3)*INT(RAND()*2)))","v":2},":",{"$f":"IF($B$101<>\"\",'WM2026-ELO'!W76,IF($B$99=\"\",1, H76 + IF(H76=0, 1, IF(H76=9, -1, CHOOSE(INT(RAND()*2)+1, 1, -1)))))","v":1},"ok",null,"Paraguay",{"$f":"BN8","v":"2D"},{"$f":"N38","v":"2G"},"S14",null,null,null,null,null,null,null,null,null,null,null,null,null,null,null,null,null,null,null,null,null,null,null,null,null,null,null,null,null,null,null,null,null,null,null,null,null,null,null,null,null,null,null,null,null,null,"K",11,{"$f":"VLOOKUP(11,$BX$66:$CC$77,2,FALSE)","v":"Usbekistan"},3,6,6,0,11,{"$f":"MID(VLOOKUP(11,$BX$66:$CF$77,9,FALSE),2,1)","v":"K"},null,null,null,null,11,{"$f":"BM44","v":"Usbekistan"},{"$f":"BN44","v":3},{"$f":"BO44","v":6},{"$f":"BP44","v":6},{"$f":"BQ44","v":0},300060000000002,null,"3K",null,2]
[86,{"$f":"VLOOKUP(A77,Spiele!$A$1:$L$116,2,FALSE)","v":"2026-07-03T18:00:00"},{"$f":"VLOOKUP(A77,Spiele!$A$1:$L$116,9,FALSE)","v":"Miami"},{"$f":"BM37","v":"Argentinien"},"-",{"$f":"M48","v":"Kap Verde"},null,{"$f":"IF($B$101<>\"\",'WM2026-ELO'!V77,IF($B$99=\"\",2,INT(RAND()*5)+INT(RAND()*3)*INT(RAND()*2)))","v":2},":",{"$f":"IF($B$101<>\"\",'WM2026-ELO'!W77,IF($B$99=\"\",1, H77 + IF(H77=0, 1, IF(H77=9, -1, CHOOSE(INT(RAND()*2)+1, 1, -1)))))","v":1},"ok",null,"Argentinien",{"$f":"BN37","v":"1J"},{"$f":"N48","v":"2H"},"S15",null,null,null,null,null,null,null,null,null,null,null,null,null,null,null,null,null,null,null,null,null,null,null,null,null,null,null,null,null,null,null,null,null,null,null,null,null,null,null,null,null,null,null,null,null,null,"L",12,{"$f":"VLOOKUP(12,$BX$66:$CC$77,2,FALSE)","v":"Ghana"},3,6,6,0,12,{"$f":"MID(VLOOKUP(12,$BX$66:$CF$77,9,FALSE),2,1)","v":"L"},null,null,null,null,12,{"$f":"BM54","v":"Ghana"},{"$f":"BN54","v":3},{"$f":"BO54","v":6},{"$f":"BP54","v":6},{"$f":"BQ54","v":0},300060000000001,null,"3L",null,1]
[87,{"$f":"VLOOKUP(A78,Spiele!$A$1:$L$116,2,FALSE)","v":"2026-07-03T20:30:00"},{"$f":"VLOOKUP(A78,Spiele!$A$1:$L$116,9,FALSE)","v":"Kansas City"},{"$f":"BM47","v":"Portugal"},"-",{"$f":"VLOOKUP(R78,$BC$66:$BF$73,4,FALSE)","v":"Australien"},null,{"$f":"IF($B$101<>\"\",'WM2026-ELO'!V78,IF($B$99=\"\",2,INT(RAND()*5)+INT(RAND()*3)*INT(RAND()*2)))","v":2},":",{"$f":"IF($B$101<>\"\",'WM2026-ELO'!W78,IF($B$99=\"\",1, H78 + IF(H78=0, 1, IF(H78=9, -1, CHOOSE(INT(RAND()*2)+1, 1, -1)))))","v":1},"ok",null,"Portugal",{"$f":"BN47","v":"1K"},{"$f":"R78","v":"3D"},"S16",null,{"$f":"VLOOKUP(N78,BB$66:BC$73,2,FALSE)","v":"3D"}]
[null,null,null,null,null,null,null,null,null,null,null,null,null,null,null,null,null,null,null,null,null,null,null,null,null,null,null,null,null,null,null,null,null,null,null,null,null,null,null,null,null,null,null,null,null,null,null,null,null,null,null,null,null,null,null,null,null,null,null,null,null,null,null,null,null,null,null,null,null,null,null,null,null,null,null,null,null,null,null,null,null,"L0=AE hebelt Berechnung aus (top level Losen)"]
[null,"Achtelfinale",null,null,null,null,null,null,null,null,null,null,null,null,null,null,null,null,null,null,null,null,null,null,null,null,null,null,null,null,null,null,null,null,null,null,null,null,null,null,null,null,null,null,null,null,null,null,null,null,null,null,null,"Viertelfinale",null,null,null,null,null,null,null,null,null,null,null,null,null,null,null,null,null,null,null,null,null,null,null,null,null,null,null,"L8=AV Losen UEFA-Koeffizient, Fairplay oder Münzwurf"]
[null,"Datum/Zeit","Spielort",null,null,null,null,null,null,null,null,null,null,null,null,null,null,null,null,null,null,null,null,null,null,null,null,null,null,null,null,null,null,null,null,null,null,null,null,null,null,null,null,null,null,null,null,null,null,null,null,null,null,"Datum/Zeit","Spielort",null,null,null,null,null,null,null,null,null,null,null,null,null,null,null,null,null,null,null,null,null,null,null,null,null,null,"L16=manuelle Zuordnung der Dritten (falls Algorithmus nicht hilft)"]
[89,{"$f":"VLOOKUP(A82,Spiele!$A$1:$L$116,2,FALSE)","v":"2026-07-04T17:00:00"},{"$f":"VLOOKUP(A82,Spiele!$A$1:$L$116,9,FALSE)","v":"Philadelphia"},{"$f":"INDEX($M$63:$M$78, MATCH(N82, $P$63:$P$78, 0))","v":"Deutschland"},"-",{"$f":"INDEX($M$63:$M$78, MATCH(O82, $P$63:$P$78, 0))","v":"Frankreich"},null,{"$f":"IF($B$101<>\"\",'WM2026-ELO'!V82,IF($B$99=\"\",2,INT(RAND()*5)+INT(RAND()*3)*INT(RAND()*2)))","v":2},":",{"$f":"IF($B$101<>\"\",'WM2026-ELO'!W82,IF($B$99=\"\",1, H82 + IF(H82=0, 1, IF(H82=9, -1, CHOOSE(INT(RAND()*2)+1, 1, -1)))))","v":1},"ok",null,{"$f":"IF(J82=\"\",\"\",IF(J82=H82,\"falsch!!! K.Remis\",IF(H82>J82,D82,F82)))","v":"Deutschland"},{"$f":"P65","v":"S03"},{"$f":"P68","v":"S06"},"AF1",null,null,null,null,null,null,null,null,null,null,null,null,null,null,null,null,null,null,null,null,null,null,null,null,null,null,null,null,null,null,null,null,null,null,null,null,{"$f":"A89+1","v":97},{"$f":"VLOOKUP(BA82,Spiele!$A$1:$L$116,2,FALSE)","v":"2026-07-09T16:00:00"},{"$f":"VLOOKUP(BA82,Spiele!$A$1:$L$116,9,FALSE)","v":"Boston"},{"$f":"INDEX($M$82:$M$89, MATCH(BN82, $P$82:$P$89, 0))","v":"Deutschland"},"-",{"$f":"INDEX($M$82:$M$89, MATCH(BO82, $P$82:$P$89, 0))","v":"Südafrika"},null,{"$f":"IF($B$101<>\"\",'WM2026-ELO'!BV82,IF($B$99=\"\",2,INT(RAND()*5)+INT(RAND()*3)*INT(RAND()*2)))","v":2},":",{"$f":"IF($B$101<>\"\",'WM2026-ELO'!BW82,IF($B$99=\"\",1, BH82 + IF(BH82=0, 1, IF(BH82=9, -1, CHOOSE(INT(RAND()*2)+1, 1, -1)))))","v":1},"ok",null,{"$f":"IF(BJ82=\"\",\"\",IF(BJ82=BH82,\"falsch!!! K.Remis\",IF(BH82>BJ82,BD82,BF82)))","v":"Deutschland"},{"$f":"P82","v":"AF1"},{"$f":"P83","v":"AF2"},"VF1"]
[{"$f":"A82+1","v":90},{"$f":"VLOOKUP(A83,Spiele!$A$1:$L$116,2,FALSE)","v":"2026-07-04T12:00:00"},{"$f":"VLOOKUP(A83,Spiele!$A$1:$L$116,9,FALSE)","v":"Houston"},{"$f":"INDEX($M$63:$M$78, MATCH(N83, $P$63:$P$78, 0))","v":"Südafrika"},"-",{"$f":"INDEX($M$63:$M$78, MATCH(O83, $P$63:$P$78, 0))","v":"Niederlande"},null,{"$f":"IF($B$101<>\"\",'WM2026-ELO'!V83,IF($B$99=\"\",2,INT(RAND()*5)+INT(RAND()*3)*INT(RAND()*2)))","v":2},":",{"$f":"IF($B$101<>\"\",'WM2026-ELO'!W83,IF($B$99=\"\",1, H83 + IF(H83=0, 1, IF(H83=9, -1, CHOOSE(INT(RAND()*2)+1, 1, -1)))))","v":1},"ok",null,"Südafrika",{"$f":"P63","v":"S01"},{"$f":"P66","v":"S04"},"AF2",null,null,null,null,null,null,null,null,null,null,null,null,null,null,null,null,null,null,null,null,null,null,null,null,null,null,null,null,null,null,null,null,null,null,null,null,{"$f":"BA82+1","v":98},{"$f":"VLOOKUP(BA83,Spiele!$A$1:$L$116,2,FALSE)","v":"2026-07-10T12:00:00"},{"$f":"VLOOKUP(BA83,Spiele!$A$1:$L$116,9,FALSE)","v":"Los Angeles"},{"$f":"INDEX($M$82:$M$89, MATCH(BN83, $P$82:$P$89, 0))","v":"DR Kongo"},"-",{"$f":"INDEX($M$82:$M$89, MATCH(BO83, $P$82:$P$89, 0))","v":"USA"},null,{"$f":"IF($B$101<>\"\",'WM2026-ELO'!BV83,IF($B$99=\"\",2,INT(RAND()*5)+INT(RAND()*3)*INT(RAND()*2)))","v":2},":",{"$f":"IF($B$101<>\"\",'WM2026-ELO'!BW83,IF($B$99=\"\",1, BH83 + IF(BH83=0, 1, IF(BH83=9, -1, CHOOSE(INT(RAND()*2)+1, 1, -1)))))","v":1},"ok",null,{"$f":"IF(BJ83=\"\",\"\",IF(BJ83=BH83,\"falsch!!! K.Remis\",IF(BH83>BJ83,BD83,BF83)))","v":"DR Kongo"},{"$f":"P86","v":"AF5"},{"$f":"P87","v":"AF6"},"VF2"]
[91,{"$f":"VLOOKUP(A84,Spiele!$A$1:$L$116,2,FALSE)","v":"2026-07-05T16:00:00"},{"$f":"VLOOKUP(A84,Spiele!$A$1:$L$116,9,FALSE)","v":"New York"},{"$f":"INDEX($M$63:$M$78, MATCH(N84, $P$63:$P$78, 0))","v":"Brasilien"},"-",{"$f":"INDEX($M$63:$M$78, MATCH(O84, $P$63:$P$78, 0))","v":"Curaçao"},null,{"$f":"IF($B$101<>\"\",'WM2026-ELO'!V84,IF($B$99=\"\",2,INT(RAND()*5)+INT(RAND()*3)*INT(RAND()*2)))","v":2},":",{"$f":"IF($B$101<>\"\",'WM2026-ELO'!W84,IF($B$99=\"\",1, H84 + IF(H84=0, 1, IF(H84=9, -1, CHOOSE(INT(RAND()*2)+1, 1, -1)))))","v":1},"ok",null,"Brasilien",{"$f":"P64","v":"S02"},{"$f":"P67","v":"S05"},"AF3",null,null,null,null,null,null,null,null,null,null,null,null,null,null,null,null,null,null,null,null,null,null,null,null,null,null,null,null,null,null,null,null,null,null,null,null,{"$f":"BA83+1","v":99},{"$f":"VLOOKUP(BA84,Spiele!$A$1:$L$116,2,FALSE)","v":"2026-07-11T17:00:00"},{"$f":"VLOOKUP(BA84,Spiele!$A$1:$L$116,9,FALSE)","v":"Miami"},{"$f":"INDEX($M$82:$M$89, MATCH(BN84, $P$82:$P$89, 0))","v":"Brasilien"},"-",{"$f":"INDEX($M$82:$M$89, MATCH(BO84, $P$82:$P$89, 0))","v":"Mexiko"},null,{"$f":"IF($B$101<>\"\",'WM2026-ELO'!BV84,IF($B$99=\"\",2,INT(RAND()*5)+INT(RAND()*3)*INT(RAND()*2)))","v":2},":",{"$f":"IF($B$101<>\"\",'WM2026-ELO'!BW84,IF($B$99=\"\",1, BH84 + IF(BH84=0, 1, IF(BH84=9, -1, CHOOSE(INT(RAND()*2)+1, 1, -1)))))","v":1},"ok",null,{"$f":"IF(BJ84=\"\",\"\",IF(BJ84=BH84,\"falsch!!! K.Remis\",IF(BH84>BJ84,BD84,BF84)))","v":"Brasilien"},{"$f":"P84","v":"AF3"},{"$f":"P85","v":"AF4"},"VF3"]
[92,{"$f":"VLOOKUP(A85,Spiele!$A$1:$L$116,2,FALSE)","v":"2026-07-05T19:00:00"},{"$f":"VLOOKUP(A85,Spiele!$A$1:$L$116,9,FALSE)","v":"Mexico City"},"Mexiko","-","England",null,{"$f":"IF($B$101<>\"\",'WM2026-ELO'!V85,IF($B$99=\"\",2,INT(RAND()*5)+INT(RAND()*3)*INT(RAND()*2)))","v":2},":",{"$f":"IF($B$101<>\"\",'WM2026-ELO'!W85,IF($B$99=\"\",1, H85 + IF(H85=0, 1, IF(H85=9, -1, CHOOSE(INT(RAND()*2)+1, 1, -1)))))","v":1},"ok",null,"Mexiko",{"$f":"P69","v":"S07"},{"$f":"P70","v":"S08"},"AF4",null,null,null,null,null,null,null,null,null,null,null,null,null,null,null,null,null,null,null,null,null,null,null,null,null,null,null,null,null,null,null,null,null,null,null,null,{"$f":"BA84+1","v":100},{"$f":"VLOOKUP(BA85,Spiele!$A$1:$L$116,2,FALSE)","v":"2026-07-11T20:00:00"},{"$f":"VLOOKUP(BA85,Spiele!$A$1:$L$116,9,FALSE)","v":"Kansas City"},{"$f":"INDEX($M$82:$M$89, MATCH(BN85, $P$82:$P$89, 0))","v":"Argentinien"},"-",{"$f":"INDEX($M$82:$M$89, MATCH(BO85, $P$82:$P$89, 0))","v":"Kanada"},null,{"$f":"IF($B$101<>\"\",'WM2026-ELO'!BV85,IF($B$99=\"\",2,INT(RAND()*5)+INT(RAND()*3)*INT(RAND()*2)))","v":2},":",{"$f":"IF($B$101<>\"\",'WM2026-ELO'!BW85,IF($B$99=\"\",1, BH85 + IF(BH85=0, 1, IF(BH85=9, -1, CHOOSE(INT(RAND()*2)+1, 1, -1)))))","v":1},"ok",null,{"$f":"IF(BJ85=\"\",\"\",IF(BJ85=BH85,\"falsch!!! K.Remis\",IF(BH85>BJ85,BD85,BF85)))","v":"Argentinien"},{"$f":"P88","v":"AF7"},{"$f":"P89","v":"AF8"},"VF4"]
[93,{"$f":"VLOOKUP(A86,Spiele!$A$1:$L$116,2,FALSE)","v":"2026-07-06T14:00:00"},{"$f":"VLOOKUP(A86,Spiele!$A$1:$L$116,9,FALSE)","v":"Dallas"},"DR Kongo","-","Spanien",null,{"$f":"IF($B$101<>\"\",'WM2026-ELO'!V86,IF($B$99=\"\",2,INT(RAND()*5)+INT(RAND()*3)*INT(RAND()*2)))","v":2},":",{"$f":"IF($B$101<>\"\",'WM2026-ELO'!W86,IF($B$99=\"\",1, H86 + IF(H86=0, 1, IF(H86=9, -1, CHOOSE(INT(RAND()*2)+1, 1, -1)))))","v":1},"ok",null,"DR Kongo",{"$f":"P74","v":"S12"},{"$f":"P73","v":"S11"},"AF5"]
[94,{"$f":"VLOOKUP(A87,Spiele!$A$1:$L$116,2,FALSE)","v":"2026-07-06T17:00:00"},{"$f":"VLOOKUP(A87,Spiele!$A$1:$L$116,9,FALSE)","v":"Seattle"},"USA","-","Belgien",null,{"$f":"IF($B$101<>\"\",'WM2026-ELO'!V87,IF($B$99=\"\",2,INT(RAND()*5)+INT(RAND()*3)*INT(RAND()*2)))","v":2},":",{"$f":"IF($B$101<>\"\",'WM2026-ELO'!W87,IF($B$99=\"\",1, H87 + IF(H87=0, 1, IF(H87=9, -1, CHOOSE(INT(RAND()*2)+1, 1, -1)))))","v":1},"ok",null,"USA",{"$f":"P72","v":"S10"},{"$f":"P71","v":"S09"},"AF6",null,null,null,null,null,null,null,null,null,null,null,null,null,null,null,null,null,null,null,null,null,null,null,null,null,null,null,null,null,null,null,null,null,null,null,null,null,"Halbfinale"]
[95,{"$f":"VLOOKUP(A88,Spiele!$A$1:$L$116,2,FALSE)","v":"2026-07-07T12:00:00"},{"$f":"VLOOKUP(A88,Spiele!$A$1:$L$116,9,FALSE)","v":"Atlanta"},"Argentinien","-","Paraguay",null,{"$f":"IF($B$101<>\"\",'WM2026-ELO'!V88,IF($B$99=\"\",2,INT(RAND()*5)+INT(RAND()*3)*INT(RAND()*2)))","v":2},":",{"$f":"IF($B$101<>\"\",'WM2026-ELO'!W88,IF($B$99=\"\",1, H88 + IF(H88=0, 1, IF(H88=9, -1, CHOOSE(INT(RAND()*2)+1, 1, -1)))))","v":1},"ok",null,"Argentinien",{"$f":"P77","v":"S15"},{"$f":"P76","v":"S14"},"AF7",null,null,null,null,null,null,null,null,null,null,null,null,null,null,null,null,null,null,null,null,null,null,null,null,null,null,null,null,null,null,null,null,null,null,null,null,null,"Datum/Zeit","Spielort"]
[{"$f":"A88+1","v":96},{"$f":"VLOOKUP(A89,Spiele!$A$1:$L$116,2,FALSE)","v":"2026-07-07T13:00:00"},{"$f":"VLOOKUP(A89,Spiele!$A$1:$L$116,9,FALSE)","v":"Vancouver"},"Kanada","-","Portugal",null,{"$f":"IF($B$101<>\"\",'WM2026-ELO'!V89,IF($B$99=\"\",2,INT(RAND()*5)+INT(RAND()*3)*INT(RAND()*2)))","v":2},":",{"$f":"IF($B$101<>\"\",'WM2026-ELO'!W89,IF($B$99=\"\",1, H89 + IF(H89=0, 1, IF(H89=9, -1, CHOOSE(INT(RAND()*2)+1, 1, -1)))))","v":1},"ok",null,"Kanada",{"$f":"P75","v":"S13"},{"$f":"P78","v":"S16"},"AF8",null,null,null,null,null,null,null,null,null,null,null,null,null,null,null,null,null,null,null,null,null,null,null,null,null,null,null,null,null,null,null,null,null,null,null,null,{"$f":"BA85+1","v":101},{"$f":"VLOOKUP(BA89,Spiele!$A$1:$L$116,2,FALSE)","v":"2026-07-14T14:00:00"},{"$f":"VLOOKUP(BA89,Spiele!$A$1:$L$116,9,FALSE)","v":"Dallas"},{"$f":"INDEX($BM$82:$BM$85, MATCH(BN89, $BP$82:$BP$85, 0))","v":"Deutschland"},"-",{"$f":"INDEX($BM$82:$BM$85, MATCH(BO89, $BP$82:$BP$85, 0))","v":"DR Kongo"},null,{"$f":"IF($B$101<>\"\",'WM2026-ELO'!BV89,IF($B$99=\"\",2,INT(RAND()*5)+INT(RAND()*3)*INT(RAND()*2)))","v":2},":",{"$f":"IF($B$101<>\"\",'WM2026-ELO'!BW89,IF($B$99=\"\",1, BH89 + IF(BH89=0, 1, IF(BH89=9, -1, CHOOSE(INT(RAND()*2)+1, 1, -1)))))","v":1},"ok",null,{"$f":"IF(BJ89=\"\",\"\",IF(BJ89=BH89,\"falsch!!! K.Remis\",IF(BH89>BJ89,BD89,BF89)))","v":"Deutschland"},{"$f":"BP82","v":"VF1"},{"$f":"BP83","v":"VF2"},"F1"]
[null,null,null,null,null,null,null,null,null,null,null,null,null,null,null,null,null,null,null,null,null,null,null,null,null,null,null,null,null,null,null,null,null,null,null,null,null,null,null,null,null,null,null,null,null,null,null,null,null,null,null,null,{"$f":"BA89+1","v":102},{"$f":"VLOOKUP(BA90,Spiele!$A$1:$L$116,2,FALSE)","v":"2026-07-15T15:00:00"},{"$f":"VLOOKUP(BA90,Spiele!$A$1:$L$116,9,FALSE)","v":"Atlanta"},{"$f":"INDEX($BM$82:$BM$85, MATCH(BN90, $BP$82:$BP$85, 0))","v":"Brasilien"},"-",{"$f":"INDEX($BM$82:$BM$85, MATCH(BO90, $BP$82:$BP$85, 0))","v":"Argentinien"},null,{"$f":"IF($B$101<>\"\",'WM2026-ELO'!BV90,IF($B$99=\"\",2,INT(RAND()*5)+INT(RAND()*3)*INT(RAND()*2)))","v":2},":",{"$f":"IF($B$101<>\"\",'WM2026-ELO'!BW90,IF($B$99=\"\",1, BH90 + IF(BH90=0, 1, IF(BH90=9, -1, CHOOSE(INT(RAND()*2)+1, 1, -1)))))","v":1},"ok",null,{"$f":"IF(BJ90=\"\",\"\",IF(BJ90=BH90,\"falsch!!! K.Remis\",IF(BH90>BJ90,BD90,BF90)))","v":"Brasilien"},{"$f":"BP84","v":"VF3"},{"$f":"BP85","v":"VF4"},"F2"]
[null,null,null,null,null,null,null,null,null,null,null,null,null,null,null,null,null,null,null,null,null,null,null,null,null,null,null,null,null,null,null,null,null,null,null,null,null,null,null,null,null,null,null,null,null,null,null,null,null,null,null,null,null,null,null,null,null,null,null,null,null,null,null,null,{"$f":"IF(BD89=BM89,BF89,BD89)","v":"DR Kongo"},null,null,"HF1"]
[null,"Finale",null,null,null,null,null,null,null,null,null,null,null,null,null,null,null,null,null,null,null,null,null,null,null,null,null,null,null,null,null,null,null,null,null,null,null,null,null,null,null,null,null,null,null,null,null,null,null,null,null,null,null,"Um Platz 3",null,null,null,null,null,null,null,null,null,null,{"$f":"IF(BD90=BM90,BF90,BD90)","v":"Argentinien"},null,null,"HF2"]
[null,"Datum/Zeit","Spielort",null,null,null,null,null,null,null,null,null,"Weltmeister",null,null,null,null,null,null,null,null,null,null,null,null,null,null,null,null,null,null,null,null,null,null,null,null,null,null,null,null,null,null,null,null,null,null,null,null,null,null,null,null,"Datum/Zeit","Spielort"]
[{"$f":"BA94+1","v":104},{"$f":"VLOOKUP(A94,Spiele!$A$1:$L$116,2,FALSE)","v":"2026-07-19T15:00:00"},{"$f":"VLOOKUP(A94,Spiele!$A$1:$L$116,9,FALSE)","v":"New York"},{"$f":"BM89","v":"Deutschland"},"-",{"$f":"BM90","v":"Brasilien"},null,{"$f":"IF($B$101<>\"\",'WM2026-ELO'!V94,IF($B$99=\"\",2,INT(RAND()*5)+INT(RAND()*3)*INT(RAND()*2)))","v":2},":",{"$f":"IF($B$101<>\"\",'WM2026-ELO'!W94,IF($B$99=\"\",1, H94 + IF(H94=0, 1, IF(H94=9, -1, CHOOSE(INT(RAND()*2)+1, 1, -1)))))","v":1},"ok",null,{"$f":"IF(J94=\"\",\"\",IF(J94=H94,\"falsch!!! K.Remis\",IF(H94>J94,D94,F94)))","v":"Deutschland"},{"$f":"BP89","v":"F1"},{"$f":"BP90","v":"F2"},null,null,null,null,null,null,null,null,null,null,null,null,null,null,null,null,null,null,null,null,null,null,null,null,null,null,null,null,null,null,null,null,null,null,null,null,null,{"$f":"BA90+1","v":103},{"$f":"VLOOKUP(BA94,Spiele!$A$1:$L$116,2,FALSE)","v":"2026-07-18T17:00:00"},{"$f":"VLOOKUP(BA94,Spiele!$A$1:$L$116,9,FALSE)","v":"Miami"},{"$f":"BM91","v":"DR Kongo"},"-",{"$f":"BM92","v":"Argentinien"},null,{"$f":"IF($B$101<>\"\",'WM2026-ELO'!BV94,IF($B$99=\"\",2,INT(RAND()*5)+INT(RAND()*3)*INT(RAND()*2)))","v":2},":",{"$f":"IF($B$101<>\"\",'WM2026-ELO'!BW94,IF($B$99=\"\",1, BH94 + IF(BH94=0, 1, IF(BH94=9, -1, CHOOSE(INT(RAND()*2)+1, 1, -1)))))","v":1},"ok",null,{"$f":"IF(BJ94=\"\",\"\",IF(BJ94=BH94,\"falsch!!! K.Remis\",IF(BH94>BJ94,BD94,BF94)))","v":"DR Kongo"},{"$f":"BP91","v":"HF1"},{"$f":"BP92","v":"HF2"}]
[]
[]
[]
[null,"ok","OK"]
[null,null,"Ergebnis Zufall"]
[null,{"$f":"IF($B$99=\"\",1,INT(RAND()*5)+INT(RAND()*3)*INT(RAND()*2))","v":1},"Zufallsformel"]
[null,null,"Rangliste"]

{"sheet":"WM2026-ELO","index":10,"n_rows":100,"n_cols":75,"rows_kept":100,"cut":false,"hidden":false,"merged":[]}
[{"$f":"'WM2026'!A1","v":"SP"},{"$f":"'WM2026'!B1","v":"Vorrunde"},{"$f":"'WM2026'!C1","v":"Gruppe A"},null,null,null,null,null,{"$f":"'WM2026'!I1","v":0},null,null,null,null,null,null,null,null,null,null,null,null,null,null,null,null,null,null,null,null,null,null,null,null,null,null,null,null,null,null,null,null,null,null,null,null,null,null,null,null,null,null,null,{"$f":"'WM2026'!BA1","v":"SP"},{"$f":"'WM2026'!BB1","v":"Vorrunde"},{"$f":"'WM2026'!BC1","v":"Gruppe D"}]
[null,{"$f":"'WM2026'!B2","v":"Datum/Zeit"},{"$f":"'WM2026'!C2","v":"Spielort"},null,null,null,null,null,null,null,null,null,null,null,null,null,null,null,null,null,"KO","H","G",null,null,null,null,null,null,null,null,null,null,null,null,null,null,null,null,null,null,null,null,null,null,null,null,null,null,null,null,null,null,{"$f":"'WM2026'!BB2","v":"Datum/Zeit"},{"$f":"'WM2026'!BC2","v":"Spielort"},null,null,null,null,null,null,null,null,null,null,null,null,null,null,null,null,null,"KO","H","G"]
[{"$f":"'WM2026'!A3","v":1},{"$f":"'WM2026'!B3","v":"2026-06-11T14:00:00"},{"$f":"'WM2026'!C3","v":"Mexico City"},{"$f":"'WM2026'!D3","v":"Mexiko"},{"$f":"'WM2026'!E3","v":"-"},{"$f":"'WM2026'!F3","v":"Südafrika"},{"$f":"'WM2026'!G3","v":0},{"$f":"'WM2026'!H3","v":2},{"$f":"'WM2026'!I3","v":":"},{"$f":"'WM2026'!J3","v":2},{"$f":"'WM2026'!K3","v":"ok"},null,null,{"$f":"VLOOKUP(D3,Rangliste!$A$2:$F$211,6,FALSE)","v":1709.1054685401916},{"$f":"VLOOKUP(F3,Rangliste!$A$2:$F$211,6,FALSE)","v":1294.2252893257141},{"$f":"N3-O3","v":414.88017921447749},{"$f":"MAX(-680,MIN(720,ROUND(P3/40,0)*40))","v":400},{"$f":"VLOOKUP(Q3,Resultate!$A$2:$E$37,2,FALSE)","v":"3:1"},{"$f":"VALUE(MID(R3,1,1))","v":3},{"$f":"VALUE(MID(R3,3,1))","v":1},null,{"$f":"IF(S3=T3,IF(S3=0,U3+S3,S3),S3)","v":3},{"$f":"IF(S3=T3,IF(T3=0,T3,T3-U3),T3)","v":1},null,null,null,null,null,null,null,null,null,null,null,null,null,null,null,null,null,null,null,null,null,null,null,null,null,null,null,null,null,{"$f":"'WM2026'!BA3","v":4},{"$f":"'WM2026'!BB3","v":"2026-06-12T18:00:00"},{"$f":"'WM2026'!BC3","v":"Los Angeles"},{"$f":"'WM2026'!BD3","v":"USA"},{"$f":"'WM2026'!BE3","v":"-"},{"$f":"'WM2026'!BF3","v":"Paraguay"},{"$f":"'WM2026'!BG3","v":0},{"$f":"'WM2026'!BH3","v":2},{"$f":"'WM2026'!BI3","v":":"},{"$f":"'WM2026'!BJ3","v":2},{"$f":"'WM2026'!BK3","v":"ok"},null,null,{"$f":"VLOOKUP(BD3,Rangliste!$A$2:$F$211,6,FALSE)","v":1632.4304727363588},{"$f":"VLOOKUP(BF3,Rangliste!$A$2:$F$211,6,FALSE)","v":1740.3655443191528},{"$f":"BN3-BO3","v":-107.93507158279408},{"$f":"MAX(-680,MIN(720,ROUND(BP3/40,0)*40))","v":-120},{"$f":"VLOOKUP(BQ3,Resultate!$A$2:$E$37,2,FALSE)","v":"2:3"},{"$f":"VALUE(MID(BR3,1,1))","v":2},{"$f":"VALUE(MID(BR3,3,1))","v":3},null,{"$f":"IF(BS3=BT3,IF(BS3=0,BU3+BS3,BS3),BS3)","v":2},{"$f":"IF(BS3=BT3,IF(BT3=0,BT3,BT3-BU3),BT3)","v":3}]
[{"$f":"'WM2026'!A4","v":2},{"$f":"'WM2026'!B4","v":"2026-06-11T21:00:00"},{"$f":"'WM2026'!C4","v":"Guadalajara"},{"$f":"'WM2026'!D4","v":"Südkorea"},{"$f":"'WM2026'!E4","v":"-"},{"$f":"'WM2026'!F4","v":"Tschechien"},{"$f":"'WM2026'!G4","v":0},{"$f":"'WM2026'!H4","v":2},{"$f":"'WM2026'!I4","v":":"},{"$f":"'WM2026'!J4","v":2},{"$f":"'WM2026'!K4","v":"ok"},null,null,{"$f":"VLOOKUP(D4,Rangliste!$A$2:$F$211,6,FALSE)","v":1409.2667323684693},{"$f":"VLOOKUP(F4,Rangliste!$A$2:$F$211,6,FALSE)","v":1625.5041812705995},{"$f":"N4-O4","v":-216.23744890213015},{"$f":"MAX(-680,MIN(720,ROUND(P4/40,0)*40))","v":-200},{"$f":"VLOOKUP(Q4,Resultate!$A$2:$E$37,2,FALSE)","v":"3:4"},3,4,null,3,4,null,null,null,null,null,null,null,null,null,null,null,null,null,null,null,null,null,null,null,null,null,null,null,null,null,null,null,null,null,{"$f":"'WM2026'!BA4","v":6},{"$f":"'WM2026'!BB4","v":"2026-06-13T21:00:00"},{"$f":"'WM2026'!BC4","v":"Vancouver"},{"$f":"'WM2026'!BD4","v":"Australien"},{"$f":"'WM2026'!BE4","v":"-"},{"$f":"'WM2026'!BF4","v":"Türkei"},{"$f":"'WM2026'!BG4","v":0},{"$f":"'WM2026'!BH4","v":2},{"$f":"'WM2026'!BI4","v":":"},{"$f":"'WM2026'!BJ4","v":2},{"$f":"'WM2026'!BK4","v":"ok"},null,null,{"$f":"VLOOKUP(BD4,Rangliste!$A$2:$F$211,6,FALSE)","v":1754.1909274291993},{"$f":"VLOOKUP(BF4,Rangliste!$A$2:$F$211,6,FALSE)","v":1513.0614657783508},{"$f":"BN4-BO4","v":241.1294616508485},{"$f":"MAX(-680,MIN(720,ROUND(BP4/40,0)*40))","v":240},{"$f":"VLOOKUP(BQ4,Resultate!$A$2:$E$37,2,FALSE)","v":"4:3"},4,3,null,4,3]
[{"$f":"'WM2026'!A5","v":28},{"$f":"'WM2026'!B5","v":"2026-06-18T20:00:00"},{"$f":"'WM2026'!C5","v":"Guadalajara"},{"$f":"'WM2026'!D5","v":"Mexiko"},{"$f":"'WM2026'!E5","v":"-"},{"$f":"'WM2026'!F5","v":"Südkorea"},{"$f":"'WM2026'!G5","v":0},{"$f":"'WM2026'!H5","v":2},{"$f":"'WM2026'!I5","v":":"},{"$f":"'WM2026'!J5","v":2},{"$f":"'WM2026'!K5","v":"ok"},null,null,{"$f":"VLOOKUP(D5,Rangliste!$A$2:$F$211,6,FALSE)","v":1709.1054685401916},{"$f":"VLOOKUP(F5,Rangliste!$A$2:$F$211,6,FALSE)","v":1409.2667323684693},299.8387361717223,280,{"$f":"VLOOKUP(Q5,Resultate!$A$2:$E$37,2,FALSE)","v":"5:4"},5,4,null,5,4,null,null,null,null,null,null,null,null,null,null,null,null,null,null,null,null,null,null,null,null,null,null,null,null,null,null,null,null,null,{"$f":"'WM2026'!BA5","v":32},{"$f":"'WM2026'!BB5","v":"2026-06-19T12:00:00"},{"$f":"'WM2026'!BC5","v":"Seattle"},{"$f":"'WM2026'!BD5","v":"USA"},{"$f":"'WM2026'!BE5","v":"-"},{"$f":"'WM2026'!BF5","v":"Australien"},{"$f":"'WM2026'!BG5","v":0},{"$f":"'WM2026'!BH5","v":2},{"$f":"'WM2026'!BI5","v":":"},{"$f":"'WM2026'!BJ5","v":2},{"$f":"'WM2026'!BK5","v":"ok"},null,null,{"$f":"VLOOKUP(BD5,Rangliste!$A$2:$F$211,6,FALSE)","v":1632.4304727363588},{"$f":"VLOOKUP(BF5,Rangliste!$A$2:$F$211,6,FALSE)","v":1754.1909274291993},-121.76045469284054,-120,{"$f":"VLOOKUP(BQ5,Resultate!$A$2:$E$37,2,FALSE)","v":"2:3"},2,3,null,2,3]
[{"$f":"'WM2026'!A6","v":25},{"$f":"'WM2026'!B6","v":"2026-06-18T12:00:00"},{"$f":"'WM2026'!C6","v":"Atlanta"},{"$f":"'WM2026'!D6","v":"Tschechien"},{"$f":"'WM2026'!E6","v":"-"},{"$f":"'WM2026'!F6","v":"Südafrika"},{"$f":"'WM2026'!G6","v":0},{"$f":"'WM2026'!H6","v":2},{"$f":"'WM2026'!I6","v":":"},{"$f":"'WM2026'!J6","v":2},{"$f":"'WM2026'!K6","v":"ok"},null,null,{"$f":"VLOOKUP(D6,Rangliste!$A$2:$F$211,6,FALSE)","v":1625.5041812705995},{"$f":"VLOOKUP(F6,Rangliste!$A$2:$F$211,6,FALSE)","v":1294.2252893257141},331.27889194488534,320,{"$f":"VLOOKUP(Q6,Resultate!$A$2:$E$37,2,FALSE)","v":"5:5"},5,5,null,5,5,null,null,null,null,null,null,null,null,null,null,null,null,null,null,null,null,null,null,null,null,null,null,null,null,null,null,null,null,null,{"$f":"'WM2026'!BA6","v":31},{"$f":"'WM2026'!BB6","v":"2026-06-19T21:00:00"},{"$f":"'WM2026'!BC6","v":"San Francisco"},{"$f":"'WM2026'!BD6","v":"Türkei"},{"$f":"'WM2026'!BE6","v":"-"},{"$f":"'WM2026'!BF6","v":"Paraguay"},{"$f":"'WM2026'!BG6","v":0},{"$f":"'WM2026'!BH6","v":2},{"$f":"'WM2026'!BI6","v":":"},{"$f":"'WM2026'!BJ6","v":2},{"$f":"'WM2026'!BK6","v":"ok"},null,null,{"$f":"VLOOKUP(BD6,Rangliste!$A$2:$F$211,6,FALSE)","v":1513.0614657783508},{"$f":"VLOOKUP(BF6,Rangliste!$A$2:$F$211,6,FALSE)","v":1740.3655443191528},-227.30407854080204,-240,{"$f":"VLOOKUP(BQ6,Resultate!$A$2:$E$37,2,FALSE)","v":"4:4"},4,4,null,4,4]
[{"$f":"'WM2026'!A7","v":53},{"$f":"'WM2026'!B7","v":"2026-06-24T20:00:00"},{"$f":"'WM2026'!C7","v":"Mexico City"},{"$f":"'WM2026'!D7","v":"Tschechien"},{"$f":"'WM2026'!E7","v":"-"},{"$f":"'WM2026'!F7","v":"Mexiko"},{"$f":"'WM2026'!G7","v":0},{"$f":"'WM2026'!H7","v":2},{"$f":"'WM2026'!I7","v":":"},{"$f":"'WM2026'!J7","v":2},{"$f":"'WM2026'!K7","v":"ok"},null,null,{"$f":"VLOOKUP(D7,Rangliste!$A$2:$F$211,6,FALSE)","v":1625.5041812705995},{"$f":"VLOOKUP(F7,Rangliste!$A$2:$F$211,6,FALSE)","v":1709.1054685401916},-83.601287269592149,-80,{"$f":"VLOOKUP(Q7,Resultate!$A$2:$E$37,2,FALSE)","v":"1:2"},1,2,null,1,2,null,null,null,null,null,null,null,null,null,null,null,null,null,null,null,null,null,null,null,null,null,null,null,null,null,null,null,null,null,{"$f":"'WM2026'!BA7","v":59},{"$f":"'WM2026'!BB7","v":"2026-06-25T19:00:00"},{"$f":"'WM2026'!BC7","v":"Los Angeles"},{"$f":"'WM2026'!BD7","v":"Türkei"},{"$f":"'WM2026'!BE7","v":"-"},{"$f":"'WM2026'!BF7","v":"USA"},{"$f":"'WM2026'!BG7","v":0},{"$f":"'WM2026'!BH7","v":2},{"$f":"'WM2026'!BI7","v":":"},{"$f":"'WM2026'!BJ7","v":2},{"$f":"'WM2026'!BK7","v":"ok"},null,null,{"$f":"VLOOKUP(BD7,Rangliste!$A$2:$F$211,6,FALSE)","v":1513.0614657783508},{"$f":"VLOOKUP(BF7,Rangliste!$A$2:$F$211,6,FALSE)","v":1632.4304727363588},-119.36900695800796,-120,{"$f":"VLOOKUP(BQ7,Resultate!$A$2:$E$37,2,FALSE)","v":"2:3"},2,3,null,2,3]
[{"$f":"'WM2026'!A8","v":54},{"$f":"'WM2026'!B8","v":"2026-06-24T20:00:00"},{"$f":"'WM2026'!C8","v":"Monterrey"},{"$f":"'WM2026'!D8","v":"Südafrika"},{"$f":"'WM2026'!E8","v":"-"},{"$f":"'WM2026'!F8","v":"Südkorea"},{"$f":"'WM2026'!G8","v":0},{"$f":"'WM2026'!H8","v":2},{"$f":"'WM2026'!I8","v":":"},{"$f":"'WM2026'!J8","v":2},{"$f":"'WM2026'!K8","v":"ok"},null,null,{"$f":"VLOOKUP(D8,Rangliste!$A$2:$F$211,6,FALSE)","v":1294.2252893257141},{"$f":"VLOOKUP(F8,Rangliste!$A$2:$F$211,6,FALSE)","v":1409.2667323684693},-115.04144304275519,-120,{"$f":"VLOOKUP(Q8,Resultate!$A$2:$E$37,2,FALSE)","v":"2:3"},2,3,null,2,3,null,null,null,null,null,null,null,null,null,null,null,null,null,null,null,null,null,null,null,null,null,null,null,null,null,null,null,null,null,{"$f":"'WM2026'!BA8","v":60},{"$f":"'WM2026'!BB8","v":"2026-06-25T19:00:00"},{"$f":"'WM2026'!BC8","v":"San Francisco"},{"$f":"'WM2026'!BD8","v":"Paraguay"},{"$f":"'WM2026'!BE8","v":"-"},{"$f":"'WM2026'!BF8","v":"Australien"},{"$f":"'WM2026'!BG8","v":0},{"$f":"'WM2026'!BH8","v":2},{"$f":"'WM2026'!BI8","v":":"},{"$f":"'WM2026'!BJ8","v":2},{"$f":"'WM2026'!BK8","v":"ok"},null,null,{"$f":"VLOOKUP(BD8,Rangliste!$A$2:$F$211,6,FALSE)","v":1740.3655443191528},{"$f":"VLOOKUP(BF8,Rangliste!$A$2:$F$211,6,FALSE)","v":1754.1909274291993},-13.825383110046459,0,{"$f":"VLOOKUP(BQ8,Resultate!$A$2:$E$37,2,FALSE)","v":"1:1"},1,1,null,1,1]
[]
[]
[null,{"$f":"'WM2026'!B11","v":"Vorrunde"},{"$f":"'WM2026'!C11","v":"Gruppe B"},null,null,null,null,null,null,null,null,null,null,null,null,null,null,null,null,null,null,null,null,null,null,null,null,null,null,null,null,null,null,null,null,null,null,null,null,null,null,null,null,null,null,null,null,null,null,null,null,null,null,{"$f":"'WM2026'!BB11","v":"Vorrunde"},{"$f":"'WM2026'!BC11","v":"Gruppe E"}]
[null,{"$f":"'WM2026'!B12","v":"Datum/Zeit"},{"$f":"'WM2026'!C12","v":"Spielort"},null,null,null,null,null,null,null,null,null,null,null,null,null,null,null,null,null,null,null,null,null,null,null,null,null,null,null,null,null,null,null,null,null,null,null,null,null,null,null,null,null,null,null,null,null,null,null,null,null,null,{"$f":"'WM2026'!BB12","v":"Datum/Zeit"},{"$f":"'WM2026'!BC12","v":"Spielort"}]
[{"$f":"'WM2026'!A13","v":3},{"$f":"'WM2026'!B13","v":"2026-06-12T15:00:00"},{"$f":"'WM2026'!C13","v":"Toronto"},{"$f":"'WM2026'!D13","v":"Kanada"},{"$f":"'WM2026'!E13","v":"-"},{"$f":"'WM2026'!F13","v":"Bosnien/Herzg."},{"$f":"'WM2026'!G13","v":0},{"$f":"'WM2026'!H13","v":2},{"$f":"'WM2026'!I13","v":":"},{"$f":"'WM2026'!J13","v":2},{"$f":"'WM2026'!K13","v":"ok"},null,null,{"$f":"VLOOKUP(D13,Rangliste!$A$2:$F$211,6,FALSE)","v":1376.4497375297547},{"$f":"VLOOKUP(F13,Rangliste!$A$2:$F$211,6,FALSE)","v":1346.2048406600952},30.244896869659442,40,{"$f":"VLOOKUP(Q13,Resultate!$A$2:$E$37,2,FALSE)","v":"0:0"},0,0,null,0,0,null,null,null,null,null,null,null,null,null,null,null,null,null,null,null,null,null,null,null,null,null,null,null,null,null,null,null,null,null,{"$f":"'WM2026'!BA13","v":10},{"$f":"'WM2026'!BB13","v":"2026-06-14T12:00:00"},{"$f":"'WM2026'!BC13","v":"Houston"},{"$f":"'WM2026'!BD13","v":"Deutschland"},{"$f":"'WM2026'!BE13","v":"-"},{"$f":"'WM2026'!BF13","v":"Curaçao"},{"$f":"'WM2026'!BG13","v":0},{"$f":"'WM2026'!BH13","v":2},{"$f":"'WM2026'!BI13","v":":"},{"$f":"'WM2026'!BJ13","v":2},{"$f":"'WM2026'!BK13","v":"ok"},null,null,{"$f":"VLOOKUP(BD13,Rangliste!$A$2:$F$211,6,FALSE)","v":1775.0704079818724},{"$f":"VLOOKUP(BF13,Rangliste!$A$2:$F$211,6,FALSE)","v":1346.5409025192262},428.52950546264628,440,{"$f":"VLOOKUP(BQ13,Resultate!$A$2:$E$37,2,FALSE)","v":"4:2"},{"$f":"VALUE(MID(BR13,1,1))","v":4},{"$f":"VALUE(MID(BR13,3,1))","v":2},null,{"$f":"IF(BS13=BT13,IF(BS13=0,BU13+BS13,BS13),BS13)","v":4},{"$f":"IF(BS13=BT13,IF(BT13=0,BT13,BT13-BU13),BT13)","v":2}]
[{"$f":"'WM2026'!A14","v":8},{"$f":"'WM2026'!B14","v":"2026-06-13T12:00:00"},{"$f":"'WM2026'!C14","v":"San Francisco"},{"$f":"'WM2026'!D14","v":"Katar"},{"$f":"'WM2026'!E14","v":"-"},{"$f":"'WM2026'!F14","v":"Schweiz"},{"$f":"'WM2026'!G14","v":0},{"$f":"'WM2026'!H14","v":2},{"$f":"'WM2026'!I14","v":":"},{"$f":"'WM2026'!J14","v":2},{"$f":"'WM2026'!K14","v":"ok"},null,null,{"$f":"VLOOKUP(D14,Rangliste!$A$2:$F$211,6,FALSE)","v":1494.3940634346009},{"$f":"VLOOKUP(F14,Rangliste!$A$2:$F$211,6,FALSE)","v":1721.972102546692},-227.57803911209112,-240,{"$f":"VLOOKUP(Q14,Resultate!$A$2:$E$37,2,FALSE)","v":"4:4"},4,4,null,4,4,null,null,null,null,null,null,null,null,null,null,null,null,null,null,null,null,null,null,null,null,null,null,null,null,null,null,null,null,null,{"$f":"'WM2026'!BA14","v":9},{"$f":"'WM2026'!BB14","v":"2026-06-14T19:00:00"},{"$f":"'WM2026'!BC14","v":"Philadelphia"},{"$f":"'WM2026'!BD14","v":"Elfenbeinküste"},{"$f":"'WM2026'!BE14","v":"-"},{"$f":"'WM2026'!BF14","v":"Ecuador"},{"$f":"'WM2026'!BG14","v":0},{"$f":"'WM2026'!BH14","v":2},{"$f":"'WM2026'!BI14","v":":"},{"$f":"'WM2026'!BJ14","v":2},{"$f":"'WM2026'!BK14","v":"ok"},null,null,{"$f":"VLOOKUP(BD14,Rangliste!$A$2:$F$211,6,FALSE)","v":1418.7596430587769},{"$f":"VLOOKUP(BF14,Rangliste!$A$2:$F$211,6,FALSE)","v":1779.335721282959},-360.57607822418208,-360,{"$f":"VLOOKUP(BQ14,Resultate!$A$2:$E$37,2,FALSE)","v":"2:4"},2,4,null,2,4]
[{"$f":"'WM2026'!A15","v":27},{"$f":"'WM2026'!B15","v":"2026-06-18T15:00:00"},{"$f":"'WM2026'!C15","v":"Vancouver"},{"$f":"'WM2026'!D15","v":"Kanada"},{"$f":"'WM2026'!E15","v":"-"},{"$f":"'WM2026'!F15","v":"Katar"},{"$f":"'WM2026'!G15","v":0},{"$f":"'WM2026'!H15","v":2},{"$f":"'WM2026'!I15","v":":"},{"$f":"'WM2026'!J15","v":2},{"$f":"'WM2026'!K15","v":"ok"},null,null,{"$f":"VLOOKUP(D15,Rangliste!$A$2:$F$211,6,FALSE)","v":1376.4497375297547},{"$f":"VLOOKUP(F15,Rangliste!$A$2:$F$211,6,FALSE)","v":1494.3940634346009},-117.94432590484621,-120,{"$f":"VLOOKUP(Q15,Resultate!$A$2:$E$37,2,FALSE)","v":"2:3"},2,3,null,2,3,null,null,null,null,null,null,null,null,null,null,null,null,null,null,null,null,null,null,null,null,null,null,null,null,null,null,null,null,null,{"$f":"'WM2026'!BA15","v":33},{"$f":"'WM2026'!BB15","v":"2026-06-20T16:00:00"},{"$f":"'WM2026'!BC15","v":"Toronto"},{"$f":"'WM2026'!BD15","v":"Deutschland"},{"$f":"'WM2026'!BE15","v":"-"},{"$f":"'WM2026'!BF15","v":"Elfenbeinküste"},{"$f":"'WM2026'!BG15","v":0},{"$f":"'WM2026'!BH15","v":2},{"$f":"'WM2026'!BI15","v":":"},{"$f":"'WM2026'!BJ15","v":2},{"$f":"'WM2026'!BK15","v":"ok"},null,null,{"$f":"VLOOKUP(BD15,Rangliste!$A$2:$F$211,6,FALSE)","v":1775.0704079818724},{"$f":"VLOOKUP(BF15,Rangliste!$A$2:$F$211,6,FALSE)","v":1418.7596430587769},356.31076492309558,360,{"$f":"VLOOKUP(BQ15,Resultate!$A$2:$E$37,2,FALSE)","v":"2:0"},2,0,null,2,0]
[{"$f":"'WM2026'!A16","v":26},{"$f":"'WM2026'!B16","v":"2026-06-18T12:00:00"},{"$f":"'WM2026'!C16","v":"Los Angeles"},{"$f":"'WM2026'!D16","v":"Schweiz"},{"$f":"'WM2026'!E16","v":"-"},{"$f":"'WM2026'!F16","v":"Bosnien/Herzg."},{"$f":"'WM2026'!G16","v":0},{"$f":"'WM2026'!H16","v":2},{"$f":"'WM2026'!I16","v":":"},{"$f":"'WM2026'!J16","v":2},{"$f":"'WM2026'!K16","v":"ok"},null,null,{"$f":"VLOOKUP(D16,Rangliste!$A$2:$F$211,6,FALSE)","v":1721.972102546692},{"$f":"VLOOKUP(F16,Rangliste!$A$2:$F$211,6,FALSE)","v":1346.2048406600952},375.76726188659677,360,{"$f":"VLOOKUP(Q16,Resultate!$A$2:$E$37,2,FALSE)","v":"2:0"},2,0,null,2,0,null,null,null,null,null,null,null,null,null,null,null,null,null,null,null,null,null,null,null,null,null,null,null,null,null,null,null,null,null,{"$f":"'WM2026'!BA16","v":34},{"$f":"'WM2026'!BB16","v":"2026-06-20T19:00:00"},{"$f":"'WM2026'!BC16","v":"Kansas City"},{"$f":"'WM2026'!BD16","v":"Ecuador"},{"$f":"'WM2026'!BE16","v":"-"},{"$f":"'WM2026'!BF16","v":"Curaçao"},{"$f":"'WM2026'!BG16","v":0},{"$f":"'WM2026'!BH16","v":2},{"$f":"'WM2026'!BI16","v":":"},{"$f":"'WM2026'!BJ16","v":2},{"$f":"'WM2026'!BK16","v":"ok"},null,null,{"$f":"VLOOKUP(BD16,Rangliste!$A$2:$F$211,6,FALSE)","v":1779.335721282959},{"$f":"VLOOKUP(BF16,Rangliste!$A$2:$F$211,6,FALSE)","v":1346.5409025192262},432.79481876373279,440,{"$f":"VLOOKUP(BQ16,Resultate!$A$2:$E$37,2,FALSE)","v":"4:2"},4,2,null,4,2]
[{"$f":"'WM2026'!A17","v":51},{"$f":"'WM2026'!B17","v":"2026-06-24T12:00:00"},{"$f":"'WM2026'!C17","v":"Vancouver"},{"$f":"'WM2026'!D17","v":"Schweiz"},{"$f":"'WM2026'!E17","v":"-"},{"$f":"'WM2026'!F17","v":"Kanada"},{"$f":"'WM2026'!G17","v":0},{"$f":"'WM2026'!H17","v":2},{"$f":"'WM2026'!I17","v":":"},{"$f":"'WM2026'!J17","v":2},{"$f":"'WM2026'!K17","v":"ok"},null,null,{"$f":"VLOOKUP(D17,Rangliste!$A$2:$F$211,6,FALSE)","v":1721.972102546692},{"$f":"VLOOKUP(F17,Rangliste!$A$2:$F$211,6,FALSE)","v":1376.4497375297547},345.52236501693733,360,{"$f":"VLOOKUP(Q17,Resultate!$A$2:$E$37,2,FALSE)","v":"2:0"},2,0,null,2,0,null,null,null,null,null,null,null,null,null,null,null,null,null,null,null,null,null,null,null,null,null,null,null,null,null,null,null,null,null,{"$f":"'WM2026'!BA17","v":57},{"$f":"'WM2026'!BB17","v":"2026-06-25T18:00:00"},{"$f":"'WM2026'!BC17","v":"Dallas"},{"$f":"'WM2026'!BD17","v":"Ecuador"},{"$f":"'WM2026'!BE17","v":"-"},{"$f":"'WM2026'!BF17","v":"Deutschland"},{"$f":"'WM2026'!BG17","v":0},{"$f":"'WM2026'!BH17","v":2},{"$f":"'WM2026'!BI17","v":":"},{"$f":"'WM2026'!BJ17","v":2},{"$f":"'WM2026'!BK17","v":"ok"},null,null,{"$f":"VLOOKUP(BD17,Rangliste!$A$2:$F$211,6,FALSE)","v":1779.335721282959},{"$f":"VLOOKUP(BF17,Rangliste!$A$2:$F$211,6,FALSE)","v":1775.0704079818724},4.2653133010865076,0,{"$f":"VLOOKUP(BQ17,Resultate!$A$2:$E$37,2,FALSE)","v":"1:1"},1,1,null,1,1]
[{"$f":"'WM2026'!A18","v":52},{"$f":"'WM2026'!B18","v":"2026-06-24T12:00:00"},{"$f":"'WM2026'!C18","v":"Seattle"},{"$f":"'WM2026'!D18","v":"Bosnien/Herzg."},{"$f":"'WM2026'!E18","v":"-"},{"$f":"'WM2026'!F18","v":"Katar"},{"$f":"'WM2026'!G18","v":0},{"$f":"'WM2026'!H18","v":2},{"$f":"'WM2026'!I18","v":":"},{"$f":"'WM2026'!J18","v":2},{"$f":"'WM2026'!K18","v":"ok"},null,null,{"$f":"VLOOKUP(D18,Rangliste!$A$2:$F$211,6,FALSE)","v":1346.2048406600952},{"$f":"VLOOKUP(F18,Rangliste!$A$2:$F$211,6,FALSE)","v":1494.3940634346009},-148.18922277450565,-160,{"$f":"VLOOKUP(Q18,Resultate!$A$2:$E$37,2,FALSE)","v":"3:3"},3,3,null,3,3,null,null,null,null,null,null,null,null,null,null,null,null,null,null,null,null,null,null,null,null,null,null,null,null,null,null,null,null,null,{"$f":"'WM2026'!BA18","v":58},{"$f":"'WM2026'!BB18","v":"2026-06-25T18:00:00"},{"$f":"'WM2026'!BC18","v":"Kansas City"},{"$f":"'WM2026'!BD18","v":"Curaçao"},{"$f":"'WM2026'!BE18","v":"-"},{"$f":"'WM2026'!BF18","v":"Elfenbeinküste"},{"$f":"'WM2026'!BG18","v":0},{"$f":"'WM2026'!BH18","v":2},{"$f":"'WM2026'!BI18","v":":"},{"$f":"'WM2026'!BJ18","v":2},{"$f":"'WM2026'!BK18","v":"ok"},null,null,{"$f":"VLOOKUP(BD18,Rangliste!$A$2:$F$211,6,FALSE)","v":1346.5409025192262},{"$f":"VLOOKUP(BF18,Rangliste!$A$2:$F$211,6,FALSE)","v":1418.7596430587769},-72.218740539550708,-80,{"$f":"VLOOKUP(BQ18,Resultate!$A$2:$E$37,2,FALSE)","v":"1:2"},1,2,null,1,2]
[]
[]
[null,{"$f":"'WM2026'!B21","v":"Vorrunde"},{"$f":"'WM2026'!C21","v":"Gruppe C"},null,null,null,null,null,null,null,null,null,null,null,null,null,null,null,null,null,null,null,null,null,null,null,null,null,null,null,null,null,null,null,null,null,null,null,null,null,null,null,null,null,null,null,null,null,null,null,null,null,null,{"$f":"'WM2026'!BB21","v":"Vorrunde"},{"$f":"'WM2026'!BC21","v":"Gruppe F"}]
[null,{"$f":"'WM2026'!B22","v":"Datum/Zeit"},{"$f":"'WM2026'!C22","v":"Spielort"},null,null,null,null,null,null,null,null,null,null,null,null,null,null,null,null,null,null,null,null,null,null,null,null,null,null,null,null,null,null,null,null,null,null,null,null,null,null,null,null,null,null,null,null,null,null,null,null,null,null,{"$f":"'WM2026'!BB22","v":"Datum/Zeit"},{"$f":"'WM2026'!BC22","v":"Spielort"}]
[{"$f":"'WM2026'!A23","v":7},{"$f":"'WM2026'!B23","v":"2026-06-13T18:00:00"},{"$f":"'WM2026'!C23","v":"New York"},{"$f":"'WM2026'!D23","v":"Brasilien"},{"$f":"'WM2026'!E23","v":"-"},{"$f":"'WM2026'!F23","v":"Marokko"},{"$f":"'WM2026'!G23","v":0},{"$f":"'WM2026'!H23","v":2},{"$f":"'WM2026'!I23","v":":"},{"$f":"'WM2026'!J23","v":2},{"$f":"'WM2026'!K23","v":"ok"},null,null,{"$f":"VLOOKUP(D23,Rangliste!$A$2:$F$211,6,FALSE)","v":1654.1178948020936},{"$f":"VLOOKUP(F23,Rangliste!$A$2:$F$211,6,FALSE)","v":1786.731268043518},-132.61337324142437,-120,{"$f":"VLOOKUP(Q23,Resultate!$A$2:$E$37,2,FALSE)","v":"2:3"},2,3,null,2,3,null,null,null,null,null,null,null,null,null,null,null,null,null,null,null,null,null,null,null,null,null,null,null,null,null,null,null,null,null,{"$f":"'WM2026'!BA23","v":11},{"$f":"'WM2026'!BB23","v":"2026-06-14T15:00:00"},{"$f":"'WM2026'!BC23","v":"Dallas"},{"$f":"'WM2026'!BD23","v":"Niederlande"},{"$f":"'WM2026'!BE23","v":"-"},{"$f":"'WM2026'!BF23","v":"Japan"},{"$f":"'WM2026'!BG23","v":0},{"$f":"'WM2026'!BH23","v":2},{"$f":"'WM2026'!BI23","v":":"},{"$f":"'WM2026'!BJ23","v":2},{"$f":"'WM2026'!BK23","v":"ok"},null,null,{"$f":"VLOOKUP(BD23,Rangliste!$A$2:$F$211,6,FALSE)","v":1767.3271113586425},{"$f":"VLOOKUP(BF23,Rangliste!$A$2:$F$211,6,FALSE)","v":1776.7522193717957},-9.425108013153249,0,{"$f":"VLOOKUP(BQ23,Resultate!$A$2:$E$37,2,FALSE)","v":"1:1"},{"$f":"VALUE(MID(BR23,1,1))","v":1},{"$f":"VALUE(MID(BR23,3,1))","v":1},null,{"$f":"IF(BS23=BT23,IF(BS23=0,BU23+BS23,BS23),BS23)","v":1},{"$f":"IF(BS23=BT23,IF(BT23=0,BT23,BT23-BU23),BT23)","v":1}]
[{"$f":"'WM2026'!A24","v":5},{"$f":"'WM2026'!B24","v":"2026-06-13T21:00:00"},{"$f":"'WM2026'!C24","v":"Boston"},{"$f":"'WM2026'!D24","v":"Haiti"},{"$f":"'WM2026'!E24","v":"-"},{"$f":"'WM2026'!F24","v":"Schottland"},{"$f":"'WM2026'!G24","v":0},{"$f":"'WM2026'!H24","v":2},{"$f":"'WM2026'!I24","v":":"},{"$f":"'WM2026'!J24","v":2},{"$f":"'WM2026'!K24","v":"ok"},null,null,{"$f":"VLOOKUP(D24,Rangliste!$A$2:$F$211,6,FALSE)","v":1496.76850315094},{"$f":"VLOOKUP(F24,Rangliste!$A$2:$F$211,6,FALSE)","v":1362.3319622039794},134.43654094696058,120,{"$f":"VLOOKUP(Q24,Resultate!$A$2:$E$37,2,FALSE)","v":"1:0"},1,0,null,1,0,null,null,null,null,null,null,null,null,null,null,null,null,null,null,null,null,null,null,null,null,null,null,null,null,null,null,null,null,null,{"$f":"'WM2026'!BA24","v":12},{"$f":"'WM2026'!BB24","v":"2026-06-14T21:00:00"},{"$f":"'WM2026'!BC24","v":"Monterrey"},{"$f":"'WM2026'!BD24","v":"Schweden"},{"$f":"'WM2026'!BE24","v":"-"},{"$f":"'WM2026'!BF24","v":"Tunesien"},{"$f":"'WM2026'!BG24","v":0},{"$f":"'WM2026'!BH24","v":2},{"$f":"'WM2026'!BI24","v":":"},{"$f":"'WM2026'!BJ24","v":2},{"$f":"'WM2026'!BK24","v":"ok"},null,null,{"$f":"VLOOKUP(BD24,Rangliste!$A$2:$F$211,6,FALSE)","v":1491.9397402000427},{"$f":"VLOOKUP(BF24,Rangliste!$A$2:$F$211,6,FALSE)","v":1390.5400531768798},101.39968702316287,120,{"$f":"VLOOKUP(BQ24,Resultate!$A$2:$E$37,2,FALSE)","v":"1:0"},1,0,null,1,0]
[{"$f":"'WM2026'!A25","v":29},{"$f":"'WM2026'!B25","v":"2026-06-19T21:00:00"},{"$f":"'WM2026'!C25","v":"Philadelphia"},{"$f":"'WM2026'!D25","v":"Brasilien"},{"$f":"'WM2026'!E25","v":"-"},{"$f":"'WM2026'!F25","v":"Haiti"},{"$f":"'WM2026'!G25","v":0},{"$f":"'WM2026'!H25","v":2},{"$f":"'WM2026'!I25","v":":"},{"$f":"'WM2026'!J25","v":2},{"$f":"'WM2026'!K25","v":"ok"},null,null,{"$f":"VLOOKUP(D25,Rangliste!$A$2:$F$211,6,FALSE)","v":1654.1178948020936},{"$f":"VLOOKUP(F25,Rangliste!$A$2:$F$211,6,FALSE)","v":1496.76850315094},157.34939165115361,160,{"$f":"VLOOKUP(Q25,Resultate!$A$2:$E$37,2,FALSE)","v":"2:1"},2,1,null,2,1,null,null,null,null,null,null,null,null,null,null,null,null,null,null,null,null,null,null,null,null,null,null,null,null,null,null,null,null,null,{"$f":"'WM2026'!BA25","v":35},{"$f":"'WM2026'!BB25","v":"2026-06-20T12:00:00"},{"$f":"'WM2026'!BC25","v":"Houston"},{"$f":"'WM2026'!BD25","v":"Niederlande"},{"$f":"'WM2026'!BE25","v":"-"},{"$f":"'WM2026'!BF25","v":"Schweden"},{"$f":"'WM2026'!BG25","v":0},{"$f":"'WM2026'!BH25","v":2},{"$f":"'WM2026'!BI25","v":":"},{"$f":"'WM2026'!BJ25","v":2},{"$f":"'WM2026'!BK25","v":"ok"},null,null,{"$f":"VLOOKUP(BD25,Rangliste!$A$2:$F$211,6,FALSE)","v":1767.3271113586425},{"$f":"VLOOKUP(BF25,Rangliste!$A$2:$F$211,6,FALSE)","v":1491.9397402000427},275.38737115859976,280,{"$f":"VLOOKUP(BQ25,Resultate!$A$2:$E$37,2,FALSE)","v":"5:4"},5,4,null,5,4]
[{"$f":"'WM2026'!A26","v":30},{"$f":"'WM2026'!B26","v":"2026-06-19T18:00:00"},{"$f":"'WM2026'!C26","v":"Boston"},{"$f":"'WM2026'!D26","v":"Schottland"},{"$f":"'WM2026'!E26","v":"-"},{"$f":"'WM2026'!F26","v":"Marokko"},{"$f":"'WM2026'!G26","v":0},{"$f":"'WM2026'!H26","v":2},{"$f":"'WM2026'!I26","v":":"},{"$f":"'WM2026'!J26","v":2},{"$f":"'WM2026'!K26","v":"ok"},null,null,{"$f":"VLOOKUP(D26,Rangliste!$A$2:$F$211,6,FALSE)","v":1362.3319622039794},{"$f":"VLOOKUP(F26,Rangliste!$A$2:$F$211,6,FALSE)","v":1786.731268043518},-424.39930583953856,-440,{"$f":"VLOOKUP(Q26,Resultate!$A$2:$E$37,2,FALSE)","v":"0:2"},0,2,null,0,2,null,null,null,null,null,null,null,null,null,null,null,null,null,null,null,null,null,null,null,null,null,null,null,null,null,null,null,null,null,{"$f":"'WM2026'!BA26","v":36},{"$f":"'WM2026'!BB26","v":"2026-06-20T23:00:00"},{"$f":"'WM2026'!BC26","v":"Monterrey"},{"$f":"'WM2026'!BD26","v":"Tunesien"},{"$f":"'WM2026'!BE26","v":"-"},{"$f":"'WM2026'!BF26","v":"Japan"},{"$f":"'WM2026'!BG26","v":0},{"$f":"'WM2026'!BH26","v":2},{"$f":"'WM2026'!BI26","v":":"},{"$f":"'WM2026'!BJ26","v":2},{"$f":"'WM2026'!BK26","v":"ok"},null,null,{"$f":"VLOOKUP(BD26,Rangliste!$A$2:$F$211,6,FALSE)","v":1390.5400531768798},{"$f":"VLOOKUP(BF26,Rangliste!$A$2:$F$211,6,FALSE)","v":1776.7522193717957},-386.21216619491588,-400,{"$f":"VLOOKUP(BQ26,Resultate!$A$2:$E$37,2,FALSE)","v":"1:3"},1,3,null,1,3]
[{"$f":"'WM2026'!A27","v":49},{"$f":"'WM2026'!B27","v":"2026-06-24T18:00:00"},{"$f":"'WM2026'!C27","v":"Miami"},{"$f":"'WM2026'!D27","v":"Schottland"},{"$f":"'WM2026'!E27","v":"-"},{"$f":"'WM2026'!F27","v":"Brasilien"},{"$f":"'WM2026'!G27","v":0},{"$f":"'WM2026'!H27","v":2},{"$f":"'WM2026'!I27","v":":"},{"$f":"'WM2026'!J27","v":2},{"$f":"'WM2026'!K27","v":"ok"},null,null,{"$f":"VLOOKUP(D27,Rangliste!$A$2:$F$211,6,FALSE)","v":1362.3319622039794},{"$f":"VLOOKUP(F27,Rangliste!$A$2:$F$211,6,FALSE)","v":1654.1178948020936},-291.78593259811419,-280,{"$f":"VLOOKUP(Q27,Resultate!$A$2:$E$37,2,FALSE)","v":"4:5"},4,5,null,4,5,null,null,null,null,null,null,null,null,null,null,null,null,null,null,null,null,null,null,null,null,null,null,null,null,null,null,null,null,null,{"$f":"'WM2026'!BA27","v":55},{"$f":"'WM2026'!BB27","v":"2026-06-25T16:00:00"},{"$f":"'WM2026'!BC27","v":"Philadelphia"},{"$f":"'WM2026'!BD27","v":"Tunesien"},{"$f":"'WM2026'!BE27","v":"-"},{"$f":"'WM2026'!BF27","v":"Niederlande"},{"$f":"'WM2026'!BG27","v":0},{"$f":"'WM2026'!BH27","v":2},{"$f":"'WM2026'!BI27","v":":"},{"$f":"'WM2026'!BJ27","v":2},{"$f":"'WM2026'!BK27","v":"ok"},null,null,{"$f":"VLOOKUP(BD27,Rangliste!$A$2:$F$211,6,FALSE)","v":1390.5400531768798},{"$f":"VLOOKUP(BF27,Rangliste!$A$2:$F$211,6,FALSE)","v":1767.3271113586425},-376.78705818176263,-360,{"$f":"VLOOKUP(BQ27,Resultate!$A$2:$E$37,2,FALSE)","v":"2:4"},2,4,null,2,4]
[{"$f":"'WM2026'!A28","v":50},{"$f":"'WM2026'!B28","v":"2026-06-24T18:00:00"},{"$f":"'WM2026'!C28","v":"Atlanta"},{"$f":"'WM2026'!D28","v":"Marokko"},{"$f":"'WM2026'!E28","v":"-"},{"$f":"'WM2026'!F28","v":"Haiti"},{"$f":"'WM2026'!G28","v":0},{"$f":"'WM2026'!H28","v":2},{"$f":"'WM2026'!I28","v":":"},{"$f":"'WM2026'!J28","v":2},{"$f":"'WM2026'!K28","v":"ok"},null,null,{"$f":"VLOOKUP(D28,Rangliste!$A$2:$F$211,6,FALSE)","v":1786.731268043518},{"$f":"VLOOKUP(F28,Rangliste!$A$2:$F$211,6,FALSE)","v":1496.76850315094},289.96276489257798,280,{"$f":"VLOOKUP(Q28,Resultate!$A$2:$E$37,2,FALSE)","v":"5:4"},5,4,null,5,4,null,null,null,null,null,null,null,null,null,null,null,null,null,null,null,null,null,null,null,null,null,null,null,null,null,null,null,null,null,{"$f":"'WM2026'!BA28","v":56},{"$f":"'WM2026'!BB28","v":"2026-06-25T16:00:00"},{"$f":"'WM2026'!BC28","v":"New York"},{"$f":"'WM2026'!BD28","v":"Japan"},{"$f":"'WM2026'!BE28","v":"-"},{"$f":"'WM2026'!BF28","v":"Schweden"},{"$f":"'WM2026'!BG28","v":0},{"$f":"'WM2026'!BH28","v":2},{"$f":"'WM2026'!BI28","v":":"},{"$f":"'WM2026'!BJ28","v":2},{"$f":"'WM2026'!BK28","v":"ok"},null,null,{"$f":"VLOOKUP(BD28,Rangliste!$A$2:$F$211,6,FALSE)","v":1776.7522193717957},{"$f":"VLOOKUP(BF28,Rangliste!$A$2:$F$211,6,FALSE)","v":1491.9397402000427},284.81247917175301,280,{"$f":"VLOOKUP(BQ28,Resultate!$A$2:$E$37,2,FALSE)","v":"5:4"},5,4,null,5,4]
[]
[]
[null,{"$f":"'WM2026'!B31","v":"Vorrunde"},{"$f":"'WM2026'!C31","v":"Gruppe G"},null,null,null,null,null,null,null,null,null,null,null,null,null,null,null,null,null,null,null,null,null,null,null,null,null,null,null,null,null,null,null,null,null,null,null,null,null,null,null,null,null,null,null,null,null,null,null,null,null,null,{"$f":"'WM2026'!BB31","v":"Vorrunde"},{"$f":"'WM2026'!BC31","v":"Gruppe J"}]
[null,{"$f":"'WM2026'!B32","v":"Datum/Zeit"},{"$f":"'WM2026'!C32","v":"Spielort"},null,null,null,null,null,null,null,null,null,null,null,null,null,null,null,null,null,null,null,null,null,null,null,null,null,null,null,null,null,null,null,null,null,null,null,null,null,null,null,null,null,null,null,null,null,null,null,null,null,null,{"$f":"'WM2026'!BB32","v":"Datum/Zeit"},{"$f":"'WM2026'!BC32","v":"Spielort"}]
[{"$f":"'WM2026'!A33","v":16},{"$f":"'WM2026'!B33","v":"2026-06-15T12:00:00"},{"$f":"'WM2026'!C33","v":"Seattle"},{"$f":"'WM2026'!D33","v":"Belgien"},{"$f":"'WM2026'!E33","v":"-"},{"$f":"'WM2026'!F33","v":"Ägypten"},{"$f":"'WM2026'!G33","v":0},{"$f":"'WM2026'!H33","v":2},{"$f":"'WM2026'!I33","v":":"},{"$f":"'WM2026'!J33","v":2},{"$f":"'WM2026'!K33","v":"ok"},null,null,{"$f":"VLOOKUP(D33,Rangliste!$A$2:$F$211,6,FALSE)","v":1811.7569546318055},{"$f":"VLOOKUP(F33,Rangliste!$A$2:$F$211,6,FALSE)","v":1533.065553894043},278.69140073776248,280,{"$f":"VLOOKUP(Q33,Resultate!$A$2:$E$37,2,FALSE)","v":"5:4"},5,4,null,5,4,null,null,null,null,null,null,null,null,null,null,null,null,null,null,null,null,null,null,null,null,null,null,null,null,null,null,null,null,null,{"$f":"'WM2026'!BA33","v":17},{"$f":"'WM2026'!BB33","v":"2026-06-16T15:00:00"},{"$f":"'WM2026'!BC33","v":"New York"},{"$f":"'WM2026'!BD33","v":"Argentinien"},{"$f":"'WM2026'!BE33","v":"-"},{"$f":"'WM2026'!BF33","v":"Algerien"},{"$f":"'WM2026'!BG33","v":0},{"$f":"'WM2026'!BH33","v":2},{"$f":"'WM2026'!BI33","v":":"},{"$f":"'WM2026'!BJ33","v":2},{"$f":"'WM2026'!BK33","v":"ok"},null,null,{"$f":"VLOOKUP(BD33,Rangliste!$A$2:$F$211,6,FALSE)","v":1781.5569668388366},{"$f":"VLOOKUP(BF33,Rangliste!$A$2:$F$211,6,FALSE)","v":1402.8767645454407},378.68020229339595,360,{"$f":"VLOOKUP(BQ33,Resultate!$A$2:$E$37,2,FALSE)","v":"2:0"},{"$f":"VALUE(MID(BR33,1,1))","v":2},{"$f":"VALUE(MID(BR33,3,1))","v":0},null,{"$f":"IF(BS33=BT33,IF(BS33=0,BU33+BS33,BS33),BS33)","v":2},{"$f":"IF(BS33=BT33,IF(BT33=0,BT33,BT33-BU33),BT33)","v":0}]
[{"$f":"'WM2026'!A34","v":15},{"$f":"'WM2026'!B34","v":"2026-06-15T18:00:00"},{"$f":"'WM2026'!C34","v":"Los Angeles"},{"$f":"'WM2026'!D34","v":"IR Iran"},{"$f":"'WM2026'!E34","v":"-"},{"$f":"'WM2026'!F34","v":"Neuseeland"},{"$f":"'WM2026'!G34","v":0},{"$f":"'WM2026'!H34","v":2},{"$f":"'WM2026'!I34","v":":"},{"$f":"'WM2026'!J34","v":2},{"$f":"'WM2026'!K34","v":"ok"},null,null,{"$f":"VLOOKUP(D34,Rangliste!$A$2:$F$211,6,FALSE)","v":1575.7080367088272},{"$f":"VLOOKUP(F34,Rangliste!$A$2:$F$211,6,FALSE)","v":1260.6919234466552},315.01611326217198,320,{"$f":"VLOOKUP(Q34,Resultate!$A$2:$E$37,2,FALSE)","v":"5:5"},5,5,null,5,5,null,null,null,null,null,null,null,null,null,null,null,null,null,null,null,null,null,null,null,null,null,null,null,null,null,null,null,null,null,{"$f":"'WM2026'!BA34","v":18},{"$f":"'WM2026'!BB34","v":"2026-06-16T18:00:00"},{"$f":"'WM2026'!BC34","v":"Boston"},{"$f":"'WM2026'!BD34","v":"Österreich"},{"$f":"'WM2026'!BE34","v":"-"},{"$f":"'WM2026'!BF34","v":"Jordanien"},{"$f":"'WM2026'!BG34","v":0},{"$f":"'WM2026'!BH34","v":2},{"$f":"'WM2026'!BI34","v":":"},{"$f":"'WM2026'!BJ34","v":2},{"$f":"'WM2026'!BK34","v":"ok"},null,null,{"$f":"VLOOKUP(BD34,Rangliste!$A$2:$F$211,6,FALSE)","v":1668.6443802833558},{"$f":"VLOOKUP(BF34,Rangliste!$A$2:$F$211,6,FALSE)","v":1426.5478255271912},242.09655475616455,240,{"$f":"VLOOKUP(BQ34,Resultate!$A$2:$E$37,2,FALSE)","v":"4:3"},4,3,null,4,3]
[{"$f":"'WM2026'!A35","v":39},{"$f":"'WM2026'!B35","v":"2026-06-21T12:00:00"},{"$f":"'WM2026'!C35","v":"Los Angeles"},{"$f":"'WM2026'!D35","v":"Belgien"},{"$f":"'WM2026'!E35","v":"-"},{"$f":"'WM2026'!F35","v":"IR Iran"},{"$f":"'WM2026'!G35","v":0},{"$f":"'WM2026'!H35","v":2},{"$f":"'WM2026'!I35","v":":"},{"$f":"'WM2026'!J35","v":2},{"$f":"'WM2026'!K35","v":"ok"},null,null,{"$f":"VLOOKUP(D35,Rangliste!$A$2:$F$211,6,FALSE)","v":1811.7569546318055},{"$f":"VLOOKUP(F35,Rangliste!$A$2:$F$211,6,FALSE)","v":1575.7080367088272},236.04891792297826,240,{"$f":"VLOOKUP(Q35,Resultate!$A$2:$E$37,2,FALSE)","v":"4:3"},4,3,null,4,3,null,null,null,null,null,null,null,null,null,null,null,null,null,null,null,null,null,null,null,null,null,null,null,null,null,null,null,null,null,{"$f":"'WM2026'!BA35","v":43},{"$f":"'WM2026'!BB35","v":"2026-06-22T12:00:00"},{"$f":"'WM2026'!BC35","v":"Dallas"},{"$f":"'WM2026'!BD35","v":"Argentinien"},{"$f":"'WM2026'!BE35","v":"-"},{"$f":"'WM2026'!BF35","v":"Österreich"},{"$f":"'WM2026'!BG35","v":0},{"$f":"'WM2026'!BH35","v":2},{"$f":"'WM2026'!BI35","v":":"},{"$f":"'WM2026'!BJ35","v":2},{"$f":"'WM2026'!BK35","v":"ok"},null,null,{"$f":"VLOOKUP(BD35,Rangliste!$A$2:$F$211,6,FALSE)","v":1781.5569668388366},{"$f":"VLOOKUP(BF35,Rangliste!$A$2:$F$211,6,FALSE)","v":1668.6443802833558},112.91258655548086,120,{"$f":"VLOOKUP(BQ35,Resultate!$A$2:$E$37,2,FALSE)","v":"1:0"},1,0,null,1,0]
[{"$f":"'WM2026'!A36","v":40},{"$f":"'WM2026'!B36","v":"2026-06-21T18:00:00"},{"$f":"'WM2026'!C36","v":"Vancouver"},{"$f":"'WM2026'!D36","v":"Neuseeland"},{"$f":"'WM2026'!E36","v":"-"},{"$f":"'WM2026'!F36","v":"Ägypten"},{"$f":"'WM2026'!G36","v":0},{"$f":"'WM2026'!H36","v":2},{"$f":"'WM2026'!I36","v":":"},{"$f":"'WM2026'!J36","v":2},{"$f":"'WM2026'!K36","v":"ok"},null,null,{"$f":"VLOOKUP(D36,Rangliste!$A$2:$F$211,6,FALSE)","v":1260.6919234466552},{"$f":"VLOOKUP(F36,Rangliste!$A$2:$F$211,6,FALSE)","v":1533.065553894043},-272.37363044738777,-280,{"$f":"VLOOKUP(Q36,Resultate!$A$2:$E$37,2,FALSE)","v":"4:5"},4,5,null,4,5,null,null,null,null,null,null,null,null,null,null,null,null,null,null,null,null,null,null,null,null,null,null,null,null,null,null,null,null,null,{"$f":"'WM2026'!BA36","v":44},{"$f":"'WM2026'!BB36","v":"2026-06-22T20:00:00"},{"$f":"'WM2026'!BC36","v":"San Francisco"},{"$f":"'WM2026'!BD36","v":"Jordanien"},{"$f":"'WM2026'!BE36","v":"-"},{"$f":"'WM2026'!BF36","v":"Algerien"},{"$f":"'WM2026'!BG36","v":0},{"$f":"'WM2026'!BH36","v":2},{"$f":"'WM2026'!BI36","v":":"},{"$f":"'WM2026'!BJ36","v":2},{"$f":"'WM2026'!BK36","v":"ok"},null,null,{"$f":"VLOOKUP(BD36,Rangliste!$A$2:$F$211,6,FALSE)","v":1426.5478255271912},{"$f":"VLOOKUP(BF36,Rangliste!$A$2:$F$211,6,FALSE)","v":1402.8767645454407},23.671060981750543,40,{"$f":"VLOOKUP(BQ36,Resultate!$A$2:$E$37,2,FALSE)","v":"0:0"},0,0,null,0,0]
[{"$f":"'WM2026'!A37","v":64},{"$f":"'WM2026'!B37","v":"2026-06-26T20:00:00"},{"$f":"'WM2026'!C37","v":"Vancouver"},{"$f":"'WM2026'!D37","v":"Neuseeland"},{"$f":"'WM2026'!E37","v":"-"},{"$f":"'WM2026'!F37","v":"Belgien"},{"$f":"'WM2026'!G37","v":0},{"$f":"'WM2026'!H37","v":2},{"$f":"'WM2026'!I37","v":":"},{"$f":"'WM2026'!J37","v":2},{"$f":"'WM2026'!K37","v":"ok"},null,null,{"$f":"VLOOKUP(D37,Rangliste!$A$2:$F$211,6,FALSE)","v":1260.6919234466552},{"$f":"VLOOKUP(F37,Rangliste!$A$2:$F$211,6,FALSE)","v":1811.7569546318055},-551.06503118515025,-560,{"$f":"VLOOKUP(Q37,Resultate!$A$2:$E$37,2,FALSE)","v":"0:3"},0,3,null,0,3,null,null,null,null,null,null,null,null,null,null,null,null,null,null,null,null,null,null,null,null,null,null,null,null,null,null,null,null,null,{"$f":"'WM2026'!BA37","v":70},{"$f":"'WM2026'!BB37","v":"2026-06-27T21:00:00"},{"$f":"'WM2026'!BC37","v":"Dallas"},{"$f":"'WM2026'!BD37","v":"Jordanien"},{"$f":"'WM2026'!BE37","v":"-"},{"$f":"'WM2026'!BF37","v":"Argentinien"},{"$f":"'WM2026'!BG37","v":0},{"$f":"'WM2026'!BH37","v":2},{"$f":"'WM2026'!BI37","v":":"},{"$f":"'WM2026'!BJ37","v":2},{"$f":"'WM2026'!BK37","v":"ok"},null,null,{"$f":"VLOOKUP(BD37,Rangliste!$A$2:$F$211,6,FALSE)","v":1426.5478255271912},{"$f":"VLOOKUP(BF37,Rangliste!$A$2:$F$211,6,FALSE)","v":1781.5569668388366},-355.00914131164541,-360,{"$f":"VLOOKUP(BQ37,Resultate!$A$2:$E$37,2,FALSE)","v":"2:4"},2,4,null,2,4]
[{"$f":"'WM2026'!A38","v":63},{"$f":"'WM2026'!B38","v":"2026-06-26T20:00:00"},{"$f":"'WM2026'!C38","v":"Seattle"},{"$f":"'WM2026'!D38","v":"Ägypten"},{"$f":"'WM2026'!E38","v":"-"},{"$f":"'WM2026'!F38","v":"IR Iran"},{"$f":"'WM2026'!G38","v":0},{"$f":"'WM2026'!H38","v":2},{"$f":"'WM2026'!I38","v":":"},{"$f":"'WM2026'!J38","v":2},{"$f":"'WM2026'!K38","v":"ok"},null,null,{"$f":"VLOOKUP(D38,Rangliste!$A$2:$F$211,6,FALSE)","v":1533.065553894043},{"$f":"VLOOKUP(F38,Rangliste!$A$2:$F$211,6,FALSE)","v":1575.7080367088272},-42.642482814784216,-40,{"$f":"VLOOKUP(Q38,Resultate!$A$2:$E$37,2,FALSE)","v":"0:1"},0,1,null,0,1,null,null,null,null,null,null,null,null,null,null,null,null,null,null,null,null,null,null,null,null,null,null,null,null,null,null,null,null,null,{"$f":"'WM2026'!BA38","v":69},{"$f":"'WM2026'!BB38","v":"2026-06-27T21:00:00"},{"$f":"'WM2026'!BC38","v":"Kansas City"},{"$f":"'WM2026'!BD38","v":"Algerien"},{"$f":"'WM2026'!BE38","v":"-"},{"$f":"'WM2026'!BF38","v":"Österreich"},{"$f":"'WM2026'!BG38","v":0},{"$f":"'WM2026'!BH38","v":2},{"$f":"'WM2026'!BI38","v":":"},{"$f":"'WM2026'!BJ38","v":2},{"$f":"'WM2026'!BK38","v":"ok"},null,null,{"$f":"VLOOKUP(BD38,Rangliste!$A$2:$F$211,6,FALSE)","v":1402.8767645454407},{"$f":"VLOOKUP(BF38,Rangliste!$A$2:$F$211,6,FALSE)","v":1668.6443802833558},-265.76761573791509,-280,{"$f":"VLOOKUP(BQ38,Resultate!$A$2:$E$37,2,FALSE)","v":"4:5"},4,5,null,4,5]
[]
[]
[null,{"$f":"'WM2026'!B41","v":"Vorrunde"},{"$f":"'WM2026'!C41","v":"Gruppe H"},null,null,null,null,null,null,null,null,null,null,null,null,null,null,null,null,null,null,null,null,null,null,null,null,null,null,null,null,null,null,null,null,null,null,null,null,null,null,null,null,null,null,null,null,null,null,null,null,null,null,{"$f":"'WM2026'!BB41","v":"Vorrunde"},{"$f":"'WM2026'!BC41","v":"Gruppe K"}]
[null,{"$f":"'WM2026'!B42","v":"Datum/Zeit"},{"$f":"'WM2026'!C42","v":"Spielort"},null,null,null,null,null,null,null,null,null,null,null,null,null,null,null,null,null,null,null,null,null,null,null,null,null,null,null,null,null,null,null,null,null,null,null,null,null,null,null,null,null,null,null,null,null,null,null,null,null,null,{"$f":"'WM2026'!BB42","v":"Datum/Zeit"},{"$f":"'WM2026'!BC42","v":"Spielort"}]
[{"$f":"'WM2026'!A43","v":14},{"$f":"'WM2026'!B43","v":"2026-06-15T12:00:00"},{"$f":"'WM2026'!C43","v":"Atlanta"},{"$f":"'WM2026'!D43","v":"Spanien"},{"$f":"'WM2026'!E43","v":"-"},{"$f":"'WM2026'!F43","v":"Kap Verde"},{"$f":"'WM2026'!G43","v":0},{"$f":"'WM2026'!H43","v":2},{"$f":"'WM2026'!I43","v":":"},{"$f":"'WM2026'!J43","v":2},{"$f":"'WM2026'!K43","v":"ok"},null,null,{"$f":"VLOOKUP(D43,Rangliste!$A$2:$F$211,6,FALSE)","v":2006.4451231002809},{"$f":"VLOOKUP(F43,Rangliste!$A$2:$F$211,6,FALSE)","v":1282.6006349372865},723.84448816299437,720,{"$f":"VLOOKUP(Q43,Resultate!$A$2:$E$37,2,FALSE)","v":"5:0"},5,0,null,5,0,null,null,null,null,null,null,null,null,null,null,null,null,null,null,null,null,null,null,null,null,null,null,null,null,null,null,null,null,null,{"$f":"'WM2026'!BA43","v":23},{"$f":"'WM2026'!BB43","v":"2026-06-17T12:00:00"},{"$f":"'WM2026'!BC43","v":"Houston"},{"$f":"'WM2026'!BD43","v":"Portugal"},{"$f":"'WM2026'!BE43","v":"-"},{"$f":"'WM2026'!BF43","v":"DR Kongo"},{"$f":"'WM2026'!BG43","v":0},{"$f":"'WM2026'!BH43","v":2},{"$f":"'WM2026'!BI43","v":":"},{"$f":"'WM2026'!BJ43","v":2},{"$f":"'WM2026'!BK43","v":"ok"},null,null,{"$f":"VLOOKUP(BD43,Rangliste!$A$2:$F$211,6,FALSE)","v":1742.924169139862},{"$f":"VLOOKUP(BF43,Rangliste!$A$2:$F$211,6,FALSE)","v":1617.5416632652282},125.38250587463381,120,{"$f":"VLOOKUP(BQ43,Resultate!$A$2:$E$37,2,FALSE)","v":"1:0"},{"$f":"VALUE(MID(BR43,1,1))","v":1},{"$f":"VALUE(MID(BR43,3,1))","v":0},null,{"$f":"IF(BS43=BT43,IF(BS43=0,BU43+BS43,BS43),BS43)","v":1},{"$f":"IF(BS43=BT43,IF(BT43=0,BT43,BT43-BU43),BT43)","v":0}]
[{"$f":"'WM2026'!A44","v":13},{"$f":"'WM2026'!B44","v":"2026-06-15T18:00:00"},{"$f":"'WM2026'!C44","v":"Miami"},{"$f":"'WM2026'!D44","v":"Saudiarabien"},{"$f":"'WM2026'!E44","v":"-"},{"$f":"'WM2026'!F44","v":"Uruguay"},{"$f":"'WM2026'!G44","v":0},{"$f":"'WM2026'!H44","v":2},{"$f":"'WM2026'!I44","v":":"},{"$f":"'WM2026'!J44","v":2},{"$f":"'WM2026'!K44","v":"ok"},null,null,{"$f":"VLOOKUP(D44,Rangliste!$A$2:$F$211,6,FALSE)","v":1517.2986113357545},{"$f":"VLOOKUP(F44,Rangliste!$A$2:$F$211,6,FALSE)","v":1484.3520601463317},32.946551189422735,40,{"$f":"VLOOKUP(Q44,Resultate!$A$2:$E$37,2,FALSE)","v":"0:0"},0,0,null,0,0,null,null,null,null,null,null,null,null,null,null,null,null,null,null,null,null,null,null,null,null,null,null,null,null,null,null,null,null,null,{"$f":"'WM2026'!BA44","v":24},{"$f":"'WM2026'!BB44","v":"2026-06-17T21:00:00"},{"$f":"'WM2026'!BC44","v":"Mexico City"},{"$f":"'WM2026'!BD44","v":"Usbekistan"},{"$f":"'WM2026'!BE44","v":"-"},{"$f":"'WM2026'!BF44","v":"Kolumbien"},{"$f":"'WM2026'!BG44","v":0},{"$f":"'WM2026'!BH44","v":2},{"$f":"'WM2026'!BI44","v":":"},{"$f":"'WM2026'!BJ44","v":2},{"$f":"'WM2026'!BK44","v":"ok"},null,null,{"$f":"VLOOKUP(BD44,Rangliste!$A$2:$F$211,6,FALSE)","v":1301.2336786651611},{"$f":"VLOOKUP(BF44,Rangliste!$A$2:$F$211,6,FALSE)","v":1628.3125852012633},-327.07890653610229,-320,{"$f":"VLOOKUP(BQ44,Resultate!$A$2:$E$37,2,FALSE)","v":"3:5"},3,5,null,3,5]
[{"$f":"'WM2026'!A45","v":38},{"$f":"'WM2026'!B45","v":"2026-06-21T12:00:00"},{"$f":"'WM2026'!C45","v":"Atlanta"},{"$f":"'WM2026'!D45","v":"Spanien"},{"$f":"'WM2026'!E45","v":"-"},{"$f":"'WM2026'!F45","v":"Saudiarabien"},{"$f":"'WM2026'!G45","v":0},{"$f":"'WM2026'!H45","v":2},{"$f":"'WM2026'!I45","v":":"},{"$f":"'WM2026'!J45","v":2},{"$f":"'WM2026'!K45","v":"ok"},null,null,{"$f":"VLOOKUP(D45,Rangliste!$A$2:$F$211,6,FALSE)","v":2006.4451231002809},{"$f":"VLOOKUP(F45,Rangliste!$A$2:$F$211,6,FALSE)","v":1517.2986113357545},489.14651176452639,480,{"$f":"VLOOKUP(Q45,Resultate!$A$2:$E$37,2,FALSE)","v":"5:3"},5,3,null,5,3,null,null,null,null,null,null,null,null,null,null,null,null,null,null,null,null,null,null,null,null,null,null,null,null,null,null,null,null,null,{"$f":"'WM2026'!BA45","v":47},{"$f":"'WM2026'!BB45","v":"2026-06-23T12:00:00"},{"$f":"'WM2026'!BC45","v":"Houston"},{"$f":"'WM2026'!BD45","v":"Portugal"},{"$f":"'WM2026'!BE45","v":"-"},{"$f":"'WM2026'!BF45","v":"Usbekistan"},{"$f":"'WM2026'!BG45","v":0},{"$f":"'WM2026'!BH45","v":2},{"$f":"'WM2026'!BI45","v":":"},{"$f":"'WM2026'!BJ45","v":2},{"$f":"'WM2026'!BK45","v":"ok"},null,null,{"$f":"VLOOKUP(BD45,Rangliste!$A$2:$F$211,6,FALSE)","v":1742.924169139862},{"$f":"VLOOKUP(BF45,Rangliste!$A$2:$F$211,6,FALSE)","v":1301.2336786651611},441.69049047470094,440,{"$f":"VLOOKUP(BQ45,Resultate!$A$2:$E$37,2,FALSE)","v":"4:2"},4,2,null,4,2]
[{"$f":"'WM2026'!A46","v":37},{"$f":"'WM2026'!B46","v":"2026-06-21T18:00:00"},{"$f":"'WM2026'!C46","v":"Miami"},{"$f":"'WM2026'!D46","v":"Uruguay"},{"$f":"'WM2026'!E46","v":"-"},{"$f":"'WM2026'!F46","v":"Kap Verde"},{"$f":"'WM2026'!G46","v":0},{"$f":"'WM2026'!H46","v":2},{"$f":"'WM2026'!I46","v":":"},{"$f":"'WM2026'!J46","v":2},{"$f":"'WM2026'!K46","v":"ok"},null,null,{"$f":"VLOOKUP(D46,Rangliste!$A$2:$F$211,6,FALSE)","v":1484.3520601463317},{"$f":"VLOOKUP(F46,Rangliste!$A$2:$F$211,6,FALSE)","v":1282.6006349372865},201.75142520904524,200,{"$f":"VLOOKUP(Q46,Resultate!$A$2:$E$37,2,FALSE)","v":"3:2"},3,2,null,3,2,null,null,null,null,null,null,null,null,null,null,null,null,null,null,null,null,null,null,null,null,null,null,null,null,null,null,null,null,null,{"$f":"'WM2026'!BA46","v":48},{"$f":"'WM2026'!BB46","v":"2026-06-23T21:00:00"},{"$f":"'WM2026'!BC46","v":"Guadalajara"},{"$f":"'WM2026'!BD46","v":"Kolumbien"},{"$f":"'WM2026'!BE46","v":"-"},{"$f":"'WM2026'!BF46","v":"DR Kongo"},{"$f":"'WM2026'!BG46","v":0},{"$f":"'WM2026'!BH46","v":2},{"$f":"'WM2026'!BI46","v":":"},{"$f":"'WM2026'!BJ46","v":2},{"$f":"'WM2026'!BK46","v":"ok"},null,null,{"$f":"VLOOKUP(BD46,Rangliste!$A$2:$F$211,6,FALSE)","v":1628.3125852012633},{"$f":"VLOOKUP(BF46,Rangliste!$A$2:$F$211,6,FALSE)","v":1617.5416632652282},10.770921936035165,0,{"$f":"VLOOKUP(BQ46,Resultate!$A$2:$E$37,2,FALSE)","v":"1:1"},1,1,null,1,1]
[{"$f":"'WM2026'!A47","v":66},{"$f":"'WM2026'!B47","v":"2026-06-26T19:00:00"},{"$f":"'WM2026'!C47","v":"Guadalajara"},{"$f":"'WM2026'!D47","v":"Uruguay"},{"$f":"'WM2026'!E47","v":"-"},{"$f":"'WM2026'!F47","v":"Spanien"},{"$f":"'WM2026'!G47","v":0},{"$f":"'WM2026'!H47","v":2},{"$f":"'WM2026'!I47","v":":"},{"$f":"'WM2026'!J47","v":2},{"$f":"'WM2026'!K47","v":"ok"},null,null,{"$f":"VLOOKUP(D47,Rangliste!$A$2:$F$211,6,FALSE)","v":1484.3520601463317},{"$f":"VLOOKUP(F47,Rangliste!$A$2:$F$211,6,FALSE)","v":2006.4451231002809},-522.09306295394913,-520,{"$f":"VLOOKUP(Q47,Resultate!$A$2:$E$37,2,FALSE)","v":"1:4"},1,4,null,1,4,null,null,null,null,null,null,null,null,null,null,null,null,null,null,null,null,null,null,null,null,null,null,null,null,null,null,null,null,null,{"$f":"'WM2026'!BA47","v":72},{"$f":"'WM2026'!BB47","v":"2026-06-27T19:30:00"},{"$f":"'WM2026'!BC47","v":"Atlanta"},{"$f":"'WM2026'!BD47","v":"Kolumbien"},{"$f":"'WM2026'!BE47","v":"-"},{"$f":"'WM2026'!BF47","v":"Portugal"},{"$f":"'WM2026'!BG47","v":0},{"$f":"'WM2026'!BH47","v":2},{"$f":"'WM2026'!BI47","v":":"},{"$f":"'WM2026'!BJ47","v":2},{"$f":"'WM2026'!BK47","v":"ok"},null,null,{"$f":"VLOOKUP(BD47,Rangliste!$A$2:$F$211,6,FALSE)","v":1628.3125852012633},{"$f":"VLOOKUP(BF47,Rangliste!$A$2:$F$211,6,FALSE)","v":1742.924169139862},-114.61158393859864,-120,{"$f":"VLOOKUP(BQ47,Resultate!$A$2:$E$37,2,FALSE)","v":"2:3"},2,3,null,2,3]
[{"$f":"'WM2026'!A48","v":65},{"$f":"'WM2026'!B48","v":"2026-06-26T19:00:00"},{"$f":"'WM2026'!C48","v":"Houston"},{"$f":"'WM2026'!D48","v":"Kap Verde"},{"$f":"'WM2026'!E48","v":"-"},{"$f":"'WM2026'!F48","v":"Saudiarabien"},{"$f":"'WM2026'!G48","v":0},{"$f":"'WM2026'!H48","v":2},{"$f":"'WM2026'!I48","v":":"},{"$f":"'WM2026'!J48","v":2},{"$f":"'WM2026'!K48","v":"ok"},null,null,{"$f":"VLOOKUP(D48,Rangliste!$A$2:$F$211,6,FALSE)","v":1282.6006349372865},{"$f":"VLOOKUP(F48,Rangliste!$A$2:$F$211,6,FALSE)","v":1517.2986113357545},-234.69797639846797,-240,{"$f":"VLOOKUP(Q48,Resultate!$A$2:$E$37,2,FALSE)","v":"4:4"},4,4,null,4,4,null,null,null,null,null,null,null,null,null,null,null,null,null,null,null,null,null,null,null,null,null,null,null,null,null,null,null,null,null,{"$f":"'WM2026'!BA48","v":71},{"$f":"'WM2026'!BB48","v":"2026-06-27T19:30:00"},{"$f":"'WM2026'!BC48","v":"Miami"},{"$f":"'WM2026'!BD48","v":"DR Kongo"},{"$f":"'WM2026'!BE48","v":"-"},{"$f":"'WM2026'!BF48","v":"Usbekistan"},{"$f":"'WM2026'!BG48","v":0},{"$f":"'WM2026'!BH48","v":2},{"$f":"'WM2026'!BI48","v":":"},{"$f":"'WM2026'!BJ48","v":2},{"$f":"'WM2026'!BK48","v":"ok"},null,null,{"$f":"VLOOKUP(BD48,Rangliste!$A$2:$F$211,6,FALSE)","v":1617.5416632652282},{"$f":"VLOOKUP(BF48,Rangliste!$A$2:$F$211,6,FALSE)","v":1301.2336786651611},316.30798460006713,320,{"$f":"VLOOKUP(BQ48,Resultate!$A$2:$E$37,2,FALSE)","v":"5:5"},5,5,null,5,5]
[]
[]
[null,{"$f":"'WM2026'!B51","v":"Vorrunde"},{"$f":"'WM2026'!C51","v":"Gruppe I"},null,null,null,null,null,null,null,null,null,null,null,null,null,null,null,null,null,null,null,null,null,null,null,null,null,null,null,null,null,null,null,null,null,null,null,null,null,null,null,null,null,null,null,null,null,null,null,null,null,null,{"$f":"'WM2026'!BB51","v":"Vorrunde"},{"$f":"'WM2026'!BC51","v":"Gruppe L"}]
[null,{"$f":"'WM2026'!B52","v":"Datum/Zeit"},{"$f":"'WM2026'!C52","v":"Spielort"},null,null,null,null,null,null,null,null,null,null,null,null,null,null,null,null,null,null,null,null,null,null,null,null,null,null,null,null,null,null,null,null,null,null,null,null,null,null,null,null,null,null,null,null,null,null,null,null,null,null,{"$f":"'WM2026'!BB52","v":"Datum/Zeit"},{"$f":"'WM2026'!BC52","v":"Spielort"}]
[{"$f":"'WM2026'!A53","v":17},{"$f":"'WM2026'!B53","v":"2026-06-16T15:00:00"},{"$f":"'WM2026'!C53","v":"New York"},{"$f":"'WM2026'!D53","v":"Frankreich"},{"$f":"'WM2026'!E53","v":"-"},{"$f":"'WM2026'!F53","v":"Senegal"},{"$f":"'WM2026'!G53","v":0},{"$f":"'WM2026'!H53","v":2},{"$f":"'WM2026'!I53","v":":"},{"$f":"'WM2026'!J53","v":2},{"$f":"'WM2026'!K53","v":"ok"},null,null,{"$f":"VLOOKUP(D53,Rangliste!$A$2:$F$211,6,FALSE)","v":1806.8404520225524},{"$f":"VLOOKUP(F53,Rangliste!$A$2:$F$211,6,FALSE)","v":1743.270698299408},63.569753723144458,80,{"$f":"VLOOKUP(Q53,Resultate!$A$2:$E$37,2,FALSE)","v":"2:2"},2,2,null,2,2,null,null,null,null,null,null,null,null,null,null,null,null,null,null,null,null,null,null,null,null,null,null,null,null,null,null,null,null,null,{"$f":"'WM2026'!BA53","v":22},{"$f":"'WM2026'!BB53","v":"2026-06-17T15:00:00"},{"$f":"'WM2026'!BC53","v":"Dallas"},{"$f":"'WM2026'!BD53","v":"England"},{"$f":"'WM2026'!BE53","v":"-"},{"$f":"'WM2026'!BF53","v":"Kroatien"},{"$f":"'WM2026'!BG53","v":0},{"$f":"'WM2026'!BH53","v":2},{"$f":"'WM2026'!BI53","v":":"},{"$f":"'WM2026'!BJ53","v":2},{"$f":"'WM2026'!BK53","v":"ok"},null,null,{"$f":"VLOOKUP(BD53,Rangliste!$A$2:$F$211,6,FALSE)","v":1827.7787530136109},{"$f":"VLOOKUP(BF53,Rangliste!$A$2:$F$211,6,FALSE)","v":1839.2684958648681},-11.489742851257233,0,{"$f":"VLOOKUP(BQ53,Resultate!$A$2:$E$37,2,FALSE)","v":"1:1"},{"$f":"VALUE(MID(BR53,1,1))","v":1},{"$f":"VALUE(MID(BR53,3,1))","v":1},null,{"$f":"IF(BS53=BT53,IF(BS53=0,BU53+BS53,BS53),BS53)","v":1},{"$f":"IF(BS53=BT53,IF(BT53=0,BT53,BT53-BU53),BT53)","v":1}]
[{"$f":"'WM2026'!A54","v":18},{"$f":"'WM2026'!B54","v":"2026-06-16T18:00:00"},{"$f":"'WM2026'!C54","v":"Boston"},{"$f":"'WM2026'!D54","v":"Irak"},{"$f":"'WM2026'!E54","v":"-"},{"$f":"'WM2026'!F54","v":"Norwegen"},{"$f":"'WM2026'!G54","v":0},{"$f":"'WM2026'!H54","v":2},{"$f":"'WM2026'!I54","v":":"},{"$f":"'WM2026'!J54","v":2},{"$f":"'WM2026'!K54","v":"ok"},null,null,{"$f":"VLOOKUP(D54,Rangliste!$A$2:$F$211,6,FALSE)","v":1678.8730837249757},{"$f":"VLOOKUP(F54,Rangliste!$A$2:$F$211,6,FALSE)","v":1279.1855325126648},399.68755121231084,400,{"$f":"VLOOKUP(Q54,Resultate!$A$2:$E$37,2,FALSE)","v":"3:1"},3,1,null,3,1,null,null,null,null,null,null,null,null,null,null,null,null,null,null,null,null,null,null,null,null,null,null,null,null,null,null,null,null,null,{"$f":"'WM2026'!BA54","v":21},{"$f":"'WM2026'!BB54","v":"2026-06-17T19:00:00"},{"$f":"'WM2026'!BC54","v":"Toronto"},{"$f":"'WM2026'!BD54","v":"Ghana"},{"$f":"'WM2026'!BE54","v":"-"},{"$f":"'WM2026'!BF54","v":"Panama"},{"$f":"'WM2026'!BG54","v":0},{"$f":"'WM2026'!BH54","v":2},{"$f":"'WM2026'!BI54","v":":"},{"$f":"'WM2026'!BJ54","v":2},{"$f":"'WM2026'!BK54","v":"ok"},null,null,{"$f":"VLOOKUP(BD54,Rangliste!$A$2:$F$211,6,FALSE)","v":1465.9896774864196},{"$f":"VLOOKUP(BF54,Rangliste!$A$2:$F$211,6,FALSE)","v":1366.0911952400209},99.898482246398771,80,{"$f":"VLOOKUP(BQ54,Resultate!$A$2:$E$37,2,FALSE)","v":"2:2"},2,2,null,2,2]
[{"$f":"'WM2026'!A55","v":42},{"$f":"'WM2026'!B55","v":"2026-06-22T17:00:00"},{"$f":"'WM2026'!C55","v":"Philadelphia"},{"$f":"'WM2026'!D55","v":"Frankreich"},{"$f":"'WM2026'!E55","v":"-"},{"$f":"'WM2026'!F55","v":"Irak"},{"$f":"'WM2026'!G55","v":0},{"$f":"'WM2026'!H55","v":2},{"$f":"'WM2026'!I55","v":":"},{"$f":"'WM2026'!J55","v":2},{"$f":"'WM2026'!K55","v":"ok"},null,null,{"$f":"VLOOKUP(D55,Rangliste!$A$2:$F$211,6,FALSE)","v":1806.8404520225524},{"$f":"VLOOKUP(F55,Rangliste!$A$2:$F$211,6,FALSE)","v":1678.8730837249757},127.96736829757674,120,{"$f":"VLOOKUP(Q55,Resultate!$A$2:$E$37,2,FALSE)","v":"1:0"},1,0,null,1,0,null,null,null,null,null,null,null,null,null,null,null,null,null,null,null,null,null,null,null,null,null,null,null,null,null,null,null,null,null,{"$f":"'WM2026'!BA55","v":45},{"$f":"'WM2026'!BB55","v":"2026-06-23T16:00:00"},{"$f":"'WM2026'!BC55","v":"Boston"},{"$f":"'WM2026'!BD55","v":"England"},{"$f":"'WM2026'!BE55","v":"-"},{"$f":"'WM2026'!BF55","v":"Ghana"},{"$f":"'WM2026'!BG55","v":0},{"$f":"'WM2026'!BH55","v":2},{"$f":"'WM2026'!BI55","v":":"},{"$f":"'WM2026'!BJ55","v":2},{"$f":"'WM2026'!BK55","v":"ok"},null,null,{"$f":"VLOOKUP(BD55,Rangliste!$A$2:$F$211,6,FALSE)","v":1827.7787530136109},{"$f":"VLOOKUP(BF55,Rangliste!$A$2:$F$211,6,FALSE)","v":1465.9896774864196},361.78907552719124,360,{"$f":"VLOOKUP(BQ55,Resultate!$A$2:$E$37,2,FALSE)","v":"2:0"},2,0,null,2,0]
[{"$f":"'WM2026'!A56","v":41},{"$f":"'WM2026'!B56","v":"2026-06-22T20:00:00"},{"$f":"'WM2026'!C56","v":"New York"},{"$f":"'WM2026'!D56","v":"Norwegen"},{"$f":"'WM2026'!E56","v":"-"},{"$f":"'WM2026'!F56","v":"Senegal"},{"$f":"'WM2026'!G56","v":0},{"$f":"'WM2026'!H56","v":2},{"$f":"'WM2026'!I56","v":":"},{"$f":"'WM2026'!J56","v":2},{"$f":"'WM2026'!K56","v":"ok"},null,null,{"$f":"VLOOKUP(D56,Rangliste!$A$2:$F$211,6,FALSE)","v":1279.1855325126648},{"$f":"VLOOKUP(F56,Rangliste!$A$2:$F$211,6,FALSE)","v":1743.270698299408},-464.08516578674312,-480,{"$f":"VLOOKUP(Q56,Resultate!$A$2:$E$37,2,FALSE)","v":"2:5"},2,5,null,2,5,null,null,null,null,null,null,null,null,null,null,null,null,null,null,null,null,null,null,null,null,null,null,null,null,null,null,null,null,null,{"$f":"'WM2026'!BA56","v":46},{"$f":"'WM2026'!BB56","v":"2026-06-23T19:00:00"},{"$f":"'WM2026'!BC56","v":"Toronto"},{"$f":"'WM2026'!BD56","v":"Panama"},{"$f":"'WM2026'!BE56","v":"-"},{"$f":"'WM2026'!BF56","v":"Kroatien"},{"$f":"'WM2026'!BG56","v":0},{"$f":"'WM2026'!BH56","v":2},{"$f":"'WM2026'!BI56","v":":"},{"$f":"'WM2026'!BJ56","v":2},{"$f":"'WM2026'!BK56","v":"ok"},null,null,{"$f":"VLOOKUP(BD56,Rangliste!$A$2:$F$211,6,FALSE)","v":1366.0911952400209},{"$f":"VLOOKUP(BF56,Rangliste!$A$2:$F$211,6,FALSE)","v":1839.2684958648681},-473.17730062484725,-480,{"$f":"VLOOKUP(BQ56,Resultate!$A$2:$E$37,2,FALSE)","v":"2:5"},2,5,null,2,5]
[{"$f":"'WM2026'!A57","v":61},{"$f":"'WM2026'!B57","v":"2026-06-26T15:00:00"},{"$f":"'WM2026'!C57","v":"Boston"},{"$f":"'WM2026'!D57","v":"Norwegen"},{"$f":"'WM2026'!E57","v":"-"},{"$f":"'WM2026'!F57","v":"Frankreich"},{"$f":"'WM2026'!G57","v":0},{"$f":"'WM2026'!H57","v":2},{"$f":"'WM2026'!I57","v":":"},{"$f":"'WM2026'!J57","v":2},{"$f":"'WM2026'!K57","v":"ok"},null,null,{"$f":"VLOOKUP(D57,Rangliste!$A$2:$F$211,6,FALSE)","v":1279.1855325126648},{"$f":"VLOOKUP(F57,Rangliste!$A$2:$F$211,6,FALSE)","v":1806.8404520225524},-527.65491950988758,-520,{"$f":"VLOOKUP(Q57,Resultate!$A$2:$E$37,2,FALSE)","v":"1:4"},1,4,null,1,4,null,null,null,null,null,null,null,null,null,null,null,null,null,null,null,null,null,null,null,null,null,null,null,null,null,null,null,null,null,{"$f":"'WM2026'!BA57","v":68},{"$f":"'WM2026'!BB57","v":"2026-06-27T17:00:00"},{"$f":"'WM2026'!BC57","v":"Philadelphia"},{"$f":"'WM2026'!BD57","v":"Panama"},{"$f":"'WM2026'!BE57","v":"-"},{"$f":"'WM2026'!BF57","v":"England"},{"$f":"'WM2026'!BG57","v":0},{"$f":"'WM2026'!BH57","v":2},{"$f":"'WM2026'!BI57","v":":"},{"$f":"'WM2026'!BJ57","v":2},{"$f":"'WM2026'!BK57","v":"ok"},null,null,{"$f":"VLOOKUP(BD57,Rangliste!$A$2:$F$211,6,FALSE)","v":1366.0911952400209},{"$f":"VLOOKUP(BF57,Rangliste!$A$2:$F$211,6,FALSE)","v":1827.7787530136109},-461.68755777359002,-480,{"$f":"VLOOKUP(BQ57,Resultate!$A$2:$E$37,2,FALSE)","v":"2:5"},2,5,null,2,5]
[{"$f":"'WM2026'!A58","v":62},{"$f":"'WM2026'!B58","v":"2026-06-26T15:00:00"},{"$f":"'WM2026'!C58","v":"Toronto"},{"$f":"'WM2026'!D58","v":"Senegal"},{"$f":"'WM2026'!E58","v":"-"},{"$f":"'WM2026'!F58","v":"Irak"},{"$f":"'WM2026'!G58","v":0},{"$f":"'WM2026'!H58","v":2},{"$f":"'WM2026'!I58","v":":"},{"$f":"'WM2026'!J58","v":2},{"$f":"'WM2026'!K58","v":"ok"},null,null,{"$f":"VLOOKUP(D58,Rangliste!$A$2:$F$211,6,FALSE)","v":1743.270698299408},{"$f":"VLOOKUP(F58,Rangliste!$A$2:$F$211,6,FALSE)","v":1678.8730837249757},64.397614574432282,80,{"$f":"VLOOKUP(Q58,Resultate!$A$2:$E$37,2,FALSE)","v":"2:2"},2,2,null,2,2,null,null,null,null,null,null,null,null,null,null,null,null,null,null,null,null,null,null,null,null,null,null,null,null,null,null,null,null,null,{"$f":"'WM2026'!BA58","v":67},{"$f":"'WM2026'!BB58","v":"2026-06-27T17:00:00"},{"$f":"'WM2026'!BC58","v":"New York"},{"$f":"'WM2026'!BD58","v":"Kroatien"},{"$f":"'WM2026'!BE58","v":"-"},{"$f":"'WM2026'!BF58","v":"Ghana"},{"$f":"'WM2026'!BG58","v":0},{"$f":"'WM2026'!BH58","v":2},{"$f":"'WM2026'!BI58","v":":"},{"$f":"'WM2026'!BJ58","v":2},{"$f":"'WM2026'!BK58","v":"ok"},null,null,{"$f":"VLOOKUP(BD58,Rangliste!$A$2:$F$211,6,FALSE)","v":1839.2684958648681},{"$f":"VLOOKUP(BF58,Rangliste!$A$2:$F$211,6,FALSE)","v":1465.9896774864196},373.27881837844848,360,{"$f":"VLOOKUP(BQ58,Resultate!$A$2:$E$37,2,FALSE)","v":"2:0"},2,0,null,2,0]
[]
[]
[null,{"$f":"'WM2026'!B61","v":"Sechzehntelfinale"}]
[null,{"$f":"'WM2026'!B62","v":"Datum/Zeit"},{"$f":"'WM2026'!C62","v":"Spielort"}]
[{"$f":"'WM2026'!A63","v":73},{"$f":"'WM2026'!B63","v":"2026-06-28T12:00:00"},{"$f":"'WM2026'!C63","v":"Los Angeles"},{"$f":"'WM2026'!D63","v":"Südafrika"},{"$f":"'WM2026'!E63","v":"-"},{"$f":"'WM2026'!F63","v":"Bosnien/Herzg."},{"$f":"'WM2026'!G63","v":0},{"$f":"'WM2026'!H63","v":2},{"$f":"'WM2026'!I63","v":":"},{"$f":"'WM2026'!J63","v":1},{"$f":"'WM2026'!K63","v":"ok"},null,null,{"$f":"VLOOKUP(D63,Rangliste!$A$2:$F$211,6,FALSE)","v":1294.2252893257141},{"$f":"VLOOKUP(F63,Rangliste!$A$2:$F$211,6,FALSE)","v":1346.2048406600952},-51.979551334381085,-40,{"$f":"VLOOKUP(Q63,Resultate!$A$2:$E$37,2,FALSE)","v":"0:1"},{"$f":"VALUE(MID(R63,1,1))","v":0},{"$f":"VALUE(MID(R63,3,1))","v":1},{"$f":"SIGN(N63-O63)","v":-1},{"$f":"IF(S63=T63,IF(S63=0,U63+S63,S63),S63)","v":0},{"$f":"IF(S63=T63,IF(T63=0,T63,T63-U63),T63)","v":1}]
[{"$f":"'WM2026'!A64","v":76},{"$f":"'WM2026'!B64","v":"2026-06-29T12:00:00"},{"$f":"'WM2026'!C64","v":"Houston"},{"$f":"'WM2026'!D64","v":"Brasilien"},{"$f":"'WM2026'!E64","v":"-"},{"$f":"'WM2026'!F64","v":"Japan"},{"$f":"'WM2026'!G64","v":0},{"$f":"'WM2026'!H64","v":2},{"$f":"'WM2026'!I64","v":":"},{"$f":"'WM2026'!J64","v":1},{"$f":"'WM2026'!K64","v":"ok"},null,null,{"$f":"VLOOKUP(D64,Rangliste!$A$2:$F$211,6,FALSE)","v":1654.1178948020936},{"$f":"VLOOKUP(F64,Rangliste!$A$2:$F$211,6,FALSE)","v":1776.7522193717957},-122.63432456970213,-120,{"$f":"VLOOKUP(Q64,Resultate!$A$2:$E$37,2,FALSE)","v":"2:3"},{"$f":"VALUE(MID(R64,1,1))","v":2},{"$f":"VALUE(MID(R64,3,1))","v":3},{"$f":"SIGN(N64-O64)","v":-1},{"$f":"IF(S64=T64,IF(S64=0,U64+S64,S64),S64)","v":2},{"$f":"IF(S64=T64,IF(T64=0,T64,T64-U64),T64)","v":3}]
[{"$f":"'WM2026'!A65","v":74},{"$f":"'WM2026'!B65","v":"2026-06-29T16:30:00"},{"$f":"'WM2026'!C65","v":"Boston"},{"$f":"'WM2026'!D65","v":"Deutschland"},{"$f":"'WM2026'!E65","v":"-"},{"$f":"'WM2026'!F65","v":"Haiti"},{"$f":"'WM2026'!G65","v":0},{"$f":"'WM2026'!H65","v":2},{"$f":"'WM2026'!I65","v":":"},{"$f":"'WM2026'!J65","v":1},{"$f":"'WM2026'!K65","v":"ok"},null,null,{"$f":"VLOOKUP(D65,Rangliste!$A$2:$F$211,6,FALSE)","v":1775.0704079818724},{"$f":"VLOOKUP(F65,Rangliste!$A$2:$F$211,6,FALSE)","v":1496.76850315094},278.30190483093247,280,{"$f":"VLOOKUP(Q65,Resultate!$A$2:$E$37,2,FALSE)","v":"5:4"},5,4,1,5,4]
[{"$f":"'WM2026'!A66","v":75},{"$f":"'WM2026'!B66","v":"2026-06-29T20:00:00"},{"$f":"'WM2026'!C66","v":"Monterrey"},{"$f":"'WM2026'!D66","v":"Niederlande"},{"$f":"'WM2026'!E66","v":"-"},{"$f":"'WM2026'!F66","v":"Marokko"},{"$f":"'WM2026'!G66","v":0},{"$f":"'WM2026'!H66","v":2},{"$f":"'WM2026'!I66","v":":"},{"$f":"'WM2026'!J66","v":1},{"$f":"'WM2026'!K66","v":"ok"},null,null,{"$f":"VLOOKUP(D66,Rangliste!$A$2:$F$211,6,FALSE)","v":1767.3271113586425},{"$f":"VLOOKUP(F66,Rangliste!$A$2:$F$211,6,FALSE)","v":1786.731268043518},-19.404156684875488,0,{"$f":"VLOOKUP(Q66,Resultate!$A$2:$E$37,2,FALSE)","v":"1:1"},1,1,-1,1,2]
[{"$f":"'WM2026'!A67","v":78},{"$f":"'WM2026'!B67","v":"2026-06-30T12:00:00"},{"$f":"'WM2026'!C67","v":"Dallas"},{"$f":"'WM2026'!D67","v":"Curaçao"},{"$f":"'WM2026'!E67","v":"-"},{"$f":"'WM2026'!F67","v":"Senegal"},{"$f":"'WM2026'!G67","v":0},{"$f":"'WM2026'!H67","v":2},{"$f":"'WM2026'!I67","v":":"},{"$f":"'WM2026'!J67","v":1},{"$f":"'WM2026'!K67","v":"ok"},null,null,{"$f":"VLOOKUP(D67,Rangliste!$A$2:$F$211,6,FALSE)","v":1346.5409025192262},{"$f":"VLOOKUP(F67,Rangliste!$A$2:$F$211,6,FALSE)","v":1743.270698299408},-396.7297957801818,-400,{"$f":"VLOOKUP(Q67,Resultate!$A$2:$E$37,2,FALSE)","v":"1:3"},1,3,-1,1,3]
[{"$f":"'WM2026'!A68","v":77},{"$f":"'WM2026'!B68","v":"2026-06-30T17:00:00"},{"$f":"'WM2026'!C68","v":"New York"},{"$f":"'WM2026'!D68","v":"Frankreich"},{"$f":"'WM2026'!E68","v":"-"},{"$f":"'WM2026'!F68","v":"Schweden"},{"$f":"'WM2026'!G68","v":0},{"$f":"'WM2026'!H68","v":2},{"$f":"'WM2026'!I68","v":":"},{"$f":"'WM2026'!J68","v":1},{"$f":"'WM2026'!K68","v":"ok"},null,null,{"$f":"VLOOKUP(D68,Rangliste!$A$2:$F$211,6,FALSE)","v":1806.8404520225524},{"$f":"VLOOKUP(F68,Rangliste!$A$2:$F$211,6,FALSE)","v":1491.9397402000427},{"$f":"N68-O68","v":314.90071182250972},{"$f":"MAX(-680,MIN(720,ROUND(P68/40,0)*40))","v":320},{"$f":"VLOOKUP(Q68,Resultate!$A$2:$E$37,2,FALSE)","v":"5:5"},5,5,1,5,4]
[{"$f":"'WM2026'!A69","v":79},{"$f":"'WM2026'!B69","v":"2026-06-30T20:00:00"},{"$f":"'WM2026'!C69","v":"Mexico City"},{"$f":"'WM2026'!D69","v":"Mexiko"},{"$f":"'WM2026'!E69","v":"-"},{"$f":"'WM2026'!F69","v":"Saudiarabien"},{"$f":"'WM2026'!G69","v":0},{"$f":"'WM2026'!H69","v":2},{"$f":"'WM2026'!I69","v":":"},{"$f":"'WM2026'!J69","v":1},{"$f":"'WM2026'!K69","v":"ok"},null,null,{"$f":"VLOOKUP(D69,Rangliste!$A$2:$F$211,6,FALSE)","v":1709.1054685401916},{"$f":"VLOOKUP(F69,Rangliste!$A$2:$F$211,6,FALSE)","v":1517.2986113357545},191.80685720443716,200,{"$f":"VLOOKUP(Q69,Resultate!$A$2:$E$37,2,FALSE)","v":"3:2"},3,2,1,3,2]
[{"$f":"'WM2026'!A70","v":80},{"$f":"'WM2026'!B70","v":"2026-07-01T12:00:00"},{"$f":"'WM2026'!C70","v":"Atlanta"},{"$f":"'WM2026'!D70","v":"England"},{"$f":"'WM2026'!E70","v":"-"},{"$f":"'WM2026'!F70","v":"Elfenbeinküste"},{"$f":"'WM2026'!G70","v":0},{"$f":"'WM2026'!H70","v":2},{"$f":"'WM2026'!I70","v":":"},{"$f":"'WM2026'!J70","v":1},{"$f":"'WM2026'!K70","v":"ok"},null,null,{"$f":"VLOOKUP(D70,Rangliste!$A$2:$F$211,6,FALSE)","v":1827.7787530136109},{"$f":"VLOOKUP(F70,Rangliste!$A$2:$F$211,6,FALSE)","v":1418.7596430587769},409.01910995483399,400,{"$f":"VLOOKUP(Q70,Resultate!$A$2:$E$37,2,FALSE)","v":"3:1"},3,1,1,3,1]
[{"$f":"'WM2026'!A71","v":82},{"$f":"'WM2026'!B71","v":"2026-07-01T13:00:00"},{"$f":"'WM2026'!C71","v":"Seattle"},{"$f":"'WM2026'!D71","v":"Belgien"},{"$f":"'WM2026'!E71","v":"-"},{"$f":"'WM2026'!F71","v":"Südkorea"},{"$f":"'WM2026'!G71","v":0},{"$f":"'WM2026'!H71","v":2},{"$f":"'WM2026'!I71","v":":"},{"$f":"'WM2026'!J71","v":1},{"$f":"'WM2026'!K71","v":"ok"},null,null,{"$f":"VLOOKUP(D71,Rangliste!$A$2:$F$211,6,FALSE)","v":1811.7569546318055},{"$f":"VLOOKUP(F71,Rangliste!$A$2:$F$211,6,FALSE)","v":1409.2667323684693},402.49022226333614,400,{"$f":"VLOOKUP(Q71,Resultate!$A$2:$E$37,2,FALSE)","v":"3:1"},3,1,1,3,1]
[{"$f":"'WM2026'!A72","v":81},{"$f":"'WM2026'!B72","v":"2026-07-01T17:00:00"},{"$f":"'WM2026'!C72","v":"San Francisco"},{"$f":"'WM2026'!D72","v":"USA"},{"$f":"'WM2026'!E72","v":"-"},{"$f":"'WM2026'!F72","v":"Katar"},{"$f":"'WM2026'!G72","v":0},{"$f":"'WM2026'!H72","v":2},{"$f":"'WM2026'!I72","v":":"},{"$f":"'WM2026'!J72","v":1},{"$f":"'WM2026'!K72","v":"ok"},null,null,{"$f":"VLOOKUP(D72,Rangliste!$A$2:$F$211,6,FALSE)","v":1632.4304727363588},{"$f":"VLOOKUP(F72,Rangliste!$A$2:$F$211,6,FALSE)","v":1494.3940634346009},138.03640930175789,120,{"$f":"VLOOKUP(Q72,Resultate!$A$2:$E$37,2,FALSE)","v":"1:0"},1,0,1,1,0]
[{"$f":"'WM2026'!A73","v":84},{"$f":"'WM2026'!B73","v":"2026-07-02T12:00:00"},{"$f":"'WM2026'!C73","v":"Los Angeles"},{"$f":"'WM2026'!D73","v":"Spanien"},{"$f":"'WM2026'!E73","v":"-"},{"$f":"'WM2026'!F73","v":"Algerien"},{"$f":"'WM2026'!G73","v":0},{"$f":"'WM2026'!H73","v":2},{"$f":"'WM2026'!I73","v":":"},{"$f":"'WM2026'!J73","v":1},{"$f":"'WM2026'!K73","v":"ok"},null,null,{"$f":"VLOOKUP(D73,Rangliste!$A$2:$F$211,6,FALSE)","v":2006.4451231002809},{"$f":"VLOOKUP(F73,Rangliste!$A$2:$F$211,6,FALSE)","v":1402.8767645454407},603.56835855484019,600,{"$f":"VLOOKUP(Q73,Resultate!$A$2:$E$37,2,FALSE)","v":"5:2"},5,2,1,5,2]
[{"$f":"'WM2026'!A74","v":83},{"$f":"'WM2026'!B74","v":"2026-07-02T19:00:00"},{"$f":"'WM2026'!C74","v":"Toronto"},{"$f":"'WM2026'!D74","v":"DR Kongo"},{"$f":"'WM2026'!E74","v":"-"},{"$f":"'WM2026'!F74","v":"Kroatien"},{"$f":"'WM2026'!G74","v":0},{"$f":"'WM2026'!H74","v":2},{"$f":"'WM2026'!I74","v":":"},{"$f":"'WM2026'!J74","v":1},{"$f":"'WM2026'!K74","v":"ok"},null,null,{"$f":"VLOOKUP(D74,Rangliste!$A$2:$F$211,6,FALSE)","v":1617.5416632652282},{"$f":"VLOOKUP(F74,Rangliste!$A$2:$F$211,6,FALSE)","v":1839.2684958648681},-221.72683259963992,-240,{"$f":"VLOOKUP(Q74,Resultate!$A$2:$E$37,2,FALSE)","v":"4:4"},4,4,-1,4,5]
[{"$f":"'WM2026'!A75","v":85},{"$f":"'WM2026'!B75","v":"2026-07-02T20:00:00"},{"$f":"'WM2026'!C75","v":"Vancouver"},{"$f":"'WM2026'!D75","v":"Kanada"},{"$f":"'WM2026'!E75","v":"-"},{"$f":"'WM2026'!F75","v":"IR Iran"},{"$f":"'WM2026'!G75","v":0},{"$f":"'WM2026'!H75","v":2},{"$f":"'WM2026'!I75","v":":"},{"$f":"'WM2026'!J75","v":1},{"$f":"'WM2026'!K75","v":"ok"},null,null,{"$f":"VLOOKUP(D75,Rangliste!$A$2:$F$211,6,FALSE)","v":1376.4497375297547},{"$f":"VLOOKUP(F75,Rangliste!$A$2:$F$211,6,FALSE)","v":1575.7080367088272},-199.25829917907254,-200,{"$f":"VLOOKUP(Q75,Resultate!$A$2:$E$37,2,FALSE)","v":"3:4"},3,4,-1,3,4]
[{"$f":"'WM2026'!A76","v":88},{"$f":"'WM2026'!B76","v":"2026-07-03T13:00:00"},{"$f":"'WM2026'!C76","v":"Dallas"},{"$f":"'WM2026'!D76","v":"Paraguay"},{"$f":"'WM2026'!E76","v":"-"},{"$f":"'WM2026'!F76","v":"Ägypten"},{"$f":"'WM2026'!G76","v":0},{"$f":"'WM2026'!H76","v":2},{"$f":"'WM2026'!I76","v":":"},{"$f":"'WM2026'!J76","v":1},{"$f":"'WM2026'!K76","v":"ok"},null,null,{"$f":"VLOOKUP(D76,Rangliste!$A$2:$F$211,6,FALSE)","v":1740.3655443191528},{"$f":"VLOOKUP(F76,Rangliste!$A$2:$F$211,6,FALSE)","v":1533.065553894043},207.29999042510985,200,{"$f":"VLOOKUP(Q76,Resultate!$A$2:$E$37,2,FALSE)","v":"3:2"},3,2,1,3,2]
[{"$f":"'WM2026'!A77","v":86},{"$f":"'WM2026'!B77","v":"2026-07-03T18:00:00"},{"$f":"'WM2026'!C77","v":"Miami"},{"$f":"'WM2026'!D77","v":"Argentinien"},{"$f":"'WM2026'!E77","v":"-"},{"$f":"'WM2026'!F77","v":"Kap Verde"},{"$f":"'WM2026'!G77","v":0},{"$f":"'WM2026'!H77","v":2},{"$f":"'WM2026'!I77","v":":"},{"$f":"'WM2026'!J77","v":1},{"$f":"'WM2026'!K77","v":"ok"},null,null,{"$f":"VLOOKUP(D77,Rangliste!$A$2:$F$211,6,FALSE)","v":1781.5569668388366},{"$f":"VLOOKUP(F77,Rangliste!$A$2:$F$211,6,FALSE)","v":1282.6006349372865},498.95633190155013,480,{"$f":"VLOOKUP(Q77,Resultate!$A$2:$E$37,2,FALSE)","v":"5:3"},5,3,1,5,3]
[{"$f":"'WM2026'!A78","v":87},{"$f":"'WM2026'!B78","v":"2026-07-03T20:30:00"},{"$f":"'WM2026'!C78","v":"Kansas City"},{"$f":"'WM2026'!D78","v":"Portugal"},{"$f":"'WM2026'!E78","v":"-"},{"$f":"'WM2026'!F78","v":"Australien"},{"$f":"'WM2026'!G78","v":0},{"$f":"'WM2026'!H78","v":2},{"$f":"'WM2026'!I78","v":":"},{"$f":"'WM2026'!J78","v":1},{"$f":"'WM2026'!K78","v":"ok"},null,null,{"$f":"VLOOKUP(D78,Rangliste!$A$2:$F$211,6,FALSE)","v":1742.924169139862},{"$f":"VLOOKUP(F78,Rangliste!$A$2:$F$211,6,FALSE)","v":1754.1909274291993},-11.266758289337304,0,{"$f":"VLOOKUP(Q78,Resultate!$A$2:$E$37,2,FALSE)","v":"1:1"},1,1,-1,1,2]
[]
[null,{"$f":"'WM2026'!B80","v":"Achtelfinale"},null,null,null,null,null,null,null,null,null,null,null,null,null,null,null,null,null,null,null,null,null,null,null,null,null,null,null,null,null,null,null,null,null,null,null,null,null,null,null,null,null,null,null,null,null,null,null,null,null,null,null,{"$f":"'WM2026'!BB80","v":"Viertelfinale"}]
[null,{"$f":"'WM2026'!B81","v":"Datum/Zeit"},{"$f":"'WM2026'!C81","v":"Spielort"},null,null,null,null,null,null,null,null,null,null,null,null,null,null,null,null,null,null,null,null,null,null,null,null,null,null,null,null,null,null,null,null,null,null,null,null,null,null,null,null,null,null,null,null,null,null,null,null,null,null,{"$f":"'WM2026'!BB81","v":"Datum/Zeit"},{"$f":"'WM2026'!BC81","v":"Spielort"}]
[{"$f":"'WM2026'!A82","v":89},{"$f":"'WM2026'!B82","v":"2026-07-04T17:00:00"},{"$f":"'WM2026'!C82","v":"Philadelphia"},{"$f":"'WM2026'!D82","v":"Deutschland"},{"$f":"'WM2026'!E82","v":"-"},{"$f":"'WM2026'!F82","v":"Frankreich"},{"$f":"'WM2026'!G82","v":0},{"$f":"'WM2026'!H82","v":2},{"$f":"'WM2026'!I82","v":":"},{"$f":"'WM2026'!J82","v":1},{"$f":"'WM2026'!K82","v":"ok"},null,null,{"$f":"VLOOKUP(D82,Rangliste!$A$2:$F$211,6,FALSE)","v":1775.0704079818724},{"$f":"VLOOKUP(F82,Rangliste!$A$2:$F$211,6,FALSE)","v":1806.8404520225524},-31.770044040679977,-40,{"$f":"VLOOKUP(Q82,Resultate!$A$2:$E$37,2,FALSE)","v":"0:1"},0,1,-1,0,1,null,null,null,null,null,null,null,null,null,null,null,null,null,null,null,null,null,null,null,null,null,null,null,null,null,null,null,null,null,{"$f":"'WM2026'!BA82","v":97},{"$f":"'WM2026'!BB82","v":"2026-07-09T16:00:00"},{"$f":"'WM2026'!BC82","v":"Boston"},{"$f":"'WM2026'!BD82","v":"Deutschland"},{"$f":"'WM2026'!BE82","v":"-"},{"$f":"'WM2026'!BF82","v":"Südafrika"},{"$f":"'WM2026'!BG82","v":0},{"$f":"'WM2026'!BH82","v":2},{"$f":"'WM2026'!BI82","v":":"},{"$f":"'WM2026'!BJ82","v":1},{"$f":"'WM2026'!BK82","v":"ok"},null,null,{"$f":"VLOOKUP(BD82,Rangliste!$A$2:$F$211,6,FALSE)","v":1775.0704079818724},{"$f":"VLOOKUP(BF82,Rangliste!$A$2:$F$211,6,FALSE)","v":1294.2252893257141},{"$f":"BN82-BO82","v":480.84511865615832},{"$f":"MAX(-680,MIN(720,ROUND(BP82/40,0)*40))","v":480},{"$f":"VLOOKUP(BQ82,Resultate!$A$2:$E$37,2,FALSE)","v":"5:3"},{"$f":"VALUE(MID(BR82,1,1))","v":5},{"$f":"VALUE(MID(BR82,3,1))","v":3},{"$f":"SIGN(BN82-BO82)","v":1},{"$f":"IF(BS82=BT82,IF(BS82=0,BU82+BS82,BS82),BS82)","v":5},{"$f":"IF(BS82=BT82,IF(BT82=0,BT82,BT82-BU82),BT82)","v":3}]
[{"$f":"'WM2026'!A83","v":90},{"$f":"'WM2026'!B83","v":"2026-07-04T12:00:00"},{"$f":"'WM2026'!C83","v":"Houston"},{"$f":"'WM2026'!D83","v":"Südafrika"},{"$f":"'WM2026'!E83","v":"-"},{"$f":"'WM2026'!F83","v":"Niederlande"},{"$f":"'WM2026'!G83","v":0},{"$f":"'WM2026'!H83","v":2},{"$f":"'WM2026'!I83","v":":"},{"$f":"'WM2026'!J83","v":1},{"$f":"'WM2026'!K83","v":"ok"},null,null,{"$f":"VLOOKUP(D83,Rangliste!$A$2:$F$211,6,FALSE)","v":1294.2252893257141},{"$f":"VLOOKUP(F83,Rangliste!$A$2:$F$211,6,FALSE)","v":1767.3271113586425},-473.10182203292834,-480,{"$f":"VLOOKUP(Q83,Resultate!$A$2:$E$37,2,FALSE)","v":"2:5"},2,5,-1,2,5,null,null,null,null,null,null,null,null,null,null,null,null,null,null,null,null,null,null,null,null,null,null,null,null,null,null,null,null,null,{"$f":"'WM2026'!BA83","v":98},{"$f":"'WM2026'!BB83","v":"2026-07-10T12:00:00"},{"$f":"'WM2026'!BC83","v":"Los Angeles"},{"$f":"'WM2026'!BD83","v":"DR Kongo"},{"$f":"'WM2026'!BE83","v":"-"},{"$f":"'WM2026'!BF83","v":"USA"},{"$f":"'WM2026'!BG83","v":0},{"$f":"'WM2026'!BH83","v":2},{"$f":"'WM2026'!BI83","v":":"},{"$f":"'WM2026'!BJ83","v":1},{"$f":"'WM2026'!BK83","v":"ok"},null,null,{"$f":"VLOOKUP(BD83,Rangliste!$A$2:$F$211,6,FALSE)","v":1617.5416632652282},{"$f":"VLOOKUP(BF83,Rangliste!$A$2:$F$211,6,FALSE)","v":1632.4304727363588},{"$f":"BN83-BO83","v":-14.888809471130571},0,{"$f":"VLOOKUP(BQ83,Resultate!$A$2:$E$37,2,FALSE)","v":"1:1"},{"$f":"VALUE(MID(BR83,1,1))","v":1},{"$f":"VALUE(MID(BR83,3,1))","v":1},{"$f":"SIGN(BN83-BO83)","v":-1},1,{"$f":"IF(BS83=BT83,IF(BT83=0,BT83,BT83-BU83),BT83)","v":2}]
[{"$f":"'WM2026'!A84","v":91},{"$f":"'WM2026'!B84","v":"2026-07-05T16:00:00"},{"$f":"'WM2026'!C84","v":"New York"},{"$f":"'WM2026'!D84","v":"Brasilien"},{"$f":"'WM2026'!E84","v":"-"},{"$f":"'WM2026'!F84","v":"Curaçao"},{"$f":"'WM2026'!G84","v":0},{"$f":"'WM2026'!H84","v":2},{"$f":"'WM2026'!I84","v":":"},{"$f":"'WM2026'!J84","v":1},{"$f":"'WM2026'!K84","v":"ok"},null,null,{"$f":"VLOOKUP(D84,Rangliste!$A$2:$F$211,6,FALSE)","v":1654.1178948020936},{"$f":"VLOOKUP(F84,Rangliste!$A$2:$F$211,6,FALSE)","v":1346.5409025192262},307.57699228286742,320,{"$f":"VLOOKUP(Q84,Resultate!$A$2:$E$37,2,FALSE)","v":"5:5"},5,5,1,5,4,null,null,null,null,null,null,null,null,null,null,null,null,null,null,null,null,null,null,null,null,null,null,null,null,null,null,null,null,null,{"$f":"'WM2026'!BA84","v":99},{"$f":"'WM2026'!BB84","v":"2026-07-11T17:00:00"},{"$f":"'WM2026'!BC84","v":"Miami"},{"$f":"'WM2026'!BD84","v":"Brasilien"},{"$f":"'WM2026'!BE84","v":"-"},{"$f":"'WM2026'!BF84","v":"Mexiko"},{"$f":"'WM2026'!BG84","v":0},{"$f":"'WM2026'!BH84","v":2},{"$f":"'WM2026'!BI84","v":":"},{"$f":"'WM2026'!BJ84","v":1},{"$f":"'WM2026'!BK84","v":"ok"},null,null,{"$f":"VLOOKUP(BD84,Rangliste!$A$2:$F$211,6,FALSE)","v":1654.1178948020936},{"$f":"VLOOKUP(BF84,Rangliste!$A$2:$F$211,6,FALSE)","v":1709.1054685401916},{"$f":"BN84-BO84","v":-54.987573738098035},-40,{"$f":"VLOOKUP(BQ84,Resultate!$A$2:$E$37,2,FALSE)","v":"0:1"},{"$f":"VALUE(MID(BR84,1,1))","v":0},{"$f":"VALUE(MID(BR84,3,1))","v":1},{"$f":"SIGN(BN84-BO84)","v":-1},0,{"$f":"IF(BS84=BT84,IF(BT84=0,BT84,BT84-BU84),BT84)","v":1}]
[{"$f":"'WM2026'!A85","v":92},{"$f":"'WM2026'!B85","v":"2026-07-05T19:00:00"},{"$f":"'WM2026'!C85","v":"Mexico City"},{"$f":"'WM2026'!D85","v":"Mexiko"},{"$f":"'WM2026'!E85","v":"-"},{"$f":"'WM2026'!F85","v":"England"},{"$f":"'WM2026'!G85","v":0},{"$f":"'WM2026'!H85","v":2},{"$f":"'WM2026'!I85","v":":"},{"$f":"'WM2026'!J85","v":1},{"$f":"'WM2026'!K85","v":"ok"},null,null,{"$f":"VLOOKUP(D85,Rangliste!$A$2:$F$211,6,FALSE)","v":1709.1054685401916},{"$f":"VLOOKUP(F85,Rangliste!$A$2:$F$211,6,FALSE)","v":1827.7787530136109},-118.67328447341924,-120,{"$f":"VLOOKUP(Q85,Resultate!$A$2:$E$37,2,FALSE)","v":"2:3"},2,3,-1,2,3,null,null,null,null,null,null,null,null,null,null,null,null,null,null,null,null,null,null,null,null,null,null,null,null,null,null,null,null,null,{"$f":"'WM2026'!BA85","v":100},{"$f":"'WM2026'!BB85","v":"2026-07-11T20:00:00"},{"$f":"'WM2026'!BC85","v":"Kansas City"},{"$f":"'WM2026'!BD85","v":"Argentinien"},{"$f":"'WM2026'!BE85","v":"-"},{"$f":"'WM2026'!BF85","v":"Kanada"},{"$f":"'WM2026'!BG85","v":0},{"$f":"'WM2026'!BH85","v":2},{"$f":"'WM2026'!BI85","v":":"},{"$f":"'WM2026'!BJ85","v":1},{"$f":"'WM2026'!BK85","v":"ok"},null,null,{"$f":"VLOOKUP(BD85,Rangliste!$A$2:$F$211,6,FALSE)","v":1781.5569668388366},{"$f":"VLOOKUP(BF85,Rangliste!$A$2:$F$211,6,FALSE)","v":1376.4497375297547},{"$f":"BN85-BO85","v":405.10722930908196},400,{"$f":"VLOOKUP(BQ85,Resultate!$A$2:$E$37,2,FALSE)","v":"3:1"},{"$f":"VALUE(MID(BR85,1,1))","v":3},{"$f":"VALUE(MID(BR85,3,1))","v":1},{"$f":"SIGN(BN85-BO85)","v":1},3,{"$f":"IF(BS85=BT85,IF(BT85=0,BT85,BT85-BU85),BT85)","v":1}]
[{"$f":"'WM2026'!A86","v":93},{"$f":"'WM2026'!B86","v":"2026-07-06T14:00:00"},{"$f":"'WM2026'!C86","v":"Dallas"},{"$f":"'WM2026'!D86","v":"DR Kongo"},{"$f":"'WM2026'!E86","v":"-"},{"$f":"'WM2026'!F86","v":"Spanien"},{"$f":"'WM2026'!G86","v":0},{"$f":"'WM2026'!H86","v":2},{"$f":"'WM2026'!I86","v":":"},{"$f":"'WM2026'!J86","v":1},{"$f":"'WM2026'!K86","v":"ok"},null,null,{"$f":"VLOOKUP(D86,Rangliste!$A$2:$F$211,6,FALSE)","v":1617.5416632652282},{"$f":"VLOOKUP(F86,Rangliste!$A$2:$F$211,6,FALSE)","v":2006.4451231002809},-388.90345983505267,-400,{"$f":"VLOOKUP(Q86,Resultate!$A$2:$E$37,2,FALSE)","v":"1:3"},1,3,-1,1,3]
[{"$f":"'WM2026'!A87","v":94},{"$f":"'WM2026'!B87","v":"2026-07-06T17:00:00"},{"$f":"'WM2026'!C87","v":"Seattle"},{"$f":"'WM2026'!D87","v":"USA"},{"$f":"'WM2026'!E87","v":"-"},{"$f":"'WM2026'!F87","v":"Belgien"},{"$f":"'WM2026'!G87","v":0},{"$f":"'WM2026'!H87","v":2},{"$f":"'WM2026'!I87","v":":"},{"$f":"'WM2026'!J87","v":1},{"$f":"'WM2026'!K87","v":"ok"},null,null,{"$f":"VLOOKUP(D87,Rangliste!$A$2:$F$211,6,FALSE)","v":1632.4304727363588},{"$f":"VLOOKUP(F87,Rangliste!$A$2:$F$211,6,FALSE)","v":1811.7569546318055},-179.3264818954467,-160,{"$f":"VLOOKUP(Q87,Resultate!$A$2:$E$37,2,FALSE)","v":"3:3"},3,3,-1,3,4,null,null,null,null,null,null,null,null,null,null,null,null,null,null,null,null,null,null,null,null,null,null,null,null,null,null,null,null,null,null,{"$f":"'WM2026'!BB87","v":"Halbfinale"}]
[{"$f":"'WM2026'!A88","v":95},{"$f":"'WM2026'!B88","v":"2026-07-07T12:00:00"},{"$f":"'WM2026'!C88","v":"Atlanta"},{"$f":"'WM2026'!D88","v":"Argentinien"},{"$f":"'WM2026'!E88","v":"-"},{"$f":"'WM2026'!F88","v":"Paraguay"},{"$f":"'WM2026'!G88","v":0},{"$f":"'WM2026'!H88","v":2},{"$f":"'WM2026'!I88","v":":"},{"$f":"'WM2026'!J88","v":1},{"$f":"'WM2026'!K88","v":"ok"},null,null,{"$f":"VLOOKUP(D88,Rangliste!$A$2:$F$211,6,FALSE)","v":1781.5569668388366},{"$f":"VLOOKUP(F88,Rangliste!$A$2:$F$211,6,FALSE)","v":1740.3655443191528},41.191422519683783,40,{"$f":"VLOOKUP(Q88,Resultate!$A$2:$E$37,2,FALSE)","v":"0:0"},0,0,1,1,0,null,null,null,null,null,null,null,null,null,null,null,null,null,null,null,null,null,null,null,null,null,null,null,null,null,null,null,null,null,null,{"$f":"'WM2026'!BB88","v":"Datum/Zeit"},{"$f":"'WM2026'!BC88","v":"Spielort"}]
[{"$f":"'WM2026'!A89","v":96},{"$f":"'WM2026'!B89","v":"2026-07-07T13:00:00"},{"$f":"'WM2026'!C89","v":"Vancouver"},{"$f":"'WM2026'!D89","v":"Kanada"},{"$f":"'WM2026'!E89","v":"-"},{"$f":"'WM2026'!F89","v":"Portugal"},{"$f":"'WM2026'!G89","v":0},{"$f":"'WM2026'!H89","v":2},{"$f":"'WM2026'!I89","v":":"},{"$f":"'WM2026'!J89","v":1},{"$f":"'WM2026'!K89","v":"ok"},null,null,{"$f":"VLOOKUP(D89,Rangliste!$A$2:$F$211,6,FALSE)","v":1376.4497375297547},{"$f":"VLOOKUP(F89,Rangliste!$A$2:$F$211,6,FALSE)","v":1742.924169139862},-366.47443161010733,-360,{"$f":"VLOOKUP(Q89,Resultate!$A$2:$E$37,2,FALSE)","v":"2:4"},2,4,-1,2,4,null,null,null,null,null,null,null,null,null,null,null,null,null,null,null,null,null,null,null,null,null,null,null,null,null,null,null,null,null,{"$f":"'WM2026'!BA89","v":101},{"$f":"'WM2026'!BB89","v":"2026-07-14T14:00:00"},{"$f":"'WM2026'!BC89","v":"Dallas"},{"$f":"'WM2026'!BD89","v":"Deutschland"},{"$f":"'WM2026'!BE89","v":"-"},{"$f":"'WM2026'!BF89","v":"DR Kongo"},{"$f":"'WM2026'!BG89","v":0},{"$f":"'WM2026'!BH89","v":2},{"$f":"'WM2026'!BI89","v":":"},{"$f":"'WM2026'!BJ89","v":1},{"$f":"'WM2026'!BK89","v":"ok"},null,null,{"$f":"VLOOKUP(BD89,Rangliste!$A$2:$F$211,6,FALSE)","v":1775.0704079818724},{"$f":"VLOOKUP(BF89,Rangliste!$A$2:$F$211,6,FALSE)","v":1617.5416632652282},{"$f":"BN89-BO89","v":157.52874471664427},160,{"$f":"VLOOKUP(BQ89,Resultate!$A$2:$E$37,2,FALSE)","v":"2:1"},{"$f":"VALUE(MID(BR89,1,1))","v":2},{"$f":"VALUE(MID(BR89,3,1))","v":1},{"$f":"SIGN(BN89-BO89)","v":1},2,{"$f":"IF(BS89=BT89,IF(BT89=0,BT89,BT89-BU89),BT89)","v":1}]
[null,null,null,null,null,null,null,null,null,null,null,null,null,null,null,null,null,null,null,null,null,null,null,null,null,null,null,null,null,null,null,null,null,null,null,null,null,null,null,null,null,null,null,null,null,null,null,null,null,null,null,null,{"$f":"'WM2026'!BA90","v":102},{"$f":"'WM2026'!BB90","v":"2026-07-15T15:00:00"},{"$f":"'WM2026'!BC90","v":"Atlanta"},{"$f":"'WM2026'!BD90","v":"Brasilien"},{"$f":"'WM2026'!BE90","v":"-"},{"$f":"'WM2026'!BF90","v":"Argentinien"},{"$f":"'WM2026'!BG90","v":0},{"$f":"'WM2026'!BH90","v":2},{"$f":"'WM2026'!BI90","v":":"},{"$f":"'WM2026'!BJ90","v":1},{"$f":"'WM2026'!BK90","v":"ok"},null,null,{"$f":"VLOOKUP(BD90,Rangliste!$A$2:$F$211,6,FALSE)","v":1654.1178948020936},{"$f":"VLOOKUP(BF90,Rangliste!$A$2:$F$211,6,FALSE)","v":1781.5569668388366},{"$f":"BN90-BO90","v":-127.43907203674303},-120,{"$f":"VLOOKUP(BQ90,Resultate!$A$2:$E$37,2,FALSE)","v":"2:3"},{"$f":"VALUE(MID(BR90,1,1))","v":2},{"$f":"VALUE(MID(BR90,3,1))","v":3},{"$f":"SIGN(BN90-BO90)","v":-1},{"$f":"IF(BS90=BT90,IF(BS90=0,BU90+BS90,BS90),BS90)","v":2},{"$f":"IF(BS90=BT90,IF(BT90=0,BT90,BT90-BU90),BT90)","v":3}]
[]
[null,{"$f":"'WM2026'!B92","v":"Finale"},null,null,null,null,null,null,null,null,null,null,null,null,null,null,null,null,null,null,null,null,null,null,null,null,null,null,null,null,null,null,null,null,null,null,null,null,null,null,null,null,null,null,null,null,null,null,null,null,null,null,null,{"$f":"'WM2026'!BB92","v":"Um Platz 3"}]
[null,{"$f":"'WM2026'!B93","v":"Datum/Zeit"},{"$f":"'WM2026'!C93","v":"Spielort"},null,null,null,null,null,null,null,null,null,null,null,null,null,null,null,null,null,null,null,null,null,null,null,null,null,null,null,null,null,null,null,null,null,null,null,null,null,null,null,null,null,null,null,null,null,null,null,null,null,null,{"$f":"'WM2026'!BB93","v":"Datum/Zeit"},{"$f":"'WM2026'!BC93","v":"Spielort"}]
[{"$f":"'WM2026'!A94","v":104},{"$f":"'WM2026'!B94","v":"2026-07-19T15:00:00"},{"$f":"'WM2026'!C94","v":"New York"},{"$f":"'WM2026'!D94","v":"Deutschland"},{"$f":"'WM2026'!E94","v":"-"},{"$f":"'WM2026'!F94","v":"Brasilien"},{"$f":"'WM2026'!G94","v":0},{"$f":"'WM2026'!H94","v":2},{"$f":"'WM2026'!I94","v":":"},{"$f":"'WM2026'!J94","v":1},{"$f":"'WM2026'!K94","v":"ok"},null,null,{"$f":"VLOOKUP(D94,Rangliste!$A$2:$F$211,6,FALSE)","v":1775.0704079818724},{"$f":"VLOOKUP(F94,Rangliste!$A$2:$F$211,6,FALSE)","v":1654.1178948020936},120.95251317977886,{"$f":"MAX(-680,MIN(720,ROUND(P94/40,0)*40))","v":120},{"$f":"VLOOKUP(Q94,Resultate!$A$2:$E$37,2,FALSE)","v":"1:0"},1,0,1,1,0,null,null,null,null,null,null,null,null,null,null,null,null,null,null,null,null,null,null,null,null,null,null,null,null,null,null,null,null,null,{"$f":"'WM2026'!BA94","v":103},{"$f":"'WM2026'!BB94","v":"2026-07-18T17:00:00"},{"$f":"'WM2026'!BC94","v":"Miami"},{"$f":"'WM2026'!BD94","v":"DR Kongo"},{"$f":"'WM2026'!BE94","v":"-"},{"$f":"'WM2026'!BF94","v":"Argentinien"},{"$f":"'WM2026'!BG94","v":0},{"$f":"'WM2026'!BH94","v":2},{"$f":"'WM2026'!BI94","v":":"},{"$f":"'WM2026'!BJ94","v":1},{"$f":"'WM2026'!BK94","v":"ok"},null,null,{"$f":"VLOOKUP(BD94,Rangliste!$A$2:$F$211,6,FALSE)","v":1617.5416632652282},{"$f":"VLOOKUP(BF94,Rangliste!$A$2:$F$211,6,FALSE)","v":1781.5569668388366},{"$f":"BN94-BO94","v":-164.01530357360843},{"$f":"MAX(-680,MIN(720,ROUND(BP94/40,0)*40))","v":-160},{"$f":"VLOOKUP(BQ94,Resultate!$A$2:$E$37,2,FALSE)","v":"3:3"},{"$f":"VALUE(MID(BR94,1,1))","v":3},{"$f":"VALUE(MID(BR94,3,1))","v":3},{"$f":"SIGN(BN94-BO94)","v":-1},{"$f":"IF(BS94=BT94,IF(BS94=0,BU94+BS94,BS94),BS94)","v":3},{"$f":"IF(BS94=BT94,IF(BT94=0,BT94,BT94-BU94),BT94)","v":4}]
[]
[]
[]
[null,{"$f":"'WM2026'!B98","v":"ok"},{"$f":"'WM2026'!C98","v":"OK"},null,null,null,{"$f":"'WM2026'!G98","v":0},null,{"$f":"'WM2026'!I98","v":0}]
[null,null,null,null,null,null,{"$f":"'WM2026'!G99","v":0}]
[null,null,null,null,null,null,{"$f":"'WM2026'!G100","v":0}]

{"sheet":"Rangliste","index":11,"n_rows":211,"n_cols":9,"rows_kept":211,"cut":false,"hidden":false,"merged":[]}
["Mannschaft","Januar","April","WM-Teilnehmer",{"$f":"COUNTIF(D2:D211,\"X\")","v":48},"Juli","Alt",700,1800]
["Spanien",1877,1876.4,{"$f":"IF(COUNTIF('WM2026'!$Y$1:$Y$60,A2)+COUNTIF('WM2026'!$BY$1:$BY$60,A2)>0,\"X\",\"\")","v":"X"},2006.4451231002809,2006.4451231002809,1969.7788609504701,0]
["Kroatien",1716,1717.07,{"$f":"IF(COUNTIF('WM2026'!$Y$1:$Y$60,A3)+COUNTIF('WM2026'!$BY$1:$BY$60,A3)>0,\"X\",\"\")","v":"X"},1839.2684958648681,1839.2684958648681,1798.2549379539489,3]
["England",1834,1825.97,{"$f":"IF(COUNTIF('WM2026'!$Y$1:$Y$60,A4)+COUNTIF('WM2026'!$BY$1:$BY$60,A4)>0,\"X\",\"\")","v":"X"},1827.7787530136109,1827.7787530136109,1840.2578341674805,-1]
["Belgien",1730,1734.71,{"$f":"IF(COUNTIF('WM2026'!$Y$1:$Y$60,A5)+COUNTIF('WM2026'!$BY$1:$BY$60,A5)>0,\"X\",\"\")","v":"X"},1811.7569546318055,1811.7569546318055,1814.2081932640076,0]
["Frankreich",1870,1877.32,{"$f":"IF(COUNTIF('WM2026'!$Y$1:$Y$60,A6)+COUNTIF('WM2026'!$BY$1:$BY$60,A6)>0,\"X\",\"\")","v":"X"},1806.8404520225524,1806.8404520225524,1758.2084119987487,7]
["Marokko",1736,1755.87,{"$f":"IF(COUNTIF('WM2026'!$Y$1:$Y$60,A7)+COUNTIF('WM2026'!$BY$1:$BY$60,A7)>0,\"X\",\"\")","v":"X"},1786.731268043518,1786.731268043518,1771.7781530570983,5]
["Argentinien",1873,1874.81,{"$f":"IF(COUNTIF('WM2026'!$Y$1:$Y$60,A8)+COUNTIF('WM2026'!$BY$1:$BY$60,A8)>0,\"X\",\"\")","v":"X"},1781.5569668388366,1781.5569668388366,1776.0293989753723,3]
["Ecuador",1591,1594.78,{"$f":"IF(COUNTIF('WM2026'!$Y$1:$Y$60,A9)+COUNTIF('WM2026'!$BY$1:$BY$60,A9)>0,\"X\",\"\")","v":"X"},1779.335721282959,1779.335721282959,1739.296634941101,6]
["Japan",1650,1660.43,{"$f":"IF(COUNTIF('WM2026'!$Y$1:$Y$60,A10)+COUNTIF('WM2026'!$BY$1:$BY$60,A10)>0,\"X\",\"\")","v":"X"},1776.7522193717957,1776.7522193717957,1722.84854429245,7]
["Deutschland",1724,1730.37,{"$f":"IF(COUNTIF('WM2026'!$Y$1:$Y$60,A11)+COUNTIF('WM2026'!$BY$1:$BY$60,A11)>0,\"X\",\"\")","v":"X"},1775.0704079818724,1775.0704079818724,1795.9917670440673,-4]
["Italien",1702,1700.37,{"$f":"IF(COUNTIF('WM2026'!$Y$1:$Y$60,A12)+COUNTIF('WM2026'!$BY$1:$BY$60,A12)>0,\"X\",\"\")","v":""},1773.2763606262206,1773.2763606262206,1832.799392337799,-8]
["Niederlande",1756,1757.87,{"$f":"IF(COUNTIF('WM2026'!$Y$1:$Y$60,A13)+COUNTIF('WM2026'!$BY$1:$BY$60,A13)>0,\"X\",\"\")","v":"X"},1767.3271113586425,1767.3271113586425,1792.9658824157714,-4]
["Australien",1574,1580.67,{"$f":"IF(COUNTIF('WM2026'!$Y$1:$Y$60,A14)+COUNTIF('WM2026'!$BY$1:$BY$60,A14)>0,\"X\",\"\")","v":"X"},1754.1909274291993,1754.1909274291993,1722.7792200279237,4]
["Senegal",1706,1688.99,{"$f":"IF(COUNTIF('WM2026'!$Y$1:$Y$60,A15)+COUNTIF('WM2026'!$BY$1:$BY$60,A15)>0,\"X\",\"\")","v":"X"},1743.270698299408,1743.270698299408,1735.963466873169,1]
["Portugal",1760,1763.83,{"$f":"IF(COUNTIF('WM2026'!$Y$1:$Y$60,A16)+COUNTIF('WM2026'!$BY$1:$BY$60,A16)>0,\"X\",\"\")","v":"X"},1742.924169139862,1742.924169139862,1786.5374670791625,-6]
["Paraguay",1501,1503.5,{"$f":"IF(COUNTIF('WM2026'!$Y$1:$Y$60,A17)+COUNTIF('WM2026'!$BY$1:$BY$60,A17)>0,\"X\",\"\")","v":"X"},1740.3655443191528,1740.3655443191528,1640.4961380958557,11]
["Ukraine",1557,1546.88,{"$f":"IF(COUNTIF('WM2026'!$Y$1:$Y$60,A18)+COUNTIF('WM2026'!$BY$1:$BY$60,A18)>0,\"X\",\"\")","v":""},1735.6241062927247,1735.6241062927247,1699.7037557411195,2]
["Schweiz",1654,1649.4,{"$f":"IF(COUNTIF('WM2026'!$Y$1:$Y$60,A19)+COUNTIF('WM2026'!$BY$1:$BY$60,A19)>0,\"X\",\"\")","v":"X"},1721.972102546692,1721.972102546692,1680.9498137474061,3]
["Dänemark",1616,1620.81,{"$f":"IF(COUNTIF('WM2026'!$Y$1:$Y$60,A20)+COUNTIF('WM2026'!$BY$1:$BY$60,A20)>0,\"X\",\"\")","v":""},1711.7209616279602,1711.7209616279602,1676.1124077415466,3]
["Mexiko",1675,1681.03,{"$f":"IF(COUNTIF('WM2026'!$Y$1:$Y$60,A21)+COUNTIF('WM2026'!$BY$1:$BY$60,A21)>0,\"X\",\"\")","v":"X"},1709.1054685401916,1709.1054685401916,1744.87690284729,-7]
["Wales",1529,1524.29,{"$f":"IF(COUNTIF('WM2026'!$Y$1:$Y$60,A22)+COUNTIF('WM2026'!$BY$1:$BY$60,A22)>0,\"X\",\"\")","v":""},1680.0182996177673,1680.0182996177673,1700.5227790260315,-3]
["Irak",1436,1447.14,{"$f":"IF(COUNTIF('WM2026'!$Y$1:$Y$60,A23)+COUNTIF('WM2026'!$BY$1:$BY$60,A23)>0,\"X\",\"\")","v":"X"},1678.8730837249757,1678.8730837249757,1623.2482649230958,6]
["Russland",1524,1525.6,{"$f":"IF(COUNTIF('WM2026'!$Y$1:$Y$60,A24)+COUNTIF('WM2026'!$BY$1:$BY$60,A24)>0,\"X\",\"\")","v":""},1669.4323950767516,1669.4323950767516,1692.3153429985045,-3]
["Österreich",1585,1593.45,{"$f":"IF(COUNTIF('WM2026'!$Y$1:$Y$60,A25)+COUNTIF('WM2026'!$BY$1:$BY$60,A25)>0,\"X\",\"\")","v":"X"},1668.6443802833558,1668.6443802833558,1675.4982349395752,-1]
["Brasilien",1760,1761.16,{"$f":"IF(COUNTIF('WM2026'!$Y$1:$Y$60,A26)+COUNTIF('WM2026'!$BY$1:$BY$60,A26)>0,\"X\",\"\")","v":"X"},1654.1178948020936,1654.1178948020936,1669.9736839866639,-1]
["USA",1681,1673.13,{"$f":"IF(COUNTIF('WM2026'!$Y$1:$Y$60,A27)+COUNTIF('WM2026'!$BY$1:$BY$60,A27)>0,\"X\",\"\")","v":"X"},1632.4304727363588,1632.4304727363588,1648.135271434784,0]
["Ungarn",1496,1500.58,{"$f":"IF(COUNTIF('WM2026'!$Y$1:$Y$60,A28)+COUNTIF('WM2026'!$BY$1:$BY$60,A28)>0,\"X\",\"\")","v":""},1629.4260731506347,1629.4260731506347,1563.9265528488158,7]
["Kolumbien",1701,1693.09,{"$f":"IF(COUNTIF('WM2026'!$Y$1:$Y$60,A29)+COUNTIF('WM2026'!$BY$1:$BY$60,A29)>0,\"X\",\"\")","v":"X"},1628.3125852012633,1628.3125852012633,1600.9848807716369,2]
["Tschechien",1487,1501.38,{"$f":"IF(COUNTIF('WM2026'!$Y$1:$Y$60,A30)+COUNTIF('WM2026'!$BY$1:$BY$60,A30)>0,\"X\",\"\")","v":"X"},1625.5041812705995,1625.5041812705995,1667.6866864013673,-4]
["Slowenien",1447,1446.44,{"$f":"IF(COUNTIF('WM2026'!$Y$1:$Y$60,A31)+COUNTIF('WM2026'!$BY$1:$BY$60,A31)>0,\"X\",\"\")","v":""},1622.2750014686585,1622.2750014686585,1603.8505024337769,-1]
["DR Kongo",1468,1478.35,{"$f":"IF(COUNTIF('WM2026'!$Y$1:$Y$60,A32)+COUNTIF('WM2026'!$BY$1:$BY$60,A32)>0,\"X\",\"\")","v":"X"},1617.5416632652282,1617.5416632652282,1577.2610350608825,1]
["Slowakei",1485,1473.94,{"$f":"IF(COUNTIF('WM2026'!$Y$1:$Y$60,A33)+COUNTIF('WM2026'!$BY$1:$BY$60,A33)>0,\"X\",\"\")","v":""},1611.1151308441163,1611.1151308441163,1512.143763961792,8]
["Peru",1459,1455.87,{"$f":"IF(COUNTIF('WM2026'!$Y$1:$Y$60,A34)+COUNTIF('WM2026'!$BY$1:$BY$60,A34)>0,\"X\",\"\")","v":""},1600.8741532516478,1600.8741532516478,1558.5825477790831,2]
["Sambia",1256,1255.82,{"$f":"IF(COUNTIF('WM2026'!$Y$1:$Y$60,A35)+COUNTIF('WM2026'!$BY$1:$BY$60,A35)>0,\"X\",\"\")","v":""},1587.8873704147338,1587.8873704147338,1500.265240497589,9]
["IR Iran",1617,1615.3,{"$f":"IF(COUNTIF('WM2026'!$Y$1:$Y$60,A36)+COUNTIF('WM2026'!$BY$1:$BY$60,A36)>0,\"X\",\"\")","v":"X"},1575.7080367088272,1575.7080367088272,1593.70306282043,-28]
["Ägypten",1556,1563.24,{"$f":"IF(COUNTIF('WM2026'!$Y$1:$Y$60,A37)+COUNTIF('WM2026'!$BY$1:$BY$60,A37)>0,\"X\",\"\")","v":"X"},1533.065553894043,1533.065553894043,1465.602334728241,11]
["Mali",1458,1459.13,{"$f":"IF(COUNTIF('WM2026'!$Y$1:$Y$60,A38)+COUNTIF('WM2026'!$BY$1:$BY$60,A38)>0,\"X\",\"\")","v":""},1529.8647035408021,1529.8647035408021,1583.6533535766603,-6]
["Venezuela",1465,1468.05,{"$f":"IF(COUNTIF('WM2026'!$Y$1:$Y$60,A39)+COUNTIF('WM2026'!$BY$1:$BY$60,A39)>0,\"X\",\"\")","v":""},1519.3397849082946,1519.3397849082946,1482.6251476287841,7]
["Saudiarabien",1429,1421.43,{"$f":"IF(COUNTIF('WM2026'!$Y$1:$Y$60,A40)+COUNTIF('WM2026'!$BY$1:$BY$60,A40)>0,\"X\",\"\")","v":"X"},1517.2986113357545,1517.2986113357545,1547.0458590316773,-3]
["Türkei",1582,1599.04,{"$f":"IF(COUNTIF('WM2026'!$Y$1:$Y$60,A41)+COUNTIF('WM2026'!$BY$1:$BY$60,A41)>0,\"X\",\"\")","v":"X"},1513.0614657783508,1513.0614657783508,1569.6493168258667,-7]
["Serbien",1506,1508.65,{"$f":"IF(COUNTIF('WM2026'!$Y$1:$Y$60,A42)+COUNTIF('WM2026'!$BY$1:$BY$60,A42)>0,\"X\",\"\")","v":""},1504.0151070594789,1504.0151070594789,1499.7343968391419,3]
["Verein.Arab.Emirate",1370,1370.47,{"$f":"IF(COUNTIF('WM2026'!$Y$1:$Y$60,A43)+COUNTIF('WM2026'!$BY$1:$BY$60,A43)>0,\"X\",\"\")","v":""},1502.0487434577942,1502.0487434577942,1457.6041466903687,7]
["Kamerun",1482,1481.24,{"$f":"IF(COUNTIF('WM2026'!$Y$1:$Y$60,A44)+COUNTIF('WM2026'!$BY$1:$BY$60,A44)>0,\"X\",\"\")","v":""},1501.0769383811951,1501.0769383811951,1423.2746140861511,17]
["Haiti",1294,1291.71,{"$f":"IF(COUNTIF('WM2026'!$Y$1:$Y$60,A45)+COUNTIF('WM2026'!$BY$1:$BY$60,A45)>0,\"X\",\"\")","v":"X"},1496.76850315094,1496.76850315094,1415.936999282837,18]
["Burkina Faso",1412,1412.49,{"$f":"IF(COUNTIF('WM2026'!$Y$1:$Y$60,A46)+COUNTIF('WM2026'!$BY$1:$BY$60,A46)>0,\"X\",\"\")","v":""},1495.2498929405212,1495.2498929405212,1448.3810441398621,7]
["Katar",1454,1454.96,{"$f":"IF(COUNTIF('WM2026'!$Y$1:$Y$60,A47)+COUNTIF('WM2026'!$BY$1:$BY$60,A47)>0,\"X\",\"\")","v":"X"},1494.3940634346009,1494.3940634346009,1507.4252242660523,-5]
["Schweden",1487,1514.77,{"$f":"IF(COUNTIF('WM2026'!$Y$1:$Y$60,A48)+COUNTIF('WM2026'!$BY$1:$BY$60,A48)>0,\"X\",\"\")","v":"X"},1491.9397402000427,1491.9397402000427,1452.4654793930054,4]
["Uruguay",1672,1673.07,{"$f":"IF(COUNTIF('WM2026'!$Y$1:$Y$60,A49)+COUNTIF('WM2026'!$BY$1:$BY$60,A49)>0,\"X\",\"\")","v":"X"},1484.3520601463317,1484.3520601463317,1535.4949553680419,-11]
["Polen",1532,1528,{"$f":"IF(COUNTIF('WM2026'!$Y$1:$Y$60,A50)+COUNTIF('WM2026'!$BY$1:$BY$60,A50)>0,\"X\",\"\")","v":""},1479.0282635688782,1479.0282635688782,1503.0855326652527,-7]
["Angola",1263,1263.0999999999999,{"$f":"IF(COUNTIF('WM2026'!$Y$1:$Y$60,A51)+COUNTIF('WM2026'!$BY$1:$BY$60,A51)>0,\"X\",\"\")","v":""},1478.836162662506,1478.836162662506,1386.014695739746,17]
["Finnland",1341,1346.41,{"$f":"IF(COUNTIF('WM2026'!$Y$1:$Y$60,A52)+COUNTIF('WM2026'!$BY$1:$BY$60,A52)>0,\"X\",\"\")","v":""},1478.6280390357972,1478.6280390357972,1520.8279248809815,-12]
["Ghana",1351,1346.31,{"$f":"IF(COUNTIF('WM2026'!$Y$1:$Y$60,A53)+COUNTIF('WM2026'!$BY$1:$BY$60,A53)>0,\"X\",\"\")","v":"X"},1465.9896774864196,1465.9896774864196,1436.4110155677795,2]
["Trinidad und Tobago",1227,1227,{"$f":"IF(COUNTIF('WM2026'!$Y$1:$Y$60,A54)+COUNTIF('WM2026'!$BY$1:$BY$60,A54)>0,\"X\",\"\")","v":""},1453.5594124794006,1453.5594124794006,1473.8755602836609,-7]
["Irland",1436,1436.63,{"$f":"IF(COUNTIF('WM2026'!$Y$1:$Y$60,A55)+COUNTIF('WM2026'!$BY$1:$BY$60,A55)>0,\"X\",\"\")","v":""},1451.5456904220582,1451.5456904220582,1384.054397468567,14]
["Rumänien",1465,1451.16,{"$f":"IF(COUNTIF('WM2026'!$Y$1:$Y$60,A56)+COUNTIF('WM2026'!$BY$1:$BY$60,A56)>0,\"X\",\"\")","v":""},1441.11099067688,1441.11099067688,1528.0303222274781,-17]
["Turkmenistan",1087,1087,{"$f":"IF(COUNTIF('WM2026'!$Y$1:$Y$60,A57)+COUNTIF('WM2026'!$BY$1:$BY$60,A57)>0,\"X\",\"\")","v":""},1437.8205938339233,1437.8205938339233,1370.6868095397949,14]
["Vietnam",1189,1225.68,{"$f":"IF(COUNTIF('WM2026'!$Y$1:$Y$60,A58)+COUNTIF('WM2026'!$BY$1:$BY$60,A58)>0,\"X\",\"\")","v":""},1435.8239714431763,1435.8239714431763,1336.041123085022,23]
["Island",1344,1345.07,{"$f":"IF(COUNTIF('WM2026'!$Y$1:$Y$60,A59)+COUNTIF('WM2026'!$BY$1:$BY$60,A59)>0,\"X\",\"\")","v":""},1428.574045009613,1428.574045009613,1423.9877656173705,1]
["Jordanien",1388,1391.45,{"$f":"IF(COUNTIF('WM2026'!$Y$1:$Y$60,A60)+COUNTIF('WM2026'!$BY$1:$BY$60,A60)>0,\"X\",\"\")","v":"X"},1426.5478255271912,1426.5478255271912,1332.8083517074585,24]
["Israel",1328,1328.33,{"$f":"IF(COUNTIF('WM2026'!$Y$1:$Y$60,A61)+COUNTIF('WM2026'!$BY$1:$BY$60,A61)>0,\"X\",\"\")","v":""},1420.0699048805236,1420.0699048805236,1343.0989938545226,16]
["Elfenbeinküste",1522,1532.98,{"$f":"IF(COUNTIF('WM2026'!$Y$1:$Y$60,A62)+COUNTIF('WM2026'!$BY$1:$BY$60,A62)>0,\"X\",\"\")","v":"X"},1418.7596430587769,1418.7596430587769,1428.7282099533081,-5]
["Südkorea",1599,1588.66,{"$f":"IF(COUNTIF('WM2026'!$Y$1:$Y$60,A63)+COUNTIF('WM2026'!$BY$1:$BY$60,A63)>0,\"X\",\"\")","v":"X"},1409.2667323684693,1409.2667323684693,1402.2956592178346,2]
["Montenegro",1297,1295.52,{"$f":"IF(COUNTIF('WM2026'!$Y$1:$Y$60,A64)+COUNTIF('WM2026'!$BY$1:$BY$60,A64)>0,\"X\",\"\")","v":""},1404.7612829399109,1404.7612829399109,1426.0748310279846,-5]
["Chile",1457,1455.28,{"$f":"IF(COUNTIF('WM2026'!$Y$1:$Y$60,A65)+COUNTIF('WM2026'!$BY$1:$BY$60,A65)>0,\"X\",\"\")","v":""},1403.0728400039673,1403.0728400039673,1435.1963937568664,-9]
["Algerien",1560,1564.26,{"$f":"IF(COUNTIF('WM2026'!$Y$1:$Y$60,A66)+COUNTIF('WM2026'!$BY$1:$BY$60,A66)>0,\"X\",\"\")","v":"X"},1402.8767645454407,1402.8767645454407,1455.123025188446,-15]
["Nigeria",1581,1585.09,{"$f":"IF(COUNTIF('WM2026'!$Y$1:$Y$60,A67)+COUNTIF('WM2026'!$BY$1:$BY$60,A67)>0,\"X\",\"\")","v":""},1402.2141402626037,1402.2141402626037,1460.6500571632384,-18]
["Libyen",1183,1183,{"$f":"IF(COUNTIF('WM2026'!$Y$1:$Y$60,A68)+COUNTIF('WM2026'!$BY$1:$BY$60,A68)>0,\"X\",\"\")","v":""},1392.302830696106,1392.302830696106,1360.4712443351746,6]
["Tunesien",1479,1483.05,{"$f":"IF(COUNTIF('WM2026'!$Y$1:$Y$60,A69)+COUNTIF('WM2026'!$BY$1:$BY$60,A69)>0,\"X\",\"\")","v":"X"},1390.5400531768798,1390.5400531768798,1273.5834711074829,34]
["Nordmazedonien",1378,1372.04,{"$f":"IF(COUNTIF('WM2026'!$Y$1:$Y$60,A70)+COUNTIF('WM2026'!$BY$1:$BY$60,A70)>0,\"X\",\"\")","v":""},1383.98429397583,1383.98429397583,1346.926679649353,5]
["Indonesien",1144,1144,{"$f":"IF(COUNTIF('WM2026'!$Y$1:$Y$60,A71)+COUNTIF('WM2026'!$BY$1:$BY$60,A71)>0,\"X\",\"\")","v":""},1383.7868084907532,1383.7868084907532,1290.1900520324707,25]
["Palästina",1244,1244.73,{"$f":"IF(COUNTIF('WM2026'!$Y$1:$Y$60,A72)+COUNTIF('WM2026'!$BY$1:$BY$60,A72)>0,\"X\",\"\")","v":""},1377.1028084564209,1377.1028084564209,1339.8531360435486,8]
["Kanada",1559,1556.48,{"$f":"IF(COUNTIF('WM2026'!$Y$1:$Y$60,A73)+COUNTIF('WM2026'!$BY$1:$BY$60,A73)>0,\"X\",\"\")","v":"X"},1376.4497375297547,1376.4497375297547,1426.5282845306397,-15]
["China",1249,1251.5999999999999,{"$f":"IF(COUNTIF('WM2026'!$Y$1:$Y$60,A74)+COUNTIF('WM2026'!$BY$1:$BY$60,A74)>0,\"X\",\"\")","v":""},1376.2434926986693,1376.2434926986693,1308.3880034446715,16]
["Jamaika",1362,1358,{"$f":"IF(COUNTIF('WM2026'!$Y$1:$Y$60,A75)+COUNTIF('WM2026'!$BY$1:$BY$60,A75)>0,\"X\",\"\")","v":""},1373.406448841095,1373.406448841095,1279.5262246131897,26]
["Panama",1539,1540.64,{"$f":"IF(COUNTIF('WM2026'!$Y$1:$Y$60,A76)+COUNTIF('WM2026'!$BY$1:$BY$60,A76)>0,\"X\",\"\")","v":"X"},1366.0911952400209,1366.0911952400209,1423.1835876846314,-14]
["Kosovo",1308,1318.83,{"$f":"IF(COUNTIF('WM2026'!$Y$1:$Y$60,A77)+COUNTIF('WM2026'!$BY$1:$BY$60,A77)>0,\"X\",\"\")","v":""},1362.617920475006,1362.617920475006,1367.0122609901427,-4]
["Schottland",1506,1498.35,{"$f":"IF(COUNTIF('WM2026'!$Y$1:$Y$60,A78)+COUNTIF('WM2026'!$BY$1:$BY$60,A78)>0,\"X\",\"\")","v":"X"},1362.3319622039794,1362.3319622039794,1447.8153344154357,-24]
["Weißrussland",1227,1235.82,{"$f":"IF(COUNTIF('WM2026'!$Y$1:$Y$60,A79)+COUNTIF('WM2026'!$BY$1:$BY$60,A79)>0,\"X\",\"\")","v":""},1355.8162949752807,1355.8162949752807,1272.2333238792419,25]
["Honduras",1379,1380.27,{"$f":"IF(COUNTIF('WM2026'!$Y$1:$Y$60,A80)+COUNTIF('WM2026'!$BY$1:$BY$60,A80)>0,\"X\",\"\")","v":""},1352.5168209266662,1352.5168209266662,1292.889776725769,14]
["Curaçao",1302,1294.6500000000001,{"$f":"IF(COUNTIF('WM2026'!$Y$1:$Y$60,A81)+COUNTIF('WM2026'!$BY$1:$BY$60,A81)>0,\"X\",\"\")","v":"X"},1346.5409025192262,1346.5409025192262,1369.2595108985902,-9]
["Bosnien/Herzg.",1362,1362,{"$f":"IF(COUNTIF('WM2026'!$Y$1:$Y$60,A82)+COUNTIF('WM2026'!$BY$1:$BY$60,A82)>0,\"X\",\"\")","v":"X"},1346.2048406600952,1346.2048406600952,1300.6173725128174,9]
["Komoren",1193,1193,{"$f":"IF(COUNTIF('WM2026'!$Y$1:$Y$60,A83)+COUNTIF('WM2026'!$BY$1:$BY$60,A83)>0,\"X\",\"\")","v":""},1345.5746870040894,1345.5746870040894,1293.0069665908813,10]
["Tadschikistan",1224,1224,{"$f":"IF(COUNTIF('WM2026'!$Y$1:$Y$60,A84)+COUNTIF('WM2026'!$BY$1:$BY$60,A84)>0,\"X\",\"\")","v":""},1345.0333847999573,1345.0333847999573,1286.0900774002075,14]
["Albanien",1401,1388.06,{"$f":"IF(COUNTIF('WM2026'!$Y$1:$Y$60,A85)+COUNTIF('WM2026'!$BY$1:$BY$60,A85)>0,\"X\",\"\")","v":""},1336.9702792739868,1336.9702792739868,1237.9262233352661,28]
["Tansania",1186,1186,{"$f":"IF(COUNTIF('WM2026'!$Y$1:$Y$60,A86)+COUNTIF('WM2026'!$BY$1:$BY$60,A86)>0,\"X\",\"\")","v":""},1325.5632529258728,1325.5632529258728,1393.4434781074524,-19]
["Mosambik",1224,1224,{"$f":"IF(COUNTIF('WM2026'!$Y$1:$Y$60,A87)+COUNTIF('WM2026'!$BY$1:$BY$60,A87)>0,\"X\",\"\")","v":""},1322.0681800842285,1322.0681800842285,1333.9393033981323,-4]
["Hongkong (China)",1038,1038,{"$f":"IF(COUNTIF('WM2026'!$Y$1:$Y$60,A88)+COUNTIF('WM2026'!$BY$1:$BY$60,A88)>0,\"X\",\"\")","v":""},1319.9049167633057,1319.9049167633057,1193.1623463630676,32]
["Oman",1313,1313.46,{"$f":"IF(COUNTIF('WM2026'!$Y$1:$Y$60,A89)+COUNTIF('WM2026'!$BY$1:$BY$60,A89)>0,\"X\",\"\")","v":""},1314.6257476425171,1314.6257476425171,1399.0193085289002,-23]
["Singapur",1050,1050,{"$f":"IF(COUNTIF('WM2026'!$Y$1:$Y$60,A90)+COUNTIF('WM2026'!$BY$1:$BY$60,A90)>0,\"X\",\"\")","v":""},1313.6878776550293,1313.6878776550293,1250.9541821479797,18]
["Guatemala",1245,1243.47,{"$f":"IF(COUNTIF('WM2026'!$Y$1:$Y$60,A91)+COUNTIF('WM2026'!$BY$1:$BY$60,A91)>0,\"X\",\"\")","v":""},1312.3064148139954,1312.3064148139954,1205.2702200126648,28]
["Griechenland",1480,1475.82,{"$f":"IF(COUNTIF('WM2026'!$Y$1:$Y$60,A92)+COUNTIF('WM2026'!$BY$1:$BY$60,A92)>0,\"X\",\"\")","v":""},1309.1504643630981,1309.1504643630981,1404.3098877143859,-28]
["Usbekistan",1462,1465.34,{"$f":"IF(COUNTIF('WM2026'!$Y$1:$Y$60,A93)+COUNTIF('WM2026'!$BY$1:$BY$60,A93)>0,\"X\",\"\")","v":"X"},1301.2336786651611,1301.2336786651611,1334.1797526741027,-11]
["Moldawien",1012,1012,{"$f":"IF(COUNTIF('WM2026'!$Y$1:$Y$60,A94)+COUNTIF('WM2026'!$BY$1:$BY$60,A94)>0,\"X\",\"\")","v":""},1300.0530047416687,1300.0530047416687,1310.1318044662476,-6]
["Kenia",1179,1179,{"$f":"IF(COUNTIF('WM2026'!$Y$1:$Y$60,A95)+COUNTIF('WM2026'!$BY$1:$BY$60,A95)>0,\"X\",\"\")","v":""},1298.2386150360107,1298.2386150360107,1290.6122961044312,0]
["Südafrika",1432,1429.73,{"$f":"IF(COUNTIF('WM2026'!$Y$1:$Y$60,A96)+COUNTIF('WM2026'!$BY$1:$BY$60,A96)>0,\"X\",\"\")","v":"X"},1294.2252893257141,1294.2252893257141,1383.5681814956665,-26]
["Bolivien",1330,1329.42,{"$f":"IF(COUNTIF('WM2026'!$Y$1:$Y$60,A97)+COUNTIF('WM2026'!$BY$1:$BY$60,A97)>0,\"X\",\"\")","v":""},1284.2692670059205,1284.2692670059205,1223.7874755096436,18]
["Kap Verde",1370,1366.13,{"$f":"IF(COUNTIF('WM2026'!$Y$1:$Y$60,A98)+COUNTIF('WM2026'!$BY$1:$BY$60,A98)>0,\"X\",\"\")","v":"X"},1282.6006349372865,1282.6006349372865,1322.665840034485,-12]
["Kasachstan",1173,1173,{"$f":"IF(COUNTIF('WM2026'!$Y$1:$Y$60,A99)+COUNTIF('WM2026'!$BY$1:$BY$60,A99)>0,\"X\",\"\")","v":""},1281.43022108078,1281.43022108078,1323.5288863182068,-14]
["Norwegen",1553,1550.94,{"$f":"IF(COUNTIF('WM2026'!$Y$1:$Y$60,A100)+COUNTIF('WM2026'!$BY$1:$BY$60,A100)>0,\"X\",\"\")","v":"X"},1279.1855325126648,1279.1855325126648,1341.3836230659485,-21]
["Mauretanien",1171,1171,{"$f":"IF(COUNTIF('WM2026'!$Y$1:$Y$60,A101)+COUNTIF('WM2026'!$BY$1:$BY$60,A101)>0,\"X\",\"\")","v":""},1277.0737085342407,1277.0737085342407,1342.4140486717224,-23]
["Namibia",1153,1153,{"$f":"IF(COUNTIF('WM2026'!$Y$1:$Y$60,A102)+COUNTIF('WM2026'!$BY$1:$BY$60,A102)>0,\"X\",\"\")","v":""},1275.0027089118958,1275.0027089118958,1317.2254233360291,-15]
["Syrien",1282,1288.56,{"$f":"IF(COUNTIF('WM2026'!$Y$1:$Y$60,A103)+COUNTIF('WM2026'!$BY$1:$BY$60,A103)>0,\"X\",\"\")","v":""},1265.1099830245971,1265.1099830245971,1281.4754515266418,-3]
["Bulgarien",1272,1278.9000000000001,{"$f":"IF(COUNTIF('WM2026'!$Y$1:$Y$60,A104)+COUNTIF('WM2026'!$BY$1:$BY$60,A104)>0,\"X\",\"\")","v":""},1264.5330704689027,1264.5330704689027,1242.8806556701661,6]
["Nordirland",1366,1362.16,{"$f":"IF(COUNTIF('WM2026'!$Y$1:$Y$60,A105)+COUNTIF('WM2026'!$BY$1:$BY$60,A105)>0,\"X\",\"\")","v":""},1261.7081204986573,1261.7081204986573,1172.1611110305787,22]
["Neuseeland",1279,1281.57,{"$f":"IF(COUNTIF('WM2026'!$Y$1:$Y$60,A106)+COUNTIF('WM2026'!$BY$1:$BY$60,A106)>0,\"X\",\"\")","v":"X"},1260.6919234466552,1260.6919234466552,1343.5238187980651,-30]
["Indien",1079,1079,{"$f":"IF(COUNTIF('WM2026'!$Y$1:$Y$60,A107)+COUNTIF('WM2026'!$BY$1:$BY$60,A107)>0,\"X\",\"\")","v":""},1236.6199793815613,1236.6199793815613,1176.864990234375,17]
["Georgien",1347,1350.18,{"$f":"IF(COUNTIF('WM2026'!$Y$1:$Y$60,A108)+COUNTIF('WM2026'!$BY$1:$BY$60,A108)>0,\"X\",\"\")","v":""},1236.3441573905945,1236.3441573905945,1240.0737821388245,3]
["St. Lucia",980,980,{"$f":"IF(COUNTIF('WM2026'!$Y$1:$Y$60,A109)+COUNTIF('WM2026'!$BY$1:$BY$60,A109)>0,\"X\",\"\")","v":""},1235.642204284668,1235.642204284668,1293.8683485984802,-17]
["Sierra Leone",1149,1149,{"$f":"IF(COUNTIF('WM2026'!$Y$1:$Y$60,A110)+COUNTIF('WM2026'!$BY$1:$BY$60,A110)>0,\"X\",\"\")","v":""},1230.6625833511353,1230.6625833511353,1185.5464639663696,11]
["El Salvador",1226,1225.26,{"$f":"IF(COUNTIF('WM2026'!$Y$1:$Y$60,A111)+COUNTIF('WM2026'!$BY$1:$BY$60,A111)>0,\"X\",\"\")","v":""},1230.2490565872192,1230.2490565872192,1153.7072012519836,19]
["Malawi",1133,1133,{"$f":"IF(COUNTIF('WM2026'!$Y$1:$Y$60,A112)+COUNTIF('WM2026'!$BY$1:$BY$60,A112)>0,\"X\",\"\")","v":""},1221.9351654052734,1221.9351654052734,1288.6545066833496,-15]
["Äthiopien",1055,1055,{"$f":"IF(COUNTIF('WM2026'!$Y$1:$Y$60,A113)+COUNTIF('WM2026'!$BY$1:$BY$60,A113)>0,\"X\",\"\")","v":""},1218.1176257133484,1218.1176257133484,1282.8053307533264,-14]
["Färöer",1135,1135,{"$f":"IF(COUNTIF('WM2026'!$Y$1:$Y$60,A114)+COUNTIF('WM2026'!$BY$1:$BY$60,A114)>0,\"X\",\"\")","v":""},1215.3124690055847,1215.3124690055847,1137.3751044273376,19]
["Nicaragua",1116,1116,{"$f":"IF(COUNTIF('WM2026'!$Y$1:$Y$60,A115)+COUNTIF('WM2026'!$BY$1:$BY$60,A115)>0,\"X\",\"\")","v":""},1215.178638458252,1215.178638458252,1105.041805267334,22]
["Gabun",1276,1272.51,{"$f":"IF(COUNTIF('WM2026'!$Y$1:$Y$60,A116)+COUNTIF('WM2026'!$BY$1:$BY$60,A116)>0,\"X\",\"\")","v":""},1212.9134614562988,1212.9134614562988,1308.938165435791,-27]
["Salomon-Inseln",1039,1039,{"$f":"IF(COUNTIF('WM2026'!$Y$1:$Y$60,A117)+COUNTIF('WM2026'!$BY$1:$BY$60,A117)>0,\"X\",\"\")","v":""},1208.4084000587463,1208.4084000587463,1074.3724217414856,24]
["St. Vincent und die Grenadinen",963,963,{"$f":"IF(COUNTIF('WM2026'!$Y$1:$Y$60,A118)+COUNTIF('WM2026'!$BY$1:$BY$60,A118)>0,\"X\",\"\")","v":""},1206.3033967018127,1206.3033967018127,1271.5131669044495,-13]
["Niger",1185,1185,{"$f":"IF(COUNTIF('WM2026'!$Y$1:$Y$60,A119)+COUNTIF('WM2026'!$BY$1:$BY$60,A119)>0,\"X\",\"\")","v":""},1202.8512763977051,1202.8512763977051,1138.4781575202942,13]
["Sri Lanka",857,857,{"$f":"IF(COUNTIF('WM2026'!$Y$1:$Y$60,A120)+COUNTIF('WM2026'!$BY$1:$BY$60,A120)>0,\"X\",\"\")","v":""},1193.029052734375,1193.029052734375,1098.6107034683228,19]
["Sudan",1157,1157,{"$f":"IF(COUNTIF('WM2026'!$Y$1:$Y$60,A121)+COUNTIF('WM2026'!$BY$1:$BY$60,A121)>0,\"X\",\"\")","v":""},1190.6527228355408,1190.6527228355408,1270.2435464859009,-15]
["Suriname",1140,1140,{"$f":"IF(COUNTIF('WM2026'!$Y$1:$Y$60,A122)+COUNTIF('WM2026'!$BY$1:$BY$60,A122)>0,\"X\",\"\")","v":""},1189.6649384498596,1189.6649384498596,1261.3347697257996,-15]
["Aserbaidschan",1132,1132,{"$f":"IF(COUNTIF('WM2026'!$Y$1:$Y$60,A123)+COUNTIF('WM2026'!$BY$1:$BY$60,A123)>0,\"X\",\"\")","v":""},1188.4412784576416,1188.4412784576416,1279.432963848114,-21]
["Malaysia",1145,1145,{"$f":"IF(COUNTIF('WM2026'!$Y$1:$Y$60,A124)+COUNTIF('WM2026'!$BY$1:$BY$60,A124)>0,\"X\",\"\")","v":""},1184.2000293731689,1184.2000293731689,1140.342116355896,7]
["Guinea",1307,1300.01,{"$f":"IF(COUNTIF('WM2026'!$Y$1:$Y$60,A125)+COUNTIF('WM2026'!$BY$1:$BY$60,A125)>0,\"X\",\"\")","v":""},1172.7199990844726,1172.7199990844726,1238.816688785553,-13]
["Kongo",1105,1105,{"$f":"IF(COUNTIF('WM2026'!$Y$1:$Y$60,A126)+COUNTIF('WM2026'!$BY$1:$BY$60,A126)>0,\"X\",\"\")","v":""},1169.5737409591675,1169.5737409591675,1179.5562958717346,-4]
["Cayman-Inseln",851,851,{"$f":"IF(COUNTIF('WM2026'!$Y$1:$Y$60,A127)+COUNTIF('WM2026'!$BY$1:$BY$60,A127)>0,\"X\",\"\")","v":""},1160.3795609474182,1160.3795609474182,1109.542332649231,9]
["Guinea-Bissau",1108,1108,{"$f":"IF(COUNTIF('WM2026'!$Y$1:$Y$60,A128)+COUNTIF('WM2026'!$BY$1:$BY$60,A128)>0,\"X\",\"\")","v":""},1157.8015904426575,1157.8015904426575,1073.26442527771,14]
["Myanmar",990,990,{"$f":"IF(COUNTIF('WM2026'!$Y$1:$Y$60,A129)+COUNTIF('WM2026'!$BY$1:$BY$60,A129)>0,\"X\",\"\")","v":""},1157.4806523323059,1157.4806523323059,1222.0026063919067,-13]
["Thailand",1243,1252.1400000000001,{"$f":"IF(COUNTIF('WM2026'!$Y$1:$Y$60,A130)+COUNTIF('WM2026'!$BY$1:$BY$60,A130)>0,\"X\",\"\")","v":""},1156.7362548255921,1156.7362548255921,1176.0968448066712,-5]
["Benin",1250,1258.98,{"$f":"IF(COUNTIF('WM2026'!$Y$1:$Y$60,A131)+COUNTIF('WM2026'!$BY$1:$BY$60,A131)>0,\"X\",\"\")","v":""},1154.8838090705872,1154.8838090705872,1212.9463028717041,-13]
["Jemen",1049,1049,{"$f":"IF(COUNTIF('WM2026'!$Y$1:$Y$60,A132)+COUNTIF('WM2026'!$BY$1:$BY$60,A132)>0,\"X\",\"\")","v":""},1152.0918955802917,1152.0918955802917,1055.1825680732727,15]
["Simbabwe",1113,1113,{"$f":"IF(COUNTIF('WM2026'!$Y$1:$Y$60,A133)+COUNTIF('WM2026'!$BY$1:$BY$60,A133)>0,\"X\",\"\")","v":""},1150.9463291168213,1150.9463291168213,1124.9755411148071,2]
["St. Kitts und Nevis",1035,1035,{"$f":"IF(COUNTIF('WM2026'!$Y$1:$Y$60,A134)+COUNTIF('WM2026'!$BY$1:$BY$60,A134)>0,\"X\",\"\")","v":""},1149.0245056152344,1149.0245056152344,1020.8648467063904,16]
["Armenien",1196,1196,{"$f":"IF(COUNTIF('WM2026'!$Y$1:$Y$60,A135)+COUNTIF('WM2026'!$BY$1:$BY$60,A135)>0,\"X\",\"\")","v":""},1145.2901110649109,1145.2901110649109,1029.030641078949,14]
["Madagaskar",1198,1198,{"$f":"IF(COUNTIF('WM2026'!$Y$1:$Y$60,A136)+COUNTIF('WM2026'!$BY$1:$BY$60,A136)>0,\"X\",\"\")","v":""},1133.554416179657,1133.554416179657,1129.1393785476685,-2]
["Dominikanische Republik",1077,1077,{"$f":"IF(COUNTIF('WM2026'!$Y$1:$Y$60,A137)+COUNTIF('WM2026'!$BY$1:$BY$60,A137)>0,\"X\",\"\")","v":""},1127.6910133361816,1127.6910133361816,1064.2311997413635,7]
["Vanuatu",997,997,{"$f":"IF(COUNTIF('WM2026'!$Y$1:$Y$60,A138)+COUNTIF('WM2026'!$BY$1:$BY$60,A138)>0,\"X\",\"\")","v":""},1126.8377180099487,1126.8377180099487,1013.3915967941284,15]
["São Tomé und Príncipe",871,871,{"$f":"IF(COUNTIF('WM2026'!$Y$1:$Y$60,A139)+COUNTIF('WM2026'!$BY$1:$BY$60,A139)>0,\"X\",\"\")","v":""},1121.59739112854,1121.59739112854,1002.7903327941895,18]
["Chinese Taipei",938,938,{"$f":"IF(COUNTIF('WM2026'!$Y$1:$Y$60,A140)+COUNTIF('WM2026'!$BY$1:$BY$60,A140)>0,\"X\",\"\")","v":""},1116.6038208007813,1116.6038208007813,1249.0802173614502,-31]
["Lesotho",1065,1065,{"$f":"IF(COUNTIF('WM2026'!$Y$1:$Y$60,A141)+COUNTIF('WM2026'!$BY$1:$BY$60,A141)>0,\"X\",\"\")","v":""},1113.2087469100952,1113.2087469100952,992.12278127670288,19]
["Andorra",949,949,{"$f":"IF(COUNTIF('WM2026'!$Y$1:$Y$60,A142)+COUNTIF('WM2026'!$BY$1:$BY$60,A142)>0,\"X\",\"\")","v":""},1110.9465303421021,1110.9465303421021,985.28637790679932,19]
["Philippinen",1090,1090,{"$f":"IF(COUNTIF('WM2026'!$Y$1:$Y$60,A143)+COUNTIF('WM2026'!$BY$1:$BY$60,A143)>0,\"X\",\"\")","v":""},1104.7893905639648,1104.7893905639648,1101.748149394989,-5]
["Südsudan",977,977,{"$f":"IF(COUNTIF('WM2026'!$Y$1:$Y$60,A144)+COUNTIF('WM2026'!$BY$1:$BY$60,A144)>0,\"X\",\"\")","v":""},1102.1198029518127,1102.1198029518127,1172.3538703918457,-18]
["Afghanistan",991,991,{"$f":"IF(COUNTIF('WM2026'!$Y$1:$Y$60,A145)+COUNTIF('WM2026'!$BY$1:$BY$60,A145)>0,\"X\",\"\")","v":""},1101.9664916992188,1101.9664916992188,967.07637166976929,21]
["Botsuana",1062,1062,{"$f":"IF(COUNTIF('WM2026'!$Y$1:$Y$60,A146)+COUNTIF('WM2026'!$BY$1:$BY$60,A146)>0,\"X\",\"\")","v":""},1094.9066109657288,1094.9066109657288,1177.1590609550476,-23]
["Costa Rica",1464,1459.9,{"$f":"IF(COUNTIF('WM2026'!$Y$1:$Y$60,A147)+COUNTIF('WM2026'!$BY$1:$BY$60,A147)>0,\"X\",\"\")","v":""},1091.7359684944154,1091.7359684944154,1229.7328018188477,-33]
["Kirgisische Republik",1201,1201,{"$f":"IF(COUNTIF('WM2026'!$Y$1:$Y$60,A148)+COUNTIF('WM2026'!$BY$1:$BY$60,A148)>0,\"X\",\"\")","v":""},1088.5568723678589,1088.5568723678589,1068.2063732147217,-5]
["Äquatorial-Guinea",1190,1190,{"$f":"IF(COUNTIF('WM2026'!$Y$1:$Y$60,A149)+COUNTIF('WM2026'!$BY$1:$BY$60,A149)>0,\"X\",\"\")","v":""},1087.7848935127258,1087.7848935127258,1166.5630483627319,-21]
["Gambia",1161,1161,{"$f":"IF(COUNTIF('WM2026'!$Y$1:$Y$60,A150)+COUNTIF('WM2026'!$BY$1:$BY$60,A150)>0,\"X\",\"\")","v":""},1083.8522229194641,1083.8522229194641,1081.3361940383911,-10]
["Kuwait",1105,1105,{"$f":"IF(COUNTIF('WM2026'!$Y$1:$Y$60,A151)+COUNTIF('WM2026'!$BY$1:$BY$60,A151)>0,\"X\",\"\")","v":""},1079.4333100318909,1079.4333100318909,1020.8291983604431,0]
["Guyana",1041,1041,{"$f":"IF(COUNTIF('WM2026'!$Y$1:$Y$60,A152)+COUNTIF('WM2026'!$BY$1:$BY$60,A152)>0,\"X\",\"\")","v":""},1075.1353106498718,1075.1353106498718,1213.4424147605896,-35]
["Cook-Inseln",877,877,{"$f":"IF(COUNTIF('WM2026'!$Y$1:$Y$60,A153)+COUNTIF('WM2026'!$BY$1:$BY$60,A153)>0,\"X\",\"\")","v":""},1067.5827832221985,1067.5827832221985,958.94504976272583,16]
["Burundi",1060,1060,{"$f":"IF(COUNTIF('WM2026'!$Y$1:$Y$60,A154)+COUNTIF('WM2026'!$BY$1:$BY$60,A154)>0,\"X\",\"\")","v":""},1063.7650227546692,1063.7650227546692,937.55460739135742,16]
["Turks- und Caicos-Inseln",803,803,{"$f":"IF(COUNTIF('WM2026'!$Y$1:$Y$60,A155)+COUNTIF('WM2026'!$BY$1:$BY$60,A155)>0,\"X\",\"\")","v":""},1062.1663122177124,1062.1663122177124,1008.1807475090027,1]
["DVR Korea",1151,1151,{"$f":"IF(COUNTIF('WM2026'!$Y$1:$Y$60,A156)+COUNTIF('WM2026'!$BY$1:$BY$60,A156)>0,\"X\",\"\")","v":""},1052.3435363769531,1052.3435363769531,1156.7003974914551,-27]
["Togo",1140,1140,{"$f":"IF(COUNTIF('WM2026'!$Y$1:$Y$60,A157)+COUNTIF('WM2026'!$BY$1:$BY$60,A157)>0,\"X\",\"\")","v":""},1040.1888203620911,1040.1888203620911,1009.5025038719177,-2]
["Laos",871,871,{"$f":"IF(COUNTIF('WM2026'!$Y$1:$Y$60,A158)+COUNTIF('WM2026'!$BY$1:$BY$60,A158)>0,\"X\",\"\")","v":""},1021.3111338615417,1021.3111338615417,1012.6118192672729,-4]
["Guam",823,823,{"$f":"IF(COUNTIF('WM2026'!$Y$1:$Y$60,A159)+COUNTIF('WM2026'!$BY$1:$BY$60,A159)>0,\"X\",\"\")","v":""},1010.3398685455322,1010.3398685455322,904.07428550720215,18]
["Zentralafrikanische Republik",1083,1083,{"$f":"IF(COUNTIF('WM2026'!$Y$1:$Y$60,A160)+COUNTIF('WM2026'!$BY$1:$BY$60,A160)>0,\"X\",\"\")","v":""},1007.0746140480042,1007.0746140480042,1062.0906929969788,-15]
["Anguilla",759,759,{"$f":"IF(COUNTIF('WM2026'!$Y$1:$Y$60,A161)+COUNTIF('WM2026'!$BY$1:$BY$60,A161)>0,\"X\",\"\")","v":""},998.29177522659302,998.29177522659302,922.24537515640259,12]
["Neukaledonien",1042,1042,{"$f":"IF(COUNTIF('WM2026'!$Y$1:$Y$60,A162)+COUNTIF('WM2026'!$BY$1:$BY$60,A162)>0,\"X\",\"\")","v":""},991.67156171798706,991.67156171798706,920.74378681182861,12]
["Antigua und Barbuda",986,986,{"$f":"IF(COUNTIF('WM2026'!$Y$1:$Y$60,A163)+COUNTIF('WM2026'!$BY$1:$BY$60,A163)>0,\"X\",\"\")","v":""},988.38036155700684,988.38036155700684,995.69549894332886,-5]
["Estland",1123,1123,{"$f":"IF(COUNTIF('WM2026'!$Y$1:$Y$60,A164)+COUNTIF('WM2026'!$BY$1:$BY$60,A164)>0,\"X\",\"\")","v":""},986.23441982269287,986.23441982269287,970.68004179000854,0]
["Ruanda",1117,1117,{"$f":"IF(COUNTIF('WM2026'!$Y$1:$Y$60,A165)+COUNTIF('WM2026'!$BY$1:$BY$60,A165)>0,\"X\",\"\")","v":""},984.00054407119751,984.00054407119751,920.08749914169312,10]
["Fidschi",1029,1029,{"$f":"IF(COUNTIF('WM2026'!$Y$1:$Y$60,A166)+COUNTIF('WM2026'!$BY$1:$BY$60,A166)>0,\"X\",\"\")","v":""},962.90202522277832,962.90202522277832,1031.1597123146057,-18]
["Luxemburg",1218,1227.77,{"$f":"IF(COUNTIF('WM2026'!$Y$1:$Y$60,A167)+COUNTIF('WM2026'!$BY$1:$BY$60,A167)>0,\"X\",\"\")","v":""},956.80243541717527,956.80243541717527,1056.4469890785217,-21]
["Lettland",1082,1082,{"$f":"IF(COUNTIF('WM2026'!$Y$1:$Y$60,A168)+COUNTIF('WM2026'!$BY$1:$BY$60,A168)>0,\"X\",\"\")","v":""},953.86841249465942,953.86841249465942,976.20572280883789,-6]
["Somalia",828,828,{"$f":"IF(COUNTIF('WM2026'!$Y$1:$Y$60,A169)+COUNTIF('WM2026'!$BY$1:$BY$60,A169)>0,\"X\",\"\")","v":""},948.3742504119873,948.3742504119873,874.95519685745239,15]
["Brunei Darussalam",875,875,{"$f":"IF(COUNTIF('WM2026'!$Y$1:$Y$60,A170)+COUNTIF('WM2026'!$BY$1:$BY$60,A170)>0,\"X\",\"\")","v":""},943.13151597976685,943.13151597976685,858.20639133453369,18]
["Uganda",1264,1264.0899999999999,{"$f":"IF(COUNTIF('WM2026'!$Y$1:$Y$60,A171)+COUNTIF('WM2026'!$BY$1:$BY$60,A171)>0,\"X\",\"\")","v":""},941.43049558639518,941.43049558639518,974.45071062088005,-8]
["Malediven",945,945,{"$f":"IF(COUNTIF('WM2026'!$Y$1:$Y$60,A172)+COUNTIF('WM2026'!$BY$1:$BY$60,A172)>0,\"X\",\"\")","v":""},933.27239513397217,933.27239513397217,871.88364028930664,15]
["Eswatini",1010,1010,{"$f":"IF(COUNTIF('WM2026'!$Y$1:$Y$60,A173)+COUNTIF('WM2026'!$BY$1:$BY$60,A173)>0,\"X\",\"\")","v":""},927.95621633529663,927.95621633529663,896.5431809425354,6]
["Zypern",1128,1128,{"$f":"IF(COUNTIF('WM2026'!$Y$1:$Y$60,A174)+COUNTIF('WM2026'!$BY$1:$BY$60,A174)>0,\"X\",\"\")","v":""},919.29123449325562,919.29123449325562,895.51317024230957,6]
["Libanon",1187,1187,{"$f":"IF(COUNTIF('WM2026'!$Y$1:$Y$60,A175)+COUNTIF('WM2026'!$BY$1:$BY$60,A175)>0,\"X\",\"\")","v":""},911.27488088607788,911.27488088607788,968.52191877365112,-10]
["Litauen",1056,1056,{"$f":"IF(COUNTIF('WM2026'!$Y$1:$Y$60,A176)+COUNTIF('WM2026'!$BY$1:$BY$60,A176)>0,\"X\",\"\")","v":""},878.13703393936157,878.13703393936157,1016.8013391494751,-24]
["Nepal",902,902,{"$f":"IF(COUNTIF('WM2026'!$Y$1:$Y$60,A177)+COUNTIF('WM2026'!$BY$1:$BY$60,A177)>0,\"X\",\"\")","v":""},873.45954370498657,873.45954370498657,959.75282382965088,-9]
["Mongolei",879,879,{"$f":"IF(COUNTIF('WM2026'!$Y$1:$Y$60,A178)+COUNTIF('WM2026'!$BY$1:$BY$60,A178)>0,\"X\",\"\")","v":""},862.64607095718384,862.64607095718384,994.12147665023804,-19]
["Montserrat",916,916,{"$f":"IF(COUNTIF('WM2026'!$Y$1:$Y$60,A179)+COUNTIF('WM2026'!$BY$1:$BY$60,A179)>0,\"X\",\"\")","v":""},860.51904058456421,860.51904058456421,960.73912477493286,-12]
["Macau",865,865,{"$f":"IF(COUNTIF('WM2026'!$Y$1:$Y$60,A180)+COUNTIF('WM2026'!$BY$1:$BY$60,A180)>0,\"X\",\"\")","v":""},856.67751312255859,856.67751312255859,871.88421964645386,6]
["Mauritius",915,915,{"$f":"IF(COUNTIF('WM2026'!$Y$1:$Y$60,A181)+COUNTIF('WM2026'!$BY$1:$BY$60,A181)>0,\"X\",\"\")","v":""},852.72412538528442,852.72412538528442,923.82892370223999,-10]
["Bahrain",1258,1258.53,{"$f":"IF(COUNTIF('WM2026'!$Y$1:$Y$60,A182)+COUNTIF('WM2026'!$BY$1:$BY$60,A182)>0,\"X\",\"\")","v":""},842.17009141921994,842.17009141921994,917.60104015350339,-6]
["Osttimor",835,835,{"$f":"IF(COUNTIF('WM2026'!$Y$1:$Y$60,A183)+COUNTIF('WM2026'!$BY$1:$BY$60,A183)>0,\"X\",\"\")","v":""},819.23266649246216,819.23266649246216,853.24801445007324,7]
["Bhutan",867,867,{"$f":"IF(COUNTIF('WM2026'!$Y$1:$Y$60,A184)+COUNTIF('WM2026'!$BY$1:$BY$60,A184)>0,\"X\",\"\")","v":""},812.76611518859863,812.76611518859863,873.46069526672363,1]
["Kambodscha",911,911,{"$f":"IF(COUNTIF('WM2026'!$Y$1:$Y$60,A185)+COUNTIF('WM2026'!$BY$1:$BY$60,A185)>0,\"X\",\"\")","v":""},812.68418169021606,812.68418169021606,689.01748275756836,17]
["Samoa",876,876,{"$f":"IF(COUNTIF('WM2026'!$Y$1:$Y$60,A186)+COUNTIF('WM2026'!$BY$1:$BY$60,A186)>0,\"X\",\"\")","v":""},809.90990257263184,809.90990257263184,922.7775559425354,-14]
["Amerikanisch-Samoa",883,883,{"$f":"IF(COUNTIF('WM2026'!$Y$1:$Y$60,A187)+COUNTIF('WM2026'!$BY$1:$BY$60,A187)>0,\"X\",\"\")","v":""},809.23324155807495,809.23324155807495,822.87364053726196,4]
["Liberia",1081,1081,{"$f":"IF(COUNTIF('WM2026'!$Y$1:$Y$60,A188)+COUNTIF('WM2026'!$BY$1:$BY$60,A188)>0,\"X\",\"\")","v":""},801.36145687103271,801.36145687103271,898.67912149429321,-10]
["Britische Jungferninseln",776,776,{"$f":"IF(COUNTIF('WM2026'!$Y$1:$Y$60,A189)+COUNTIF('WM2026'!$BY$1:$BY$60,A189)>0,\"X\",\"\")","v":""},800.57864999771118,800.57864999771118,703.44468450546265,10]
["Tonga",835,835,{"$f":"IF(COUNTIF('WM2026'!$Y$1:$Y$60,A190)+COUNTIF('WM2026'!$BY$1:$BY$60,A190)>0,\"X\",\"\")","v":""},799.28262710571289,799.28262710571289,882.95745611190796,-8]
["Grenada",989,989,{"$f":"IF(COUNTIF('WM2026'!$Y$1:$Y$60,A191)+COUNTIF('WM2026'!$BY$1:$BY$60,A191)>0,\"X\",\"\")","v":""},791.5717830657959,791.5717830657959,854.72402954101563,-2]
["Aruba",867,867,{"$f":"IF(COUNTIF('WM2026'!$Y$1:$Y$60,A192)+COUNTIF('WM2026'!$BY$1:$BY$60,A192)>0,\"X\",\"\")","v":""},778.83609962463379,778.83609962463379,699.79316902160645,9]
["Seychellen",805,805,{"$f":"IF(COUNTIF('WM2026'!$Y$1:$Y$60,A193)+COUNTIF('WM2026'!$BY$1:$BY$60,A193)>0,\"X\",\"\")","v":""},778.21185350418091,778.21185350418091,763.82973194122314,3]
["Kuba",980,980,{"$f":"IF(COUNTIF('WM2026'!$Y$1:$Y$60,A194)+COUNTIF('WM2026'!$BY$1:$BY$60,A194)>0,\"X\",\"\")","v":""},767.94317722320557,767.94317722320557,894.43158626556396,-13]
["Puerto Rico",1020,1020,{"$f":"IF(COUNTIF('WM2026'!$Y$1:$Y$60,A195)+COUNTIF('WM2026'!$BY$1:$BY$60,A195)>0,\"X\",\"\")","v":""},755.84780931472778,755.84780931472778,881.50585889816284,-12]
["Tahiti",1019,1019,{"$f":"IF(COUNTIF('WM2026'!$Y$1:$Y$60,A196)+COUNTIF('WM2026'!$BY$1:$BY$60,A196)>0,\"X\",\"\")","v":""},744.01873970031738,744.01873970031738,809.64091920852661,-4]
["Bermuda",976,976,{"$f":"IF(COUNTIF('WM2026'!$Y$1:$Y$60,A197)+COUNTIF('WM2026'!$BY$1:$BY$60,A197)>0,\"X\",\"\")","v":""},741.20787715911865,741.20787715911865,726.57877063751221,0]
["Gibraltar",818,818,{"$f":"IF(COUNTIF('WM2026'!$Y$1:$Y$60,A198)+COUNTIF('WM2026'!$BY$1:$BY$60,A198)>0,\"X\",\"\")","v":""},719.43434286117554,719.43434286117554,725.25078105926514,0]
["Bahamas",796,796,{"$f":"IF(COUNTIF('WM2026'!$Y$1:$Y$60,A199)+COUNTIF('WM2026'!$BY$1:$BY$60,A199)>0,\"X\",\"\")","v":""},700.27225828170776,700.27225828170776,794.87829542160034,-6]
["Barbados",914,914,{"$f":"IF(COUNTIF('WM2026'!$Y$1:$Y$60,A200)+COUNTIF('WM2026'!$BY$1:$BY$60,A200)>0,\"X\",\"\")","v":""},697.89230012893677,697.89230012893677,701.95085430145264,0]
["Liechtenstein",799,799,{"$f":"IF(COUNTIF('WM2026'!$Y$1:$Y$60,A201)+COUNTIF('WM2026'!$BY$1:$BY$60,A201)>0,\"X\",\"\")","v":""},682.50168943405151,682.50168943405151,561.52066612243652,7]
["Dominica",901,901,{"$f":"IF(COUNTIF('WM2026'!$Y$1:$Y$60,A202)+COUNTIF('WM2026'!$BY$1:$BY$60,A202)>0,\"X\",\"\")","v":""},666.69916009902954,666.69916009902954,767.06602668762207,-8]
["Tschad",914,914,{"$f":"IF(COUNTIF('WM2026'!$Y$1:$Y$60,A203)+COUNTIF('WM2026'!$BY$1:$BY$60,A203)>0,\"X\",\"\")","v":""},662.07427406311035,662.07427406311035,764.52144527435303,-8]
["Bangladesch",911,911,{"$f":"IF(COUNTIF('WM2026'!$Y$1:$Y$60,A204)+COUNTIF('WM2026'!$BY$1:$BY$60,A204)>0,\"X\",\"\")","v":""},620.73050594329834,620.73050594329834,638.42563724517822,1]
["Pakistan",833,833,{"$f":"IF(COUNTIF('WM2026'!$Y$1:$Y$60,A205)+COUNTIF('WM2026'!$BY$1:$BY$60,A205)>0,\"X\",\"\")","v":""},609.53886079788208,609.53886079788208,679.02813482284546,-2]
["Papua-Neuguinea",974,974,{"$f":"IF(COUNTIF('WM2026'!$Y$1:$Y$60,A206)+COUNTIF('WM2026'!$BY$1:$BY$60,A206)>0,\"X\",\"\")","v":""},572.62627744674683,572.62627744674683,672.29362869262695,-2]
["San Marino",726,726,{"$f":"IF(COUNTIF('WM2026'!$Y$1:$Y$60,A207)+COUNTIF('WM2026'!$BY$1:$BY$60,A207)>0,\"X\",\"\")","v":""},561.97827196121216,561.97827196121216,607.40402793884277,-1]
["Belize",910,910,{"$f":"IF(COUNTIF('WM2026'!$Y$1:$Y$60,A208)+COUNTIF('WM2026'!$BY$1:$BY$60,A208)>0,\"X\",\"\")","v":""},505.53249835968018,505.53249835968018,522.79866456985474,2]
["Malta",996,996,{"$f":"IF(COUNTIF('WM2026'!$Y$1:$Y$60,A209)+COUNTIF('WM2026'!$BY$1:$BY$60,A209)>0,\"X\",\"\")","v":""},505.28498029708862,505.28498029708862,579.57696771621704,-2]
["Dschibuti",847,847,{"$f":"IF(COUNTIF('WM2026'!$Y$1:$Y$60,A210)+COUNTIF('WM2026'!$BY$1:$BY$60,A210)>0,\"X\",\"\")","v":""},435.75627517700195,435.75627517700195,544.11723327636719,-1]
["Amerikanische Jungferninseln",776,776,{"$f":"IF(COUNTIF('WM2026'!$Y$1:$Y$60,A211)+COUNTIF('WM2026'!$BY$1:$BY$60,A211)>0,\"X\",\"\")","v":""},400.56223487854004,400.56223487854004,317.81931972503662,0]

{"sheet":"Resultate","index":12,"n_rows":37,"n_cols":20,"rows_kept":37,"cut":false,"hidden":false,"merged":[]}
["ELO-Diff","Ergebnis","Heim","Gast","Differenz","Normal","Reverse","Grenze","Umdrehen",null,"Heim","Gast","Differenz","Kategorie","Prognose"]
[720,{"$f":"IF(I2<=H2,G2,F2)","v":"5:0"},{"$f":"MID($B2,1,1)","v":"5"},{"$f":"MID($B2,3,1)","v":"0"},{"$f":"C2-D2","v":5},"5:0",{"$f":"MID(F2,3,1)&\":\"&MID(F2,1,1)","v":"0:5"},14,{"$f":"IF($J$1=\"\",100,INT(RAND()*100))","v":100},"ja/nein","Frankreich","Spanien"]
[{"$f":"A2-40","v":680},{"$f":"IF(I3<=H3,G3,F3)","v":"5:1"},{"$f":"MID($B3,1,1)","v":"5"},"1",4,"5:1",{"$f":"MID(F3,3,1)&\":\"&MID(F3,1,1)","v":"1:5"},{"$f":"H2+2","v":16},{"$f":"IF($J$1=\"\",100,INT(RAND()*100))","v":100},null,{"$f":"VLOOKUP(K2,Rangliste!$A$2:$F$211,6,FALSE)","v":1806.8404520225524},{"$f":"VLOOKUP(L2,Rangliste!$A$2:$F$211,6,FALSE)","v":2006.4451231002809},{"$f":"K3-L3","v":-199.60467107772843},{"$f":"MAX(-680,MIN(720,ROUND(M3/40,0)*40))","v":-200},{"$f":"VLOOKUP(N3,$A$2:$E$37,2,FALSE)","v":"3:4"},{"$f":"VALUE(MID(O3,1,1))","v":3},{"$f":"VALUE(MID(O3,3,1))","v":4},{"$f":"SIGN(K3-L3)","v":-1},{"$f":"IF(P3=Q3,IF(P3=0,R3+P3,P3),P3)","v":3},{"$f":"IF(P3=Q3,IF(Q3=0,Q3,Q3-R3),Q3)","v":4}]
[{"$f":"A3-40","v":640},"4:0","4","0",4,"4:0","0:4",{"$f":"H3+2","v":18},100,null,"Frankreich","Neuseeland"]
[600,"5:2","5","2",3,"5:2","2:5",20,100,null,{"$f":"VLOOKUP(K4,Rangliste!$A$2:$F$211,6,FALSE)","v":1806.8404520225524},{"$f":"VLOOKUP(L4,Rangliste!$A$2:$F$211,6,FALSE)","v":1260.6919234466552},{"$f":"K5-L5","v":546.14852857589722},{"$f":"MAX(-680,MIN(720,ROUND(M5/40,0)*40))","v":560},{"$f":"VLOOKUP(N5,$A$2:$E$37,2,FALSE)","v":"4:1"},{"$f":"VALUE(MID(O5,1,1))","v":4},{"$f":"VALUE(MID(O5,3,1))","v":1},{"$f":"SIGN(K5-L5)","v":1},{"$f":"IF(P5=Q5,IF(P5=0,R5+P5,P5),P5)","v":4},{"$f":"IF(P5=Q5,IF(Q5=0,Q5,Q5-R5),Q5)","v":1}]
[560,"4:1","4","1",3,"4:1","1:4",22,100]
[520,"3:0","3","0",3,"3:0","0:3",24,100]
[480,"5:3","5","3",2,"5:3","3:5",26,100]
[440,"4:2","4","2",2,"4:2","2:4",28,100]
[400,"3:1","3","1",2,"3:1","1:3",30,100]
[360,"2:0","2","0",2,"2:0","0:2",32,100]
[320,"5:5","5","5",0,"5:5","5:5",34,100]
[280,"5:4","5","4",1,"5:4","4:5",36,100]
[240,"4:3","4","3",1,"4:3","3:4",38,100]
[200,"3:2","3","2",1,"3:2","2:3",40,100]
[160,"2:1","2","1",1,"2:1","1:2",42,100]
[120,"1:0","1","0",1,"1:0","0:1",44,100]
[80,"2:2","2","2",0,"2:2","2:2",46,100]
[40,"0:0","0","0",0,"0:0","0:0",48,100]
[0,"1:1","1","1",0,"1:1","1:1",50,100]
[-40,"0:1","0","1",-1,"0:1","1:0",{"$f":"H20-2","v":48},100]
[-80,"1:2","1","2",-1,"1:2","2:1",{"$f":"H21-2","v":46},100]
[-120,"2:3","2","3",-1,"2:3","3:2",44,100]
[-160,"3:3","3","3",0,"3:3","3:3",42,100]
[-200,"3:4","3","4",-1,"3:4","4:3",40,100]
[-240,"4:4","4","4",0,"4:4","4:4",38,100]
[-280,"4:5","4","5",-1,"4:5","5:4",36,100]
[-320,"3:5","3","5",-2,"3:5","5:3",34,100]
[-360,"2:4","2","4",-2,"2:4","4:2",32,100]
[-400,"1:3","1","3",-2,"1:3","3:1",30,100]
[-440,"0:2","0","2",-2,"0:2","2:0",28,100]
[-480,"2:5","2","5",-3,"2:5","5:2",26,100]
[-520,"1:4","1","4",-3,"1:4","4:1",24,100]
[-560,"0:3","0","3",-3,"0:3","3:0",22,100]
[-600,"1:5","1","5",-4,"1:5","5:1",20,100]
[-640,"0:4","0","4",-4,"0:4","4:0",18,100]
[-680,"0:5","0","5",-5,"0:5","5:0",16,100]

{"sheet":"FIFA","index":13,"n_rows":499,"n_cols":27,"rows_kept":499,"cut":false,"hidden":false,"merged":[]}
["Option","Combo","1A","1B","1D","1E","1G","1I","1K","1L"]
[1,{"$f":"CONCATENATE(CHAR(T2),CHAR(U2),CHAR(V2),CHAR(W2),CHAR(X2),CHAR(Y2),CHAR(Z2),CHAR(AA2))","v":"EFGHIJKL"},"3E","3J","3I","3F","3H","3G","3L","3K",{"$f":"CODE(MID(C2,2,1))","v":69},{"$f":"CODE(MID(D2,2,1))","v":74},73,70,72,71,76,75,null,{"$f":"SMALL($K2:$R2,1)","v":69},{"$f":"SMALL($K2:$R2,2)","v":70},{"$f":"SMALL($K2:$R2,3)","v":71},{"$f":"SMALL($K2:$R2,4)","v":72},{"$f":"SMALL($K2:$R2,5)","v":73},{"$f":"SMALL($K2:$R2,6)","v":74},{"$f":"SMALL($K2:$R2,7)","v":75},{"$f":"SMALL($K2:$R2,8)","v":76}]
[2,"DFGHIJKL","3H","3G","3I","3D","3J","3F","3L","3K",{"$f":"CODE(MID(C3,2,1))","v":72},71,73,68,74,70,76,75,null,{"$f":"SMALL($K3:$R3,1)","v":68},{"$f":"SMALL($K3:$R3,2)","v":70},{"$f":"SMALL($K3:$R3,3)","v":71},{"$f":"SMALL($K3:$R3,4)","v":72},{"$f":"SMALL($K3:$R3,5)","v":73},{"$f":"SMALL($K3:$R3,6)","v":74},{"$f":"SMALL($K3:$R3,7)","v":75},{"$f":"SMALL($K3:$R3,8)","v":76}]
[3,"DEGHIJKL","3E","3J","3I","3D","3H","3G","3L","3K",69,74,73,68,72,71,76,75,null,68,69,71,72,73,74,75,76]
[4,"DEFHIJKL","3E","3J","3I","3D","3H","3F","3L","3K",69,74,73,68,72,70,76,75,null,68,69,70,72,73,74,75,76]
[5,"DEFGIJKL","3E","3G","3I","3D","3J","3F","3L","3K",69,71,73,68,74,70,76,75,null,68,69,70,71,73,74,75,76]
[6,"DEFGHJKL","3E","3G","3J","3D","3H","3F","3L","3K",69,71,74,68,72,70,76,75,null,68,69,70,71,72,74,75,76]
[7,"DEFGHIKL","3E","3G","3I","3D","3H","3F","3L","3K",69,71,73,68,72,70,76,75,null,68,69,70,71,72,73,75,76]
[8,"DEFGHIJL","3E","3G","3J","3D","3H","3F","3L","3I",69,71,74,68,72,70,76,73,null,68,69,70,71,72,73,74,76]
[9,"DEFGHIJK","3E","3G","3J","3D","3H","3F","3I","3K",69,71,74,68,72,70,73,75,null,68,69,70,71,72,73,74,75]
[10,"CFGHIJKL","3H","3G","3I","3C","3J","3F","3L","3K",72,71,73,67,74,70,76,75,null,67,70,71,72,73,74,75,76]
[11,"CEGHIJKL","3E","3J","3I","3C","3H","3G","3L","3K",69,74,73,67,72,71,76,75,null,67,69,71,72,73,74,75,76]
[12,"CEFHIJKL","3E","3J","3I","3C","3H","3F","3L","3K",69,74,73,67,72,70,76,75,null,67,69,70,72,73,74,75,76]
[13,"CEFGIJKL","3E","3G","3I","3C","3J","3F","3L","3K",69,71,73,67,74,70,76,75,null,67,69,70,71,73,74,75,76]
[14,"CEFGHJKL","3E","3G","3J","3C","3H","3F","3L","3K",69,71,74,67,72,70,76,75,null,67,69,70,71,72,74,75,76]
[15,"CEFGHIKL","3E","3G","3I","3C","3H","3F","3L","3K",69,71,73,67,72,70,76,75,null,67,69,70,71,72,73,75,76]
[16,"CEFGHIJL","3E","3G","3J","3C","3H","3F","3L","3I",69,71,74,67,72,70,76,73,null,67,69,70,71,72,73,74,76]
[17,"CEFGHIJK","3E","3G","3J","3C","3H","3F","3I","3K",69,71,74,67,72,70,73,75,null,67,69,70,71,72,73,74,75]
[18,"CDGHIJKL","3H","3G","3I","3C","3J","3D","3L","3K",72,71,73,67,74,68,76,75,null,67,68,71,72,73,74,75,76]
[19,"CDFHIJKL","3C","3J","3I","3D","3H","3F","3L","3K",67,74,73,68,72,70,76,75,null,67,68,70,72,73,74,75,76]
[20,"CDFGIJKL","3C","3G","3I","3D","3J","3F","3L","3K",67,71,73,68,74,70,76,75,null,67,68,70,71,73,74,75,76]
[21,"CDFGHJKL","3C","3G","3J","3D","3H","3F","3L","3K",67,71,74,68,72,70,76,75,null,67,68,70,71,72,74,75,76]
[22,"CDFGHIKL","3C","3G","3I","3D","3H","3F","3L","3K",67,71,73,68,72,70,76,75,null,67,68,70,71,72,73,75,76]
[23,"CDFGHIJL","3C","3G","3J","3D","3H","3F","3L","3I",67,71,74,68,72,70,76,73,null,67,68,70,71,72,73,74,76]
[24,"CDFGHIJK","3C","3G","3J","3D","3H","3F","3I","3K",67,71,74,68,72,70,73,75,null,67,68,70,71,72,73,74,75]
[25,"CDEHIJKL","3E","3J","3I","3C","3H","3D","3L","3K",69,74,73,67,72,68,76,75,null,67,68,69,72,73,74,75,76]
[26,"CDEGIJKL","3E","3G","3I","3C","3J","3D","3L","3K",69,71,73,67,74,68,76,75,null,67,68,69,71,73,74,75,76]
[27,"CDEGHJKL","3E","3G","3J","3C","3H","3D","3L","3K",69,71,74,67,72,68,76,75,null,67,68,69,71,72,74,75,76]
[28,"CDEGHIKL","3E","3G","3I","3C","3H","3D","3L","3K",69,71,73,67,72,68,76,75,null,67,68,69,71,72,73,75,76]
[29,"CDEGHIJL","3E","3G","3J","3C","3H","3D","3L","3I",69,71,74,67,72,68,76,73,null,67,68,69,71,72,73,74,76]
[30,"CDEGHIJK","3E","3G","3J","3C","3H","3D","3I","3K",69,71,74,67,72,68,73,75,null,67,68,69,71,72,73,74,75]
[31,"CDEFIJKL","3C","3J","3E","3D","3I","3F","3L","3K",67,74,69,68,73,70,76,75,null,67,68,69,70,73,74,75,76]
[32,"CDEFHJKL","3C","3J","3E","3D","3H","3F","3L","3K",67,74,69,68,72,70,76,75,null,67,68,69,70,72,74,75,76]
[33,"CDEFHIKL","3C","3E","3I","3D","3H","3F","3L","3K",67,69,73,68,72,70,76,75,null,67,68,69,70,72,73,75,76]
[34,"CDEFHIJL","3C","3J","3E","3D","3H","3F","3L","3I",67,74,69,68,72,70,76,73,null,67,68,69,70,72,73,74,76]
[35,"CDEFHIJK","3C","3J","3E","3D","3H","3F","3I","3K",67,74,69,68,72,70,73,75,null,67,68,69,70,72,73,74,75]
[36,"CDEFGJKL","3C","3G","3E","3D","3J","3F","3L","3K",67,71,69,68,74,70,76,75,null,67,68,69,70,71,74,75,76]
[37,"CDEFGIKL","3C","3G","3E","3D","3I","3F","3L","3K",67,71,69,68,{"$f":"CODE(MID(G38,2,1))","v":73},70,76,75,null,67,68,69,70,71,73,75,76]
[38,"CDEFGIJL","3C","3G","3E","3D","3J","3F","3L","3I",67,71,69,68,74,70,76,73,null,67,68,69,70,71,73,74,76]
[39,"CDEFGIJK","3C","3G","3E","3D","3J","3F","3I","3K",67,71,69,68,74,70,73,75,null,67,68,69,70,71,73,74,75]
[40,"CDEFGHKL","3C","3G","3E","3D","3H","3F","3L","3K",67,71,69,68,72,70,76,75,null,67,68,69,70,71,72,75,76]
[41,"CDEFGHJL","3C","3G","3J","3D","3H","3F","3L","3E",67,71,74,68,72,70,76,69,null,67,68,69,70,71,72,74,76]
[42,"CDEFGHJK","3C","3G","3J","3D","3H","3F","3E","3K",67,71,74,68,72,70,69,75,null,67,68,69,70,71,72,74,75]
[43,"CDEFGHIL","3C","3G","3E","3D","3H","3F","3L","3I",67,71,69,68,72,70,76,73,null,67,68,69,70,71,72,73,76]
[44,"CDEFGHIK","3C","3G","3E","3D","3H","3F","3I","3K",67,71,69,68,72,70,73,75,null,67,68,69,70,71,72,73,75]
[45,"CDEFGHIJ","3C","3G","3J","3D","3H","3F","3E","3I",67,71,74,68,72,70,69,73,null,67,68,69,70,71,72,73,74]
[46,"BFGHIJKL","3H","3J","3B","3F","3I","3G","3L","3K",72,74,66,70,73,71,76,75,null,66,70,71,72,73,74,75,76]
[47,"BEGHIJKL","3E","3J","3I","3B","3H","3G","3L","3K",69,74,73,66,72,71,76,75,null,66,69,71,72,73,74,75,76]
[48,"BEFHIJKL","3E","3J","3B","3F","3I","3H","3L","3K",69,74,66,70,73,72,76,75,null,66,69,70,72,73,74,75,76]
[49,"BEFGIJKL","3E","3J","3B","3F","3I","3G","3L","3K",69,74,66,70,73,71,76,75,null,66,69,70,71,73,74,75,76]
[50,"BEFGHJKL","3E","3J","3B","3F","3H","3G","3L","3K",69,74,66,70,72,71,76,75,null,66,69,70,71,72,74,75,76]
[51,"BEFGHIKL","3E","3G","3B","3F","3I","3H","3L","3K",69,71,66,70,73,72,76,75,null,66,69,70,71,72,73,75,76]
[52,"BEFGHIJL","3E","3J","3B","3F","3H","3G","3L","3I",69,74,66,70,72,71,76,73,null,66,69,70,71,72,73,74,76]
[53,"BEFGHIJK","3E","3J","3B","3F","3H","3G","3I","3K",69,74,66,70,72,71,73,75,null,66,69,70,71,72,73,74,75]
[54,"BDGHIJKL","3H","3J","3B","3D","3I","3G","3L","3K",72,74,66,68,73,71,76,75,null,66,68,71,72,73,74,75,76]
[55,"BDFHIJKL","3H","3J","3B","3D","3I","3F","3L","3K",72,74,66,68,73,70,76,75,null,66,68,70,72,73,74,75,76]
[56,"BDFGIJKL","3I","3G","3B","3D","3J","3F","3L","3K",73,71,66,68,74,70,76,75,null,66,68,70,71,73,74,75,76]
[57,"BDFGHJKL","3H","3G","3B","3D","3J","3F","3L","3K",72,71,66,68,74,70,76,75,null,66,68,70,71,72,74,75,76]
[58,"BDFGHIKL","3H","3G","3B","3D","3I","3F","3L","3K",72,71,66,68,73,70,76,75,null,66,68,70,71,72,73,75,76]
[59,"BDFGHIJL","3H","3G","3B","3D","3J","3F","3L","3I",72,71,66,68,74,70,76,73,null,66,68,70,71,72,73,74,76]
[60,"BDFGHIJK","3H","3G","3B","3D","3J","3F","3I","3K",72,71,66,68,74,70,73,75,null,66,68,70,71,72,73,74,75]
[61,"BDEHIJKL","3E","3J","3B","3D","3I","3H","3L","3K",69,74,66,68,73,72,76,75,null,66,68,69,72,73,74,75,76]
[62,"BDEGIJKL","3E","3J","3B","3D","3I","3G","3L","3K",69,74,66,68,73,71,76,75,null,66,68,69,71,73,74,75,76]
[63,"BDEGHJKL","3E","3J","3B","3D","3H","3G","3L","3K",69,74,66,68,72,71,76,75,null,66,68,69,71,72,74,75,76]
[64,"BDEGHIKL","3E","3G","3B","3D","3I","3H","3L","3K",69,71,66,68,73,72,76,75,null,66,68,69,71,72,73,75,76]
[65,{"$f":"CONCATENATE(CHAR(T66),CHAR(U66),CHAR(V66),CHAR(W66),CHAR(X66),CHAR(Y66),CHAR(Z66),CHAR(AA66))","v":"BDEGHIJL"},"3E","3J","3B","3D","3H","3G","3L","3I",69,74,66,68,72,71,76,73,null,66,68,69,71,72,73,74,76]
[66,"BDEGHIJK","3E","3J","3B","3D","3H","3G","3I","3K",{"$f":"CODE(MID(C67,2,1))","v":69},74,66,68,72,71,73,75,null,{"$f":"SMALL($K67:$R67,1)","v":66},{"$f":"SMALL($K67:$R67,2)","v":68},{"$f":"SMALL($K67:$R67,3)","v":69},{"$f":"SMALL($K67:$R67,4)","v":71},{"$f":"SMALL($K67:$R67,5)","v":72},{"$f":"SMALL($K67:$R67,6)","v":73},{"$f":"SMALL($K67:$R67,7)","v":74},{"$f":"SMALL($K67:$R67,8)","v":75}]
[67,"BDEFIJKL","3E","3J","3B","3D","3I","3F","3L","3K",69,74,66,68,73,70,76,75,null,66,68,69,70,73,74,75,76]
[68,"BDEFHJKL","3E","3J","3B","3D","3H","3F","3L","3K",69,74,66,68,72,70,76,75,null,66,68,69,70,72,74,75,76]
[69,"BDEFHIKL","3E","3I","3B","3D","3H","3F","3L","3K",69,73,66,68,72,70,76,75,null,66,68,69,70,72,73,75,76]
[70,"BDEFHIJL","3E","3J","3B","3D","3H","3F","3L","3I",69,74,66,68,72,70,76,73,null,66,68,69,70,72,73,74,76]
[71,"BDEFHIJK","3E","3J","3B","3D","3H","3F","3I","3K",69,74,66,68,72,70,73,75,null,66,68,69,70,72,73,74,75]
[72,"BDEFGJKL","3E","3G","3B","3D","3J","3F","3L","3K",69,71,66,68,74,70,76,75,null,66,68,69,70,71,74,75,76]
[73,"BDEFGIKL","3E","3G","3B","3D","3I","3F","3L","3K",69,71,66,68,73,70,76,75,null,66,68,69,70,71,73,75,76]
[74,"BDEFGIJL","3E","3G","3B","3D","3J","3F","3L","3I",69,71,66,68,74,70,76,73,null,66,68,69,70,71,73,74,76]
[75,"BDEFGIJK","3E","3G","3B","3D","3J","3F","3I","3K",69,71,66,68,74,70,73,75,null,66,68,69,70,71,73,74,75]
[76,"BDEFGHKL","3E","3G","3B","3D","3H","3F","3L","3K",69,71,66,68,72,70,76,75,null,66,68,69,70,71,72,75,76]
[77,"BDEFGHJL","3H","3G","3B","3D","3J","3F","3L","3E",72,71,66,68,74,70,76,69,null,66,68,69,70,71,72,74,76]
[78,"BDEFGHJK","3H","3G","3B","3D","3J","3F","3E","3K",72,71,66,68,74,70,69,75,null,66,68,69,70,71,72,74,75]
[79,"BDEFGHIL","3E","3G","3B","3D","3H","3F","3L","3I",69,71,66,68,72,70,76,73,null,66,68,69,70,71,72,73,76]
[80,"BDEFGHIK","3E","3G","3B","3D","3H","3F","3I","3K",69,71,66,68,72,70,73,75,null,66,68,69,70,71,72,73,75]
[81,"BDEFGHIJ","3H","3G","3B","3D","3J","3F","3E","3I",72,71,66,68,74,70,69,73,null,66,68,69,70,71,72,73,74]
[82,"BCGHIJKL","3H","3J","3B","3C","3I","3G","3L","3K",72,74,66,67,73,71,76,75,null,66,67,71,72,73,74,75,76]
[83,"BCFHIJKL","3H","3J","3B","3C","3I","3F","3L","3K",72,74,66,67,73,70,76,75,null,66,67,70,72,73,74,75,76]
[84,"BCFGIJKL","3I","3G","3B","3C","3J","3F","3L","3K",73,71,66,67,74,70,76,75,null,66,67,70,71,73,74,75,76]
[85,"BCFGHJKL","3H","3G","3B","3C","3J","3F","3L","3K",72,71,66,67,74,70,76,75,null,66,67,70,71,72,74,75,76]
[86,"BCFGHIKL","3H","3G","3B","3C","3I","3F","3L","3K",72,71,66,67,73,70,76,75,null,66,67,70,71,72,73,75,76]
[87,"BCFGHIJL","3H","3G","3B","3C","3J","3F","3L","3I",72,71,66,67,74,70,76,73,null,66,67,70,71,72,73,74,76]
[88,"BCFGHIJK","3H","3G","3B","3C","3J","3F","3I","3K",72,71,66,67,74,70,73,75,null,66,67,70,71,72,73,74,75]
[89,"BCEHIJKL","3E","3J","3B","3C","3I","3H","3L","3K",69,74,66,67,73,72,76,75,null,66,67,69,72,73,74,75,76]
[90,"BCEGIJKL","3E","3J","3B","3C","3I","3G","3L","3K",69,74,66,67,73,71,76,75,null,66,67,69,71,73,74,75,76]
[91,"BCEGHJKL","3E","3J","3B","3C","3H","3G","3L","3K",69,74,66,67,72,71,76,75,null,66,67,69,71,72,74,75,76]
[92,"BCEGHIKL","3E","3G","3B","3C","3I","3H","3L","3K",69,71,66,67,73,72,76,75,null,66,67,69,71,72,73,75,76]
[93,"BCEGHIJL","3E","3J","3B","3C","3H","3G","3L","3I",69,74,66,67,72,71,76,73,null,66,67,69,71,72,73,74,76]
[94,"BCEGHIJK","3E","3J","3B","3C","3H","3G","3I","3K",69,74,66,67,72,71,73,75,null,66,67,69,71,72,73,74,75]
[95,"BCEFIJKL","3E","3J","3B","3C","3I","3F","3L","3K",69,74,66,67,73,70,76,75,null,66,67,69,70,73,74,75,76]
[96,"BCEFHJKL","3E","3J","3B","3C","3H","3F","3L","3K",69,74,66,67,72,70,76,75,null,66,67,69,70,72,74,75,76]
[97,"BCEFHIKL","3E","3I","3B","3C","3H","3F","3L","3K",69,73,66,67,72,70,76,75,null,66,67,69,70,72,73,75,76]
[98,"BCEFHIJL","3E","3J","3B","3C","3H","3F","3L","3I",69,74,66,67,72,70,76,73,null,66,67,69,70,72,73,74,76]
[99,"BCEFHIJK","3E","3J","3B","3C","3H","3F","3I","3K",69,74,66,67,72,70,73,75,null,66,67,69,70,72,73,74,75]
[100,"BCEFGJKL","3E","3G","3B","3C","3J","3F","3L","3K",69,71,66,67,74,70,76,{"$f":"CODE(MID(J101,2,1))","v":75},null,66,67,69,70,71,74,75,76]
[101,"BCEFGIKL","3E","3G","3B","3C","3I","3F","3L","3K",69,71,66,67,73,70,76,75,null,66,67,69,70,71,73,75,76]
[102,"BCEFGIJL","3E","3G","3B","3C","3J","3F","3L","3I",69,71,66,67,74,70,76,73,null,66,67,69,70,71,73,74,76]
[103,"BCEFGIJK","3E","3G","3B","3C","3J","3F","3I","3K",69,71,66,67,74,70,73,75,null,66,67,69,70,71,73,74,75]
[104,"BCEFGHKL","3E","3G","3B","3C","3H","3F","3L","3K",69,71,66,67,72,70,76,75,null,66,67,69,70,71,72,75,76]
[105,"BCEFGHJL","3H","3G","3B","3C","3J","3F","3L","3E",72,71,66,67,74,70,76,69,null,66,67,69,70,71,72,74,76]
[106,"BCEFGHJK","3H","3G","3B","3C","3J","3F","3E","3K",72,71,66,67,74,70,69,75,null,66,67,69,70,71,72,74,75]
[107,"BCEFGHIL","3E","3G","3B","3C","3H","3F","3L","3I",69,71,66,67,72,70,76,73,null,66,67,69,70,71,72,73,76]
[108,"BCEFGHIK","3E","3G","3B","3C","3H","3F","3I","3K",69,71,66,67,72,70,73,75,null,66,67,69,70,71,72,73,75]
[109,"BCEFGHIJ","3H","3G","3B","3C","3J","3F","3E","3I",72,71,66,67,74,70,69,73,null,66,67,69,70,71,72,73,74]
[110,"BCDHIJKL","3H","3J","3B","3C","3I","3D","3L","3K",72,74,66,67,73,68,76,75,null,66,67,68,72,73,74,75,76]
[111,"BCDGIJKL","3I","3G","3B","3C","3J","3D","3L","3K",73,71,66,67,74,68,76,75,null,66,67,68,71,73,74,75,76]
[112,"BCDGHJKL","3H","3G","3B","3C","3J","3D","3L","3K",72,71,66,67,74,68,76,75,null,66,67,68,71,72,74,75,76]
[113,"BCDGHIKL","3H","3G","3B","3C","3I","3D","3L","3K",72,71,66,67,73,68,76,75,null,66,67,68,71,72,73,75,76]
[114,"BCDGHIJL","3H","3G","3B","3C","3J","3D","3L","3I",72,71,66,67,74,68,76,73,null,66,67,68,71,72,73,74,76]
[115,"BCDGHIJK","3H","3G","3B","3C","3J","3D","3I","3K",72,71,66,67,74,68,73,75,null,66,67,68,71,72,73,74,75]
[116,"BCDFIJKL","3C","3J","3B","3D","3I","3F","3L","3K",67,74,66,68,73,70,76,75,null,66,67,68,70,73,74,75,76]
[117,"BCDFHJKL","3C","3J","3B","3D","3H","3F","3L","3K",67,74,66,{"$f":"CODE(MID(F118,2,1))","v":68},72,70,76,75,null,66,67,68,70,72,74,75,76]
[118,"BCDFHIKL","3C","3I","3B","3D","3H","3F","3L","3K",{"$f":"CODE(MID(C119,2,1))","v":67},73,66,68,72,70,76,75,null,66,67,68,70,72,73,75,76]
[119,"BCDFHIJL","3C","3J","3B","3D","3H","3F","3L","3I",67,74,66,68,72,70,76,73,null,66,67,68,70,72,73,74,76]
[120,"BCDFHIJK","3C","3J","3B","3D","3H","3F","3I","3K",67,74,66,68,72,70,73,75,null,66,67,68,70,72,73,74,75]
[121,"BCDFGJKL","3C","3G","3B","3D","3J","3F","3L","3K",67,71,66,68,74,70,76,75,null,66,67,68,70,71,74,75,76]
[122,"BCDFGIKL","3C","3G","3B","3D","3I","3F","3L","3K",67,71,66,68,73,70,76,75,null,66,67,68,70,71,73,75,76]
[123,"BCDFGIJL","3C","3G","3B","3D","3J","3F","3L","3I",67,71,66,68,74,70,76,73,null,66,67,68,70,71,73,74,76]
[124,"BCDFGIJK","3C","3G","3B","3D","3J","3F","3I","3K",67,71,66,68,74,70,73,75,null,66,67,68,70,71,73,74,75]
[125,"BCDFGHKL","3C","3G","3B","3D","3H","3F","3L","3K",67,71,66,68,72,70,76,75,null,66,67,68,70,71,72,75,76]
[126,"BCDFGHJL","3C","3G","3B","3D","3H","3F","3L","3J",67,71,66,68,72,70,76,74,null,66,67,68,70,71,72,74,76]
[127,"BCDFGHJK","3H","3G","3B","3C","3J","3F","3D","3K",72,71,66,67,74,70,68,75,null,66,67,68,70,71,72,74,75]
[128,"BCDFGHIL","3C","3G","3B","3D","3H","3F","3L","3I",67,71,66,68,72,70,76,73,null,66,67,68,70,71,72,73,76]
[129,{"$f":"CONCATENATE(CHAR(T130),CHAR(U130),CHAR(V130),CHAR(W130),CHAR(X130),CHAR(Y130),CHAR(Z130),CHAR(AA130))","v":"BCDFGHIK"},"3C","3G","3B","3D","3H","3F","3I","3K",67,71,66,68,72,70,73,75,null,66,67,68,70,71,72,73,75]
[130,"BCDFGHIJ","3H","3G","3B","3C","3J","3F","3D","3I",72,71,66,67,74,70,68,73,null,{"$f":"SMALL($K131:$R131,1)","v":66},{"$f":"SMALL($K131:$R131,2)","v":67},{"$f":"SMALL($K131:$R131,3)","v":68},{"$f":"SMALL($K131:$R131,4)","v":70},{"$f":"SMALL($K131:$R131,5)","v":71},{"$f":"SMALL($K131:$R131,6)","v":72},{"$f":"SMALL($K131:$R131,7)","v":73},{"$f":"SMALL($K131:$R131,8)","v":74}]
[131,"BCDEIJKL","3E","3J","3B","3C","3I","3D","3L","3K",69,74,66,67,73,68,76,75,null,66,67,68,69,73,74,75,76]
[132,"BCDEHJKL","3E","3J","3B","3C","3H","3D","3L","3K",69,74,66,67,72,68,76,75,null,66,67,68,69,72,74,75,76]
[133,"BCDEHIKL","3E","3I","3B","3C","3H","3D","3L","3K",69,73,66,67,72,68,76,75,null,66,67,68,69,72,73,75,76]
[134,"BCDEHIJL","3E","3J","3B","3C","3H","3D","3L","3I",69,74,66,67,72,68,76,73,null,66,67,68,69,72,73,74,76]
[135,"BCDEHIJK","3E","3J","3B","3C","3H","3D","3I","3K",69,74,66,67,72,68,73,75,null,66,67,68,69,72,73,74,75]
[136,"BCDEGJKL","3E","3G","3B","3C","3J","3D","3L","3K",69,71,66,67,74,68,76,75,null,66,67,68,69,71,74,75,76]
[137,"BCDEGIKL","3E","3G","3B","3C","3I","3D","3L","3K",69,71,66,67,73,68,76,75,null,66,67,68,69,71,73,75,76]
[138,"BCDEGIJL","3E","3G","3B","3C","3J","3D","3L","3I",69,71,66,67,74,68,76,73,null,66,67,68,69,71,73,74,76]
[139,"BCDEGIJK","3E","3G","3B","3C","3J","3D","3I","3K",69,71,66,67,74,68,73,75,null,66,67,68,69,71,73,74,75]
[140,"BCDEGHKL","3E","3G","3B","3C","3H","3D","3L","3K",69,71,66,67,72,68,76,75,null,66,67,68,69,71,72,75,76]
[141,"BCDEGHJL","3H","3G","3B","3C","3J","3D","3L","3E",72,71,66,67,74,68,76,69,null,66,67,68,69,71,72,74,76]
[142,"BCDEGHJK","3H","3G","3B","3C","3J","3D","3E","3K",72,71,66,67,74,68,69,75,null,66,67,68,69,71,72,74,75]
[143,"BCDEGHIL","3E","3G","3B","3C","3H","3D","3L","3I",69,71,66,67,72,68,76,73,null,66,67,68,69,71,72,73,76]
[144,"BCDEGHIK","3E","3G","3B","3C","3H","3D","3I","3K",69,71,66,67,72,68,73,75,null,66,67,68,69,71,72,73,75]
[145,"BCDEGHIJ","3H","3G","3B","3C","3J","3D","3E","3I",72,71,66,67,74,68,69,73,null,66,67,68,69,71,72,73,74]
[146,"BCDEFJKL","3C","3J","3B","3D","3E","3F","3L","3K",67,74,66,68,69,70,76,75,null,66,67,68,69,70,74,75,76]
[147,"BCDEFIKL","3C","3E","3B","3D","3I","3F","3L","3K",67,69,66,68,73,70,76,75,null,66,67,68,69,70,73,75,76]
[148,"BCDEFIJL","3C","3J","3B","3D","3E","3F","3L","3I",67,74,66,68,69,70,76,73,null,66,67,68,69,70,73,74,76]
[149,"BCDEFIJK","3C","3J","3B","3D","3E","3F","3I","3K",67,74,66,68,69,70,73,75,null,66,67,68,69,70,73,74,75]
[150,"BCDEFHKL","3C","3E","3B","3D","3H","3F","3L","3K",67,69,66,68,72,70,76,75,null,66,67,68,69,70,72,75,76]
[151,"BCDEFHJL","3C","3J","3B","3D","3H","3F","3L","3E",67,74,66,68,72,70,76,69,null,66,67,68,69,70,72,74,76]
[152,"BCDEFHJK","3C","3J","3B","3D","3H","3F","3E","3K",67,74,66,68,72,70,69,75,null,66,67,68,69,70,72,74,75]
[153,"BCDEFHIL","3C","3E","3B","3D","3H","3F","3L","3I",67,69,66,68,72,70,76,73,null,66,67,68,69,70,72,73,76]
[154,"BCDEFHIK","3C","3E","3B","3D","3H","3F","3I","3K",67,69,66,68,72,70,73,75,null,66,67,68,69,70,72,73,75]
[155,"BCDEFHIJ","3C","3J","3B","3D","3H","3F","3E","3I",67,74,66,68,72,70,69,73,null,66,67,68,69,70,72,73,74]
[156,"BCDEFGKL","3C","3G","3B","3D","3E","3F","3L","3K",67,71,66,68,69,70,76,75,null,66,67,68,69,70,71,75,76]
[157,"BCDEFGJL","3C","3G","3B","3D","3J","3F","3L","3E",67,71,66,68,74,70,76,69,null,66,67,68,69,70,71,74,76]
[158,"BCDEFGJK","3C","3G","3B","3D","3J","3F","3E","3K",67,71,66,68,74,70,69,75,null,66,67,68,69,70,71,74,75]
[159,"BCDEFGIL","3C","3G","3B","3D","3E","3F","3L","3I",67,71,66,68,69,70,76,73,null,66,67,68,69,70,71,73,76]
[160,"BCDEFGIK","3C","3G","3B","3D","3E","3F","3I","3K",67,71,66,68,69,70,73,75,null,66,67,68,69,70,71,73,75]
[161,"BCDEFGIJ","3C","3G","3B","3D","3J","3F","3E","3I",67,71,66,68,74,70,69,73,null,66,67,68,69,70,71,73,74]
[162,"BCDEFGHL","3C","3G","3B","3D","3H","3F","3L","3E",67,71,66,68,72,70,76,69,null,66,67,68,69,70,71,72,76]
[163,"BCDEFGHK","3C","3G","3B","3D","3H","3F","3E","3K",67,71,66,68,72,70,69,75,null,66,67,68,69,70,71,72,75]
[164,"BCDEFGHJ","3H","3G","3B","3C","3J","3F","3D","3E",72,71,66,67,74,70,68,69,null,66,67,68,69,70,71,72,74]
[165,"BCDEFGHI","3C","3G","3B","3D","3H","3F","3E","3I",67,71,66,68,72,70,69,73,null,66,67,68,69,70,71,72,73]
[166,"AFGHIJKL","3H","3J","3I","3F","3A","3G","3L","3K",72,74,73,70,65,71,76,75,null,65,70,71,72,73,74,75,76]
[167,"AEGHIJKL","3E","3J","3I","3A","3H","3G","3L","3K",69,74,73,65,72,71,76,75,null,65,69,71,72,73,74,75,76]
[168,"AEFHIJKL","3E","3J","3I","3F","3A","3H","3L","3K",69,74,73,70,65,72,76,75,null,65,69,70,72,73,74,75,76]
[169,"AEFGIJKL","3E","3J","3I","3F","3A","3G","3L","3K",69,74,73,70,65,71,76,75,null,65,69,70,71,73,74,75,76]
[170,"AEFGHJKL","3E","3G","3J","3F","3A","3H","3L","3K",69,71,74,70,65,72,76,75,null,65,69,70,71,72,74,75,76]
[171,"AEFGHIKL","3E","3G","3I","3F","3A","3H","3L","3K",69,71,73,70,65,72,76,75,null,65,69,70,71,72,73,75,76]
[172,"AEFGHIJL","3E","3G","3J","3F","3A","3H","3L","3I",69,71,74,70,65,72,76,73,null,65,69,70,71,72,73,74,76]
[173,"AEFGHIJK","3E","3G","3J","3F","3A","3H","3I","3K",69,71,74,70,65,72,73,75,null,65,69,70,71,72,73,74,75]
[174,"ADGHIJKL","3H","3J","3I","3D","3A","3G","3L","3K",72,74,73,68,65,71,76,75,null,65,68,71,72,73,74,75,76]
[175,"ADFHIJKL","3H","3J","3I","3D","3A","3F","3L","3K",72,74,73,68,65,70,76,75,null,65,68,70,72,73,74,75,76]
[176,"ADFGIJKL","3I","3G","3J","3D","3A","3F","3L","3K",73,71,74,68,65,70,76,75,null,65,68,70,71,73,74,75,76]
[177,"ADFGHJKL","3H","3G","3J","3D","3A","3F","3L","3K",72,71,74,68,65,{"$f":"CODE(MID(H178,2,1))","v":70},76,75,null,65,68,70,71,72,74,75,76]
[178,"ADFGHIKL","3H","3G","3I","3D","3A","3F","3L","3K",72,71,73,68,65,70,76,75,null,65,68,70,71,72,73,75,76]
[179,"ADFGHIJL","3H","3G","3J","3D","3A","3F","3L","3I",72,71,74,68,65,70,76,73,null,65,68,70,71,72,73,74,76]
[180,"ADFGHIJK","3H","3G","3J","3D","3A","3F","3I","3K",72,71,74,68,65,70,73,75,null,65,68,70,71,72,73,74,75]
[181,"ADEHIJKL","3E","3J","3I","3D","3A","3H","3L","3K",69,74,73,68,65,72,76,75,null,65,68,69,72,73,74,75,76]
[182,"ADEGIJKL","3E","3J","3I","3D","3A","3G","3L","3K",{"$f":"CODE(MID(C183,2,1))","v":69},74,73,68,65,71,76,75,null,65,68,69,71,73,74,75,76]
[183,"ADEGHJKL","3E","3G","3J","3D","3A","3H","3L","3K",69,71,74,68,65,72,76,75,null,65,68,69,71,72,74,75,76]
[184,"ADEGHIKL","3E","3G","3I","3D","3A","3H","3L","3K",69,71,73,68,65,72,76,75,null,65,68,69,71,72,73,75,76]
[185,"ADEGHIJL","3E","3G","3J","3D","3A","3H","3L","3I",69,71,74,68,65,72,76,73,null,65,68,69,71,72,73,74,76]
[186,"ADEGHIJK","3E","3G","3J","3D","3A","3H","3I","3K",69,71,74,68,65,72,73,75,null,65,68,69,71,72,73,74,75]
[187,"ADEFIJKL","3E","3J","3I","3D","3A","3F","3L","3K",69,74,73,68,65,70,76,75,null,65,68,69,70,73,74,75,76]
[188,"ADEFHJKL","3H","3J","3E","3D","3A","3F","3L","3K",72,74,69,68,65,70,76,75,null,65,68,69,70,72,74,75,76]
[189,"ADEFHIKL","3H","3E","3I","3D","3A","3F","3L","3K",72,69,73,68,65,70,76,75,null,65,68,69,70,72,73,75,76]
[190,"ADEFHIJL","3H","3J","3E","3D","3A","3F","3L","3I",72,74,69,68,65,70,76,73,null,65,68,69,70,72,73,74,76]
[191,"ADEFHIJK","3H","3J","3E","3D","3A","3F","3I","3K",72,74,69,68,65,70,73,75,null,65,68,69,70,72,73,74,75]
[192,"ADEFGJKL","3E","3G","3J","3D","3A","3F","3L","3K",69,71,74,68,65,70,76,75,null,65,68,69,70,71,74,75,76]
[193,{"$f":"CONCATENATE(CHAR(T194),CHAR(U194),CHAR(V194),CHAR(W194),CHAR(X194),CHAR(Y194),CHAR(Z194),CHAR(AA194))","v":"ADEFGIKL"},"3E","3G","3I","3D","3A","3F","3L","3K",69,71,73,68,65,70,76,75,null,65,68,69,70,71,73,75,76]
[194,"ADEFGIJL","3E","3G","3J","3D","3A","3F","3L","3I",69,71,74,68,65,70,76,73,null,{"$f":"SMALL($K195:$R195,1)","v":65},{"$f":"SMALL($K195:$R195,2)","v":68},{"$f":"SMALL($K195:$R195,3)","v":69},{"$f":"SMALL($K195:$R195,4)","v":70},{"$f":"SMALL($K195:$R195,5)","v":71},{"$f":"SMALL($K195:$R195,6)","v":73},{"$f":"SMALL($K195:$R195,7)","v":74},{"$f":"SMALL($K195:$R195,8)","v":76}]
[195,"ADEFGIJK","3E","3G","3J","3D","3A","3F","3I","3K",69,71,74,68,65,70,73,75,null,65,68,69,70,71,73,74,75]
[196,"ADEFGHKL","3H","3G","3E","3D","3A","3F","3L","3K",72,71,69,68,65,70,76,75,null,65,68,69,70,71,72,75,76]
[197,"ADEFGHJL","3H","3G","3J","3D","3A","3F","3L","3E",72,71,74,68,65,70,76,69,null,65,68,69,70,71,72,74,76]
[198,"ADEFGHJK","3H","3G","3J","3D","3A","3F","3E","3K",72,71,74,68,65,70,69,75,null,65,68,69,70,71,72,74,75]
[199,"ADEFGHIL","3H","3G","3E","3D","3A","3F","3L","3I",72,71,69,68,65,70,76,73,null,65,68,69,70,71,72,73,76]
[200,"ADEFGHIK","3H","3G","3E","3D","3A","3F","3I","3K",72,71,69,68,65,70,73,75,null,65,68,69,70,71,72,73,75]
[201,"ADEFGHIJ","3H","3G","3J","3D","3A","3F","3E","3I",72,71,74,68,65,70,69,73,null,65,68,69,70,71,72,73,74]
[202,"ACGHIJKL","3H","3J","3I","3C","3A","3G","3L","3K",72,74,73,67,65,71,76,75,null,65,67,71,72,73,74,75,76]
[203,"ACFHIJKL","3H","3J","3I","3C","3A","3F","3L","3K",72,74,73,67,65,70,76,75,null,65,67,70,72,73,74,75,76]
[204,"ACFGIJKL","3I","3G","3J","3C","3A","3F","3L","3K",73,71,74,67,65,70,76,75,null,65,67,70,71,73,74,75,76]
[205,"ACFGHJKL","3H","3G","3J","3C","3A","3F","3L","3K",72,71,74,67,65,70,76,75,null,65,67,70,71,72,74,75,76]
[206,"ACFGHIKL","3H","3G","3I","3C","3A","3F","3L","3K",72,71,73,67,65,70,76,75,null,65,67,70,71,72,73,75,76]
[207,"ACFGHIJL","3H","3G","3J","3C","3A","3F","3L","3I",72,71,74,67,65,70,76,73,null,65,67,70,71,72,73,74,76]
[208,"ACFGHIJK","3H","3G","3J","3C","3A","3F","3I","3K",72,71,74,67,65,70,73,75,null,65,67,70,71,72,73,74,75]
[209,"ACEHIJKL","3E","3J","3I","3C","3A","3H","3L","3K",69,74,73,67,65,72,76,75,null,65,67,69,72,73,74,75,76]
[210,"ACEGIJKL","3E","3J","3I","3C","3A","3G","3L","3K",69,74,73,67,65,71,76,75,null,65,67,69,71,73,74,75,76]
[211,"ACEGHJKL","3E","3G","3J","3C","3A","3H","3L","3K",69,71,74,67,65,72,76,75,null,65,67,69,71,72,74,75,76]
[212,"ACEGHIKL","3E","3G","3I","3C","3A","3H","3L","3K",69,71,73,67,65,72,76,75,null,65,67,69,71,72,73,75,76]
[213,"ACEGHIJL","3E","3G","3J","3C","3A","3H","3L","3I",69,71,74,67,65,72,76,73,null,65,67,69,71,72,73,74,76]
[214,"ACEGHIJK","3E","3G","3J","3C","3A","3H","3I","3K",69,71,74,67,65,72,73,75,null,65,67,69,71,72,73,74,75]
[215,"ACEFIJKL","3E","3J","3I","3C","3A","3F","3L","3K",69,74,73,67,65,70,76,75,null,65,67,69,70,73,74,75,76]
[216,"ACEFHJKL","3H","3J","3E","3C","3A","3F","3L","3K",72,74,69,67,65,70,76,75,null,65,67,69,70,72,74,75,76]
[217,"ACEFHIKL","3H","3E","3I","3C","3A","3F","3L","3K",72,69,73,67,65,70,76,75,null,65,67,69,70,72,73,75,76]
[218,"ACEFHIJL","3H","3J","3E","3C","3A","3F","3L","3I",72,74,69,67,65,70,76,73,null,65,67,69,70,72,73,74,76]
[219,"ACEFHIJK","3H","3J","3E","3C","3A","3F","3I","3K",72,74,69,67,65,70,73,75,null,65,67,69,70,72,73,74,75]
[220,"ACEFGJKL","3E","3G","3J","3C","3A","3F","3L","3K",69,71,74,67,65,70,76,75,null,65,67,69,70,71,74,75,76]
[221,"ACEFGIKL","3E","3G","3I","3C","3A","3F","3L","3K",69,71,73,67,65,70,76,75,null,65,67,69,70,71,73,75,76]
[222,"ACEFGIJL","3E","3G","3J","3C","3A","3F","3L","3I",69,71,74,67,65,70,76,73,null,65,67,69,70,71,73,74,76]
[223,"ACEFGIJK","3E","3G","3J","3C","3A","3F","3I","3K",69,71,74,67,65,70,73,75,null,65,67,69,70,71,73,74,75]
[224,"ACEFGHKL","3H","3G","3E","3C","3A","3F","3L","3K",72,71,69,67,65,70,76,75,null,65,67,69,70,71,72,75,76]
[225,"ACEFGHJL","3H","3G","3J","3C","3A","3F","3L","3E",72,71,74,67,65,70,76,69,null,65,67,69,70,71,72,74,76]
[226,"ACEFGHJK","3H","3G","3J","3C","3A","3F","3E","3K",72,71,74,67,65,70,69,75,null,65,67,69,70,71,72,74,75]
[227,"ACEFGHIL","3H","3G","3E","3C","3A","3F","3L","3I",72,71,69,67,65,70,76,73,null,65,67,69,70,71,72,73,76]
[228,"ACEFGHIK","3H","3G","3E","3C","3A","3F","3I","3K",72,71,69,67,65,70,73,75,null,65,67,69,70,71,72,73,75]
[229,"ACEFGHIJ","3H","3G","3J","3C","3A","3F","3E","3I",72,71,74,67,65,70,69,73,null,65,67,69,70,71,72,73,74]
[230,"ACDHIJKL","3H","3J","3I","3C","3A","3D","3L","3K",72,74,73,67,65,68,76,75,null,65,67,68,72,73,74,75,76]
[231,"ACDGIJKL","3I","3G","3J","3C","3A","3D","3L","3K",73,71,74,67,65,68,76,75,null,65,67,68,71,73,74,75,76]
[232,"ACDGHJKL","3H","3G","3J","3C","3A","3D","3L","3K",72,71,74,67,65,68,76,75,null,65,67,68,71,72,74,75,76]
[233,"ACDGHIKL","3H","3G","3I","3C","3A","3D","3L","3K",{"$f":"CODE(MID(C234,2,1))","v":72},{"$f":"CODE(MID(D234,2,1))","v":71},{"$f":"CODE(MID(E234,2,1))","v":73},{"$f":"CODE(MID(F234,2,1))","v":67},{"$f":"CODE(MID(G234,2,1))","v":65},68,76,75,null,65,67,68,71,72,73,75,76]
[234,"ACDGHIJL","3H","3G","3J","3C","3A","3D","3L","3I",72,71,74,67,65,68,76,73,null,65,67,68,71,72,73,74,76]
[235,"ACDGHIJK","3H","3G","3J","3C","3A","3D","3I","3K",72,71,74,67,65,68,73,75,null,65,67,68,71,72,73,74,75]
[236,"ACDFIJKL","3C","3J","3I","3D","3A","3F","3L","3K",67,74,73,68,65,70,76,75,null,65,67,68,70,73,74,75,76]
[237,"ACDFHJKL","3H","3J","3F","3C","3A","3D","3L","3K",72,74,70,67,65,68,76,75,null,65,67,68,70,72,74,75,76]
[238,"ACDFHIKL","3H","3F","3I","3C","3A","3D","3L","3K",72,70,73,67,65,68,76,75,null,65,67,68,70,72,73,75,76]
[239,"ACDFHIJL","3H","3J","3F","3C","3A","3D","3L","3I",72,74,70,67,65,68,76,73,null,65,67,68,70,72,73,74,76]
[240,"ACDFHIJK","3H","3J","3F","3C","3A","3D","3I","3K",72,74,70,67,65,68,73,75,null,65,67,68,70,72,73,74,75]
[241,"ACDFGJKL","3C","3G","3J","3D","3A","3F","3L","3K",67,71,74,68,65,{"$f":"CODE(MID(H242,2,1))","v":70},{"$f":"CODE(MID(I242,2,1))","v":76},{"$f":"CODE(MID(J242,2,1))","v":75},null,65,67,68,70,71,74,75,76]
[242,"ACDFGIKL","3C","3G","3I","3D","3A","3F","3L","3K",67,71,73,68,65,70,76,75,null,65,67,68,70,71,73,75,76]
[243,"ACDFGIJL","3C","3G","3J","3D","3A","3F","3L","3I",67,71,74,68,65,70,76,73,null,65,67,68,70,71,73,74,76]
[244,"ACDFGIJK","3C","3G","3J","3D","3A","3F","3I","3K",67,71,74,68,65,70,73,75,null,65,67,68,70,71,73,74,75]
[245,"ACDFGHKL","3H","3G","3F","3C","3A","3D","3L","3K",72,71,70,67,65,68,76,75,null,65,67,68,70,71,72,75,76]
[246,"ACDFGHJL","3C","3G","3J","3D","3A","3F","3L","3H",67,71,74,68,65,70,76,72,null,65,67,68,70,71,72,74,76]
[247,"ACDFGHJK","3H","3G","3J","3C","3A","3F","3D","3K",72,71,74,67,65,70,68,75,null,65,67,68,70,71,72,74,75]
[248,"ACDFGHIL","3H","3G","3F","3C","3A","3D","3L","3I",72,71,70,67,65,68,76,73,null,65,67,68,70,71,72,73,76]
[249,"ACDFGHIK","3H","3G","3F","3C","3A","3D","3I","3K",72,71,70,67,65,68,73,75,null,65,67,68,70,71,72,73,75]
[250,"ACDFGHIJ","3H","3G","3J","3C","3A","3F","3D","3I",72,71,74,67,65,70,68,73,null,65,67,68,70,71,72,73,74]
[251,"ACDEIJKL","3E","3J","3I","3C","3A","3D","3L","3K",69,74,73,67,65,68,76,75,null,65,67,68,69,73,74,75,76]
[252,"ACDEHJKL","3H","3J","3E","3C","3A","3D","3L","3K",72,74,69,67,65,68,76,75,null,65,67,68,69,72,74,75,76]
[253,"ACDEHIKL","3H","3E","3I","3C","3A","3D","3L","3K",72,69,73,67,65,68,76,75,null,65,67,68,69,72,73,75,76]
[254,"ACDEHIJL","3H","3J","3E","3C","3A","3D","3L","3I",72,74,69,67,65,68,76,73,null,65,67,68,69,72,73,74,76]
[255,"ACDEHIJK","3H","3J","3E","3C","3A","3D","3I","3K",72,74,69,67,65,68,73,75,null,65,67,68,69,72,73,74,75]
[256,"ACDEGJKL","3E","3G","3J","3C","3A","3D","3L","3K",69,71,74,67,65,68,76,75,null,65,67,68,69,71,74,75,76]
[257,{"$f":"CONCATENATE(CHAR(T258),CHAR(U258),CHAR(V258),CHAR(W258),CHAR(X258),CHAR(Y258),CHAR(Z258),CHAR(AA258))","v":"ACDEGIKL"},"3E","3G","3I","3C","3A","3D","3L","3K",69,71,73,67,65,68,76,75,null,65,67,68,69,71,73,75,76]
[258,"ACDEGIJL","3E","3G","3J","3C","3A","3D","3L","3I",69,71,74,67,65,68,76,73,null,{"$f":"SMALL($K259:$R259,1)","v":65},{"$f":"SMALL($K259:$R259,2)","v":67},{"$f":"SMALL($K259:$R259,3)","v":68},{"$f":"SMALL($K259:$R259,4)","v":69},{"$f":"SMALL($K259:$R259,5)","v":71},{"$f":"SMALL($K259:$R259,6)","v":73},{"$f":"SMALL($K259:$R259,7)","v":74},{"$f":"SMALL($K259:$R259,8)","v":76}]
[259,"ACDEGIJK","3E","3G","3J","3C","3A","3D","3I","3K",69,71,74,67,65,68,73,75,null,65,67,68,69,71,73,74,75]
[260,"ACDEGHKL","3H","3G","3E","3C","3A","3D","3L","3K",72,71,69,67,65,68,76,75,null,65,67,68,69,71,72,75,76]
[261,"ACDEGHJL","3H","3G","3J","3C","3A","3D","3L","3E",72,71,74,67,65,68,76,69,null,65,67,68,69,71,72,74,76]
[262,"ACDEGHJK","3H","3G","3J","3C","3A","3D","3E","3K",72,71,74,67,65,68,69,75,null,65,67,68,69,71,72,74,75]
[263,"ACDEGHIL","3H","3G","3E","3C","3A","3D","3L","3I",72,71,69,67,65,68,76,73,null,65,67,68,69,71,72,73,76]
[264,"ACDEGHIK","3H","3G","3E","3C","3A","3D","3I","3K",72,71,69,67,65,68,73,75,null,65,67,68,69,71,72,73,75]
[265,"ACDEGHIJ","3H","3G","3J","3C","3A","3D","3E","3I",72,71,74,67,65,68,69,73,null,65,67,68,69,71,72,73,74]
[266,"ACDEFJKL","3C","3J","3E","3D","3A","3F","3L","3K",67,74,69,68,65,70,76,75,null,65,67,68,69,70,74,75,76]
[267,"ACDEFIKL","3C","3E","3I","3D","3A","3F","3L","3K",67,69,73,68,65,{"$f":"CODE(MID(H268,2,1))","v":70},{"$f":"CODE(MID(I268,2,1))","v":76},{"$f":"CODE(MID(J268,2,1))","v":75},null,65,67,68,69,70,73,75,76]
[268,"ACDEFIJL","3C","3J","3E","3D","3A","3F","3L","3I",{"$f":"CODE(MID(C269,2,1))","v":67},74,69,68,65,70,76,73,null,65,67,68,69,70,73,74,76]
[269,"ACDEFIJK","3C","3J","3E","3D","3A","3F","3I","3K",67,74,69,68,65,70,73,75,null,65,67,68,69,70,73,74,75]
[270,"ACDEFHKL","3H","3E","3F","3C","3A","3D","3L","3K",72,69,70,67,65,68,76,75,null,65,67,68,69,70,72,75,76]
[271,"ACDEFHJL","3H","3J","3F","3C","3A","3D","3L","3E",72,74,70,67,65,68,76,69,null,65,67,68,69,70,72,74,76]
[272,"ACDEFHJK","3H","3J","3E","3C","3A","3F","3D","3K",72,74,69,67,65,70,68,75,null,65,67,68,69,70,72,74,75]
[273,"ACDEFHIL","3H","3E","3F","3C","3A","3D","3L","3I",72,69,70,67,65,68,76,73,null,65,67,68,69,70,72,73,76]
[274,"ACDEFHIK","3H","3E","3F","3C","3A","3D","3I","3K",72,69,70,67,65,68,73,75,null,65,67,68,69,70,72,73,75]
[275,"ACDEFHIJ","3H","3J","3E","3C","3A","3F","3D","3I",72,74,69,67,65,70,68,73,null,65,67,68,69,70,72,73,74]
[276,"ACDEFGKL","3C","3G","3E","3D","3A","3F","3L","3K",67,71,69,68,65,70,76,75,null,65,67,68,69,70,71,75,76]
[277,"ACDEFGJL","3C","3G","3J","3D","3A","3F","3L","3E",67,71,74,68,65,70,76,69,null,65,67,68,69,70,71,74,76]
[278,"ACDEFGJK","3C","3G","3J","3D","3A","3F","3E","3K",67,71,74,68,65,70,69,75,null,65,67,68,69,70,71,74,75]
[279,"ACDEFGIL","3C","3G","3E","3D","3A","3F","3L","3I",67,71,69,68,65,70,76,73,null,65,67,68,69,70,71,73,76]
[280,"ACDEFGIK","3C","3G","3E","3D","3A","3F","3I","3K",67,71,69,68,65,70,73,75,null,65,67,68,69,70,71,73,75]
[281,"ACDEFGIJ","3C","3G","3J","3D","3A","3F","3E","3I",67,71,74,68,65,70,69,73,null,65,67,68,69,70,71,73,74]
[282,"ACDEFGHL","3H","3G","3F","3C","3A","3D","3L","3E",72,71,70,67,65,68,76,69,null,65,67,68,69,70,71,72,76]
[283,"ACDEFGHK","3H","3G","3E","3C","3A","3F","3D","3K",72,71,69,67,65,70,68,75,null,65,67,68,69,70,71,72,75]
[284,"ACDEFGHJ","3H","3G","3J","3C","3A","3F","3D","3E",72,71,74,67,65,70,68,69,null,65,67,68,69,70,71,72,74]
[285,"ACDEFGHI","3H","3G","3E","3C","3A","3F","3D","3I",72,71,69,67,65,70,68,73,null,65,67,68,69,70,71,72,73]
[286,"ABGHIJKL","3H","3J","3B","3A","3I","3G","3L","3K",72,74,66,65,73,71,76,75,null,65,66,71,72,73,74,75,76]
[287,"ABFHIJKL","3H","3J","3B","3A","3I","3F","3L","3K",72,74,66,65,73,70,76,75,null,65,66,70,72,73,74,75,76]
[288,"ABFGIJKL","3I","3J","3B","3F","3A","3G","3L","3K",73,74,66,70,65,71,76,75,null,65,66,70,71,73,74,75,76]
[289,"ABFGHJKL","3H","3J","3B","3F","3A","3G","3L","3K",72,74,66,70,65,71,76,75,null,65,66,70,71,72,74,75,76]
[290,"ABFGHIKL","3H","3G","3B","3A","3I","3F","3L","3K",72,71,66,65,73,70,76,75,null,65,66,70,71,72,73,75,76]
[291,"ABFGHIJL","3H","3J","3B","3F","3A","3G","3L","3I",72,74,66,70,65,71,76,73,null,65,66,70,71,72,73,74,76]
[292,"ABFGHIJK","3H","3J","3B","3F","3A","3G","3I","3K",72,74,66,70,65,71,73,75,null,65,66,70,71,72,73,74,75]
[293,"ABEHIJKL","3E","3J","3B","3A","3I","3H","3L","3K",69,74,66,65,73,72,76,75,null,65,66,69,72,73,74,75,76]
[294,"ABEGIJKL","3E","3J","3B","3A","3I","3G","3L","3K",69,74,66,65,73,71,76,75,null,65,66,69,71,73,74,75,76]
[295,"ABEGHJKL","3E","3J","3B","3A","3H","3G","3L","3K",69,74,66,65,72,71,76,75,null,65,66,69,71,72,74,75,76]
[296,"ABEGHIKL","3E","3G","3B","3A","3I","3H","3L","3K",69,71,66,65,73,72,76,75,null,65,66,69,71,72,73,75,76]
[297,"ABEGHIJL","3E","3J","3B","3A","3H","3G","3L","3I",69,74,66,65,72,71,76,73,null,65,66,69,71,72,73,74,76]
[298,"ABEGHIJK","3E","3J","3B","3A","3H","3G","3I","3K",69,74,66,65,72,71,73,75,null,65,66,69,71,72,73,74,75]
[299,"ABEFIJKL","3E","3J","3B","3A","3I","3F","3L","3K",69,74,66,65,73,70,76,75,null,65,66,69,70,73,74,75,76]
[300,"ABEFHJKL","3E","3J","3B","3F","3A","3H","3L","3K",69,74,66,70,65,72,76,75,null,65,66,69,70,72,74,75,76]
[301,"ABEFHIKL","3E","3I","3B","3F","3A","3H","3L","3K",69,73,66,70,65,72,76,75,null,65,66,69,70,72,73,75,76]
[302,"ABEFHIJL","3E","3J","3B","3F","3A","3H","3L","3I",69,74,66,70,65,72,76,73,null,65,66,69,70,72,73,74,76]
[303,"ABEFHIJK","3E","3J","3B","3F","3A","3H","3I","3K",69,74,66,70,65,72,73,75,null,65,66,69,70,72,73,74,75]
[304,"ABEFGJKL","3E","3J","3B","3F","3A","3G","3L","3K",69,74,66,{"$f":"CODE(MID(F305,2,1))","v":70},65,71,76,75,null,65,66,69,70,71,74,75,76]
[305,"ABEFGIKL","3E","3G","3B","3A","3I","3F","3L","3K",{"$f":"CODE(MID(C306,2,1))","v":69},71,66,65,73,70,76,75,null,65,66,69,70,71,73,75,76]
[306,"ABEFGIJL","3E","3J","3B","3F","3A","3G","3L","3I",69,74,66,70,65,71,76,73,null,65,66,69,70,71,73,74,76]
[307,"ABEFGIJK","3E","3J","3B","3F","3A","3G","3I","3K",69,74,66,70,65,71,73,75,null,65,66,69,70,71,73,74,75]
[308,"ABEFGHKL","3E","3G","3B","3F","3A","3H","3L","3K",69,71,66,70,65,72,76,75,null,65,66,69,70,71,72,75,76]
[309,"ABEFGHJL","3H","3J","3B","3F","3A","3G","3L","3E",72,74,66,70,65,71,76,69,null,65,66,69,70,71,72,74,76]
[310,"ABEFGHJK","3H","3J","3B","3F","3A","3G","3E","3K",72,74,66,70,65,71,69,75,null,65,66,69,70,71,72,74,75]
[311,"ABEFGHIL","3E","3G","3B","3F","3A","3H","3L","3I",69,71,66,70,65,72,76,73,null,65,66,69,70,71,72,73,76]
[312,"ABEFGHIK","3E","3G","3B","3F","3A","3H","3I","3K",69,71,66,70,65,72,73,75,null,65,66,69,70,71,72,73,75]
[313,"ABEFGHIJ","3H","3J","3B","3F","3A","3G","3E","3I",72,74,66,70,65,71,69,73,null,65,66,69,70,71,72,73,74]
[314,"ABDHIJKL","3I","3J","3B","3D","3A","3H","3L","3K",73,74,66,68,65,72,76,75,null,65,66,68,72,73,74,75,76]
[315,"ABDGIJKL","3I","3J","3B","3D","3A","3G","3L","3K",73,74,66,68,65,71,76,75,null,65,66,68,71,73,74,75,76]
[316,"ABDGHJKL","3H","3J","3B","3D","3A","3G","3L","3K",72,74,66,68,65,71,76,75,null,65,66,68,71,72,74,75,76]
[317,"ABDGHIKL","3I","3G","3B","3D","3A","3H","3L","3K",73,71,66,68,65,72,76,75,null,65,66,68,71,72,73,75,76]
[318,"ABDGHIJL","3H","3J","3B","3D","3A","3G","3L","3I",72,74,66,68,65,71,76,73,null,65,66,68,71,72,73,74,76]
[319,"ABDGHIJK","3H","3J","3B","3D","3A","3G","3I","3K",72,74,66,68,65,71,73,75,null,65,66,68,71,72,73,74,75]
[320,"ABDFIJKL","3I","3J","3B","3D","3A","3F","3L","3K",73,74,66,68,65,70,76,75,null,65,66,68,70,73,74,75,76]
[321,{"$f":"CONCATENATE(CHAR(T322),CHAR(U322),CHAR(V322),CHAR(W322),CHAR(X322),CHAR(Y322),CHAR(Z322),CHAR(AA322))","v":"ABDFHJKL"},"3H","3J","3B","3D","3A","3F","3L","3K",72,74,66,68,65,70,76,75,null,65,66,68,70,72,74,75,76]
[322,"ABDFHIKL","3H","3I","3B","3D","3A","3F","3L","3K",72,73,66,68,65,70,76,75,null,{"$f":"SMALL($K323:$R323,1)","v":65},{"$f":"SMALL($K323:$R323,2)","v":66},{"$f":"SMALL($K323:$R323,3)","v":68},{"$f":"SMALL($K323:$R323,4)","v":70},{"$f":"SMALL($K323:$R323,5)","v":72},{"$f":"SMALL($K323:$R323,6)","v":73},{"$f":"SMALL($K323:$R323,7)","v":75},{"$f":"SMALL($K323:$R323,8)","v":76}]
[323,"ABDFHIJL","3H","3J","3B","3D","3A","3F","3L","3I",72,74,66,68,65,70,76,73,null,65,66,68,70,72,73,74,76]
[324,"ABDFHIJK","3H","3J","3B","3D","3A","3F","3I","3K",72,74,66,68,65,70,73,75,null,65,66,68,70,72,73,74,75]
[325,"ABDFGJKL","3F","3J","3B","3D","3A","3G","3L","3K",70,74,66,68,65,71,76,75,null,65,66,68,70,71,74,75,76]
[326,"ABDFGIKL","3I","3G","3B","3D","3A","3F","3L","3K",73,71,66,68,65,70,76,75,null,65,66,68,70,71,73,75,76]
[327,"ABDFGIJL","3F","3J","3B","3D","3A","3G","3L","3I",70,74,66,68,65,71,76,73,null,65,66,68,70,71,73,74,76]
[328,"ABDFGIJK","3F","3J","3B","3D","3A","3G","3I","3K",70,74,66,68,65,71,73,75,null,65,66,68,70,71,73,74,75]
[329,"ABDFGHKL","3H","3G","3B","3D","3A","3F","3L","3K",72,71,66,68,65,70,76,75,null,65,66,68,70,71,72,75,76]
[330,"ABDFGHJL","3H","3G","3B","3D","3A","3F","3L","3J",72,71,66,68,65,70,76,74,null,65,66,68,70,71,72,74,76]
[331,"ABDFGHJK","3H","3G","3B","3D","3A","3F","3J","3K",72,71,66,68,65,70,74,75,null,65,66,68,70,71,72,74,75]
[332,"ABDFGHIL","3H","3G","3B","3D","3A","3F","3L","3I",72,71,66,68,65,70,76,73,null,65,66,68,70,71,72,73,76]
[333,"ABDFGHIK","3H","3G","3B","3D","3A","3F","3I","3K",72,71,66,68,65,70,73,75,null,65,66,68,70,71,72,73,75]
[334,"ABDFGHIJ","3H","3G","3B","3D","3A","3F","3I","3J",72,71,66,68,65,70,73,74,null,65,66,68,70,71,72,73,74]
[335,"ABDEIJKL","3E","3J","3B","3A","3I","3D","3L","3K",69,74,66,65,73,68,76,75,null,65,66,68,69,73,74,75,76]
[336,"ABDEHJKL","3E","3J","3B","3D","3A","3H","3L","3K",69,74,66,68,65,72,76,75,null,65,66,68,69,72,74,75,76]
[337,"ABDEHIKL","3E","3I","3B","3D","3A","3H","3L","3K",69,73,66,68,65,72,76,75,null,65,66,68,69,72,73,75,76]
[338,"ABDEHIJL","3E","3J","3B","3D","3A","3H","3L","3I",69,74,66,68,65,72,76,73,null,65,66,68,69,72,73,74,76]
[339,"ABDEHIJK","3E","3J","3B","3D","3A","3H","3I","3K",69,74,66,68,65,72,73,75,null,65,66,68,69,72,73,74,75]
[340,"ABDEGJKL","3E","3J","3B","3D","3A","3G","3L","3K",69,74,66,68,65,71,76,75,null,65,66,68,69,71,74,75,76]
[341,"ABDEGIKL","3E","3G","3B","3A","3I","3D","3L","3K",69,71,66,65,73,68,76,75,null,65,66,68,69,71,73,75,76]
[342,"ABDEGIJL","3E","3J","3B","3D","3A","3G","3L","3I",69,74,66,68,65,71,76,73,null,65,66,68,69,71,73,74,76]
[343,"ABDEGIJK","3E","3J","3B","3D","3A","3G","3I","3K",69,74,66,68,65,71,73,75,null,65,66,68,69,71,73,74,75]
[344,"ABDEGHKL","3E","3G","3B","3D","3A","3H","3L","3K",69,71,66,68,65,72,76,75,null,65,66,68,69,71,72,75,76]
[345,"ABDEGHJL","3H","3J","3B","3D","3A","3G","3L","3E",72,74,66,68,65,71,76,69,null,65,66,68,69,71,72,74,76]
[346,"ABDEGHJK","3H","3J","3B","3D","3A","3G","3E","3K",72,74,66,68,65,71,69,75,null,65,66,68,69,71,72,74,75]
[347,"ABDEGHIL","3E","3G","3B","3D","3A","3H","3L","3I",69,71,66,68,65,72,76,73,null,65,66,68,69,71,72,73,76]
[348,"ABDEGHIK","3E","3G","3B","3D","3A","3H","3I","3K",69,71,66,68,65,72,73,75,null,65,66,68,69,71,72,73,75]
[349,"ABDEGHIJ","3H","3J","3B","3D","3A","3G","3E","3I",72,74,66,68,65,71,69,73,null,65,66,68,69,71,72,73,74]
[350,"ABDEFJKL","3E","3J","3B","3D","3A","3F","3L","3K",69,74,66,68,65,70,76,75,null,65,66,68,69,70,74,75,76]
[351,"ABDEFIKL","3E","3I","3B","3D","3A","3F","3L","3K",69,73,66,68,65,70,76,75,null,65,66,68,69,70,73,75,76]
[352,"ABDEFIJL","3E","3J","3B","3D","3A","3F","3L","3I",69,74,66,68,65,70,76,73,null,65,66,68,69,70,73,74,76]
[353,"ABDEFIJK","3E","3J","3B","3D","3A","3F","3I","3K",69,74,66,68,65,70,73,75,null,65,66,68,69,70,73,74,75]
[354,"ABDEFHKL","3H","3E","3B","3D","3A","3F","3L","3K",72,69,66,68,65,70,76,75,null,65,66,68,69,70,72,75,76]
[355,"ABDEFHJL","3H","3J","3B","3D","3A","3F","3L","3E",72,74,66,68,65,70,76,69,null,65,66,68,69,70,72,74,76]
[356,"ABDEFHJK","3H","3J","3B","3D","3A","3F","3E","3K",72,74,66,68,65,70,69,75,null,65,66,68,69,70,72,74,75]
[357,"ABDEFHIL","3H","3E","3B","3D","3A","3F","3L","3I",72,69,66,68,65,70,76,73,null,65,66,68,69,70,72,73,76]
[358,"ABDEFHIK","3H","3E","3B","3D","3A","3F","3I","3K",72,69,66,68,65,70,73,75,null,65,66,68,69,70,72,73,75]
[359,"ABDEFHIJ","3H","3J","3B","3D","3A","3F","3E","3I",72,74,66,68,65,70,69,73,null,65,66,68,69,70,72,73,74]
[360,"ABDEFGKL","3E","3G","3B","3D","3A","3F","3L","3K",69,71,66,68,65,{"$f":"CODE(MID(H361,2,1))","v":70},76,75,null,65,66,68,69,70,71,75,76]
[361,"ABDEFGJL","3E","3G","3B","3D","3A","3F","3L","3J",69,71,66,68,65,70,76,74,null,65,66,68,69,70,71,74,76]
[362,"ABDEFGJK","3E","3G","3B","3D","3A","3F","3J","3K",69,71,66,68,65,70,74,75,null,65,66,68,69,70,71,74,75]
[363,"ABDEFGIL","3E","3G","3B","3D","3A","3F","3L","3I",69,71,66,68,65,70,76,73,null,65,66,68,69,70,71,73,76]
[364,"ABDEFGIK","3E","3G","3B","3D","3A","3F","3I","3K",69,71,66,68,65,70,73,75,null,65,66,68,69,70,71,73,75]
[365,"ABDEFGIJ","3E","3G","3B","3D","3A","3F","3I","3J",69,71,66,68,65,70,73,74,null,65,66,68,69,70,71,73,74]
[366,"ABDEFGHL","3H","3G","3B","3D","3A","3F","3L","3E",72,71,66,68,65,70,76,69,null,65,66,68,69,70,71,72,76]
[367,"ABDEFGHK","3H","3G","3B","3D","3A","3F","3E","3K",72,71,66,68,65,70,69,75,null,65,66,68,69,70,71,72,75]
[368,"ABDEFGHJ","3H","3G","3B","3D","3A","3F","3E","3J",72,71,66,68,65,70,69,74,null,65,66,68,69,70,71,72,74]
[369,"ABDEFGHI","3H","3G","3B","3D","3A","3F","3E","3I",{"$f":"CODE(MID(C370,2,1))","v":72},71,66,68,65,70,69,73,null,65,66,68,69,70,71,72,73]
[370,"ABCHIJKL","3I","3J","3B","3C","3A","3H","3L","3K",73,74,66,67,65,72,76,75,null,65,66,67,72,73,74,75,76]
[371,"ABCGIJKL","3I","3J","3B","3C","3A","3G","3L","3K",73,74,66,67,65,71,76,75,null,65,66,67,71,73,74,75,76]
[372,"ABCGHJKL","3H","3J","3B","3C","3A","3G","3L","3K",72,74,66,67,65,71,76,75,null,65,66,67,71,72,74,75,76]
[373,"ABCGHIKL","3I","3G","3B","3C","3A","3H","3L","3K",73,71,66,67,65,72,76,75,null,65,66,67,71,72,73,75,76]
[374,"ABCGHIJL","3H","3J","3B","3C","3A","3G","3L","3I",72,74,66,67,65,71,76,73,null,65,66,67,71,72,73,74,76]
[375,"ABCGHIJK","3H","3J","3B","3C","3A","3G","3I","3K",72,74,66,67,65,71,73,75,null,65,66,67,71,72,73,74,75]
[376,"ABCFIJKL","3I","3J","3B","3C","3A","3F","3L","3K",73,74,66,67,65,70,76,75,null,65,66,67,70,73,74,75,76]
[377,"ABCFHJKL","3H","3J","3B","3C","3A","3F","3L","3K",72,74,66,67,65,70,76,75,null,65,66,67,70,72,74,75,76]
[378,"ABCFHIKL","3H","3I","3B","3C","3A","3F","3L","3K",72,73,66,67,65,70,76,75,null,65,66,67,70,72,73,75,76]
[379,"ABCFHIJL","3H","3J","3B","3C","3A","3F","3L","3I",72,74,66,67,65,70,76,73,null,65,66,67,70,72,73,74,76]
[380,"ABCFHIJK","3H","3J","3B","3C","3A","3F","3I","3K",72,74,66,67,65,70,73,75,null,65,66,67,70,72,73,74,75]
[381,"ABCFGJKL","3C","3J","3B","3F","3A","3G","3L","3K",67,74,66,70,65,71,76,75,null,65,66,67,70,71,74,75,76]
[382,"ABCFGIKL","3I","3G","3B","3C","3A","3F","3L","3K",73,71,66,67,65,70,76,75,null,65,66,67,70,71,73,75,76]
[383,"ABCFGIJL","3C","3J","3B","3F","3A","3G","3L","3I",67,74,66,70,65,71,76,73,null,65,66,67,70,71,73,74,76]
[384,"ABCFGIJK","3C","3J","3B","3F","3A","3G","3I","3K",67,74,66,70,65,71,73,75,null,65,66,67,70,71,73,74,75]
[385,{"$f":"CONCATENATE(CHAR(T386),CHAR(U386),CHAR(V386),CHAR(W386),CHAR(X386),CHAR(Y386),CHAR(Z386),CHAR(AA386))","v":"ABCFGHKL"},"3H","3G","3B","3C","3A","3F","3L","3K",72,71,66,67,65,70,76,75,null,65,66,67,70,71,72,75,76]
[386,"ABCFGHJL","3H","3G","3B","3C","3A","3F","3L","3J",72,71,66,67,65,70,76,74,null,{"$f":"SMALL($K387:$R387,1)","v":65},{"$f":"SMALL($K387:$R387,2)","v":66},{"$f":"SMALL($K387:$R387,3)","v":67},{"$f":"SMALL($K387:$R387,4)","v":70},{"$f":"SMALL($K387:$R387,5)","v":71},{"$f":"SMALL($K387:$R387,6)","v":72},{"$f":"SMALL($K387:$R387,7)","v":74},{"$f":"SMALL($K387:$R387,8)","v":76}]
[387,"ABCFGHJK","3H","3G","3B","3C","3A","3F","3J","3K",72,71,66,67,65,70,74,75,null,65,66,67,70,71,72,74,75]
[388,"ABCFGHIL","3H","3G","3B","3C","3A","3F","3L","3I",72,71,66,67,65,70,76,73,null,65,66,67,70,71,72,73,76]
[389,"ABCFGHIK","3H","3G","3B","3C","3A","3F","3I","3K",72,71,66,67,65,70,73,75,null,65,66,67,70,71,72,73,75]
[390,"ABCFGHIJ","3H","3G","3B","3C","3A","3F","3I","3J",72,71,66,67,65,70,73,74,null,65,66,67,70,71,72,73,74]
[391,"ABCEIJKL","3E","3J","3B","3A","3I","3C","3L","3K",69,74,66,65,73,67,76,75,null,65,66,67,69,73,74,75,76]
[392,"ABCEHJKL","3E","3J","3B","3C","3A","3H","3L","3K",69,74,66,67,65,72,76,75,null,65,66,67,69,72,74,75,76]
[393,"ABCEHIKL","3E","3I","3B","3C","3A","3H","3L","3K",69,73,66,67,65,72,76,75,null,65,66,67,69,72,73,75,76]
[394,"ABCEHIJL","3E","3J","3B","3C","3A","3H","3L","3I",69,74,66,67,65,72,76,73,null,65,66,67,69,72,73,74,76]
[395,"ABCEHIJK","3E","3J","3B","3C","3A","3H","3I","3K",69,74,66,67,65,72,73,75,null,65,66,67,69,72,73,74,75]
[396,"ABCEGJKL","3E","3J","3B","3C","3A","3G","3L","3K",69,74,66,67,65,71,76,75,null,65,66,67,69,71,74,75,76]
[397,"ABCEGIKL","3E","3G","3B","3A","3I","3C","3L","3K",69,71,66,65,73,67,76,75,null,65,66,67,69,71,73,75,76]
[398,"ABCEGIJL","3E","3J","3B","3C","3A","3G","3L","3I",69,74,66,67,65,71,76,73,null,65,66,67,69,71,73,74,76]
[399,"ABCEGIJK","3E","3J","3B","3C","3A","3G","3I","3K",69,74,66,67,65,71,73,75,null,65,66,67,69,71,73,74,75]
[400,"ABCEGHKL","3E","3G","3B","3C","3A","3H","3L","3K",69,71,66,67,65,72,76,75,null,65,66,67,69,71,72,75,76]
[401,"ABCEGHJL","3H","3J","3B","3C","3A","3G","3L","3E",72,74,66,67,65,71,76,69,null,65,66,67,69,71,72,74,76]
[402,"ABCEGHJK","3H","3J","3B","3C","3A","3G","3E","3K",72,74,66,67,65,71,69,75,null,65,66,67,69,71,72,74,75]
[403,"ABCEGHIL","3E","3G","3B","3C","3A","3H","3L","3I",69,71,66,67,65,72,76,73,null,65,66,67,69,71,72,73,76]
[404,"ABCEGHIK","3E","3G","3B","3C","3A","3H","3I","3K",69,71,66,67,65,72,73,75,null,65,66,67,69,71,72,73,75]
[405,"ABCEGHIJ","3H","3J","3B","3C","3A","3G","3E","3I",72,74,66,67,65,71,69,73,null,65,66,67,69,71,72,73,74]
[406,"ABCEFJKL","3E","3J","3B","3C","3A","3F","3L","3K",69,74,66,67,65,70,76,75,null,65,66,67,69,70,74,75,76]
[407,"ABCEFIKL","3E","3I","3B","3C","3A","3F","3L","3K",69,73,66,67,65,70,76,75,null,65,66,67,69,70,73,75,76]
[408,"ABCEFIJL","3E","3J","3B","3C","3A","3F","3L","3I",69,74,66,67,65,70,76,73,null,65,66,67,69,70,73,74,76]
[409,"ABCEFIJK","3E","3J","3B","3C","3A","3F","3I","3K",69,74,66,67,65,70,73,75,null,65,66,67,69,70,73,74,75]
[410,"ABCEFHKL","3H","3E","3B","3C","3A","3F","3L","3K",72,69,66,67,65,70,76,75,null,65,66,67,69,70,72,75,76]
[411,"ABCEFHJL","3H","3J","3B","3C","3A","3F","3L","3E",72,74,66,67,65,70,76,69,null,65,66,67,69,70,72,74,76]
[412,"ABCEFHJK","3H","3J","3B","3C","3A","3F","3E","3K",72,74,66,67,65,70,69,75,null,65,66,67,69,70,72,74,75]
[413,"ABCEFHIL","3H","3E","3B","3C","3A","3F","3L","3I",72,69,66,67,65,70,76,73,null,65,66,67,69,70,72,73,76]
[414,"ABCEFHIK","3H","3E","3B","3C","3A","3F","3I","3K",72,69,66,67,65,70,73,75,null,65,66,67,69,70,72,73,75]
[415,"ABCEFHIJ","3H","3J","3B","3C","3A","3F","3E","3I",72,74,66,67,65,70,69,73,null,65,66,67,69,70,72,73,74]
[416,"ABCEFGKL","3E","3G","3B","3C","3A","3F","3L","3K",69,71,66,67,65,70,76,75,null,65,66,67,69,70,71,75,76]
[417,"ABCEFGJL","3E","3G","3B","3C","3A","3F","3L","3J",69,71,66,67,65,70,76,74,null,65,66,67,69,70,71,74,76]
[418,"ABCEFGJK","3E","3G","3B","3C","3A","3F","3J","3K",69,71,66,67,65,70,74,75,null,65,66,67,69,70,71,74,75]
[419,"ABCEFGIL","3E","3G","3B","3C","3A","3F","3L","3I",69,71,66,67,65,70,76,73,null,65,66,67,69,70,71,73,76]
[420,"ABCEFGIK","3E","3G","3B","3C","3A","3F","3I","3K",{"$f":"CODE(MID(C421,2,1))","v":69},{"$f":"CODE(MID(D421,2,1))","v":71},{"$f":"CODE(MID(E421,2,1))","v":66},{"$f":"CODE(MID(F421,2,1))","v":67},{"$f":"CODE(MID(G421,2,1))","v":65},70,73,75,null,65,66,67,69,70,71,73,75]
[421,"ABCEFGIJ","3E","3G","3B","3C","3A","3F","3I","3J",69,71,66,67,65,70,73,74,null,65,66,67,69,70,71,73,74]
[422,"ABCEFGHL","3H","3G","3B","3C","3A","3F","3L","3E",72,71,66,67,65,70,76,69,null,65,66,67,69,70,71,72,76]
[423,"ABCEFGHK","3H","3G","3B","3C","3A","3F","3E","3K",72,71,66,67,65,70,69,75,null,65,66,67,69,70,71,72,75]
[424,"ABCEFGHJ","3H","3G","3B","3C","3A","3F","3E","3J",72,71,66,67,65,{"$f":"CODE(MID(H425,2,1))","v":70},{"$f":"CODE(MID(I425,2,1))","v":69},{"$f":"CODE(MID(J425,2,1))","v":74},null,65,66,67,69,70,71,72,74]
[425,"ABCEFGHI","3H","3G","3B","3C","3A","3F","3E","3I",72,71,66,67,65,70,69,73,null,65,66,67,69,70,71,72,73]
[426,"ABCDIJKL","3I","3J","3B","3C","3A","3D","3L","3K",73,74,66,67,65,68,76,75,null,65,66,67,68,73,74,75,76]
[427,"ABCDHJKL","3H","3J","3B","3C","3A","3D","3L","3K",72,74,66,67,65,68,76,75,null,65,66,67,68,72,74,75,76]
[428,"ABCDHIKL","3H","3I","3B","3C","3A","3D","3L","3K",72,73,66,67,65,68,76,75,null,65,66,67,68,72,73,75,76]
[429,"ABCDHIJL","3H","3J","3B","3C","3A","3D","3L","3I",72,74,66,67,65,68,76,73,null,65,66,67,68,72,73,74,76]
[430,"ABCDHIJK","3H","3J","3B","3C","3A","3D","3I","3K",72,74,66,67,65,68,73,75,null,65,66,67,68,72,73,74,75]
[431,"ABCDGJKL","3C","3J","3B","3D","3A","3G","3L","3K",67,74,66,68,65,71,76,75,null,65,66,67,68,71,74,75,76]
[432,"ABCDGIKL","3I","3G","3B","3C","3A","3D","3L","3K",73,71,66,67,65,68,76,75,null,65,66,67,68,71,73,75,76]
[433,"ABCDGIJL","3C","3J","3B","3D","3A","3G","3L","3I",67,74,66,68,65,71,76,73,null,65,66,67,68,71,73,74,76]
[434,"ABCDGIJK","3C","3J","3B","3D","3A","3G","3I","3K",67,74,66,68,65,71,73,75,null,65,66,67,68,71,73,74,75]
[435,"ABCDGHKL","3H","3G","3B","3C","3A","3D","3L","3K",72,71,66,67,65,68,76,75,null,65,66,67,68,71,72,75,76]
[436,"ABCDGHJL","3H","3G","3B","3C","3A","3D","3L","3J",72,71,66,67,65,68,76,74,null,65,66,67,68,71,72,74,76]
[437,"ABCDGHJK","3H","3G","3B","3C","3A","3D","3J","3K",72,71,66,67,65,68,74,75,null,65,66,67,68,71,72,74,75]
[438,"ABCDGHIL","3H","3G","3B","3C","3A","3D","3L","3I",72,71,66,67,65,68,76,73,null,65,66,67,68,71,72,73,76]
[439,"ABCDGHIK","3H","3G","3B","3C","3A","3D","3I","3K",72,71,66,67,65,68,73,75,null,65,66,67,68,71,72,73,75]
[440,"ABCDGHIJ","3H","3G","3B","3C","3A","3D","3I","3J",72,71,66,67,65,68,73,74,null,65,66,67,68,71,72,73,74]
[441,"ABCDFJKL","3C","3J","3B","3D","3A","3F","3L","3K",67,74,66,68,65,70,76,75,null,65,66,67,68,70,74,75,76]
[442,"ABCDFIKL","3C","3I","3B","3D","3A","3F","3L","3K",67,73,66,68,65,70,76,75,null,65,66,67,68,70,73,75,76]
[443,"ABCDFIJL","3C","3J","3B","3D","3A","3F","3L","3I",67,74,66,68,65,70,76,73,null,65,66,67,68,70,73,74,76]
[444,"ABCDFIJK","3C","3J","3B","3D","3A","3F","3I","3K",67,74,66,68,65,70,73,75,null,65,66,67,68,70,73,74,75]
[445,"ABCDFHKL","3H","3F","3B","3C","3A","3D","3L","3K",72,70,66,67,65,68,76,75,null,65,66,67,68,70,72,75,76]
[446,"ABCDFHJL","3C","3J","3B","3D","3A","3F","3L","3H",67,74,66,68,65,70,76,72,null,65,66,67,68,70,72,74,76]
[447,"ABCDFHJK","3H","3J","3B","3C","3A","3F","3D","3K",72,74,66,67,65,70,68,75,null,65,66,67,68,70,72,74,75]
[448,"ABCDFHIL","3H","3F","3B","3C","3A","3D","3L","3I",72,70,66,67,65,68,76,73,null,65,66,67,68,70,72,73,76]
[449,{"$f":"CONCATENATE(CHAR(T450),CHAR(U450),CHAR(V450),CHAR(W450),CHAR(X450),CHAR(Y450),CHAR(Z450),CHAR(AA450))","v":"ABCDFHIK"},"3H","3F","3B","3C","3A","3D","3I","3K",72,70,66,67,65,68,73,75,null,65,66,67,68,70,72,73,75]
[450,"ABCDFHIJ","3H","3J","3B","3C","3A","3F","3D","3I",72,74,66,67,65,70,68,73,null,{"$f":"SMALL($K451:$R451,1)","v":65},{"$f":"SMALL($K451:$R451,2)","v":66},{"$f":"SMALL($K451:$R451,3)","v":67},{"$f":"SMALL($K451:$R451,4)","v":68},{"$f":"SMALL($K451:$R451,5)","v":70},{"$f":"SMALL($K451:$R451,6)","v":72},{"$f":"SMALL($K451:$R451,7)","v":73},{"$f":"SMALL($K451:$R451,8)","v":74}]
[451,"ABCDFGKL","3C","3G","3B","3D","3A","3F","3L","3K",67,71,66,68,65,70,76,75,null,65,66,67,68,70,71,75,76]
[452,"ABCDFGJL","3C","3G","3B","3D","3A","3F","3L","3J",67,71,66,68,65,70,76,74,null,65,66,67,68,70,71,74,76]
[453,"ABCDFGJK","3C","3G","3B","3D","3A","3F","3J","3K",{"$f":"CODE(MID(C454,2,1))","v":67},{"$f":"CODE(MID(D454,2,1))","v":71},{"$f":"CODE(MID(E454,2,1))","v":66},{"$f":"CODE(MID(F454,2,1))","v":68},65,70,74,75,null,65,66,67,68,70,71,74,75]
[454,"ABCDFGIL","3C","3G","3B","3D","3A","3F","3L","3I",{"$f":"CODE(MID(C455,2,1))","v":67},71,66,68,65,70,76,73,null,65,66,67,68,70,71,73,76]
[455,"ABCDFGIK","3C","3G","3B","3D","3A","3F","3I","3K",67,71,66,68,65,70,73,75,null,65,66,67,68,70,71,73,75]
[456,"ABCDFGIJ","3C","3G","3B","3D","3A","3F","3I","3J",67,71,66,68,65,70,73,74,null,65,66,67,68,70,71,73,74]
[457,"ABCDFGHL","3C","3G","3B","3D","3A","3F","3L","3H",67,71,66,68,65,70,76,72,null,65,66,67,68,70,71,72,76]
[458,"ABCDFGHK","3H","3G","3B","3C","3A","3F","3D","3K",72,71,66,67,65,70,68,75,null,65,66,67,68,70,71,72,75]
[459,"ABCDFGHJ","3H","3G","3B","3C","3A","3F","3D","3J",72,71,66,67,65,70,68,74,null,65,66,67,68,70,71,72,74]
[460,"ABCDFGHI","3H","3G","3B","3C","3A","3F","3D","3I",72,71,66,67,65,70,68,73,null,65,66,67,68,70,71,72,73]
[461,"ABCDEJKL","3E","3J","3B","3C","3A","3D","3L","3K",69,74,66,67,65,68,76,75,null,65,66,67,68,69,74,75,76]
[462,"ABCDEIKL","3E","3I","3B","3C","3A","3D","3L","3K",69,73,66,67,65,68,76,75,null,65,66,67,68,69,73,75,76]
[463,"ABCDEIJL","3E","3J","3B","3C","3A","3D","3L","3I",69,74,66,67,65,68,76,73,null,65,66,67,68,69,73,74,76]
[464,"ABCDEIJK","3E","3J","3B","3C","3A","3D","3I","3K",69,74,66,67,65,68,73,75,null,65,66,67,68,69,73,74,75]
[465,"ABCDEHKL","3H","3E","3B","3C","3A","3D","3L","3K",72,69,66,67,65,68,76,75,null,65,66,67,68,69,72,75,76]
[466,"ABCDEHJL","3H","3J","3B","3C","3A","3D","3L","3E",72,74,66,67,65,68,76,69,null,65,66,67,68,69,72,74,76]
[467,"ABCDEHJK","3H","3J","3B","3C","3A","3D","3E","3K",72,74,66,67,65,68,69,75,null,65,66,67,68,69,72,74,75]
[468,"ABCDEHIL","3H","3E","3B","3C","3A","3D","3L","3I",72,69,66,67,65,68,76,73,null,65,66,67,68,69,72,73,76]
[469,"ABCDEHIK","3H","3E","3B","3C","3A","3D","3I","3K",72,69,66,67,65,68,73,75,null,65,66,67,68,69,72,73,75]
[470,"ABCDEHIJ","3H","3J","3B","3C","3A","3D","3E","3I",72,74,66,67,65,68,69,73,null,65,66,67,68,69,72,73,74]
[471,"ABCDEGKL","3E","3G","3B","3C","3A","3D","3L","3K",69,71,66,67,65,68,76,75,null,65,66,67,68,69,71,75,76]
[472,"ABCDEGJL","3E","3G","3B","3C","3A","3D","3L","3J",69,71,66,67,65,68,76,74,null,65,66,67,68,69,71,74,76]
[473,"ABCDEGJK","3E","3G","3B","3C","3A","3D","3J","3K",69,71,66,67,65,68,74,75,null,65,66,67,68,69,71,74,75]
[474,"ABCDEGIL","3E","3G","3B","3C","3A","3D","3L","3I",69,71,66,67,65,68,76,73,null,65,66,67,68,69,71,73,76]
[475,"ABCDEGIK","3E","3G","3B","3C","3A","3D","3I","3K",69,71,66,67,65,68,73,75,null,65,66,67,68,69,71,73,75]
[476,"ABCDEGIJ","3E","3G","3B","3C","3A","3D","3I","3J",69,71,66,67,65,68,73,74,null,65,66,67,68,69,71,73,74]
[477,"ABCDEGHL","3H","3G","3B","3C","3A","3D","3L","3E",72,71,66,67,65,68,76,69,null,65,66,67,68,69,71,72,76]
[478,"ABCDEGHK","3H","3G","3B","3C","3A","3D","3E","3K",72,71,66,67,65,68,69,75,null,65,66,67,68,69,71,72,75]
[479,"ABCDEGHJ","3H","3G","3B","3C","3A","3D","3E","3J",72,71,66,67,65,68,69,74,null,65,66,67,68,69,71,72,74]
[480,"ABCDEGHI","3H","3G","3B","3C","3A","3D","3E","3I",72,71,66,67,65,68,69,73,null,65,66,67,68,69,71,72,73]
[481,"ABCDEFKL","3C","3E","3B","3D","3A","3F","3L","3K",67,69,66,68,65,70,76,75,null,65,66,67,68,69,70,75,76]
[482,"ABCDEFJL","3C","3J","3B","3D","3A","3F","3L","3E",67,74,66,68,65,70,76,69,null,65,66,67,68,69,70,74,76]
[483,"ABCDEFJK","3C","3J","3B","3D","3A","3F","3E","3K",67,74,66,68,65,70,69,75,null,65,66,67,68,69,70,74,75]
[484,"ABCDEFIL","3C","3E","3B","3D","3A","3F","3L","3I",67,69,66,68,65,70,76,73,null,65,66,67,68,69,70,73,76]
[485,"ABCDEFIK","3C","3E","3B","3D","3A","3F","3I","3K",67,69,66,68,65,70,73,75,null,65,66,67,68,69,70,73,75]
[486,"ABCDEFIJ","3C","3J","3B","3D","3A","3F","3E","3I",67,74,66,68,65,70,69,73,null,65,66,67,68,69,70,73,74]
[487,"ABCDEFHL","3H","3F","3B","3C","3A","3D","3L","3E",72,70,66,67,65,68,76,69,null,65,66,67,68,69,70,72,76]
[488,"ABCDEFHK","3H","3E","3B","3C","3A","3F","3D","3K",72,69,66,67,65,70,68,75,null,65,66,67,68,69,70,72,75]
[489,"ABCDEFHJ","3H","3J","3B","3C","3A","3F","3D","3E",72,74,66,67,65,70,68,69,null,65,66,67,68,69,70,72,74]
[490,"ABCDEFHI","3H","3E","3B","3C","3A","3F","3D","3I",72,69,66,67,65,70,68,73,null,65,66,67,68,69,70,72,73]
[491,"ABCDEFGL","3C","3G","3B","3D","3A","3F","3L","3E",67,71,66,68,65,70,76,69,null,65,66,67,68,69,70,71,76]
[492,"ABCDEFGK","3C","3G","3B","3D","3A","3F","3E","3K",67,71,66,68,65,70,69,75,null,65,66,67,68,69,70,71,75]
[493,"ABCDEFGJ","3C","3G","3B","3D","3A","3F","3E","3J",67,71,66,68,65,70,69,74,null,65,66,67,68,69,70,71,74]
[494,"ABCDEFGI","3C","3G","3B","3D","3A","3F","3E","3I",67,71,66,68,65,70,69,73,null,65,66,67,68,69,70,71,73]
[495,{"$f":"CONCATENATE(CHAR(T496),CHAR(U496),CHAR(V496),CHAR(W496),CHAR(X496),CHAR(Y496),CHAR(Z496),CHAR(AA496))","v":"ABCDEFGH"},"3H","3G","3B","3C","3A","3F","3D","3E",72,71,66,67,65,70,68,69,null,65,66,67,68,69,70,71,72]
[]
["Test-SVerweis","ABCDEFGH",{"$f":"VLOOKUP($B$498,$B$2:$J$496,2,FALSE)","v":"3H"},{"$f":"VLOOKUP($B$498,$B$2:$J$496,3,FALSE)","v":"3G"},{"$f":"VLOOKUP($B$498,$B$2:$J$496,4,FALSE)","v":"3B"},{"$f":"VLOOKUP($B$498,$B$2:$J$496,5,FALSE)","v":"3C"},{"$f":"VLOOKUP($B$498,$B$2:$J$496,6,FALSE)","v":"3A"},{"$f":"VLOOKUP($B$498,$B$2:$J$496,7,FALSE)","v":"3F"},{"$f":"VLOOKUP($B$498,$B$2:$J$496,8,FALSE)","v":"3D"},{"$f":"VLOOKUP($B$498,$B$2:$J$496,9,FALSE)","v":"3E"}]
["Test-Index","ABCDEFGH",{"$f":"INDEX(C:C, MATCH($B498, $B:$B, 0))","v":"3H"},{"$f":"INDEX(D:D, MATCH($B498, $B:$B, 0))","v":"3G"},"3B","3C","3A","3F","3D","3E"]

{"sheet":"Spiele","index":14,"n_rows":114,"n_cols":27,"rows_kept":114,"cut":false,"hidden":false,"merged":[]}
["Spiel Nr.","Ortszeit","Deutsche Zeit","Team 1","Team 2","Runde","Wer1","Wer2","Austragungsort","Gruppe",null,null,null,null,null,null,null,null,null,null,null,null,null,null,"Spielort (Stadt)","Abzug von MESZ","Zeitzone (Local)"]
[null,null,null,null,null,"Vorrunde 1",null,null,null,null,"A",null,null,null,null,null,null,null,null,null,null,null,null,null,"New York",-6,"Eastern Time (ET)"]
[1,{"$f":"C3+VLOOKUP(I3,$Y$2:$Z$17,2,FALSE)/24","v":"2026-06-11T14:00:00"},"2026-06-11T21:00:00","Mexiko","Südafrika",null,"A1","A2","Mexico City",{"$f":"CONCATENATE(G3,\"-\",H3)","v":"A1-A2"},{"$f":"D3","v":"Mexiko"},null,null,{"$f":"VLOOKUP(D3,Rangliste!$A$2:$F$211,6,FALSE)","v":1709.1054685401916},{"$f":"VLOOKUP(E3,Rangliste!$A$2:$F$211,6,FALSE)","v":1294.2252893257141},{"$f":"N3-O3","v":414.88017921447749},{"$f":"MAX(-680,MIN(720,ROUND(P3/40,0)*40))","v":400},{"$f":"VLOOKUP(Q3,Resultate!$A$2:$E$37,2,FALSE)","v":"3:1"},{"$f":"VALUE(MID(R3,1,1))","v":3},{"$f":"VALUE(MID(R3,3,1))","v":1},null,{"$f":"IF(S3=T3,IF(S3=0,U3+S3,S3),S3)","v":3},{"$f":"IF(S3=T3,IF(T3=0,T3,T3-U3),T3)","v":1},null,"Miami",-6,"Eastern Time (ET)"]
[2,"2026-06-11T21:00:00","2026-06-12T04:00:00","Südkorea","Tschechien",null,"A3","A4","Guadalajara",{"$f":"CONCATENATE(G4,\"-\",H4)","v":"A3-A4"},{"$f":"E3","v":"Südafrika"},null,null,{"$f":"VLOOKUP(D4,Rangliste!$A$2:$F$211,6,FALSE)","v":1409.2667323684693},{"$f":"VLOOKUP(E4,Rangliste!$A$2:$F$211,6,FALSE)","v":1625.5041812705995},{"$f":"N4-O4","v":-216.23744890213015},{"$f":"MAX(-680,MIN(720,ROUND(P4/40,0)*40))","v":-200},{"$f":"VLOOKUP(Q4,Resultate!$A$2:$E$37,2,FALSE)","v":"3:4"},{"$f":"VALUE(MID(R4,1,1))","v":3},{"$f":"VALUE(MID(R4,3,1))","v":4},null,3,4,null,"Toronto",-6,"Eastern Time (ET)"]
[4,"2026-06-12T18:00:00","2026-06-13T03:00:00","USA","Paraguay",null,"D1","D2","Los Angeles","D1-D2",{"$f":"D4","v":"Südkorea"},null,null,{"$f":"VLOOKUP(D5,Rangliste!$A$2:$F$211,6,FALSE)","v":1632.4304727363588},{"$f":"VLOOKUP(E5,Rangliste!$A$2:$F$211,6,FALSE)","v":1740.3655443191528},-107.93507158279408,-120,{"$f":"VLOOKUP(Q5,Resultate!$A$2:$E$37,2,FALSE)","v":"2:3"},2,3,null,2,3,null,"Boston",-6,"Eastern Time (ET)"]
[3,"2026-06-12T15:00:00","2026-06-12T21:00:00","Kanada","Bosnien/Herzg.",null,"B1","B2","Toronto","B1-B2",{"$f":"E4","v":"Tschechien"},null,null,{"$f":"VLOOKUP(D6,Rangliste!$A$2:$F$211,6,FALSE)","v":1376.4497375297547},{"$f":"VLOOKUP(E6,Rangliste!$A$2:$F$211,6,FALSE)","v":1346.2048406600952},30.244896869659442,40,{"$f":"VLOOKUP(Q6,Resultate!$A$2:$E$37,2,FALSE)","v":"0:0"},0,0,null,0,0,null,"Philadelphia",-6,"Eastern Time (ET)"]
[5,"2026-06-13T21:00:00","2026-06-14T03:00:00","Haiti","Schottland",null,"C3","C4","Boston","C3-C4",null,null,null,{"$f":"VLOOKUP(D7,Rangliste!$A$2:$F$211,6,FALSE)","v":1496.76850315094},{"$f":"VLOOKUP(E7,Rangliste!$A$2:$F$211,6,FALSE)","v":1362.3319622039794},134.43654094696058,120,{"$f":"VLOOKUP(Q7,Resultate!$A$2:$E$37,2,FALSE)","v":"1:0"},1,0,null,1,0,null,"Atlanta",-6,"Eastern Time (ET)"]
[9,"2026-06-14T19:00:00","2026-06-15T01:00:00","Elfenbeinküste","Ecuador",null,"E3","E4","Philadelphia","E3-E4","B",null,null,{"$f":"VLOOKUP(D8,Rangliste!$A$2:$F$211,6,FALSE)","v":1418.7596430587769},{"$f":"VLOOKUP(E8,Rangliste!$A$2:$F$211,6,FALSE)","v":1779.335721282959},-360.57607822418208,-360,{"$f":"VLOOKUP(Q8,Resultate!$A$2:$E$37,2,FALSE)","v":"2:4"},2,4,null,2,4,null,"Dallas",-7,"Central Time (CT)"]
[6,"2026-06-13T21:00:00","2026-06-14T06:00:00","Australien","Türkei",null,"D3","D4","Vancouver","D3-D4",{"$f":"D6","v":"Kanada"},null,null,{"$f":"VLOOKUP(D9,Rangliste!$A$2:$F$211,6,FALSE)","v":1754.1909274291993},{"$f":"VLOOKUP(E9,Rangliste!$A$2:$F$211,6,FALSE)","v":1513.0614657783508},241.1294616508485,240,{"$f":"VLOOKUP(Q9,Resultate!$A$2:$E$37,2,FALSE)","v":"4:3"},4,3,null,4,3,null,"Houston",-7,"Central Time (CT)"]
[7,"2026-06-13T18:00:00","2026-06-14","Brasilien","Marokko",null,"C1","C2","New York","C1-C2",{"$f":"E6","v":"Bosnien/Herzg."},null,null,{"$f":"VLOOKUP(D10,Rangliste!$A$2:$F$211,6,FALSE)","v":1654.1178948020936},{"$f":"VLOOKUP(E10,Rangliste!$A$2:$F$211,6,FALSE)","v":1786.731268043518},-132.61337324142437,-120,{"$f":"VLOOKUP(Q10,Resultate!$A$2:$E$37,2,FALSE)","v":"2:3"},2,3,null,2,3,null,"Kansas City",-7,"Central Time (CT)"]
[8,"2026-06-13T12:00:00","2026-06-13T21:00:00","Katar","Schweiz",null,"B3","B4","San Francisco","B3-B4",{"$f":"D11","v":"Katar"},null,null,{"$f":"VLOOKUP(D11,Rangliste!$A$2:$F$211,6,FALSE)","v":1494.3940634346009},{"$f":"VLOOKUP(E11,Rangliste!$A$2:$F$211,6,FALSE)","v":1721.972102546692},-227.57803911209112,-240,{"$f":"VLOOKUP(Q11,Resultate!$A$2:$E$37,2,FALSE)","v":"4:4"},4,4,null,4,4,null,"Monterrey",-7,"Central Time (CT)"]
[12,"2026-06-14T21:00:00","2026-06-15T04:00:00","Schweden","Tunesien",null,"F3","F4","Monterrey","F3-F4",{"$f":"E11","v":"Schweiz"},null,null,{"$f":"VLOOKUP(D12,Rangliste!$A$2:$F$211,6,FALSE)","v":1491.9397402000427},{"$f":"VLOOKUP(E12,Rangliste!$A$2:$F$211,6,FALSE)","v":1390.5400531768798},101.39968702316287,120,{"$f":"VLOOKUP(Q12,Resultate!$A$2:$E$37,2,FALSE)","v":"1:0"},1,0,null,1,0,null,"Mexico City",-7,"Central Time (CT)"]
[10,"2026-06-14T12:00:00","2026-06-14T19:00:00","Deutschland","Curaçao",null,"E1","E2","Houston","E1-E2",null,null,null,{"$f":"VLOOKUP(D13,Rangliste!$A$2:$F$211,6,FALSE)","v":1775.0704079818724},{"$f":"VLOOKUP(E13,Rangliste!$A$2:$F$211,6,FALSE)","v":1346.5409025192262},428.52950546264628,440,{"$f":"VLOOKUP(Q13,Resultate!$A$2:$E$37,2,FALSE)","v":"4:2"},4,2,null,4,2,null,"Guadalajara",-7,"Central Time (CT)"]
[11,"2026-06-14T15:00:00","2026-06-14T22:00:00","Niederlande","Japan",null,"F1","F2","Dallas","F1-F2","C",null,null,{"$f":"VLOOKUP(D14,Rangliste!$A$2:$F$211,6,FALSE)","v":1767.3271113586425},{"$f":"VLOOKUP(E14,Rangliste!$A$2:$F$211,6,FALSE)","v":1776.7522193717957},-9.425108013153249,0,{"$f":"VLOOKUP(Q14,Resultate!$A$2:$E$37,2,FALSE)","v":"1:1"},1,1,null,1,1,null,"Los Angeles",-9,"Pacific Time (PT)"]
[14,"2026-06-15T12:00:00","2026-06-15T18:00:00","Spanien","Kap Verde",null,"H1","H2","Atlanta","H1-H2",{"$f":"D10","v":"Brasilien"},null,null,{"$f":"VLOOKUP(D15,Rangliste!$A$2:$F$211,6,FALSE)","v":2006.4451231002809},{"$f":"VLOOKUP(E15,Rangliste!$A$2:$F$211,6,FALSE)","v":1282.6006349372865},723.84448816299437,720,{"$f":"VLOOKUP(Q15,Resultate!$A$2:$E$37,2,FALSE)","v":"5:0"},5,0,null,5,0,null,"San Francisco",-9,"Pacific Time (PT)"]
[15,"2026-06-15T18:00:00","2026-06-16T03:00:00","IR Iran","Neuseeland",null,"G3","G4","Los Angeles","G3-G4",{"$f":"E10","v":"Marokko"},null,null,{"$f":"VLOOKUP(D16,Rangliste!$A$2:$F$211,6,FALSE)","v":1575.7080367088272},{"$f":"VLOOKUP(E16,Rangliste!$A$2:$F$211,6,FALSE)","v":1260.6919234466552},315.01611326217198,320,{"$f":"VLOOKUP(Q16,Resultate!$A$2:$E$37,2,FALSE)","v":"5:5"},5,5,null,5,5,null,"Seattle",-9,"Pacific Time (PT)"]
[13,"2026-06-15T18:00:00","2026-06-16","Saudiarabien","Uruguay",null,"H3","H4","Miami","H3-H4",{"$f":"D7","v":"Haiti"},null,null,{"$f":"VLOOKUP(D17,Rangliste!$A$2:$F$211,6,FALSE)","v":1517.2986113357545},{"$f":"VLOOKUP(E17,Rangliste!$A$2:$F$211,6,FALSE)","v":1484.3520601463317},32.946551189422735,40,{"$f":"VLOOKUP(Q17,Resultate!$A$2:$E$37,2,FALSE)","v":"0:0"},0,0,null,0,0,null,"Vancouver",-9,"Pacific Time (PT)"]
[16,"2026-06-15T12:00:00","2026-06-15T21:00:00","Belgien","Ägypten",null,"G1","G2","Seattle","G1-G2",{"$f":"E7","v":"Schottland"},null,null,{"$f":"VLOOKUP(D18,Rangliste!$A$2:$F$211,6,FALSE)","v":1811.7569546318055},{"$f":"VLOOKUP(E18,Rangliste!$A$2:$F$211,6,FALSE)","v":1533.065553894043},278.69140073776248,280,{"$f":"VLOOKUP(Q18,Resultate!$A$2:$E$37,2,FALSE)","v":"5:4"},5,4,null,5,4]
[17,"2026-06-16T15:00:00","2026-06-16T21:00:00","Frankreich","Senegal",null,"I1","I2","New York","I1-I2",null,null,null,{"$f":"VLOOKUP(D19,Rangliste!$A$2:$F$211,6,FALSE)","v":1806.8404520225524},{"$f":"VLOOKUP(E19,Rangliste!$A$2:$F$211,6,FALSE)","v":1743.270698299408},63.569753723144458,80,{"$f":"VLOOKUP(Q19,Resultate!$A$2:$E$37,2,FALSE)","v":"2:2"},2,2,null,2,2]
[18,"2026-06-16T18:00:00","2026-06-17","Irak","Norwegen",null,"I3","I4","Boston","I3-I4","D",null,null,{"$f":"VLOOKUP(D20,Rangliste!$A$2:$F$211,6,FALSE)","v":1678.8730837249757},{"$f":"VLOOKUP(E20,Rangliste!$A$2:$F$211,6,FALSE)","v":1279.1855325126648},399.68755121231084,400,{"$f":"VLOOKUP(Q20,Resultate!$A$2:$E$37,2,FALSE)","v":"3:1"},3,1,null,3,1]
[21,"2026-06-17T19:00:00","2026-06-18T01:00:00","Ghana","Panama",null,"L3","L4","Toronto","L3-L4",{"$f":"D5","v":"USA"},null,null,{"$f":"VLOOKUP(D21,Rangliste!$A$2:$F$211,6,FALSE)","v":1465.9896774864196},{"$f":"VLOOKUP(E21,Rangliste!$A$2:$F$211,6,FALSE)","v":1366.0911952400209},99.898482246398771,80,{"$f":"VLOOKUP(Q21,Resultate!$A$2:$E$37,2,FALSE)","v":"2:2"},2,2,null,2,2]
[20,"2026-06-16T21:00:00","2026-06-17T06:00:00","Österreich","Jordanien",null,"J3","J4","San Francisco","J3-J4",{"$f":"E5","v":"Paraguay"},null,null,{"$f":"VLOOKUP(D22,Rangliste!$A$2:$F$211,6,FALSE)","v":1668.6443802833558},{"$f":"VLOOKUP(E22,Rangliste!$A$2:$F$211,6,FALSE)","v":1426.5478255271912},242.09655475616455,240,{"$f":"VLOOKUP(Q22,Resultate!$A$2:$E$37,2,FALSE)","v":"4:3"},4,3,null,4,3]
[19,"2026-06-16T20:00:00","2026-06-17T03:00:00","Argentinien","Algerien",null,"J1","J2","Kansas City","J1-J2",{"$f":"D9","v":"Australien"},null,null,{"$f":"VLOOKUP(D23,Rangliste!$A$2:$F$211,6,FALSE)","v":1781.5569668388366},{"$f":"VLOOKUP(E23,Rangliste!$A$2:$F$211,6,FALSE)","v":1402.8767645454407},378.68020229339595,360,{"$f":"VLOOKUP(Q23,Resultate!$A$2:$E$37,2,FALSE)","v":"2:0"},2,0,null,2,0]
[23,"2026-06-17T12:00:00","2026-06-17T19:00:00","Portugal","DR Kongo",null,"K1","K2","Houston","K1-K2",{"$f":"E9","v":"Türkei"},null,null,{"$f":"VLOOKUP(D24,Rangliste!$A$2:$F$211,6,FALSE)","v":1742.924169139862},{"$f":"VLOOKUP(E24,Rangliste!$A$2:$F$211,6,FALSE)","v":1617.5416632652282},125.38250587463381,120,{"$f":"VLOOKUP(Q24,Resultate!$A$2:$E$37,2,FALSE)","v":"1:0"},1,0,null,1,0]
[24,"2026-06-17T21:00:00","2026-06-18T04:00:00","Usbekistan","Kolumbien",null,"K3","K4","Mexico City","K3-K4",null,null,null,{"$f":"VLOOKUP(D25,Rangliste!$A$2:$F$211,6,FALSE)","v":1301.2336786651611},{"$f":"VLOOKUP(E25,Rangliste!$A$2:$F$211,6,FALSE)","v":1628.3125852012633},-327.07890653610229,-320,{"$f":"VLOOKUP(Q25,Resultate!$A$2:$E$37,2,FALSE)","v":"3:5"},3,5,null,3,5]
[22,"2026-06-17T15:00:00","2026-06-17T22:00:00","England","Kroatien",null,"L1","L2","Dallas","L1-L2","E",null,null,{"$f":"VLOOKUP(D26,Rangliste!$A$2:$F$211,6,FALSE)","v":1827.7787530136109},{"$f":"VLOOKUP(E26,Rangliste!$A$2:$F$211,6,FALSE)","v":1839.2684958648681},-11.489742851257233,0,{"$f":"VLOOKUP(Q26,Resultate!$A$2:$E$37,2,FALSE)","v":"1:1"},1,1,null,1,1]
[null,null,null,null,null,"Vorrunde 2",null,null,null,null,{"$f":"D13","v":"Deutschland"}]
[27,{"$f":"C28+VLOOKUP(I28,$Y$2:$Z$17,2,FALSE)/24","v":"2026-06-18T15:00:00"},"2026-06-19","Kanada","Katar",null,"B1","B3","Vancouver","B1-B3",{"$f":"E13","v":"Curaçao"},null,null,{"$f":"VLOOKUP(D28,Rangliste!$A$2:$F$211,6,FALSE)","v":1376.4497375297547},{"$f":"VLOOKUP(E28,Rangliste!$A$2:$F$211,6,FALSE)","v":1494.3940634346009},-117.94432590484621,-120,{"$f":"VLOOKUP(Q28,Resultate!$A$2:$E$37,2,FALSE)","v":"2:3"},2,3,null,2,3]
[25,"2026-06-18T12:00:00","2026-06-18T18:00:00","Tschechien","Südafrika",null,"A4","A2","Atlanta","A4-A2",{"$f":"D8","v":"Elfenbeinküste"},null,null,{"$f":"VLOOKUP(D29,Rangliste!$A$2:$F$211,6,FALSE)","v":1625.5041812705995},{"$f":"VLOOKUP(E29,Rangliste!$A$2:$F$211,6,FALSE)","v":1294.2252893257141},331.27889194488534,320,{"$f":"VLOOKUP(Q29,Resultate!$A$2:$E$37,2,FALSE)","v":"5:5"},5,5,null,5,5]
[26,"2026-06-18T12:00:00","2026-06-18T21:00:00","Schweiz","Bosnien/Herzg.",null,"B4","B2","Los Angeles","B4-B2",{"$f":"E8","v":"Ecuador"},null,null,{"$f":"VLOOKUP(D30,Rangliste!$A$2:$F$211,6,FALSE)","v":1721.972102546692},{"$f":"VLOOKUP(E30,Rangliste!$A$2:$F$211,6,FALSE)","v":1346.2048406600952},375.76726188659677,360,{"$f":"VLOOKUP(Q30,Resultate!$A$2:$E$37,2,FALSE)","v":"2:0"},2,0,null,2,0]
[30,"2026-06-19T18:00:00","2026-06-20","Schottland","Marokko",null,"C4","C2","Boston","C4-C2",null,null,null,{"$f":"VLOOKUP(D31,Rangliste!$A$2:$F$211,6,FALSE)","v":1362.3319622039794},{"$f":"VLOOKUP(E31,Rangliste!$A$2:$F$211,6,FALSE)","v":1786.731268043518},-424.39930583953856,-440,{"$f":"VLOOKUP(Q31,Resultate!$A$2:$E$37,2,FALSE)","v":"0:2"},0,2,null,0,2]
[28,"2026-06-18T20:00:00","2026-06-19T03:00:00","Mexiko","Südkorea",null,"A1","A3","Guadalajara","A1-A3","F",null,null,{"$f":"VLOOKUP(D32,Rangliste!$A$2:$F$211,6,FALSE)","v":1709.1054685401916},{"$f":"VLOOKUP(E32,Rangliste!$A$2:$F$211,6,FALSE)","v":1409.2667323684693},299.8387361717223,280,{"$f":"VLOOKUP(Q32,Resultate!$A$2:$E$37,2,FALSE)","v":"5:4"},5,4,null,5,4]
[29,"2026-06-19T21:00:00","2026-06-20T03:00:00","Brasilien","Haiti",null,"C1","C3","Philadelphia","C1-C3",{"$f":"D14","v":"Niederlande"},null,null,{"$f":"VLOOKUP(D33,Rangliste!$A$2:$F$211,6,FALSE)","v":1654.1178948020936},{"$f":"VLOOKUP(E33,Rangliste!$A$2:$F$211,6,FALSE)","v":1496.76850315094},157.34939165115361,160,{"$f":"VLOOKUP(Q33,Resultate!$A$2:$E$37,2,FALSE)","v":"2:1"},2,1,null,2,1]
[32,"2026-06-19T12:00:00","2026-06-19T21:00:00","USA","Australien",null,"D1","D3","Seattle","D1-D3",{"$f":"E14","v":"Japan"},null,null,{"$f":"VLOOKUP(D34,Rangliste!$A$2:$F$211,6,FALSE)","v":1632.4304727363588},{"$f":"VLOOKUP(E34,Rangliste!$A$2:$F$211,6,FALSE)","v":1754.1909274291993},-121.76045469284054,-120,{"$f":"VLOOKUP(Q34,Resultate!$A$2:$E$37,2,FALSE)","v":"2:3"},2,3,null,2,3]
[33,"2026-06-20T16:00:00","2026-06-20T22:00:00","Deutschland","Elfenbeinküste",null,"E1","E3","Toronto","E1-E3",{"$f":"D12","v":"Schweden"},null,null,{"$f":"VLOOKUP(D35,Rangliste!$A$2:$F$211,6,FALSE)","v":1775.0704079818724},{"$f":"VLOOKUP(E35,Rangliste!$A$2:$F$211,6,FALSE)","v":1418.7596430587769},356.31076492309558,360,{"$f":"VLOOKUP(Q35,Resultate!$A$2:$E$37,2,FALSE)","v":"2:0"},2,0,null,2,0]
[34,"2026-06-20T19:00:00","2026-06-21T02:00:00","Ecuador","Curaçao",null,"E4","E2","Kansas City","E4-E2",{"$f":"E12","v":"Tunesien"},null,null,{"$f":"VLOOKUP(D36,Rangliste!$A$2:$F$211,6,FALSE)","v":1779.335721282959},{"$f":"VLOOKUP(E36,Rangliste!$A$2:$F$211,6,FALSE)","v":1346.5409025192262},432.79481876373279,440,{"$f":"VLOOKUP(Q36,Resultate!$A$2:$E$37,2,FALSE)","v":"4:2"},4,2,null,4,2]
[31,"2026-06-19T21:00:00","2026-06-20T06:00:00","Türkei","Paraguay",null,"D4","D2","San Francisco","D4-D2",null,null,null,{"$f":"VLOOKUP(D37,Rangliste!$A$2:$F$211,6,FALSE)","v":1513.0614657783508},{"$f":"VLOOKUP(E37,Rangliste!$A$2:$F$211,6,FALSE)","v":1740.3655443191528},-227.30407854080204,-240,{"$f":"VLOOKUP(Q37,Resultate!$A$2:$E$37,2,FALSE)","v":"4:4"},4,4,null,4,4]
[37,"2026-06-21T18:00:00","2026-06-22","Uruguay","Kap Verde",null,"H4","H2","Miami","H4-H2","G",null,null,{"$f":"VLOOKUP(D38,Rangliste!$A$2:$F$211,6,FALSE)","v":1484.3520601463317},{"$f":"VLOOKUP(E38,Rangliste!$A$2:$F$211,6,FALSE)","v":1282.6006349372865},201.75142520904524,200,{"$f":"VLOOKUP(Q38,Resultate!$A$2:$E$37,2,FALSE)","v":"3:2"},3,2,null,3,2]
[38,"2026-06-21T12:00:00","2026-06-21T18:00:00","Spanien","Saudiarabien",null,"H1","H3","Atlanta","H1-H3",{"$f":"D18","v":"Belgien"},null,null,{"$f":"VLOOKUP(D39,Rangliste!$A$2:$F$211,6,FALSE)","v":2006.4451231002809},{"$f":"VLOOKUP(E39,Rangliste!$A$2:$F$211,6,FALSE)","v":1517.2986113357545},489.14651176452639,480,{"$f":"VLOOKUP(Q39,Resultate!$A$2:$E$37,2,FALSE)","v":"5:3"},5,3,null,5,3]
[35,"2026-06-20T12:00:00","2026-06-20T19:00:00","Niederlande","Schweden",null,"F1","F3","Houston","F1-F3",{"$f":"E18","v":"Ägypten"},null,null,{"$f":"VLOOKUP(D40,Rangliste!$A$2:$F$211,6,FALSE)","v":1767.3271113586425},{"$f":"VLOOKUP(E40,Rangliste!$A$2:$F$211,6,FALSE)","v":1491.9397402000427},275.38737115859976,280,{"$f":"VLOOKUP(Q40,Resultate!$A$2:$E$37,2,FALSE)","v":"5:4"},5,4,null,5,4]
[36,"2026-06-20T23:00:00","2026-06-21T06:00:00","Tunesien","Japan",null,"F4","F2","Monterrey","F4-F2",{"$f":"D16","v":"IR Iran"},null,null,{"$f":"VLOOKUP(D41,Rangliste!$A$2:$F$211,6,FALSE)","v":1390.5400531768798},{"$f":"VLOOKUP(E41,Rangliste!$A$2:$F$211,6,FALSE)","v":1776.7522193717957},-386.21216619491588,-400,{"$f":"VLOOKUP(Q41,Resultate!$A$2:$E$37,2,FALSE)","v":"1:3"},1,3,null,1,3]
[41,"2026-06-22T20:00:00","2026-06-23T02:00:00","Norwegen","Senegal",null,"I4","I2","New York","I4-I2",{"$f":"E16","v":"Neuseeland"},null,null,{"$f":"VLOOKUP(D42,Rangliste!$A$2:$F$211,6,FALSE)","v":1279.1855325126648},{"$f":"VLOOKUP(E42,Rangliste!$A$2:$F$211,6,FALSE)","v":1743.270698299408},-464.08516578674312,-480,{"$f":"VLOOKUP(Q42,Resultate!$A$2:$E$37,2,FALSE)","v":"2:5"},2,5,null,2,5]
[42,"2026-06-22T17:00:00","2026-06-22T23:00:00","Frankreich","Irak",null,"I1","I3","Philadelphia","I1-I3",null,null,null,{"$f":"VLOOKUP(D43,Rangliste!$A$2:$F$211,6,FALSE)","v":1806.8404520225524},{"$f":"VLOOKUP(E43,Rangliste!$A$2:$F$211,6,FALSE)","v":1678.8730837249757},127.96736829757674,120,{"$f":"VLOOKUP(Q43,Resultate!$A$2:$E$37,2,FALSE)","v":"1:0"},1,0,null,1,0]
[39,"2026-06-21T12:00:00","2026-06-21T21:00:00","Belgien","IR Iran",null,"G1","G3","Los Angeles","G1-G3","H",null,null,{"$f":"VLOOKUP(D44,Rangliste!$A$2:$F$211,6,FALSE)","v":1811.7569546318055},{"$f":"VLOOKUP(E44,Rangliste!$A$2:$F$211,6,FALSE)","v":1575.7080367088272},236.04891792297826,240,{"$f":"VLOOKUP(Q44,Resultate!$A$2:$E$37,2,FALSE)","v":"4:3"},4,3,null,4,3]
[40,"2026-06-21T18:00:00","2026-06-22T03:00:00","Neuseeland","Ägypten",null,"G4","G2","Vancouver","G4-G2",{"$f":"D15","v":"Spanien"},null,null,{"$f":"VLOOKUP(D45,Rangliste!$A$2:$F$211,6,FALSE)","v":1260.6919234466552},{"$f":"VLOOKUP(E45,Rangliste!$A$2:$F$211,6,FALSE)","v":1533.065553894043},-272.37363044738777,-280,{"$f":"VLOOKUP(Q45,Resultate!$A$2:$E$37,2,FALSE)","v":"4:5"},4,5,null,4,5]
[45,"2026-06-23T16:00:00","2026-06-23T22:00:00","England","Ghana",null,"L1","L3","Boston","L1-L3",{"$f":"E15","v":"Kap Verde"},null,null,{"$f":"VLOOKUP(D46,Rangliste!$A$2:$F$211,6,FALSE)","v":1827.7787530136109},{"$f":"VLOOKUP(E46,Rangliste!$A$2:$F$211,6,FALSE)","v":1465.9896774864196},361.78907552719124,360,{"$f":"VLOOKUP(Q46,Resultate!$A$2:$E$37,2,FALSE)","v":"2:0"},2,0,null,2,0]
[46,"2026-06-23T19:00:00","2026-06-24T01:00:00","Panama","Kroatien",null,"L4","L2","Toronto","L4-L2",{"$f":"D17","v":"Saudiarabien"},null,null,{"$f":"VLOOKUP(D47,Rangliste!$A$2:$F$211,6,FALSE)","v":1366.0911952400209},{"$f":"VLOOKUP(E47,Rangliste!$A$2:$F$211,6,FALSE)","v":1839.2684958648681},-473.17730062484725,-480,{"$f":"VLOOKUP(Q47,Resultate!$A$2:$E$37,2,FALSE)","v":"2:5"},2,5,null,2,5]
[43,"2026-06-22T12:00:00","2026-06-22T19:00:00","Argentinien","Österreich",null,"J1","J3","Dallas","J1-J3",{"$f":"E17","v":"Uruguay"},null,null,{"$f":"VLOOKUP(D48,Rangliste!$A$2:$F$211,6,FALSE)","v":1781.5569668388366},{"$f":"VLOOKUP(E48,Rangliste!$A$2:$F$211,6,FALSE)","v":1668.6443802833558},112.91258655548086,120,{"$f":"VLOOKUP(Q48,Resultate!$A$2:$E$37,2,FALSE)","v":"1:0"},1,0,null,1,0]
[44,"2026-06-22T20:00:00","2026-06-23T05:00:00","Jordanien","Algerien",null,"J4","J2","San Francisco","J4-J2",null,null,null,{"$f":"VLOOKUP(D49,Rangliste!$A$2:$F$211,6,FALSE)","v":1426.5478255271912},{"$f":"VLOOKUP(E49,Rangliste!$A$2:$F$211,6,FALSE)","v":1402.8767645454407},23.671060981750543,40,{"$f":"VLOOKUP(Q49,Resultate!$A$2:$E$37,2,FALSE)","v":"0:0"},0,0,null,0,0]
[47,"2026-06-23T12:00:00","2026-06-23T19:00:00","Portugal","Usbekistan",null,"K1","K3","Houston","K1-K3","I",null,null,{"$f":"VLOOKUP(D50,Rangliste!$A$2:$F$211,6,FALSE)","v":1742.924169139862},{"$f":"VLOOKUP(E50,Rangliste!$A$2:$F$211,6,FALSE)","v":1301.2336786651611},441.69049047470094,440,{"$f":"VLOOKUP(Q50,Resultate!$A$2:$E$37,2,FALSE)","v":"4:2"},4,2,null,4,2]
[48,"2026-06-23T21:00:00","2026-06-24T04:00:00","Kolumbien","DR Kongo",null,"K4","K2","Guadalajara","K4-K2",{"$f":"D19","v":"Frankreich"},null,null,{"$f":"VLOOKUP(D51,Rangliste!$A$2:$F$211,6,FALSE)","v":1628.3125852012633},{"$f":"VLOOKUP(E51,Rangliste!$A$2:$F$211,6,FALSE)","v":1617.5416632652282},10.770921936035165,0,{"$f":"VLOOKUP(Q51,Resultate!$A$2:$E$37,2,FALSE)","v":"1:1"},1,1,null,1,1]
[null,null,null,null,null,"Vorrunde 3",null,null,null,null,{"$f":"E19","v":"Senegal"}]
[49,{"$f":"C53+VLOOKUP(I53,$Y$2:$Z$17,2,FALSE)/24","v":"2026-06-24T18:00:00"},"2026-06-25","Schottland","Brasilien",null,"C4","C1","Miami","C4-C1",{"$f":"D20","v":"Irak"},null,null,{"$f":"VLOOKUP(D53,Rangliste!$A$2:$F$211,6,FALSE)","v":1362.3319622039794},{"$f":"VLOOKUP(E53,Rangliste!$A$2:$F$211,6,FALSE)","v":1654.1178948020936},-291.78593259811419,-280,{"$f":"VLOOKUP(Q53,Resultate!$A$2:$E$37,2,FALSE)","v":"4:5"},4,5,null,4,5]
[50,"2026-06-24T18:00:00","2026-06-25","Marokko","Haiti",null,"C2","C3","Atlanta","C2-C3",{"$f":"E20","v":"Norwegen"},null,null,{"$f":"VLOOKUP(D54,Rangliste!$A$2:$F$211,6,FALSE)","v":1786.731268043518},{"$f":"VLOOKUP(E54,Rangliste!$A$2:$F$211,6,FALSE)","v":1496.76850315094},289.96276489257798,280,{"$f":"VLOOKUP(Q54,Resultate!$A$2:$E$37,2,FALSE)","v":"5:4"},5,4,null,5,4]
[51,"2026-06-24T12:00:00","2026-06-24T21:00:00","Schweiz","Kanada",null,"B4","B1","Vancouver","B4-B1",null,null,null,{"$f":"VLOOKUP(D55,Rangliste!$A$2:$F$211,6,FALSE)","v":1721.972102546692},{"$f":"VLOOKUP(E55,Rangliste!$A$2:$F$211,6,FALSE)","v":1376.4497375297547},345.52236501693733,360,{"$f":"VLOOKUP(Q55,Resultate!$A$2:$E$37,2,FALSE)","v":"2:0"},2,0,null,2,0]
[52,"2026-06-24T12:00:00","2026-06-24T21:00:00","Bosnien/Herzg.","Katar",null,"B2","B3","Seattle","B2-B3","J",null,null,{"$f":"VLOOKUP(D56,Rangliste!$A$2:$F$211,6,FALSE)","v":1346.2048406600952},{"$f":"VLOOKUP(E56,Rangliste!$A$2:$F$211,6,FALSE)","v":1494.3940634346009},-148.18922277450565,-160,{"$f":"VLOOKUP(Q56,Resultate!$A$2:$E$37,2,FALSE)","v":"3:3"},3,3,null,3,3]
[54,"2026-06-24T20:00:00","2026-06-25T03:00:00","Südafrika","Südkorea",null,"A2","A3","Monterrey","A2-A3",{"$f":"D23","v":"Argentinien"},null,null,{"$f":"VLOOKUP(D57,Rangliste!$A$2:$F$211,6,FALSE)","v":1294.2252893257141},{"$f":"VLOOKUP(E57,Rangliste!$A$2:$F$211,6,FALSE)","v":1409.2667323684693},-115.04144304275519,-120,{"$f":"VLOOKUP(Q57,Resultate!$A$2:$E$37,2,FALSE)","v":"2:3"},2,3,null,2,3]
[53,"2026-06-24T20:00:00","2026-06-25T03:00:00","Tschechien","Mexiko",null,"A4","A1","Mexico City","A4-A1",{"$f":"E23","v":"Algerien"},null,null,{"$f":"VLOOKUP(D58,Rangliste!$A$2:$F$211,6,FALSE)","v":1625.5041812705995},{"$f":"VLOOKUP(E58,Rangliste!$A$2:$F$211,6,FALSE)","v":1709.1054685401916},-83.601287269592149,-80,{"$f":"VLOOKUP(Q58,Resultate!$A$2:$E$37,2,FALSE)","v":"1:2"},1,2,null,1,2]
[56,"2026-06-25T16:00:00","2026-06-25T22:00:00","Ecuador","Deutschland",null,"E4","E1","New York","E4-E1",{"$f":"D22","v":"Österreich"},null,null,{"$f":"VLOOKUP(D59,Rangliste!$A$2:$F$211,6,FALSE)","v":1779.335721282959},{"$f":"VLOOKUP(E59,Rangliste!$A$2:$F$211,6,FALSE)","v":1775.0704079818724},4.2653133010865076,0,{"$f":"VLOOKUP(Q59,Resultate!$A$2:$E$37,2,FALSE)","v":"1:1"},1,1,null,1,1]
[55,"2026-06-25T16:00:00","2026-06-25T22:00:00","Curaçao","Elfenbeinküste",null,"E2","E3","Philadelphia","E2-E3",{"$f":"E22","v":"Jordanien"},null,null,{"$f":"VLOOKUP(D60,Rangliste!$A$2:$F$211,6,FALSE)","v":1346.5409025192262},{"$f":"VLOOKUP(E60,Rangliste!$A$2:$F$211,6,FALSE)","v":1418.7596430587769},-72.218740539550708,-80,{"$f":"VLOOKUP(Q60,Resultate!$A$2:$E$37,2,FALSE)","v":"1:2"},1,2,null,1,2]
[57,"2026-06-25T18:00:00","2026-06-26T01:00:00","Japan","Schweden",null,"F2","F3","Dallas","F2-F3",null,null,null,{"$f":"VLOOKUP(D61,Rangliste!$A$2:$F$211,6,FALSE)","v":1776.7522193717957},{"$f":"VLOOKUP(E61,Rangliste!$A$2:$F$211,6,FALSE)","v":1491.9397402000427},284.81247917175301,280,{"$f":"VLOOKUP(Q61,Resultate!$A$2:$E$37,2,FALSE)","v":"5:4"},5,4,null,5,4]
[58,"2026-06-25T18:00:00","2026-06-26T01:00:00","Tunesien","Niederlande",null,"F4","F1","Kansas City","F4-F1","K",null,null,{"$f":"VLOOKUP(D62,Rangliste!$A$2:$F$211,6,FALSE)","v":1390.5400531768798},{"$f":"VLOOKUP(E62,Rangliste!$A$2:$F$211,6,FALSE)","v":1767.3271113586425},-376.78705818176263,-360,{"$f":"VLOOKUP(Q62,Resultate!$A$2:$E$37,2,FALSE)","v":"2:4"},2,4,null,2,4]
[59,"2026-06-25T19:00:00","2026-06-26T04:00:00","Türkei","USA",null,"D4","D1","Los Angeles","D4-D1",{"$f":"D24","v":"Portugal"},null,null,{"$f":"VLOOKUP(D63,Rangliste!$A$2:$F$211,6,FALSE)","v":1513.0614657783508},{"$f":"VLOOKUP(E63,Rangliste!$A$2:$F$211,6,FALSE)","v":1632.4304727363588},-119.36900695800796,-120,{"$f":"VLOOKUP(Q63,Resultate!$A$2:$E$37,2,FALSE)","v":"2:3"},2,3,null,2,3]
[60,"2026-06-25T19:00:00","2026-06-26T04:00:00","Paraguay","Australien",null,"D2","D3","San Francisco","D2-D3",{"$f":"E24","v":"DR Kongo"},null,null,{"$f":"VLOOKUP(D64,Rangliste!$A$2:$F$211,6,FALSE)","v":1740.3655443191528},{"$f":"VLOOKUP(E64,Rangliste!$A$2:$F$211,6,FALSE)","v":1754.1909274291993},-13.825383110046459,0,{"$f":"VLOOKUP(Q64,Resultate!$A$2:$E$37,2,FALSE)","v":"1:1"},1,1,null,1,1]
[61,"2026-06-26T15:00:00","2026-06-26T21:00:00","Norwegen","Frankreich",null,"I4","I1","Boston","I4-I1",{"$f":"D25","v":"Usbekistan"},null,null,{"$f":"VLOOKUP(D65,Rangliste!$A$2:$F$211,6,FALSE)","v":1279.1855325126648},{"$f":"VLOOKUP(E65,Rangliste!$A$2:$F$211,6,FALSE)","v":1806.8404520225524},-527.65491950988758,-520,{"$f":"VLOOKUP(Q65,Resultate!$A$2:$E$37,2,FALSE)","v":"1:4"},1,4,null,1,4]
[62,"2026-06-26T15:00:00","2026-06-26T21:00:00","Senegal","Irak",null,"I2","I3","Toronto","I2-I3",{"$f":"E25","v":"Kolumbien"},null,null,{"$f":"VLOOKUP(D66,Rangliste!$A$2:$F$211,6,FALSE)","v":1743.270698299408},{"$f":"VLOOKUP(E66,Rangliste!$A$2:$F$211,6,FALSE)","v":1678.8730837249757},64.397614574432282,80,{"$f":"VLOOKUP(Q66,Resultate!$A$2:$E$37,2,FALSE)","v":"2:2"},2,2,null,2,2]
[63,"2026-06-26T20:00:00","2026-06-27T05:00:00","Ägypten","IR Iran",null,"G2","G3","Seattle","G2-G3",null,null,null,{"$f":"VLOOKUP(D67,Rangliste!$A$2:$F$211,6,FALSE)","v":1533.065553894043},{"$f":"VLOOKUP(E67,Rangliste!$A$2:$F$211,6,FALSE)","v":1575.7080367088272},-42.642482814784216,-40,{"$f":"VLOOKUP(Q67,Resultate!$A$2:$E$37,2,FALSE)","v":"0:1"},0,1,null,{"$f":"IF(S67=T67,IF(S67=0,U67+S67,S67),S67)","v":0},{"$f":"IF(S67=T67,IF(T67=0,T67,T67-U67),T67)","v":1}]
[64,"2026-06-26T20:00:00","2026-06-27T05:00:00","Neuseeland","Belgien",null,"G4","G1","Vancouver",{"$f":"CONCATENATE(G68,\"-\",H68)","v":"G4-G1"},"L",null,null,{"$f":"VLOOKUP(D68,Rangliste!$A$2:$F$211,6,FALSE)","v":1260.6919234466552},{"$f":"VLOOKUP(E68,Rangliste!$A$2:$F$211,6,FALSE)","v":1811.7569546318055},{"$f":"N68-O68","v":-551.06503118515025},{"$f":"MAX(-680,MIN(720,ROUND(P68/40,0)*40))","v":-560},{"$f":"VLOOKUP(Q68,Resultate!$A$2:$E$37,2,FALSE)","v":"0:3"},{"$f":"VALUE(MID(R68,1,1))","v":0},{"$f":"VALUE(MID(R68,3,1))","v":3},null,0,3]
[65,"2026-06-26T19:00:00","2026-06-27T02:00:00","Kap Verde","Saudiarabien",null,"H2","H3","Houston","H2-H3",{"$f":"D26","v":"England"},null,null,{"$f":"VLOOKUP(D69,Rangliste!$A$2:$F$211,6,FALSE)","v":1282.6006349372865},{"$f":"VLOOKUP(E69,Rangliste!$A$2:$F$211,6,FALSE)","v":1517.2986113357545},-234.69797639846797,-240,{"$f":"VLOOKUP(Q69,Resultate!$A$2:$E$37,2,FALSE)","v":"4:4"},4,4,null,4,4]
[66,"2026-06-26T19:00:00","2026-06-27T02:00:00","Uruguay","Spanien",null,"H4","H1","Guadalajara","H4-H1",{"$f":"E26","v":"Kroatien"},null,null,{"$f":"VLOOKUP(D70,Rangliste!$A$2:$F$211,6,FALSE)","v":1484.3520601463317},{"$f":"VLOOKUP(E70,Rangliste!$A$2:$F$211,6,FALSE)","v":2006.4451231002809},-522.09306295394913,-520,{"$f":"VLOOKUP(Q70,Resultate!$A$2:$E$37,2,FALSE)","v":"1:4"},1,4,null,1,4]
[67,"2026-06-27T17:00:00","2026-06-27T23:00:00","Panama","England",null,"L4","L1","New York","L4-L1",{"$f":"D21","v":"Ghana"},null,null,{"$f":"VLOOKUP(D71,Rangliste!$A$2:$F$211,6,FALSE)","v":1366.0911952400209},{"$f":"VLOOKUP(E71,Rangliste!$A$2:$F$211,6,FALSE)","v":1827.7787530136109},-461.68755777359002,-480,{"$f":"VLOOKUP(Q71,Resultate!$A$2:$E$37,2,FALSE)","v":"2:5"},2,5,null,2,5]
[68,"2026-06-27T17:00:00","2026-06-27T23:00:00","Kroatien","Ghana",null,"L2","L3","Philadelphia","L2-L3",{"$f":"E21","v":"Panama"},null,null,{"$f":"VLOOKUP(D72,Rangliste!$A$2:$F$211,6,FALSE)","v":1839.2684958648681},{"$f":"VLOOKUP(E72,Rangliste!$A$2:$F$211,6,FALSE)","v":1465.9896774864196},373.27881837844848,360,{"$f":"VLOOKUP(Q72,Resultate!$A$2:$E$37,2,FALSE)","v":"2:0"},2,0,null,2,0]
[69,"2026-06-27T21:00:00","2026-06-28T04:00:00","Algerien","Österreich",null,"J2","J3","Kansas City","J2-J3",null,null,null,{"$f":"VLOOKUP(D73,Rangliste!$A$2:$F$211,6,FALSE)","v":1402.8767645454407},{"$f":"VLOOKUP(E73,Rangliste!$A$2:$F$211,6,FALSE)","v":1668.6443802833558},-265.76761573791509,-280,{"$f":"VLOOKUP(Q73,Resultate!$A$2:$E$37,2,FALSE)","v":"4:5"},4,5,null,4,5]
[70,"2026-06-27T21:00:00","2026-06-28T04:00:00","Jordanien","Argentinien",null,"J4","J1","Dallas","J4-J1",null,null,null,{"$f":"VLOOKUP(D74,Rangliste!$A$2:$F$211,6,FALSE)","v":1426.5478255271912},{"$f":"VLOOKUP(E74,Rangliste!$A$2:$F$211,6,FALSE)","v":1781.5569668388366},-355.00914131164541,-360,{"$f":"VLOOKUP(Q74,Resultate!$A$2:$E$37,2,FALSE)","v":"2:4"},2,4,null,2,4]
[71,"2026-06-27T19:30:00","2026-06-28T01:30:00","Kolumbien","Portugal",null,"K4","K1","Miami","K4-K1",null,null,null,{"$f":"VLOOKUP(D75,Rangliste!$A$2:$F$211,6,FALSE)","v":1628.3125852012633},{"$f":"VLOOKUP(E75,Rangliste!$A$2:$F$211,6,FALSE)","v":1742.924169139862},-114.61158393859864,-120,{"$f":"VLOOKUP(Q75,Resultate!$A$2:$E$37,2,FALSE)","v":"2:3"},2,3,null,2,3]
[72,"2026-06-27T19:30:00","2026-06-28T01:30:00","DR Kongo","Usbekistan",null,"K2","K3","Atlanta","K2-K3",null,null,null,{"$f":"VLOOKUP(D76,Rangliste!$A$2:$F$211,6,FALSE)","v":1617.5416632652282},{"$f":"VLOOKUP(E76,Rangliste!$A$2:$F$211,6,FALSE)","v":1301.2336786651611},316.30798460006713,320,{"$f":"VLOOKUP(Q76,Resultate!$A$2:$E$37,2,FALSE)","v":"5:5"},5,5,null,5,5]
[null,null,null,null,null,"Sechzehntelfinale",null,null,null,null,null,null,null,null,null,null,null,null,null,null,null,0,0]
[73,{"$f":"C78+VLOOKUP(I78,$Y$2:$Z$17,2,FALSE)/24","v":"2026-06-28T12:00:00"},"2026-06-28T21:00:00",{"$f":"'WM2026'!D63","v":"Südafrika"},{"$f":"'WM2026'!F63","v":"Bosnien/Herzg."},"SF01","2A","2B","Los Angeles",{"$f":"CONCATENATE(F78,\":\",G78,\"-\",H78)","v":"SF01:2A-2B"},null,null,null,{"$f":"VLOOKUP(D78,Rangliste!$A$2:$F$211,6,FALSE)","v":1294.2252893257141},{"$f":"VLOOKUP(E78,Rangliste!$A$2:$F$211,6,FALSE)","v":1346.2048406600952},-51.979551334381085,-40,{"$f":"VLOOKUP(Q78,Resultate!$A$2:$E$37,2,FALSE)","v":"0:1"},0,1,{"$f":"SIGN(N78-O78)","v":-1},0,1]
[74,"2026-06-29T16:30:00","2026-06-29T22:30:00",{"$f":"'WM2026'!D64","v":"Brasilien"},{"$f":"'WM2026'!F64","v":"Japan"},"SF03","1E","3-ABCDF","Boston",{"$f":"CONCATENATE(F79,\":\",G79,\"-\",H79)","v":"SF03:1E-3-ABCDF"},null,null,null,{"$f":"VLOOKUP(D79,Rangliste!$A$2:$F$211,6,FALSE)","v":1654.1178948020936},{"$f":"VLOOKUP(E79,Rangliste!$A$2:$F$211,6,FALSE)","v":1776.7522193717957},-122.63432456970213,-120,{"$f":"VLOOKUP(Q79,Resultate!$A$2:$E$37,2,FALSE)","v":"2:3"},2,3,-1,2,3]
[75,"2026-06-29T20:00:00","2026-06-30T03:00:00",{"$f":"'WM2026'!D65","v":"Deutschland"},{"$f":"'WM2026'!F65","v":"Haiti"},"SF04","1F","2C","Monterrey","SF04:1F-2C",null,null,null,{"$f":"VLOOKUP(D80,Rangliste!$A$2:$F$211,6,FALSE)","v":1775.0704079818724},{"$f":"VLOOKUP(E80,Rangliste!$A$2:$F$211,6,FALSE)","v":1496.76850315094},278.30190483093247,280,{"$f":"VLOOKUP(Q80,Resultate!$A$2:$E$37,2,FALSE)","v":"5:4"},5,4,1,5,4]
[76,"2026-06-29T12:00:00","2026-06-29T19:00:00",{"$f":"'WM2026'!D66","v":"Niederlande"},{"$f":"'WM2026'!F66","v":"Marokko"},"SF02","1C","2F","Houston","SF02:1C-2F",null,null,null,{"$f":"VLOOKUP(D81,Rangliste!$A$2:$F$211,6,FALSE)","v":1767.3271113586425},{"$f":"VLOOKUP(E81,Rangliste!$A$2:$F$211,6,FALSE)","v":1786.731268043518},-19.404156684875488,0,{"$f":"VLOOKUP(Q81,Resultate!$A$2:$E$37,2,FALSE)","v":"1:1"},1,1,-1,1,2]
[77,"2026-06-30T17:00:00","2026-06-30T23:00:00",{"$f":"'WM2026'!D67","v":"Curaçao"},{"$f":"'WM2026'!F67","v":"Senegal"},"SF06","1I","3-CDFGH","New York","SF06:1I-3-CDFGH",null,null,null,{"$f":"VLOOKUP(D82,Rangliste!$A$2:$F$211,6,FALSE)","v":1346.5409025192262},{"$f":"VLOOKUP(E82,Rangliste!$A$2:$F$211,6,FALSE)","v":1743.270698299408},-396.7297957801818,-400,{"$f":"VLOOKUP(Q82,Resultate!$A$2:$E$37,2,FALSE)","v":"1:3"},1,3,-1,1,3]
[78,"2026-06-30T12:00:00","2026-06-30T19:00:00",{"$f":"'WM2026'!D68","v":"Frankreich"},{"$f":"'WM2026'!F68","v":"Schweden"},"SF05","2E","2I","Dallas","SF05:2E-2I",null,null,null,{"$f":"VLOOKUP(D83,Rangliste!$A$2:$F$211,6,FALSE)","v":1806.8404520225524},{"$f":"VLOOKUP(E83,Rangliste!$A$2:$F$211,6,FALSE)","v":1491.9397402000427},314.90071182250972,320,{"$f":"VLOOKUP(Q83,Resultate!$A$2:$E$37,2,FALSE)","v":"5:5"},5,5,1,5,4]
[79,"2026-06-30T20:00:00","2026-07-01T03:00:00",{"$f":"'WM2026'!D69","v":"Mexiko"},{"$f":"'WM2026'!F69","v":"Saudiarabien"},"SF07","1A","3-CEFHI","Mexico City","SF07:1A-3-CEFHI",null,null,null,{"$f":"VLOOKUP(D84,Rangliste!$A$2:$F$211,6,FALSE)","v":1709.1054685401916},{"$f":"VLOOKUP(E84,Rangliste!$A$2:$F$211,6,FALSE)","v":1517.2986113357545},191.80685720443716,200,{"$f":"VLOOKUP(Q84,Resultate!$A$2:$E$37,2,FALSE)","v":"3:2"},3,2,1,3,2]
[80,"2026-07-01T12:00:00","2026-07-01T18:00:00",{"$f":"'WM2026'!D70","v":"England"},{"$f":"'WM2026'!F70","v":"Elfenbeinküste"},"SF08","1L","3-EHIJK","Atlanta","SF08:1L-3-EHIJK",null,null,null,{"$f":"VLOOKUP(D85,Rangliste!$A$2:$F$211,6,FALSE)","v":1827.7787530136109},{"$f":"VLOOKUP(E85,Rangliste!$A$2:$F$211,6,FALSE)","v":1418.7596430587769},409.01910995483399,400,{"$f":"VLOOKUP(Q85,Resultate!$A$2:$E$37,2,FALSE)","v":"3:1"},3,1,1,3,1]
[81,"2026-07-01T17:00:00","2026-07-02T02:00:00",{"$f":"'WM2026'!D71","v":"Belgien"},{"$f":"'WM2026'!F71","v":"Südkorea"},"SF10","1D","3-BEFIJ","San Francisco","SF10:1D-3-BEFIJ",null,null,null,{"$f":"VLOOKUP(D86,Rangliste!$A$2:$F$211,6,FALSE)","v":1811.7569546318055},{"$f":"VLOOKUP(E86,Rangliste!$A$2:$F$211,6,FALSE)","v":1409.2667323684693},402.49022226333614,400,{"$f":"VLOOKUP(Q86,Resultate!$A$2:$E$37,2,FALSE)","v":"3:1"},3,1,1,3,1]
[82,"2026-07-01T13:00:00","2026-07-01T22:00:00",{"$f":"'WM2026'!D72","v":"USA"},{"$f":"'WM2026'!F72","v":"Katar"},"SF09","1G","3-AEHIJ","Seattle","SF09:1G-3-AEHIJ",null,null,null,{"$f":"VLOOKUP(D87,Rangliste!$A$2:$F$211,6,FALSE)","v":1632.4304727363588},{"$f":"VLOOKUP(E87,Rangliste!$A$2:$F$211,6,FALSE)","v":1494.3940634346009},138.03640930175789,120,{"$f":"VLOOKUP(Q87,Resultate!$A$2:$E$37,2,FALSE)","v":"1:0"},1,0,1,1,0]
[83,"2026-07-02T19:00:00","2026-07-03T01:00:00",{"$f":"'WM2026'!D73","v":"Spanien"},{"$f":"'WM2026'!F73","v":"Algerien"},"SF12","2K","2L","Toronto","SF12:2K-2L",null,null,null,{"$f":"VLOOKUP(D88,Rangliste!$A$2:$F$211,6,FALSE)","v":2006.4451231002809},{"$f":"VLOOKUP(E88,Rangliste!$A$2:$F$211,6,FALSE)","v":1402.8767645454407},603.56835855484019,600,{"$f":"VLOOKUP(Q88,Resultate!$A$2:$E$37,2,FALSE)","v":"5:2"},5,2,1,5,2]
[84,"2026-07-02T12:00:00","2026-07-02T21:00:00",{"$f":"'WM2026'!D74","v":"DR Kongo"},{"$f":"'WM2026'!F74","v":"Kroatien"},"SF11","1H","2J","Los Angeles","SF11:1H-2J",null,null,null,{"$f":"VLOOKUP(D89,Rangliste!$A$2:$F$211,6,FALSE)","v":1617.5416632652282},{"$f":"VLOOKUP(E89,Rangliste!$A$2:$F$211,6,FALSE)","v":1839.2684958648681},-221.72683259963992,-240,{"$f":"VLOOKUP(Q89,Resultate!$A$2:$E$37,2,FALSE)","v":"4:4"},4,4,-1,4,5]
[85,"2026-07-02T20:00:00","2026-07-03T05:00:00",{"$f":"'WM2026'!D75","v":"Kanada"},{"$f":"'WM2026'!F75","v":"IR Iran"},"SF13","1B","3-EFGIJ","Vancouver","SF13:1B-3-EFGIJ",null,null,null,{"$f":"VLOOKUP(D90,Rangliste!$A$2:$F$211,6,FALSE)","v":1376.4497375297547},{"$f":"VLOOKUP(E90,Rangliste!$A$2:$F$211,6,FALSE)","v":1575.7080367088272},-199.25829917907254,-200,{"$f":"VLOOKUP(Q90,Resultate!$A$2:$E$37,2,FALSE)","v":"3:4"},3,4,-1,3,4]
[86,"2026-07-03T18:00:00","2026-07-04",{"$f":"'WM2026'!D76","v":"Paraguay"},{"$f":"'WM2026'!F76","v":"Ägypten"},"SF15","1J","2H","Miami","SF15:1J-2H",null,null,null,{"$f":"VLOOKUP(D91,Rangliste!$A$2:$F$211,6,FALSE)","v":1740.3655443191528},{"$f":"VLOOKUP(E91,Rangliste!$A$2:$F$211,6,FALSE)","v":1533.065553894043},207.29999042510985,200,{"$f":"VLOOKUP(Q91,Resultate!$A$2:$E$37,2,FALSE)","v":"3:2"},3,2,1,3,2]
[87,"2026-07-03T20:30:00","2026-07-04T03:30:00",{"$f":"'WM2026'!D77","v":"Argentinien"},{"$f":"'WM2026'!F77","v":"Kap Verde"},"SF16","1K","3-DEIJL","Kansas City","SF16:1K-3-DEIJL",null,null,null,{"$f":"VLOOKUP(D92,Rangliste!$A$2:$F$211,6,FALSE)","v":1781.5569668388366},{"$f":"VLOOKUP(E92,Rangliste!$A$2:$F$211,6,FALSE)","v":1282.6006349372865},498.95633190155013,480,{"$f":"VLOOKUP(Q92,Resultate!$A$2:$E$37,2,FALSE)","v":"5:3"},5,3,1,5,3]
[88,"2026-07-03T13:00:00","2026-07-03T20:00:00",{"$f":"'WM2026'!D78","v":"Portugal"},{"$f":"'WM2026'!F78","v":"Australien"},"SF14","2D","2G","Dallas","SF14:2D-2G",null,null,null,{"$f":"VLOOKUP(D93,Rangliste!$A$2:$F$211,6,FALSE)","v":1742.924169139862},{"$f":"VLOOKUP(E93,Rangliste!$A$2:$F$211,6,FALSE)","v":1754.1909274291993},-11.266758289337304,0,{"$f":"VLOOKUP(Q93,Resultate!$A$2:$E$37,2,FALSE)","v":"1:1"},1,1,-1,1,2]
[null,null,null,null,null,"Achtelfinale"]
[89,{"$f":"C95+VLOOKUP(I95,$Y$2:$Z$17,2,FALSE)/24","v":"2026-07-04T17:00:00"},"2026-07-04T23:00:00",{"$f":"'WM2026'!D82","v":"Deutschland"},{"$f":"'WM2026'!F82","v":"Frankreich"},"AF01","W74","W77","Philadelphia",{"$f":"CONCATENATE(F95,\":\",K95,\":\",L95,\":\",G95,\"-\",H95)","v":"AF01:SF03:SF06:W74-W77"},{"$f":"VLOOKUP(VALUE(MID(G95,2,2)),$A$1:$H$200,6,FALSE)","v":"SF03"},"SF06",null,{"$f":"VLOOKUP(D95,Rangliste!$A$2:$F$211,6,FALSE)","v":1775.0704079818724},{"$f":"VLOOKUP(E95,Rangliste!$A$2:$F$211,6,FALSE)","v":1806.8404520225524},-31.770044040679977,-40,{"$f":"VLOOKUP(Q95,Resultate!$A$2:$E$37,2,FALSE)","v":"0:1"},0,1,-1,0,1]
[90,"2026-07-04T12:00:00","2026-07-04T19:00:00",{"$f":"'WM2026'!D83","v":"Südafrika"},{"$f":"'WM2026'!F83","v":"Niederlande"},"AF02","W73","W75","Houston","AF02:SF01:SF04:W73-W75","SF01","SF04",null,{"$f":"VLOOKUP(D96,Rangliste!$A$2:$F$211,6,FALSE)","v":1294.2252893257141},{"$f":"VLOOKUP(E96,Rangliste!$A$2:$F$211,6,FALSE)","v":1767.3271113586425},-473.10182203292834,-480,{"$f":"VLOOKUP(Q96,Resultate!$A$2:$E$37,2,FALSE)","v":"2:5"},2,5,-1,2,5]
[91,"2026-07-05T16:00:00","2026-07-05T22:00:00",{"$f":"'WM2026'!D84","v":"Brasilien"},{"$f":"'WM2026'!F84","v":"Curaçao"},"AF03","W76","W78","New York","AF03:SF02:SF05:W76-W78","SF02","SF05",null,{"$f":"VLOOKUP(D97,Rangliste!$A$2:$F$211,6,FALSE)","v":1654.1178948020936},{"$f":"VLOOKUP(E97,Rangliste!$A$2:$F$211,6,FALSE)","v":1346.5409025192262},307.57699228286742,320,{"$f":"VLOOKUP(Q97,Resultate!$A$2:$E$37,2,FALSE)","v":"5:5"},5,5,1,5,4]
[92,"2026-07-05T19:00:00","2026-07-06T02:00:00",{"$f":"'WM2026'!D85","v":"Mexiko"},{"$f":"'WM2026'!F85","v":"England"},"AF04","W79","W80","Mexico City","AF04:SF07:SF08:W79-W80","SF07","SF08",null,{"$f":"VLOOKUP(D98,Rangliste!$A$2:$F$211,6,FALSE)","v":1709.1054685401916},{"$f":"VLOOKUP(E98,Rangliste!$A$2:$F$211,6,FALSE)","v":1827.7787530136109},-118.67328447341924,-120,{"$f":"VLOOKUP(Q98,Resultate!$A$2:$E$37,2,FALSE)","v":"2:3"},2,3,-1,2,3]
[93,"2026-07-06T14:00:00","2026-07-06T21:00:00",{"$f":"'WM2026'!D86","v":"DR Kongo"},{"$f":"'WM2026'!F86","v":"Spanien"},"AF05","W83","W84","Dallas","AF05:SF12:SF11:W83-W84","SF12","SF11",null,{"$f":"VLOOKUP(D99,Rangliste!$A$2:$F$211,6,FALSE)","v":1617.5416632652282},{"$f":"VLOOKUP(E99,Rangliste!$A$2:$F$211,6,FALSE)","v":2006.4451231002809},-388.90345983505267,-400,{"$f":"VLOOKUP(Q99,Resultate!$A$2:$E$37,2,FALSE)","v":"1:3"},1,3,-1,1,3]
[94,"2026-07-06T17:00:00","2026-07-07T02:00:00",{"$f":"'WM2026'!D87","v":"USA"},{"$f":"'WM2026'!F87","v":"Belgien"},"AF06","W81","W82","Seattle","AF06:SF10:SF09:W81-W82","SF10","SF09",null,{"$f":"VLOOKUP(D100,Rangliste!$A$2:$F$211,6,FALSE)","v":1632.4304727363588},{"$f":"VLOOKUP(E100,Rangliste!$A$2:$F$211,6,FALSE)","v":1811.7569546318055},-179.3264818954467,-160,{"$f":"VLOOKUP(Q100,Resultate!$A$2:$E$37,2,FALSE)","v":"3:3"},3,3,-1,3,4]
[95,"2026-07-07T12:00:00","2026-07-07T18:00:00",{"$f":"'WM2026'!D88","v":"Argentinien"},{"$f":"'WM2026'!F88","v":"Paraguay"},"AF07","W86","W88","Atlanta","AF07:SF15:SF14:W86-W88","SF15","SF14",null,{"$f":"VLOOKUP(D101,Rangliste!$A$2:$F$211,6,FALSE)","v":1781.5569668388366},{"$f":"VLOOKUP(E101,Rangliste!$A$2:$F$211,6,FALSE)","v":1740.3655443191528},41.191422519683783,40,{"$f":"VLOOKUP(Q101,Resultate!$A$2:$E$37,2,FALSE)","v":"0:0"},0,0,1,1,0]
[96,"2026-07-07T13:00:00","2026-07-07T22:00:00",{"$f":"'WM2026'!D89","v":"Kanada"},{"$f":"'WM2026'!F89","v":"Portugal"},"AF08","W85","W87","Vancouver","AF08:SF13:SF16:W85-W87","SF13","SF16",null,{"$f":"VLOOKUP(D102,Rangliste!$A$2:$F$211,6,FALSE)","v":1376.4497375297547},{"$f":"VLOOKUP(E102,Rangliste!$A$2:$F$211,6,FALSE)","v":1742.924169139862},-366.47443161010733,-360,{"$f":"VLOOKUP(Q102,Resultate!$A$2:$E$37,2,FALSE)","v":"2:4"},2,4,-1,2,4]
[null,null,null,null,null,"Viertelfinale"]
[97,{"$f":"C104+VLOOKUP(I104,$Y$2:$Z$17,2,FALSE)/24","v":"2026-07-09T16:00:00"},"2026-07-09T22:00:00",{"$f":"'WM2026'!BD82","v":"Deutschland"},{"$f":"'WM2026'!BF82","v":"Südafrika"},"VF01","W89","W90","Boston",{"$f":"CONCATENATE(F104,\":\",K104,\":\",L104,\":\",G104,\"-\",H104)","v":"VF01:AF01:AF02:W89-W90"},{"$f":"VLOOKUP(VALUE(MID(G104,2,2)),$A$1:$H$200,6,FALSE)","v":"AF01"},"AF02",null,{"$f":"VLOOKUP(D104,Rangliste!$A$2:$F$211,6,FALSE)","v":1775.0704079818724},{"$f":"VLOOKUP(E104,Rangliste!$A$2:$F$211,6,FALSE)","v":1294.2252893257141},480.84511865615832,480,{"$f":"VLOOKUP(Q104,Resultate!$A$2:$E$37,2,FALSE)","v":"5:3"},5,3,1,5,3]
[98,{"$f":"C105+VLOOKUP(I105,$Y$2:$Z$17,2,FALSE)/24","v":"2026-07-10T12:00:00"},"2026-07-10T21:00:00",{"$f":"'WM2026'!BD83","v":"DR Kongo"},{"$f":"'WM2026'!BF83","v":"USA"},"VF02","W93","W94","Los Angeles",{"$f":"CONCATENATE(F105,\":\",K105,\":\",L105,\":\",G105,\"-\",H105)","v":"VF02:AF05:AF06:W93-W94"},"AF05","AF06",null,{"$f":"VLOOKUP(D105,Rangliste!$A$2:$F$211,6,FALSE)","v":1617.5416632652282},{"$f":"VLOOKUP(E105,Rangliste!$A$2:$F$211,6,FALSE)","v":1632.4304727363588},-14.888809471130571,0,{"$f":"VLOOKUP(Q105,Resultate!$A$2:$E$37,2,FALSE)","v":"1:1"},1,1,-1,1,2]
[99,{"$f":"C106+VLOOKUP(I106,$Y$2:$Z$17,2,FALSE)/24","v":"2026-07-11T17:00:00"},"2026-07-11T23:00:00",{"$f":"'WM2026'!BD84","v":"Brasilien"},{"$f":"'WM2026'!BF84","v":"Mexiko"},"VF03","W91","W92","Miami",{"$f":"CONCATENATE(F106,\":\",K106,\":\",L106,\":\",G106,\"-\",H106)","v":"VF03:AF03:AF04:W91-W92"},"AF03","AF04",null,{"$f":"VLOOKUP(D106,Rangliste!$A$2:$F$211,6,FALSE)","v":1654.1178948020936},{"$f":"VLOOKUP(E106,Rangliste!$A$2:$F$211,6,FALSE)","v":1709.1054685401916},-54.987573738098035,-40,{"$f":"VLOOKUP(Q106,Resultate!$A$2:$E$37,2,FALSE)","v":"0:1"},0,1,-1,0,1]
[100,{"$f":"C107+VLOOKUP(I107,$Y$2:$Z$17,2,FALSE)/24","v":"2026-07-11T20:00:00"},"2026-07-12T03:00:00",{"$f":"'WM2026'!BD85","v":"Argentinien"},{"$f":"'WM2026'!BF85","v":"Kanada"},"VF04","W95","W96","Kansas City",{"$f":"CONCATENATE(F107,\":\",K107,\":\",L107,\":\",G107,\"-\",H107)","v":"VF04:AF07:AF08:W95-W96"},"AF07","AF08",null,{"$f":"VLOOKUP(D107,Rangliste!$A$2:$F$211,6,FALSE)","v":1781.5569668388366},{"$f":"VLOOKUP(E107,Rangliste!$A$2:$F$211,6,FALSE)","v":1376.4497375297547},405.10722930908196,400,{"$f":"VLOOKUP(Q107,Resultate!$A$2:$E$37,2,FALSE)","v":"3:1"},3,1,1,3,1]
[null,null,null,null,null,"Halbfinale"]
[101,{"$f":"C109+VLOOKUP(I109,$Y$2:$Z$17,2,FALSE)/24","v":"2026-07-14T14:00:00"},"2026-07-14T21:00:00",{"$f":"'WM2026'!BD89","v":"Deutschland"},{"$f":"'WM2026'!BF89","v":"DR Kongo"},"HF01","W97","W98","Dallas",{"$f":"CONCATENATE(F109,\":\",K109,\":\",L109,\":\",G109,\"-\",H109)","v":"HF01:VF01:VF02:W97-W98"},{"$f":"VLOOKUP(VALUE(MID(G109,2,2)),$A$1:$H$200,6,FALSE)","v":"VF01"},{"$f":"VLOOKUP(VALUE(MID(H109,2,2)),$A$1:$H$200,6,FALSE)","v":"VF02"},null,{"$f":"VLOOKUP(D109,Rangliste!$A$2:$F$211,6,FALSE)","v":1775.0704079818724},{"$f":"VLOOKUP(E109,Rangliste!$A$2:$F$211,6,FALSE)","v":1617.5416632652282},157.52874471664427,160,{"$f":"VLOOKUP(Q109,Resultate!$A$2:$E$37,2,FALSE)","v":"2:1"},2,1,1,2,1]
[102,{"$f":"C110+VLOOKUP(I110,$Y$2:$Z$17,2,FALSE)/24","v":"2026-07-15T15:00:00"},"2026-07-15T21:00:00",{"$f":"'WM2026'!BD90","v":"Brasilien"},{"$f":"'WM2026'!BF90","v":"Argentinien"},"HF02","W99","W100","Atlanta",{"$f":"CONCATENATE(F110,\":\",K110,\":\",L110,\":\",G110,\"-\",H110)","v":"HF02:VF03:VF04:W99-W100"},{"$f":"VLOOKUP(VALUE(MID(G110,2,2)),$A$1:$H$200,6,FALSE)","v":"VF03"},{"$f":"VLOOKUP(VALUE(MID(H110,2,3)),$A$1:$H$200,6,FALSE)","v":"VF04"},null,{"$f":"VLOOKUP(D110,Rangliste!$A$2:$F$211,6,FALSE)","v":1654.1178948020936},{"$f":"VLOOKUP(E110,Rangliste!$A$2:$F$211,6,FALSE)","v":1781.5569668388366},-127.43907203674303,-120,{"$f":"VLOOKUP(Q110,Resultate!$A$2:$E$37,2,FALSE)","v":"2:3"},2,3,-1,2,3]
[null,null,null,null,null,"Dritter Platz"]
[103,{"$f":"C112+VLOOKUP(I112,$Y$2:$Z$17,2,FALSE)/24","v":"2026-07-18T17:00:00"},"2026-07-18T23:00:00",{"$f":"'WM2026'!BD94","v":"DR Kongo"},{"$f":"'WM2026'!BF94","v":"Argentinien"},"PL03","V101","V102","Miami",{"$f":"CONCATENATE(F112,\":\",K112,\":\",L112,\":\",G112,\"-\",H112)","v":"PL03:HF01:HF02:V101-V102"},{"$f":"VLOOKUP(VALUE(MID(G112,2,3)),$A$1:$H$200,6,FALSE)","v":"HF01"},{"$f":"VLOOKUP(VALUE(MID(H112,2,3)),$A$1:$H$200,6,FALSE)","v":"HF02"},null,{"$f":"VLOOKUP(D112,Rangliste!$A$2:$F$211,6,FALSE)","v":1617.5416632652282},{"$f":"VLOOKUP(E112,Rangliste!$A$2:$F$211,6,FALSE)","v":1781.5569668388366},-164.01530357360843,-160,{"$f":"VLOOKUP(Q112,Resultate!$A$2:$E$37,2,FALSE)","v":"3:3"},3,3,-1,{"$f":"IF(S112=T112,IF(S112=0,U112+S112,S112),S112)","v":3},{"$f":"IF(S112=T112,IF(T112=0,T112,T112-U112),T112)","v":4}]
[null,null,null,null,null,"Finale"]
[104,{"$f":"C114+VLOOKUP(I114,$Y$2:$Z$17,2,FALSE)/24","v":"2026-07-19T15:00:00"},"2026-07-19T21:00:00",{"$f":"'WM2026'!D94","v":"Deutschland"},{"$f":"'WM2026'!F94","v":"Brasilien"},"FINALE","W101","W102","New York",{"$f":"CONCATENATE(F114,\":\",K114,\":\",L114,\":\",G114,\"-\",H114)","v":"FINALE:HF01:HF02:W101-W102"},{"$f":"VLOOKUP(VALUE(MID(G114,2,3)),$A$1:$H$200,6,FALSE)","v":"HF01"},{"$f":"VLOOKUP(VALUE(MID(H114,2,3)),$A$1:$H$200,6,FALSE)","v":"HF02"},null,{"$f":"VLOOKUP(D114,Rangliste!$A$2:$F$211,6,FALSE)","v":1775.0704079818724},{"$f":"VLOOKUP(E114,Rangliste!$A$2:$F$211,6,FALSE)","v":1654.1178948020936},120.95251317977886,120,{"$f":"VLOOKUP(Q114,Resultate!$A$2:$E$37,2,FALSE)","v":"1:0"},1,0,1,{"$f":"IF(S114=T114,IF(S114=0,U114+S114,S114),S114)","v":1},{"$f":"IF(S114=T114,IF(T114=0,T114,T114-U114),T114)","v":0}]